{"text_format":"1","workbook":"xlsx","n_sheets":9,"sheets":["How To","Settings","Data","Returns","1D Vectors","1D Vectors Transposed","Var-Covar matrix","Var-Covar inverse","Risk-return"],"not_rendered":{"charts":0,"images":6,"macros":1,"external_links":0,"defined_names":34,"comments":1,"pivot_tables":0},"unopened":[],"bounds":{"document_bytes":16777216,"sheet_cells":100000,"rows_first":2000,"rows_last":500,"rows_between":2000,"halvings":0,"cell_chars":16384,"cell_head_chars":4096},"cells_cut":0,"cells_raw":0,"read":"whole","date_system":"1900"}

{"sheet":"How To","index":0,"n_rows":1,"n_cols":1,"rows_kept":1,"cut":false,"hidden":false,"merged":[]}
["Formulas:"]

{"sheet":"Settings","index":1,"n_rows":7,"n_cols":3,"rows_kept":7,"cut":false,"hidden":false,"merged":[]}
["Parameter","Value"]
[]
[]
["Formulas / Values","F","F / V"]
["Ep min",1E-4]
["Ep max",0.05]
["Ep step",1E-4]

{"sheet":"Data","index":2,"n_rows":223,"n_cols":13,"rows_kept":223,"cut":false,"hidden":false,"merged":[]}
["observation_date","SPASTT01USM661N","SPASTT01KRM661N","SPASTT01GBM661N","SPASTT01ITM661N","SPASTT01GRM661N","SPASTT01DEM661N","SPASTT01CNM661N","SPASTT01RUM661N","SPASTT01INM661N","SPASTT01NOM661N","SPASTT01DKM661N","SPASTT01NLM661N"]
["1999-01-01",0.871,0.33899999999999997,1.093,1.4219999999999999,1.825,1.07,0.40500000000000003,3.2000000000000001E-2,0.18100000000000002,0.30599999999999999,0.503,1.387]
["1999-02-01",0.86099999999999999,0.30299999999999999,1.099,1.3959999999999999,2.0469999999999997,1.0470000000000002,0.38700000000000001,3.7999999999999999E-2,0.18100000000000002,0.309,0.48600000000000004,1.3540000000000001]
["1999-03-01",0.88300000000000001,0.33299999999999996,1.1279999999999999,1.4650000000000001,2.1590000000000003,1.026,0.40600000000000003,5.5E-2,0.20300000000000001,0.317,0.46299999999999997,1.3859999999999999]
["1999-04-01",0.91800000000000004,0.40899999999999997,1.181,1.4850000000000001,2.117,1.0690000000000002,0.41000000000000003,6.0999999999999999E-2,0.189,0.33799999999999997,0.48600000000000004,1.4469999999999998]
["1999-05-01",0.93,0.42299999999999999,1.1559999999999999,1.4580000000000002,2.4590000000000001,1.077,0.40500000000000003,7.400000000000001E-2,0.21300000000000002,0.35399999999999998,0.495,1.4780000000000002]
["1999-06-01",0.92099999999999993,0.47799999999999998,1.175,1.4580000000000002,2.468,1.0820000000000001,0.51800000000000002,8.5000000000000006E-2,0.22399999999999998,0.35499999999999998,0.49600000000000005,1.496]
["1999-07-01",0.94900000000000007,0.55100000000000005,1.175,1.462,2.669,1.1240000000000001,0.55400000000000005,9.5000000000000001E-2,0.249,0.36200000000000004,0.52,1.5190000000000001]
["1999-08-01",0.90900000000000003,0.53,1.1359999999999999,1.3800000000000001,2.9330000000000003,1.0760000000000001,0.57100000000000006,7.5999999999999998E-2,0.25600000000000001,0.36899999999999999,0.51500000000000001,1.4950000000000001]
["1999-09-01",0.88900000000000012,0.52600000000000002,1.119,1.429,3.532,1.0890000000000002,0.57100000000000006,6.9000000000000006E-2,0.26,0.37700000000000006,0.53500000000000003,1.526]
["1999-10-01",0.876,0.47000000000000003,1.1100000000000001,1.385,3.4589999999999996,1.087,0.53700000000000003,6.9000000000000006E-2,0.26600000000000001,0.36100000000000004,0.53,1.4680000000000002]
["1999-11-01",0.92799999999999994,0.53900000000000003,1.1859999999999999,1.423,3.4130000000000003,1.1679999999999999,0.51600000000000001,8.4000000000000005E-2,0.252,0.371,0.56899999999999995,1.5860000000000001]
["1999-12-01",0.93400000000000005,0.55900000000000005,1.2290000000000001,1.5980000000000001,3.2050000000000001,1.266,0.49600000000000005,9.3000000000000013E-2,0.26400000000000001,0.40500000000000003,0.6,1.7040000000000002]
["2000-01-01",0.92900000000000005,0.54300000000000004,1.1879999999999999,1.6669999999999998,3.1350000000000002,1.359,0.51700000000000002,0.13699999999999998,0.29699999999999999,0.42799999999999999,0.60899999999999999,1.732]
["2000-02-01",0.88500000000000001,0.51400000000000001,1.1300000000000001,1.887,3.1680000000000001,1.4990000000000001,0.56799999999999995,0.14000000000000001,0.311,0.436,0.63700000000000001,1.7790000000000001]
["2000-03-01",0.91,0.49700000000000005,1.196,1.986,2.8780000000000001,1.575,0.60899999999999999,0.16600000000000001,0.28899999999999998,0.44200000000000006,0.68200000000000005,1.8490000000000002]
["2000-04-01",0.94599999999999995,0.44500000000000001,1.153,1.821,2.6850000000000001,1.46,0.64200000000000002,0.16800000000000001,0.27,0.41100000000000003,0.65599999999999992,1.7750000000000001]
["2000-05-01",0.93599999999999994,0.41100000000000003,1.137,1.861,2.698,1.4269999999999998,0.64,0.16200000000000001,0.23500000000000001,0.435,0.67,1.7880000000000003]
["2000-06-01",0.95000000000000007,0.45100000000000001,1.181,1.8940000000000001,2.5489999999999999,1.4259999999999999,0.68,0.15,0.25700000000000001,0.439,0.67799999999999994,1.8190000000000002]
["2000-07-01",0.95599999999999996,0.45200000000000001,1.177,1.931,2.3640000000000003,1.409,0.69700000000000006,0.13600000000000001,0.25600000000000001,0.45700000000000002,0.69700000000000006,1.82]
["2000-08-01",0.97499999999999998,0.40899999999999997,1.1859999999999999,1.9180000000000001,2.2069999999999999,1.4040000000000001,0.73,0.16,0.23800000000000002,0.48700000000000004,0.74099999999999999,1.85]
["2000-09-01",0.97700000000000009,0.35600000000000004,1.1820000000000002,1.9280000000000002,2.3969999999999998,1.3759999999999999,0.68599999999999994,0.151,0.24300000000000002,0.503,0.76700000000000002,1.847]
["2000-10-01",0.94599999999999995,0.312,1.151,1.8659999999999999,2.2549999999999999,1.3019999999999998,0.68299999999999994,0.13900000000000001,0.21100000000000002,0.48200000000000004,0.78500000000000003,1.8049999999999999]
["2000-11-01",0.94500000000000006,0.309,1.163,1.9550000000000001,2.0469999999999997,1.29,0.72599999999999998,0.12400000000000001,0.21600000000000003,0.47600000000000003,0.745,1.8149999999999999]
["2000-12-01",0.94400000000000006,0.29600000000000004,1.139,1.8330000000000002,2.0569999999999999,1.212,0.73,0.10199999999999999,0.22399999999999998,0.434,0.71,1.716]
["2001-01-01",0.95200000000000007,0.33299999999999996,1.133,1.8080000000000001,1.8630000000000002,1.218,0.73499999999999999,0.113,0.22899999999999998,0.44500000000000001,0.746,1.7]
["2001-02-01",0.94799999999999995,0.33700000000000002,1.119,1.752,1.861,1.206,0.69500000000000006,0.11599999999999999,0.23699999999999999,0.45700000000000002,0.74900000000000011,1.671]
["2001-03-01",0.88300000000000001,0.31,1.0449999999999999,1.607,1.827,1.113,0.72,0.11599999999999999,0.21,0.43200000000000005,0.68500000000000005,1.546]
["2001-04-01",0.88800000000000001,0.3,1.0549999999999999,1.6600000000000001,1.8480000000000001,1.1120000000000001,0.75400000000000011,0.11800000000000001,0.19100000000000003,0.43100000000000005,0.66400000000000003,1.5430000000000001]
["2001-05-01",0.94299999999999995,0.34,1.075,1.6680000000000001,1.841,1.145,0.76700000000000002,0.13500000000000001,0.19899999999999998,0.45299999999999996,0.69400000000000006,1.609]
["2001-06-01",0.92300000000000004,0.34200000000000003,1.052,1.5790000000000002,1.6630000000000003,1.1200000000000001,0.78200000000000003,0.153,0.189,0.44200000000000006,0.70000000000000007,1.5609999999999999]
["2001-07-01",0.89800000000000002,0.314,0.99900000000000011,1.5280000000000002,1.5050000000000001,1.0790000000000002,0.75600000000000001,0.14499999999999999,0.184,0.42,0.69200000000000006,1.4850000000000001]
["2001-08-01",0.88400000000000012,0.32200000000000001,0.996,1.5090000000000001,1.5890000000000002,1.0190000000000001,0.67500000000000004,0.13400000000000001,0.182,0.40799999999999997,0.67400000000000004,1.4430000000000001]
["2001-09-01",0.80700000000000005,0.28600000000000003,0.89400000000000013,1.2370000000000001,1.3830000000000002,0.84400000000000008,0.64300000000000002,0.128,0.161,0.36,0.58600000000000008,1.2270000000000001]
["2001-10-01",0.81299999999999994,0.29399999999999998,0.92500000000000004,1.276,1.351,0.878,0.59599999999999997,0.121,0.161,0.34,0.58399999999999996,1.2390000000000001]
["2001-11-01",0.84200000000000008,0.34299999999999997,0.95900000000000007,1.33,1.5640000000000001,0.94099999999999995,0.59200000000000008,0.14400000000000002,0.17399999999999999,0.35899999999999999,0.58899999999999997,1.31]
["2001-12-01",0.85299999999999998,0.378,0.94799999999999995,1.3430000000000002,1.5309999999999999,0.95799999999999996,0.59599999999999997,0.156,0.182,0.37,0.58700000000000008,1.31]
["2002-01-01",0.85099999999999998,0.41799999999999998,0.95000000000000007,1.3530000000000002,1.514,0.97900000000000009,0.52900000000000003,0.18100000000000002,0.184,0.378,0.59799999999999998,1.3230000000000002]
["2002-02-01",0.83299999999999996,0.43700000000000006,0.93799999999999994,1.3140000000000001,1.4440000000000002,0.94400000000000006,0.53400000000000003,0.18300000000000002,0.19399999999999998,0.37200000000000005,0.60499999999999998,1.3080000000000001]
["2002-03-01",0.87900000000000011,0.49,0.96099999999999997,1.4059999999999999,1.3830000000000002,1.006,0.57600000000000007,0.19899999999999998,0.19600000000000001,0.40100000000000002,0.625,1.387]
["2002-04-01",0.86,0.50800000000000001,0.95299999999999996,1.413,1.2919999999999998,0.98799999999999999,0.57799999999999996,0.22399999999999998,0.189,0.40600000000000003,0.60399999999999998,1.385]
["2002-05-01",0.84200000000000008,0.47799999999999998,0.94500000000000006,1.3530000000000002,1.35,0.94400000000000006,0.56399999999999995,0.23800000000000002,0.182,0.40299999999999997,0.59799999999999998,1.3280000000000001]
["2002-06-01",0.79599999999999993,0.44700000000000006,0.872,1.232,1.3149999999999999,0.8570000000000001,0.55200000000000005,0.223,0.17899999999999999,0.36600000000000005,0.57000000000000006,1.1990000000000001]
["2002-07-01",0.71299999999999997,0.42799999999999999,0.77500000000000002,1.1359999999999999,1.25,0.77800000000000002,0.59899999999999998,0.21300000000000002,0.17699999999999999,0.33799999999999997,0.53700000000000003,1.046]
["2002-08-01",0.72,0.40500000000000003,0.77900000000000003,1.119,1.2550000000000001,0.72,0.58700000000000008,0.20399999999999999,0.16800000000000001,0.32600000000000001,0.51200000000000001,0.98799999999999999]
["2002-09-01",0.69099999999999995,0.39900000000000002,0.72400000000000009,1.0470000000000002,1.1459999999999999,0.63600000000000001,0.57200000000000006,0.20199999999999999,0.17,0.29399999999999998,0.49399999999999999,0.90300000000000002]
["2002-10-01",0.67299999999999993,0.36499999999999999,0.72599999999999998,0.998,1.0449999999999999,0.58700000000000008,0.54400000000000004,0.21199999999999999,0.16200000000000001,0.28399999999999997,0.46600000000000003,0.88400000000000012]
["2002-11-01",0.70700000000000007,0.38600000000000001,0.75,1.073,1.075,0.63500000000000001,0.51800000000000002,0.217,0.16800000000000001,0.28699999999999998,0.47500000000000003,0.93099999999999994]
["2002-12-01",0.70200000000000007,0.39500000000000002,0.72200000000000009,1.07,1.0569999999999999,0.60899999999999999,0.495,0.218,0.182,0.28800000000000003,0.47200000000000003,0.90099999999999991]
["2003-01-01",0.70000000000000007,0.35700000000000004,0.69400000000000006,1.0409999999999999,1.0009999999999999,0.57899999999999996,0.50600000000000001,0.219,0.18300000000000002,0.28399999999999997,0.47700000000000004,0.8640000000000001]
["2003-02-01",0.65599999999999992,0.33600000000000002,0.66599999999999993,1.002,0.97400000000000009,0.52200000000000002,0.53,0.22800000000000001,0.18,0.26100000000000001,0.44,0.77200000000000002]
["2003-03-01",0.65400000000000003,0.313,0.66500000000000004,0.97099999999999997,0.89800000000000002,0.498,0.52400000000000002,0.23899999999999999,0.17300000000000001,0.26200000000000001,0.44,0.72599999999999998]
["2003-04-01",0.68900000000000006,0.33299999999999996,0.70700000000000007,1.0290000000000001,0.94099999999999995,0.55500000000000005,0.54799999999999993,0.24399999999999999,0.16700000000000001,0.27800000000000002,0.48600000000000004,0.78599999999999992]
["2003-05-01",0.72900000000000009,0.34799999999999998,0.72900000000000009,1.0640000000000001,1.008,0.57399999999999995,0.54400000000000004,0.27600000000000002,0.16700000000000001,0.30199999999999999,0.50600000000000001,0.78400000000000003]
["2003-06-01",0.77300000000000002,0.376,0.753,1.115,1.1020000000000001,0.61799999999999999,0.54400000000000004,0.30599999999999999,0.18600000000000003,0.32900000000000001,0.53200000000000003,0.82900000000000007]
["2003-07-01",0.77,0.4,0.746,1.1020000000000001,1.1919999999999999,0.64700000000000002,0.53100000000000003,0.30199999999999999,0.20199999999999999,0.34200000000000003,0.53400000000000003,0.84400000000000008]
["2003-08-01",0.77200000000000002,0.41500000000000004,0.76500000000000001,1.117,1.2909999999999999,0.67,0.51400000000000001,0.318,0.219,0.36399999999999999,0.57200000000000006,0.88200000000000001]
["2003-09-01",0.79500000000000004,0.42299999999999999,0.77500000000000002,1.137,1.21,0.68500000000000005,0.49700000000000005,0.34899999999999998,0.23699999999999999,0.36899999999999999,0.61599999999999999,0.90300000000000002]
["2003-10-01",0.81599999999999995,0.42799999999999999,0.78500000000000003,1.1359999999999999,1.2330000000000001,0.68500000000000005,0.48499999999999999,0.376,0.26,0.374,0.628,0.88500000000000001]
["2003-11-01",0.82900000000000007,0.44799999999999995,0.79500000000000004,1.1759999999999999,1.2609999999999999,0.72599999999999998,0.48100000000000004,0.33200000000000002,0.27200000000000002,0.39500000000000002,0.626,0.91]
["2003-12-01",0.86499999999999999,0.45500000000000002,0.80400000000000005,1.2030000000000001,1.288,0.752,0.52,0.35000000000000003,0.29899999999999999,0.41000000000000003,0.61299999999999999,0.91099999999999992]
["2004-01-01",0.90800000000000003,0.48,0.81799999999999995,1.2230000000000001,1.4159999999999999,0.79,0.56200000000000006,0.379,0.32700000000000001,0.44600000000000001,0.65599999999999992,0.95099999999999996]
["2004-02-01",0.92200000000000004,0.49200000000000005,0.81299999999999994,1.2290000000000001,1.43,0.79200000000000004,0.59399999999999997,0.39299999999999996,0.32,0.46899999999999997,0.68700000000000006,0.96599999999999997]
["2004-03-01",0.91,0.49700000000000005,0.81299999999999994,1.218,1.401,0.76700000000000002,0.60399999999999998,0.42499999999999999,0.309,0.48799999999999999,0.68599999999999994,0.95099999999999996]
["2004-04-01",0.91400000000000003,0.51500000000000001,0.82500000000000007,1.254,1.4430000000000001,0.78700000000000003,0.59700000000000009,0.44400000000000001,0.32,0.49,0.67099999999999993,0.97]
["2004-05-01",0.88200000000000001,0.45500000000000002,0.81500000000000006,1.2270000000000001,1.4240000000000002,0.74900000000000011,0.55299999999999994,0.39,0.28600000000000003,0.46799999999999997,0.65,0.92799999999999994]
["2004-06-01",0.90599999999999992,0.438,0.81900000000000006,1.2470000000000001,1.3919999999999999,0.76800000000000002,0.51800000000000002,0.373,0.26500000000000001,0.49200000000000005,0.67,0.95000000000000007]
["2004-07-01",0.89200000000000002,0.42299999999999999,0.79800000000000004,1.236,1.367,0.74900000000000011,0.503,0.36299999999999999,0.27399999999999997,0.499,0.68500000000000005,0.93099999999999994]
["2004-08-01",0.87900000000000011,0.43700000000000006,0.80200000000000005,1.2040000000000002,1.3340000000000001,0.72499999999999998,0.48100000000000004,0.35799999999999998,0.28300000000000003,0.501,0.68500000000000005,0.90700000000000003]
["2004-09-01",0.90599999999999992,0.47399999999999998,0.83400000000000007,1.248,1.3680000000000001,0.752,0.48399999999999999,0.40299999999999997,0.29799999999999999,0.53100000000000003,0.70499999999999996,0.93599999999999994]
["2004-10-01",0.91400000000000003,0.48200000000000004,0.85,1.2809999999999999,1.4159999999999999,0.76200000000000001,0.48,0.45,0.313,0.55600000000000005,0.71599999999999997,0.93799999999999994]
["2004-11-01",0.96,0.49,0.86799999999999999,1.3280000000000001,1.5230000000000001,0.78800000000000003,0.47500000000000003,0.43,0.32799999999999996,0.55600000000000005,0.72700000000000009,0.95900000000000007]
["2004-12-01",0.98799999999999999,0.49600000000000005,0.86900000000000011,1.377,1.5880000000000001,0.80900000000000005,0.46100000000000002,0.371,0.35200000000000004,0.57600000000000007,0.74099999999999999,0.97599999999999998]
["2005-01-01",0.97599999999999998,0.51300000000000001,0.88300000000000001,1.419,1.6850000000000001,0.81799999999999995,0.43700000000000006,0.38300000000000001,0.34600000000000003,0.59599999999999997,0.75900000000000012,1]
["2005-02-01",1.002,0.54600000000000004,0.91400000000000003,1.4590000000000001,1.7490000000000001,0.83700000000000008,0.45,0.41700000000000004,0.36299999999999999,0.63600000000000001,0.79900000000000004,1.0529999999999999]
["2005-03-01",1.006,0.56100000000000005,0.90700000000000003,1.4530000000000001,1.762,0.84,0.44200000000000006,0.41899999999999998,0.36700000000000005,0.65800000000000003,0.82700000000000007,1.06]
["2005-04-01",0.97900000000000009,0.54300000000000004,0.89400000000000013,1.4510000000000001,1.716,0.82599999999999996,0.42399999999999999,0.42399999999999999,0.35100000000000003,0.65500000000000003,0.84400000000000008,1.0329999999999999]
["2005-05-01",0.9820000000000001,0.53300000000000003,0.90099999999999991,1.431,1.6910000000000001,0.82099999999999995,0.39100000000000001,0.41299999999999998,0.35700000000000004,0.65099999999999991,0.83499999999999996,1.0209999999999999]
["2005-06-01",1.002,0.56200000000000006,0.92400000000000004,1.4680000000000002,1.7830000000000001,0.86499999999999999,0.38300000000000001,0.43200000000000005,0.38100000000000001,0.71,0.88900000000000012,1.0790000000000002]
["2005-07-01",1.0209999999999999,0.60099999999999998,0.95599999999999996,1.51,1.8559999999999999,0.89700000000000002,0.36799999999999999,0.47500000000000003,0.40399999999999997,0.77300000000000002,0.92300000000000004,1.1220000000000001]
["2005-08-01",1.0349999999999999,0.626,0.97099999999999997,1.532,1.9159999999999999,0.92799999999999994,0.40700000000000003,0.51400000000000001,0.42499999999999999,0.82099999999999995,0.96299999999999997,1.127]
["2005-09-01",1.0490000000000002,0.66500000000000004,0.98599999999999999,1.5719999999999998,1.9169999999999998,0.94200000000000006,0.41799999999999998,0.57399999999999995,0.45400000000000001,0.86699999999999999,0.98099999999999998,1.141]
["2005-10-01",1.02,0.67700000000000005,0.96799999999999997,1.5230000000000001,1.9440000000000002,0.94000000000000006,0.40100000000000002,0.58700000000000008,0.45299999999999996,0.80799999999999994,0.94900000000000007,1.1300000000000001]
["2005-11-01",1.0509999999999999,0.71099999999999997,0.998,1.532,2.0130000000000003,0.96400000000000008,0.38900000000000001,0.63200000000000001,0.46700000000000003,0.82599999999999996,0.97,1.1679999999999999]
["2005-12-01",1.0780000000000001,0.76100000000000001,1.0150000000000001,1.585,2.0910000000000002,1.0090000000000001,0.39799999999999996,0.69700000000000006,0.504,0.88,1.02,1.2270000000000001]
["2006-01-01",1.1059999999999999,0.78300000000000003,1.044,1.6330000000000002,2.2749999999999999,1.0429999999999999,0.433,0.77400000000000002,0.52500000000000002,0.93,1.048,1.256]
["2006-02-01",1.113,0.76200000000000001,1.0620000000000001,1.6910000000000001,2.4159999999999999,1.099,0.45299999999999996,0.88300000000000001,0.55500000000000005,0.97400000000000009,1.0609999999999999,1.31]
["2006-03-01",1.131,0.75700000000000001,1.0860000000000001,1.742,2.3839999999999999,1.1220000000000001,0.45299999999999996,0.89500000000000002,0.59700000000000009,1.0229999999999999,1.0920000000000001,1.3280000000000001]
["2006-04-01",1.155,0.80400000000000005,1.107,1.7609999999999999,2.456,1.1479999999999999,0.48600000000000004,0.98799999999999999,0.64300000000000002,1.1059999999999999,1.0740000000000001,1.3519999999999999]
["2006-05-01",1.155,0.78900000000000003,1.07,1.7130000000000001,2.347,1.107,0.55500000000000005,0.97900000000000009,0.63900000000000001,1.08,1.052,1.3049999999999999]
["2006-06-01",1.105,0.71,1.0370000000000001,1.6259999999999999,2.081,1.0290000000000001,0.56899999999999995,0.86099999999999999,0.54500000000000004,0.99400000000000011,0.97599999999999998,1.2290000000000001]
["2006-07-01",1.1220000000000001,0.72499999999999998,1.0669999999999999,1.6500000000000001,2.1280000000000001,1.0449999999999999,0.59599999999999997,0.93900000000000006,0.58100000000000007,1.036,0.99099999999999999,1.2709999999999999]
["2006-08-01",1.1479999999999999,0.746,1.075,1.6930000000000001,2.258,1.075,0.56799999999999995,1.0090000000000001,0.622,1.044,1.024,1.3130000000000002]
["2006-09-01",1.1599999999999999,0.77,1.0780000000000001,1.7330000000000001,2.2930000000000001,1.103,0.60200000000000009,0.96,0.66200000000000003,1.02,1.0590000000000002,1.34]
["2006-10-01",1.1970000000000001,0.76900000000000013,1.1159999999999999,1.7869999999999999,2.371,1.153,0.63,0.9870000000000001,0.69400000000000006,1.052,1.1120000000000001,1.3940000000000001]
["2006-11-01",1.226,0.79700000000000004,1.1279999999999999,1.85,2.4860000000000002,1.1890000000000001,0.69099999999999995,1.0449999999999999,0.73799999999999999,1.119,1.149,1.411]
["2006-12-01",1.2570000000000001,0.80599999999999994,1.129,1.8759999999999999,2.5249999999999999,1.2170000000000001,0.81500000000000006,1.1279999999999999,0.74900000000000011,1.155,1.1830000000000001,1.411]
["2007-01-01",1.264,0.78400000000000003,1.141,1.9230000000000003,2.6960000000000002,1.258,0.99,1.1500000000000001,0.77,1.198,1.234,1.4540000000000002]
["2007-02-01",1.294,0.81500000000000006,1.1640000000000001,1.962,2.7549999999999999,1.304,1.01,1.1850000000000001,0.77800000000000002,1.2409999999999999,1.2919999999999998,1.4830000000000001]
["2007-03-01",1.262,0.81200000000000006,1.135,1.8880000000000001,2.6520000000000001,1.27,1.0569999999999999,1.1359999999999999,0.70799999999999996,1.2,1.2409999999999999,1.4569999999999999]
["2007-04-01",1.321,0.86099999999999999,1.1759999999999999,1.9950000000000001,2.7880000000000003,1.3630000000000002,1.25,1.2070000000000001,0.74,1.2570000000000001,1.3009999999999999,1.548]
["2007-05-01",1.359,0.91599999999999993,1.202,2.0190000000000001,2.835,1.405,1.4240000000000002,1.137,0.77700000000000002,1.3069999999999999,1.347,1.577]
["2007-06-01",1.369,0.995,1.2070000000000001,1.9710000000000001,2.8420000000000001,1.4450000000000001,1.4180000000000001,1.1459999999999999,0.78800000000000003,1.35,1.35,1.6059999999999999]
["2007-07-01",1.3819999999999999,1.0860000000000001,1.2,1.9480000000000002,2.9239999999999999,1.452,1.419,1.2209999999999999,0.83900000000000008,1.4000000000000001,1.401,1.6240000000000001]
["2007-08-01",1.306,1.03,1.1300000000000001,1.8319999999999999,2.7869999999999999,1.3659999999999999,1.7130000000000001,1.1579999999999999,0.81299999999999994,1.2790000000000001,1.36,1.516]
["2007-09-01",1.3519999999999999,1.07,1.1599999999999999,1.8330000000000002,2.8850000000000002,1.3959999999999999,1.8940000000000001,1.177,0.88300000000000001,1.3330000000000002,1.3659999999999999,1.5609999999999999]
["2007-10-01",1.4059999999999999,1.1379999999999999,1.2070000000000001,1.871,3.0539999999999998,1.4569999999999999,2.0369999999999999,1.2670000000000001,1.0150000000000001,1.367,1.4019999999999999,1.61]
["2007-11-01",1.3459999999999999,1.0920000000000001,1.157,1.77,2.97,1.4059999999999999,1.861,1.2890000000000001,1.0590000000000002,1.3530000000000002,1.3169999999999999,1.4890000000000001]
["2007-12-01",1.357,1.08,1.177,1.7580000000000002,2.984,1.4380000000000002,1.7949999999999999,1.331,1.0890000000000002,1.327,1.2819999999999998,1.4890000000000001]
["2008-01-01",1.2690000000000001,0.9870000000000001,1.1059999999999999,1.6259999999999999,2.7549999999999999,1.321,1.786,1.2470000000000001,1.0629999999999999,1.1890000000000001,1.153,1.361]
["2008-02-01",1.2509999999999999,0.96,1.081,1.5409999999999999,2.5380000000000003,1.2490000000000001,1.5860000000000001,1.165,0.97499999999999998,1.1440000000000001,1.159,1.3130000000000002]
["2008-03-01",1.2140000000000002,0.93700000000000006,1.0349999999999999,1.4450000000000001,2.286,1.1779999999999999,1.3840000000000001,1.133,0.86900000000000011,1.1200000000000001,1.1279999999999999,1.2809999999999999]
["2008-04-01",1.2690000000000001,1.008,1.0959999999999999,1.5109999999999999,2.3769999999999998,1.2250000000000001,1.2010000000000001,1.1620000000000001,0.89500000000000002,1.206,1.1559999999999999,1.367]
["2008-05-01",1.304,1.0470000000000002,1.131,1.536,2.448,1.262,1.26,1.286,0.93400000000000005,1.3519999999999999,1.2,1.4330000000000001]
["2008-06-01",1.2450000000000001,1,1.0569999999999999,1.4240000000000002,2.21,1.1970000000000001,1.0640000000000001,1.2729999999999999,0.82500000000000007,1.3219999999999998,1.17,1.3540000000000001]
["2008-07-01",1.1659999999999999,0.89100000000000001,0.98299999999999998,1.298,1.9580000000000002,1.1180000000000001,0.99,1.125,0.75400000000000011,1.171,1.0690000000000002,1.1910000000000001]
["2008-08-01",1.157,0.87400000000000011,1,1.3069999999999999,1.946,1.1300000000000001,0.88200000000000001,0.97499999999999998,0.81,1.1300000000000001,1.0890000000000002,1.206]
["2008-09-01",1.0940000000000001,0.82200000000000006,0.95700000000000007,1.2590000000000001,1.8190000000000002,1.0740000000000001,0.76800000000000002,0.78,0.77,0.9890000000000001,1.02,1.125]
["2008-10-01",0.84799999999999998,0.68700000000000006,0.78300000000000003,1.004,1.335,0.85,0.70000000000000007,0.48299999999999998,0.58399999999999996,0.71400000000000008,0.78,0.82900000000000007]
["2008-11-01",0.76500000000000001,0.61,0.77200000000000002,0.95599999999999996,1.165,0.79400000000000004,0.66300000000000003,0.44400000000000001,0.51900000000000002,0.65099999999999991,0.70400000000000007,0.76100000000000001]
["2008-12-01",0.76400000000000012,0.63300000000000001,0.78,0.89200000000000002,1.0429999999999999,0.77200000000000002,0.68900000000000006,0.42799999999999999,0.52300000000000002,0.61199999999999999,0.65800000000000003,0.72700000000000009]
["2009-01-01",0.75900000000000012,0.65200000000000002,0.78400000000000003,0.88600000000000001,1.036,0.76400000000000012,0.68500000000000005,0.42600000000000005,0.51300000000000001,0.65900000000000003,0.67299999999999993,0.748]
["2009-02-01",0.70000000000000007,0.64700000000000002,0.745,0.81700000000000006,0.97099999999999997,0.71499999999999997,0.77900000000000003,0.46200000000000002,0.504,0.63900000000000001,0.66200000000000003,0.71700000000000008]
["2009-03-01",0.65599999999999992,0.64700000000000002,0.68799999999999994,0.70900000000000007,0.93,0.66400000000000003,0.78700000000000003,0.52600000000000002,0.49100000000000005,0.61499999999999999,0.58399999999999996,0.63800000000000001]
["2009-04-01",0.7390000000000001,0.75,0.7390000000000001,0.83799999999999997,1.099,0.75600000000000001,0.86900000000000011,0.621,0.59899999999999998,0.66,0.64300000000000002,0.70000000000000007]
["2009-05-01",0.80500000000000005,0.79400000000000004,0.80200000000000005,0.93700000000000006,1.2890000000000001,0.79700000000000004,0.92300000000000004,0.71599999999999997,0.71299999999999997,0.77599999999999991,0.75400000000000011,0.77300000000000002]
["2009-06-01",0.82799999999999996,0.79200000000000004,0.79500000000000004,0.92900000000000005,1.337,0.80099999999999993,1,0.74199999999999999,0.81299999999999994,0.81099999999999994,0.746,0.78599999999999992]
["2009-07-01",0.83200000000000007,0.82900000000000007,0.8,0.91400000000000003,1.3080000000000001,0.80500000000000005,1.1340000000000001,0.67500000000000004,0.80500000000000005,0.78800000000000003,0.74400000000000011,0.79200000000000004]
["2009-08-01",0.91,0.89599999999999991,0.871,1.004,1.4080000000000001,0.87900000000000011,1.087,0.75800000000000001,0.84799999999999998,0.83599999999999997,0.82299999999999995,0.873]
["2009-09-01",0.94500000000000006,0.94200000000000006,0.92,1.0609999999999999,1.4880000000000002,0.91500000000000004,1.0209999999999999,0.81400000000000006,0.9,0.86,0.84200000000000008,0.91800000000000004]
["2009-10-01",0.96700000000000008,0.92599999999999993,0.94400000000000006,1.093,1.6159999999999999,0.93299999999999994,1.0409999999999999,0.90700000000000003,0.92700000000000005,0.91,0.84499999999999997,0.94099999999999995]
["2009-11-01",0.98099999999999998,0.89900000000000002,0.95900000000000007,1.0569999999999999,1.474,0.92500000000000004,1.133,0.91,0.91599999999999993,0.94000000000000006,0.84,0.93700000000000006]
["2009-12-01",0.9920000000000001,0.93599999999999994,0.97299999999999998,1.06,1.3049999999999999,0.95900000000000007,1.1379999999999999,0.93700000000000006,0.94099999999999995,0.98,0.85400000000000009,0.97299999999999998]
["2010-01-01",1.004,0.95500000000000007,0.99,1.083,1.254,0.96499999999999997,1.1200000000000001,0.98799999999999999,0.94900000000000007,0.996,0.89800000000000002,1.004]
["2010-02-01",0.96200000000000008,0.90700000000000003,0.95700000000000007,1.01,1.125,0.91800000000000004,1.0580000000000001,0.94400000000000006,0.89100000000000001,0.94500000000000006,0.90900000000000003,0.96099999999999997]
["2010-03-01",1.0170000000000001,0.94400000000000006,1.028,1.0569999999999999,1.2130000000000001,0.97900000000000009,1.08,0.9840000000000001,0.95000000000000007,0.9890000000000001,0.95299999999999996,1.0170000000000001]
["2010-04-01",1.052,0.9820000000000001,1.0470000000000002,1.0760000000000001,1.1379999999999999,1.02,1.081,1.032,0.97299999999999998,1.032,1.004,1.0590000000000002]
["2010-05-01",0.96799999999999997,0.93599999999999994,0.95799999999999996,0.95200000000000007,0.96599999999999997,0.95799999999999996,0.94400000000000006,0.92599999999999993,0.92599999999999993,0.96700000000000008,0.97799999999999998,0.97099999999999997]
["2010-06-01",0.93599999999999994,0.95900000000000007,0.94000000000000006,0.94299999999999995,0.876,0.97099999999999997,0.89900000000000002,0.94000000000000006,0.95099999999999996,0.95799999999999996,1.002,0.97299999999999998]
["2010-07-01",0.94000000000000006,0.98299999999999998,0.94299999999999995,0.95700000000000007,0.92200000000000004,0.96900000000000008,0.88100000000000001,0.94099999999999995,0.9820000000000001,0.94500000000000006,1.0090000000000001,0.96299999999999997]
["2010-08-01",0.95799999999999996,1,0.96499999999999997,0.96499999999999997,0.96,0.97799999999999998,0.93200000000000005,0.96499999999999997,1,0.96299999999999997,1.0090000000000001,0.96599999999999997]
["2010-09-01",0.9890000000000001,1.032,1.0090000000000001,0.97599999999999998,0.90700000000000003,0.996,0.93200000000000005,0.99299999999999999,1.0629999999999999,0.98799999999999999,1.0209999999999999,0.99299999999999999]
["2010-10-01",1.0349999999999999,1.073,1.04,1.002,0.91099999999999992,1.034,1.016,1.042,1.1140000000000001,1.034,1.0370000000000001,1.012]
["2010-11-01",1.0529999999999999,1.0920000000000001,1.0490000000000002,0.99099999999999999,0.86799999999999999,1.083,1.0509999999999999,1.0840000000000001,1.1059999999999999,1.0649999999999999,1.07,1.0229999999999999]
["2010-12-01",1.085,1.1379999999999999,1.075,0.9870000000000001,0.86,1.129,1.006,1.1620000000000001,1.0959999999999999,1.1180000000000001,1.109,1.0569999999999999]
["2011-01-01",1.1200000000000001,1.1870000000000001,1.091,1.024,0.86099999999999999,1.139,0.97799999999999998,1.2050000000000001,1.06,1.1479999999999999,1.145,1.085]
["2011-02-01",1.1579999999999999,1.143,1.101,1.07,0.96099999999999997,1.1740000000000002,1.008,1.2040000000000002,0.9920000000000001,1.165,1.1420000000000001,1.1100000000000001]
["2011-03-01",1.145,1.135,1.071,1.0449999999999999,0.92900000000000005,1.1220000000000001,1.04,1.2309999999999999,1.0150000000000001,1.17,1.121,1.0840000000000001]
["2011-04-01",1.1720000000000002,1.222,1.099,1.06,0.8590000000000001,1.1620000000000001,1.0580000000000001,1.2529999999999999,1.07,1.19,1.123,1.093]
["2011-05-01",1.1640000000000001,1.206,1.087,1.042,0.78099999999999992,1.159,1,1.1459999999999999,1.008,1.1559999999999999,1.117,1.0660000000000001]
["2011-06-01",1.1220000000000001,1.179,1.0590000000000002,0.97900000000000009,0.7390000000000001,1.127,0.95799999999999996,1.1540000000000001,1.0029999999999999,1.111,1.0509999999999999,1.0150000000000001]
["2011-07-01",1.147,1.22,1.081,0.93400000000000005,0.72,1.1459999999999999,0.98,1.1950000000000001,1.024,1.115,1.044,1.016]
["2011-08-01",1.016,1.0590000000000002,0.96299999999999997,0.78,0.58200000000000007,0.93500000000000005,0.91599999999999993,1.0569999999999999,0.92799999999999994,0.9840000000000001,0.88800000000000001,0.871]
["2011-09-01",0.98299999999999998,1.018,0.95599999999999996,0.72900000000000009,0.49600000000000005,0.85799999999999998,0.87,1.0249999999999999,0.91800000000000004,0.96099999999999997,0.84299999999999997,0.83700000000000008]
["2011-10-01",1.004,1.0349999999999999,0.9890000000000001,0.78900000000000003,0.44500000000000001,0.92200000000000004,0.84499999999999997,0.98299999999999998,0.92400000000000004,0.98599999999999999,0.8570000000000001,0.89]
["2011-11-01",1.014,1.0549999999999999,0.98799999999999999,0.75400000000000011,0.42200000000000004,0.91700000000000004,0.86799999999999999,1.0229999999999999,0.92099999999999993,1.0170000000000001,0.88100000000000001,0.87400000000000011]
["2011-12-01",1.0249999999999999,1.0569999999999999,1.0029999999999999,0.75400000000000011,0.39100000000000001,0.92099999999999993,0.79500000000000004,0.98499999999999999,0.88,1.024,0.90700000000000003,0.90700000000000003]
["2012-01-01",1.0680000000000001,1.0760000000000001,1.04,0.77400000000000002,0.40100000000000002,0.98499999999999999,0.79900000000000004,1.0290000000000001,0.90300000000000002,1.0690000000000002,0.96299999999999997,0.95000000000000007]
["2012-02-01",1.117,1.137,1.0780000000000001,0.83099999999999996,0.45900000000000002,1.0609999999999999,0.83599999999999997,1.0900000000000001,0.9820000000000001,1.125,1.0529999999999999,0.98099999999999998]
["2012-03-01",1.1300000000000001,1.149,1.075,0.83900000000000008,0.441,1.0860000000000001,0.84200000000000008,1.0980000000000001,0.95700000000000007,1.1479999999999999,1.0690000000000002,0.9870000000000001]
["2012-04-01",1.113,1.133,1.0470000000000002,0.75800000000000001,0.41500000000000004,1.052,0.82900000000000007,1.0409999999999999,0.95200000000000007,1.123,1.0720000000000001,0.94599999999999995]
["2012-05-01",1.0660000000000001,1.071,1,0.70499999999999996,0.34,0.99299999999999999,0.84400000000000008,0.93900000000000006,0.90400000000000003,1.0790000000000002,1.0490000000000002,0.90500000000000003]
["2012-06-01",1.0449999999999999,1.048,0.998,0.68700000000000006,0.31900000000000001,0.94599999999999995,0.80599999999999994,0.93900000000000006,0.92099999999999993,1.042,1.012,0.89700000000000002]
["2012-07-01",1.075,1.0370000000000001,1.0309999999999999,0.70599999999999996,0.35799999999999998,0.998,0.76600000000000001,0.98499999999999999,0.94700000000000006,1.107,1.085,0.95700000000000007]
["2012-08-01",1.109,1.0900000000000001,1.06,0.753,0.36600000000000005,1.054,0.747,1.006,0.96799999999999997,1.1459999999999999,1.1320000000000001,0.99099999999999999]
["2012-09-01",1.1440000000000001,1.113,1.0620000000000001,0.80500000000000005,0.42600000000000005,1.0980000000000001,0.7320000000000001,1.0309999999999999,0.99900000000000011,1.1820000000000002,1.143,0.995]
["2012-10-01",1.147,1.105,1.0669999999999999,0.79599999999999993,0.48700000000000004,1.1040000000000001,0.74099999999999999,1.018,1.03,1.17,1.1520000000000001,0.98599999999999999]
["2012-11-01",1.125,1.081,1.0580000000000001,0.78400000000000003,0.47500000000000003,1.1000000000000001,0.72200000000000009,0.98,1.0270000000000001,1.145,1.1240000000000001,0.98599999999999999]
["2012-12-01",1.1579999999999999,1.1220000000000001,1.0840000000000001,0.81200000000000006,0.50700000000000001,1.151,0.751,1.02,1.0649999999999999,1.1620000000000001,1.1520000000000001,1.014]
["2013-01-01",1.21,1.1279999999999999,1.125,0.876,0.57100000000000006,1.1779999999999999,0.81500000000000006,1.06,1.093,1.2090000000000001,1.216,1.0370000000000001]
["2013-02-01",1.2309999999999999,1.123,1.155,0.83900000000000008,0.59399999999999997,1.173,0.84599999999999997,1.0569999999999999,1.07,1.23,1.244,1.0209999999999999]
["2013-03-01",1.2509999999999999,1.131,1.177,0.82099999999999995,0.54700000000000004,1.206,0.81200000000000006,1.024,1.0509999999999999,1.238,1.272,1.036]
["2013-04-01",1.258,1.1000000000000001,1.1640000000000001,0.82500000000000007,0.53200000000000003,1.177,0.78099999999999992,0.96599999999999997,1.036,1.2209999999999999,1.246,1.022]
["2013-05-01",1.306,1.121,1.2150000000000001,0.88900000000000012,0.61199999999999999,1.238,0.79900000000000004,0.97700000000000009,1.097,1.26,1.274,1.0649999999999999]
["2013-06-01",1.2729999999999999,1.0720000000000001,1.1520000000000001,0.83700000000000008,0.52900000000000003,1.2010000000000001,0.75400000000000011,0.91800000000000004,1.052,1.2290000000000001,1.2250000000000001,1.0190000000000001]
["2013-07-01",1.3069999999999999,1.0620000000000001,1.1919999999999999,0.83299999999999996,0.49,1.2130000000000001,0.71200000000000008,0.96400000000000008,1.0840000000000001,1.264,1.2629999999999999,1.0580000000000001]
["2013-08-01",1.3140000000000001,1.077,1.1919999999999999,0.88600000000000001,0.54,1.2430000000000001,0.73299999999999998,0.96599999999999997,1.0270000000000001,1.288,1.3230000000000002,1.0840000000000001]
["2013-09-01",1.331,1.1279999999999999,1.198,0.90599999999999992,0.57500000000000007,1.2670000000000001,0.77200000000000002,1.0109999999999999,1.0790000000000002,1.3130000000000002,1.3430000000000002,1.0959999999999999]
["2013-10-01",1.3619999999999999,1.151,1.202,0.96499999999999997,0.66099999999999992,1.3119999999999998,0.77200000000000002,1.05,1.125,1.345,1.377,1.111]
["2013-11-01",1.3980000000000001,1.141,1.224,0.97900000000000009,0.67700000000000005,1.367,0.76400000000000012,1.044,1.1340000000000001,1.399,1.4030000000000002,1.143]
["2013-12-01",1.405,1.129,1.2040000000000002,0.95400000000000007,0.68099999999999994,1.381,0.76500000000000001,1.03,1.1540000000000001,1.399,1.429,1.129]
["2014-01-01",1.4180000000000001,1.107,1.228,1.0090000000000001,0.71400000000000008,1.4169999999999998,0.72099999999999997,1.0329999999999999,1.1520000000000001,1.4390000000000001,1.5280000000000002,1.1640000000000001]
["2014-02-01",1.409,1.1000000000000001,1.224,1.0329999999999999,0.73699999999999999,1.4159999999999999,0.73499999999999999,1.03,1.1300000000000001,1.4330000000000001,1.6180000000000001,1.155]
["2014-03-01",1.4410000000000001,1.1080000000000001,1.2130000000000001,1.0760000000000001,0.78300000000000003,1.3919999999999999,0.72,0.91900000000000004,1.2,1.4530000000000001,1.6430000000000002,1.1579999999999999]
["2014-04-01",1.4540000000000002,1.1300000000000001,1.216,1.115,0.73599999999999999,1.4059999999999999,0.73299999999999998,0.93400000000000005,1.242,1.4690000000000001,1.635,1.181]
["2014-05-01",1.4730000000000001,1.129,1.25,1.0900000000000001,0.69099999999999995,1.4169999999999998,0.71700000000000008,0.97,1.3030000000000002,1.5690000000000002,1.681,1.1940000000000002]
["2014-06-01",1.5090000000000001,1.133,1.244,1.121,0.74099999999999999,1.4410000000000001,0.72200000000000009,1.0370000000000001,1.387,1.6400000000000001,1.736,1.224]
["2014-07-01",1.52,1.1479999999999999,1.238,1.0780000000000001,0.69700000000000006,1.413,0.73699999999999999,1.0109999999999999,1.415,1.641,1.7309999999999999,1.208]
["2014-08-01",1.5,1.17,1.228,1.022,0.65800000000000003,1.3440000000000001,0.78400000000000003,0.98,1.4350000000000001,1.5930000000000002,1.7090000000000001,1.1859999999999999]
["2014-09-01",1.5130000000000001,1.1599999999999999,1.24,1.0680000000000001,0.66500000000000004,1.391,0.81900000000000006,1.006,1.48,1.6140000000000001,1.766,1.234]
["2014-10-01",1.4490000000000001,1.1040000000000001,1.1720000000000002,0.9870000000000001,0.57200000000000006,1.3,0.83299999999999996,0.97400000000000009,1.4640000000000002,1.494,1.6910000000000001,1.1679999999999999]
["2014-11-01",1.5109999999999999,1.1120000000000001,1.2150000000000001,0.9920000000000001,0.54700000000000004,1.377,0.88100000000000001,1.0569999999999999,1.546,1.532,1.7350000000000001,1.2190000000000001]
["2014-12-01",1.4980000000000002,1.1020000000000001,1.198,0.9840000000000001,0.52100000000000002,1.425,1.0580000000000001,1.024,1.52,1.4450000000000001,1.736,1.2270000000000001]
["2015-01-01",1.4780000000000002,1.0900000000000001,1.2090000000000001,0.998,0.46299999999999997,1.472,1.1620000000000001,1.0900000000000001,1.5549999999999999,1.4890000000000001,1.7969999999999999,1.262]
["2015-02-01",1.5180000000000002,1.113,1.258,1.0980000000000001,0.49600000000000005,1.5930000000000002,1.131,1.2250000000000001,1.5919999999999999,1.5640000000000001,1.9030000000000002,1.3559999999999999]
["2015-03-01",1.5109999999999999,1.1420000000000001,1.2590000000000001,1.175,0.46399999999999997,1.702,1.2309999999999999,1.1579999999999999,1.5719999999999998,1.5640000000000001,2.08,1.429]
["2015-04-01",1.534,1.196,1.2790000000000001,1.2190000000000001,0.44700000000000006,1.726,1.474,1.171,1.5490000000000002,1.647,2.1990000000000003,1.4590000000000001]
["2015-05-01",1.5419999999999998,1.202,1.2770000000000001,1.2070000000000001,0.48499999999999999,1.659,1.5780000000000001,1.17,1.5069999999999999,1.6619999999999999,2.1720000000000002,1.4410000000000001]
["2015-06-01",1.524,1.171,1.2409999999999999,1.1879999999999999,0.45100000000000001,1.597,1.69,1.1520000000000001,1.4930000000000001,1.631,2.141,1.41]
["2015-07-01",1.502,1.1679999999999999,1.216,1.1919999999999999,0.46600000000000003,1.607,1.36,1.1359999999999999,1.5409999999999999,1.6159999999999999,2.1930000000000001,1.419]
["2015-08-01",1.4569999999999999,1.109,1.179,1.1919999999999999,0.38400000000000001,1.5509999999999999,1.27,1.1779999999999999,1.506,1.5449999999999999,2.1709999999999998,1.3800000000000001]
["2015-09-01",1.377,1.101,1.113,1.1279999999999999,0.39,1.4390000000000001,1.1059999999999999,1.1779999999999999,1.415,1.4750000000000001,2.093,1.2690000000000001]
["2015-10-01",1.429,1.147,1.1599999999999999,1.1599999999999999,0.40299999999999997,1.474,1.1579999999999999,1.1870000000000001,1.484,1.5569999999999999,2.0869999999999997,1.3140000000000001]
["2015-11-01",1.4430000000000001,1.139,1.153,1.173,0.39,1.5730000000000002,1.258,1.242,1.43,1.5760000000000001,2.173,1.3640000000000001]
["2015-12-01",1.4119999999999999,1.119,1.1279999999999999,1.1440000000000001,0.35600000000000004,1.5380000000000003,1.2529999999999999,1.2170000000000001,1.4119999999999999,1.5290000000000001,2.2050000000000001,1.3]
["2016-01-01",1.3180000000000001,1.077,1.0860000000000001,1.0470000000000002,0.33299999999999996,1.425,1.0640000000000001,1.1919999999999999,1.3619999999999999,1.4080000000000001,2.1190000000000002,1.2309999999999999]
["2016-02-01",1.304,1.08,1.0760000000000001,0.93599999999999994,0.28699999999999998,1.3440000000000001,0.9870000000000001,1.238,1.3030000000000002,1.3959999999999999,2.0209999999999999,1.2040000000000002]
["2016-03-01",1.3919999999999999,1.1200000000000001,1.125,0.99900000000000011,0.32600000000000001,1.423,1.028,1.3080000000000001,1.367,1.4980000000000002,2.1280000000000001,1.2849999999999999]
["2016-04-01",1.431,1.133,1.147,0.99099999999999999,0.33500000000000002,1.4440000000000002,1.0620000000000001,1.3360000000000001,1.401,1.5080000000000002,2.1190000000000002,1.3080000000000001]
["2016-05-01",1.431,1.117,1.129,0.9840000000000001,0.36499999999999999,1.425,1.012,1.3319999999999999,1.413,1.5580000000000001,2.14,1.2919999999999998]
["2016-06-01",1.4410000000000001,1.1220000000000001,1.129,0.94200000000000006,0.35000000000000003,1.397,1.0249999999999999,1.3240000000000001,1.4690000000000001,1.5619999999999998,2.1120000000000001,1.2809999999999999]
["2016-07-01",1.4769999999999999,1.137,1.2170000000000001,0.91500000000000004,0.32500000000000001,1.411,1.0660000000000001,1.341,1.5230000000000001,1.6130000000000002,2.1560000000000001,1.3019999999999998]
["2016-08-01",1.4930000000000001,1.1559999999999999,1.248,0.93,0.33100000000000002,1.4869999999999999,1.0780000000000001,1.37,1.5409999999999999,1.5990000000000002,2.1309999999999998,1.3180000000000001]
["2016-09-01",1.4809999999999999,1.1559999999999999,1.246,0.92799999999999994,0.33100000000000002,1.4869999999999999,1.0720000000000001,1.399,1.5669999999999999,1.5940000000000001,2.1139999999999999,1.3190000000000002]
["2016-10-01",1.4630000000000001,1.1559999999999999,1.2819999999999998,0.93400000000000005,0.34299999999999997,1.5009999999999999,1.0840000000000001,1.3800000000000001,1.5409999999999999,1.659,2.0619999999999998,1.3290000000000002]
["2016-11-01",1.4750000000000001,1.125,1.244,0.92400000000000004,0.35000000000000003,1.486,1.129,1.419,1.47,1.6859999999999999,1.9180000000000001,1.3109999999999999]
["2016-12-01",1.534,1.1479999999999999,1.2750000000000001,1.022,0.36899999999999999,1.5660000000000001,1.115,1.532,1.45,1.7869999999999999,2.0009999999999999,1.371]
["2017-01-01",1.5519999999999998,1.171,1.3180000000000001,1.07,0.379,1.6230000000000002,1.109,1.5409999999999999,1.4950000000000001,1.841,2.093,1.4080000000000001]
["2017-02-01",1.58,1.1820000000000002,1.3240000000000001,1.05,0.37,1.641,1.133,1.5,1.5660000000000001,1.8290000000000002,2.1259999999999999,1.4319999999999999]
["2017-03-01",1.5930000000000002,1.2110000000000001,1.3459999999999999,1.105,0.379,1.679,1.145,1.413,1.609,1.8160000000000001,2.1320000000000001,1.4780000000000002]
["2017-04-01",1.585,1.226,1.33,1.1340000000000001,0.4,1.7050000000000001,1.1359999999999999,1.3819999999999999,1.6330000000000002,1.806,2.1960000000000002,1.5009999999999999]
["2017-05-01",1.601,1.3,1.357,1.1859999999999999,0.45200000000000001,1.7480000000000002,1.095,1.381,1.6719999999999999,1.8680000000000001,2.2930000000000001,1.5409999999999999]
["2017-06-01",1.6240000000000001,1.3459999999999999,1.365,1.171,0.47000000000000003,1.7490000000000001,1.1120000000000001,1.3009999999999999,1.7130000000000001,1.8330000000000002,2.3490000000000002,1.5209999999999999]

{"sheet":"Returns","index":3,"n_rows":222,"n_cols":12,"rows_kept":222,"cut":false,"hidden":false,"merged":[]}
["SPASTT01USM661N","SPASTT01KRM661N","SPASTT01GBM661N","SPASTT01ITM661N","SPASTT01GRM661N","SPASTT01DEM661N","SPASTT01CNM661N","SPASTT01RUM661N","SPASTT01INM661N","SPASTT01NOM661N","SPASTT01DKM661N","SPASTT01NLM661N"]
[{"$f":"(Data!B3-Data!B2)/Data!B2","v":-1.148105625717567E-2},{"$f":"(Data!C3-Data!C2)/Data!C2","v":-0.10619469026548667},{"$f":"(Data!D3-Data!D2)/Data!D2","v":5.4894784995425487E-3},{"$f":"(Data!E3-Data!E2)/Data!E2","v":-1.8284106891701846E-2},{"$f":"(Data!F3-Data!F2)/Data!F2","v":0.12164383561643823},{"$f":"(Data!G3-Data!G2)/Data!G2","v":-2.1495327102803653E-2},{"$f":"(Data!H3-Data!H2)/Data!H2","v":-4.4444444444444481E-2},{"$f":"(Data!I3-Data!I2)/Data!I2","v":0.18749999999999994},{"$f":"(Data!J3-Data!J2)/Data!J2","v":0},{"$f":"(Data!K3-Data!K2)/Data!K2","v":9.8039215686274595E-3},{"$f":"(Data!L3-Data!L2)/Data!L2","v":-3.3797216699801111E-2},{"$f":"(Data!M3-Data!M2)/Data!M2","v":-2.3792357606344568E-2}]
[{"$f":"(Data!B4-Data!B3)/Data!B3","v":2.5551684088269477E-2},{"$f":"(Data!C4-Data!C3)/Data!C3","v":9.9009900990098917E-2},{"$f":"(Data!D4-Data!D3)/Data!D3","v":2.6387625113739686E-2},{"$f":"(Data!E4-Data!E3)/Data!E3","v":4.9426934097421327E-2},{"$f":"(Data!F4-Data!F3)/Data!F3","v":5.4714215925745269E-2},{"$f":"(Data!G4-Data!G3)/Data!G3","v":-2.0057306590257999E-2},{"$f":"(Data!H4-Data!H3)/Data!H3","v":4.9095607235142162E-2},{"$f":"(Data!I4-Data!I3)/Data!I3","v":0.44736842105263164},{"$f":"(Data!J4-Data!J3)/Data!J3","v":0.12154696132596679},{"$f":"(Data!K4-Data!K3)/Data!K3","v":2.5889967637540475E-2},{"$f":"(Data!L4-Data!L3)/Data!L3","v":-4.7325102880658589E-2},{"$f":"(Data!M4-Data!M3)/Data!M3","v":2.3633677991137227E-2}]
[{"$f":"(Data!B5-Data!B4)/Data!B4","v":3.963759909399777E-2},{"$f":"(Data!C5-Data!C4)/Data!C4","v":0.2282282282282283},{"$f":"(Data!D5-Data!D4)/Data!D4","v":4.6985815602837024E-2},{"$f":"(Data!E5-Data!E4)/Data!E4","v":1.3651877133105813E-2},{"$f":"(Data!F5-Data!F4)/Data!F4","v":-1.9453450671607343E-2},{"$f":"(Data!G5-Data!G4)/Data!G4","v":4.1910331384015738E-2},{"$f":"(Data!H5-Data!H4)/Data!H4","v":9.8522167487684817E-3},{"$f":"(Data!I5-Data!I4)/Data!I4","v":0.10909090909090906},{"$f":"(Data!J5-Data!J4)/Data!J4","v":-6.8965517241379365E-2},{"$f":"(Data!K5-Data!K4)/Data!K4","v":6.6246056782334264E-2},{"$f":"(Data!L5-Data!L4)/Data!L4","v":4.9676025917926733E-2},{"$f":"(Data!M5-Data!M4)/Data!M4","v":4.4011544011543974E-2}]
[{"$f":"(Data!B6-Data!B5)/Data!B5","v":1.3071895424836612E-2},{"$f":"(Data!C6-Data!C5)/Data!C5","v":3.4229828850855779E-2},{"$f":"(Data!D6-Data!D5)/Data!D5","v":-2.1168501270110187E-2},{"$f":"(Data!E6-Data!E5)/Data!E5","v":-1.8181818181818122E-2},{"$f":"(Data!F6-Data!F5)/Data!F5","v":0.16154936230514882},{"$f":"(Data!G6-Data!G5)/Data!G5","v":7.4836295603365613E-3},{"$f":"(Data!H6-Data!H5)/Data!H5","v":-1.2195121951219521E-2},{"$f":"(Data!I6-Data!I5)/Data!I5","v":0.21311475409836084},{"$f":"(Data!J6-Data!J5)/Data!J5","v":0.12698412698412709},{"$f":"(Data!K6-Data!K5)/Data!K5","v":4.7337278106508923E-2},{"$f":"(Data!L6-Data!L5)/Data!L5","v":1.851851851851842E-2},{"$f":"(Data!M6-Data!M5)/Data!M5","v":2.1423635107118429E-2}]
[{"$f":"(Data!B7-Data!B6)/Data!B6","v":-9.6774193548388367E-3},{"$f":"(Data!C7-Data!C6)/Data!C6","v":0.13002364066193853},{"$f":"(Data!D7-Data!D6)/Data!D6","v":1.6435986159169663E-2},{"$f":"(Data!E7-Data!E6)/Data!E6","v":0},{"$f":"(Data!F7-Data!F6)/Data!F6","v":3.6600244001626257E-3},{"$f":"(Data!G7-Data!G6)/Data!G6","v":4.6425255338905435E-3},{"$f":"(Data!H7-Data!H6)/Data!H6","v":0.27901234567901229},{"$f":"(Data!I7-Data!I6)/Data!I6","v":0.14864864864864857},{"$f":"(Data!J7-Data!J6)/Data!J6","v":5.1643192488262692E-2},{"$f":"(Data!K7-Data!K6)/Data!K6","v":2.8248587570621495E-3},{"$f":"(Data!L7-Data!L6)/Data!L6","v":2.0202020202021343E-3},{"$f":"(Data!M7-Data!M6)/Data!M6","v":1.2178619756427464E-2}]
[{"$f":"(Data!B8-Data!B7)/Data!B7","v":3.040173724212827E-2},{"$f":"(Data!C8-Data!C7)/Data!C7","v":0.15271966527196668},{"$f":"(Data!D8-Data!D7)/Data!D7","v":0},{"$f":"(Data!E8-Data!E7)/Data!E7","v":2.7434842249655562E-3},{"$f":"(Data!F8-Data!F7)/Data!F7","v":8.1442463533225318E-2},{"$f":"(Data!G8-Data!G7)/Data!G7","v":3.881700554528654E-2},{"$f":"(Data!H8-Data!H7)/Data!H7","v":6.9498069498069553E-2},{"$f":"(Data!I8-Data!I7)/Data!I7","v":0.11764705882352934},{"$f":"(Data!J8-Data!J7)/Data!J7","v":0.11160714285714297},{"$f":"(Data!K8-Data!K7)/Data!K7","v":1.9718309859155105E-2},{"$f":"(Data!L8-Data!L7)/Data!L7","v":4.8387096774193478E-2},{"$f":"(Data!M8-Data!M7)/Data!M7","v":1.5374331550802227E-2}]
[{"$f":"(Data!B9-Data!B8)/Data!B8","v":-4.2149631190727115E-2},{"$f":"(Data!C9-Data!C8)/Data!C8","v":-3.8112522686025441E-2},{"$f":"(Data!D9-Data!D8)/Data!D8","v":-3.3191489361702249E-2},{"$f":"(Data!E9-Data!E8)/Data!E8","v":-5.6087551299589505E-2},{"$f":"(Data!F9-Data!F8)/Data!F8","v":9.8913450730610808E-2},{"$f":"(Data!G9-Data!G8)/Data!G8","v":-4.2704626334519609E-2},{"$f":"(Data!H9-Data!H8)/Data!H8","v":3.0685920577617352E-2},{"$f":"(Data!I9-Data!I8)/Data!I8","v":-0.20000000000000004},{"$f":"(Data!J9-Data!J8)/Data!J8","v":2.8112449799196811E-2},{"$f":"(Data!K9-Data!K8)/Data!K8","v":1.9337016574585496E-2},{"$f":"(Data!L9-Data!L8)/Data!L8","v":-9.6153846153846229E-3},{"$f":"(Data!M9-Data!M8)/Data!M8","v":-1.5799868334430558E-2}]
[{"$f":"(Data!B10-Data!B9)/Data!B9","v":-2.20022002200219E-2},{"$f":"(Data!C10-Data!C9)/Data!C9","v":-7.5471698113207608E-3},{"$f":"(Data!D10-Data!D9)/Data!D9","v":-1.4964788732394284E-2},{"$f":"(Data!E10-Data!E9)/Data!E9","v":3.550724637681154E-2},{"$f":"(Data!F10-Data!F9)/Data!F9","v":0.20422775315376737},{"$f":"(Data!G10-Data!G9)/Data!G9","v":1.2081784386617214E-2},{"$f":"(Data!H10-Data!H9)/Data!H9","v":0},{"$f":"(Data!I10-Data!I9)/Data!I9","v":-9.2105263157894635E-2},{"$f":"(Data!J10-Data!J9)/Data!J9","v":1.5625000000000014E-2},{"$f":"(Data!K10-Data!K9)/Data!K9","v":2.1680216802168192E-2},{"$f":"(Data!L10-Data!L9)/Data!L9","v":3.8834951456310711E-2},{"$f":"(Data!M10-Data!M9)/Data!M9","v":2.07357859531772E-2}]
[{"$f":"(Data!B11-Data!B10)/Data!B10","v":-1.46231721034872E-2},{"$f":"(Data!C11-Data!C10)/Data!C10","v":-0.10646387832699618},{"$f":"(Data!D11-Data!D10)/Data!D10","v":-8.0428954423591575E-3},{"$f":"(Data!E11-Data!E10)/Data!E10","v":-3.0790762771168677E-2},{"$f":"(Data!F11-Data!F10)/Data!F10","v":-2.0668176670441789E-2},{"$f":"(Data!G11-Data!G10)/Data!G10","v":-1.8365472910929507E-3},{"$f":"(Data!H11-Data!H10)/Data!H10","v":-5.9544658493870452E-2},{"$f":"(Data!I11-Data!I10)/Data!I10","v":0},{"$f":"(Data!J11-Data!J10)/Data!J10","v":2.3076923076923096E-2},{"$f":"(Data!K11-Data!K10)/Data!K10","v":-4.24403183023873E-2},{"$f":"(Data!L11-Data!L10)/Data!L10","v":-9.3457943925233725E-3},{"$f":"(Data!M11-Data!M10)/Data!M10","v":-3.8007863695936978E-2}]
[{"$f":"(Data!B12-Data!B11)/Data!B11","v":5.9360730593607233E-2},{"$f":"(Data!C12-Data!C11)/Data!C11","v":0.14680851063829786},{"$f":"(Data!D12-Data!D11)/Data!D11","v":6.8468468468468324E-2},{"$f":"(Data!E12-Data!E11)/Data!E11","v":2.7436823104693166E-2},{"$f":"(Data!F12-Data!F11)/Data!F11","v":-1.3298641225787621E-2},{"$f":"(Data!G12-Data!G11)/Data!G11","v":7.4517019319227204E-2},{"$f":"(Data!H12-Data!H11)/Data!H11","v":-3.9106145251396683E-2},{"$f":"(Data!I12-Data!I11)/Data!I11","v":0.21739130434782605},{"$f":"(Data!J12-Data!J11)/Data!J11","v":-5.2631578947368467E-2},{"$f":"(Data!K12-Data!K11)/Data!K11","v":2.7700831024930615E-2},{"$f":"(Data!L12-Data!L11)/Data!L11","v":7.3584905660377217E-2},{"$f":"(Data!M12-Data!M11)/Data!M11","v":8.0381471389645687E-2}]
[{"$f":"(Data!B13-Data!B12)/Data!B12","v":6.465517241379436E-3},{"$f":"(Data!C13-Data!C12)/Data!C12","v":3.7105751391465706E-2},{"$f":"(Data!D13-Data!D12)/Data!D12","v":3.6256323777403163E-2},{"$f":"(Data!E13-Data!E12)/Data!E12","v":0.12297962052002814},{"$f":"(Data!F13-Data!F12)/Data!F12","v":-6.0943451508936472E-2},{"$f":"(Data!G13-Data!G12)/Data!G12","v":8.3904109589041181E-2},{"$f":"(Data!H13-Data!H12)/Data!H12","v":-3.8759689922480543E-2},{"$f":"(Data!I13-Data!I12)/Data!I12","v":0.10714285714285723},{"$f":"(Data!J13-Data!J12)/Data!J12","v":4.7619047619047658E-2},{"$f":"(Data!K13-Data!K12)/Data!K12","v":9.1644204851752106E-2},{"$f":"(Data!L13-Data!L12)/Data!L12","v":5.4481546572935025E-2},{"$f":"(Data!M13-Data!M12)/Data!M12","v":7.4401008827238393E-2}]
[{"$f":"(Data!B14-Data!B13)/Data!B13","v":-5.3533190578158507E-3},{"$f":"(Data!C14-Data!C13)/Data!C13","v":-2.8622540250447252E-2},{"$f":"(Data!D14-Data!D13)/Data!D13","v":-3.3360455655004187E-2},{"$f":"(Data!E14-Data!E13)/Data!E13","v":4.3178973717146261E-2},{"$f":"(Data!F14-Data!F13)/Data!F13","v":-2.1840873634945347E-2},{"$f":"(Data!G14-Data!G13)/Data!G13","v":7.3459715639810408E-2},{"$f":"(Data!H14-Data!H13)/Data!H13","v":4.2338709677419276E-2},{"$f":"(Data!I14-Data!I13)/Data!I13","v":0.47311827956989205},{"$f":"(Data!J14-Data!J13)/Data!J13","v":0.12499999999999989},{"$f":"(Data!K14-Data!K13)/Data!K13","v":5.6790123456790034E-2},{"$f":"(Data!L14-Data!L13)/Data!L13","v":1.5000000000000013E-2},{"$f":"(Data!M14-Data!M13)/Data!M13","v":1.6431924882628991E-2}]
[{"$f":"(Data!B15-Data!B14)/Data!B14","v":-4.7362755651237931E-2},{"$f":"(Data!C15-Data!C14)/Data!C14","v":-5.3406998158379418E-2},{"$f":"(Data!D15-Data!D14)/Data!D14","v":-4.8821548821548683E-2},{"$f":"(Data!E15-Data!E14)/Data!E14","v":0.13197360527894433},{"$f":"(Data!F15-Data!F14)/Data!F14","v":1.0526315789473658E-2},{"$f":"(Data!G15-Data!G14)/Data!G14","v":0.10301692420897728},{"$f":"(Data!H15-Data!H14)/Data!H14","v":9.8646034816247452E-2},{"$f":"(Data!I15-Data!I14)/Data!I14","v":2.1897810218978325E-2},{"$f":"(Data!J15-Data!J14)/Data!J14","v":4.713804713804718E-2},{"$f":"(Data!K15-Data!K14)/Data!K14","v":1.8691588785046745E-2},{"$f":"(Data!L15-Data!L14)/Data!L14","v":4.5977011494252915E-2},{"$f":"(Data!M15-Data!M14)/Data!M14","v":2.7136258660508172E-2}]
[{"$f":"(Data!B16-Data!B15)/Data!B15","v":2.8248587570621493E-2},{"$f":"(Data!C16-Data!C15)/Data!C15","v":-3.3073929961089411E-2},{"$f":"(Data!D16-Data!D15)/Data!D15","v":5.8407079646017546E-2},{"$f":"(Data!E16-Data!E15)/Data!E15","v":5.2464228934817156E-2},{"$f":"(Data!F16-Data!F15)/Data!F15","v":-9.1540404040404047E-2},{"$f":"(Data!G16-Data!G15)/Data!G15","v":5.070046697798522E-2},{"$f":"(Data!H16-Data!H15)/Data!H15","v":7.2183098591549366E-2},{"$f":"(Data!I16-Data!I15)/Data!I15","v":0.18571428571428567},{"$f":"(Data!J16-Data!J15)/Data!J15","v":-7.0739549839228352E-2},{"$f":"(Data!K16-Data!K15)/Data!K15","v":1.3761467889908396E-2},{"$f":"(Data!L16-Data!L15)/Data!L15","v":7.0643642072213561E-2},{"$f":"(Data!M16-Data!M15)/Data!M15","v":3.9347948285553713E-2}]
[{"$f":"(Data!B17-Data!B16)/Data!B16","v":3.9560439560439475E-2},{"$f":"(Data!C17-Data!C16)/Data!C16","v":-0.10462776659959767},{"$f":"(Data!D17-Data!D16)/Data!D16","v":-3.5953177257525025E-2},{"$f":"(Data!E17-Data!E16)/Data!E16","v":-8.3081570996978868E-2},{"$f":"(Data!F17-Data!F16)/Data!F16","v":-6.706045865184157E-2},{"$f":"(Data!G17-Data!G16)/Data!G16","v":-7.3015873015873006E-2},{"$f":"(Data!H17-Data!H16)/Data!H16","v":5.4187192118226653E-2},{"$f":"(Data!I17-Data!I16)/Data!I16","v":1.2048192771084347E-2},{"$f":"(Data!J17-Data!J16)/Data!J16","v":-6.574394463667807E-2},{"$f":"(Data!K17-Data!K16)/Data!K16","v":-7.0135746606334898E-2},{"$f":"(Data!L17-Data!L16)/Data!L16","v":-3.8123167155425415E-2},{"$f":"(Data!M17-Data!M16)/Data!M16","v":-4.0021633315305602E-2}]
[{"$f":"(Data!B18-Data!B17)/Data!B17","v":-1.0570824524312907E-2},{"$f":"(Data!C18-Data!C17)/Data!C17","v":-7.6404494382022417E-2},{"$f":"(Data!D18-Data!D17)/Data!D17","v":-1.3876843018213368E-2},{"$f":"(Data!E18-Data!E17)/Data!E17","v":2.1965952773201559E-2},{"$f":"(Data!F18-Data!F17)/Data!F17","v":4.8417132216014526E-3},{"$f":"(Data!G18-Data!G17)/Data!G17","v":-2.2602739726027495E-2},{"$f":"(Data!H18-Data!H17)/Data!H17","v":-3.1152647975077907E-3},{"$f":"(Data!I18-Data!I17)/Data!I17","v":-3.5714285714285747E-2},{"$f":"(Data!J18-Data!J17)/Data!J17","v":-0.12962962962962962},{"$f":"(Data!K18-Data!K17)/Data!K17","v":5.8394160583941521E-2},{"$f":"(Data!L18-Data!L17)/Data!L17","v":2.1341463414634339E-2},{"$f":"(Data!M18-Data!M17)/Data!M17","v":7.3239436619718995E-3}]
[{"$f":"(Data!B19-Data!B18)/Data!B18","v":1.495726495726509E-2},{"$f":"(Data!C19-Data!C18)/Data!C18","v":9.732360097323596E-2},{"$f":"(Data!D19-Data!D18)/Data!D18","v":3.8698328935795986E-2},{"$f":"(Data!E19-Data!E18)/Data!E18","v":1.7732401934443923E-2},{"$f":"(Data!F19-Data!F18)/Data!F18","v":-5.5226093402520396E-2},{"$f":"(Data!G19-Data!G18)/Data!G18","v":-7.0077084793264887E-4},{"$f":"(Data!H19-Data!H18)/Data!H18","v":6.2500000000000056E-2},{"$f":"(Data!I19-Data!I18)/Data!I18","v":-7.4074074074074139E-2},{"$f":"(Data!J19-Data!J18)/Data!J18","v":9.3617021276595699E-2},{"$f":"(Data!K19-Data!K18)/Data!K18","v":9.1954022988505833E-3},{"$f":"(Data!L19-Data!L18)/Data!L18","v":1.1940298507462531E-2},{"$f":"(Data!M19-Data!M18)/Data!M18","v":1.7337807606263932E-2}]
[{"$f":"(Data!B20-Data!B19)/Data!B19","v":6.3157894736840985E-3},{"$f":"(Data!C20-Data!C19)/Data!C19","v":2.2172949002217312E-3},{"$f":"(Data!D20-Data!D19)/Data!D19","v":-3.3869602032176151E-3},{"$f":"(Data!E20-Data!E19)/Data!E19","v":1.953537486800418E-2},{"$f":"(Data!F20-Data!F19)/Data!F19","v":-7.2577481365241114E-2},{"$f":"(Data!G20-Data!G19)/Data!G19","v":-1.192145862552588E-2},{"$f":"(Data!H20-Data!H19)/Data!H19","v":2.5000000000000019E-2},{"$f":"(Data!I20-Data!I19)/Data!I19","v":-9.333333333333324E-2},{"$f":"(Data!J20-Data!J19)/Data!J19","v":-3.8910505836575911E-3},{"$f":"(Data!K20-Data!K19)/Data!K19","v":4.1002277904328054E-2},{"$f":"(Data!L20-Data!L19)/Data!L19","v":2.8023598820059187E-2},{"$f":"(Data!M20-Data!M19)/Data!M19","v":5.4975261132484321E-4}]
[{"$f":"(Data!B21-Data!B20)/Data!B20","v":1.9874476987447716E-2},{"$f":"(Data!C21-Data!C20)/Data!C20","v":-9.5132743362831937E-2},{"$f":"(Data!D21-Data!D20)/Data!D20","v":7.6465590484281198E-3},{"$f":"(Data!E21-Data!E20)/Data!E20","v":-6.732263076126308E-3},{"$f":"(Data!F21-Data!F20)/Data!F20","v":-6.6412859560067872E-2},{"$f":"(Data!G21-Data!G20)/Data!G20","v":-3.548616039744424E-3},{"$f":"(Data!H21-Data!H20)/Data!H20","v":4.7345767575322689E-2},{"$f":"(Data!I21-Data!I20)/Data!I20","v":0.17647058823529405},{"$f":"(Data!J21-Data!J20)/Data!J20","v":-7.0312499999999958E-2},{"$f":"(Data!K21-Data!K20)/Data!K20","v":6.5645514223194798E-2},{"$f":"(Data!L21-Data!L20)/Data!L20","v":6.3127690100430303E-2},{"$f":"(Data!M21-Data!M20)/Data!M20","v":1.6483516483516498E-2}]
[{"$f":"(Data!B22-Data!B21)/Data!B21","v":2.0512820512821671E-3},{"$f":"(Data!C22-Data!C21)/Data!C21","v":-0.12958435207823946},{"$f":"(Data!D22-Data!D21)/Data!D21","v":-3.372681281618703E-3},{"$f":"(Data!E22-Data!E21)/Data!E21","v":5.2137643378519331E-3},{"$f":"(Data!F22-Data!F21)/Data!F21","v":8.6089714544630699E-2},{"$f":"(Data!G22-Data!G21)/Data!G21","v":-1.9943019943020116E-2},{"$f":"(Data!H22-Data!H21)/Data!H21","v":-6.0273972602739784E-2},{"$f":"(Data!I22-Data!I21)/Data!I21","v":-5.625000000000005E-2},{"$f":"(Data!J22-Data!J21)/Data!J21","v":2.1008403361344553E-2},{"$f":"(Data!K22-Data!K21)/Data!K21","v":3.2854209445585127E-2},{"$f":"(Data!L22-Data!L21)/Data!L21","v":3.5087719298245647E-2},{"$f":"(Data!M22-Data!M21)/Data!M21","v":-1.6216216216216829E-3}]
[{"$f":"(Data!B23-Data!B22)/Data!B22","v":-3.1729785056294917E-2},{"$f":"(Data!C23-Data!C22)/Data!C22","v":-0.12359550561797762},{"$f":"(Data!D23-Data!D22)/Data!D22","v":-2.6226734348561872E-2},{"$f":"(Data!E23-Data!E22)/Data!E22","v":-3.215767634854786E-2},{"$f":"(Data!F23-Data!F22)/Data!F22","v":-5.9240717563621155E-2},{"$f":"(Data!G23-Data!G22)/Data!G22","v":-5.3779069767441914E-2},{"$f":"(Data!H23-Data!H22)/Data!H22","v":-4.3731778425656022E-3},{"$f":"(Data!I23-Data!I22)/Data!I22","v":-7.9470198675496581E-2},{"$f":"(Data!J23-Data!J22)/Data!J22","v":-0.13168724279835389},{"$f":"(Data!K23-Data!K22)/Data!K22","v":-4.1749502982107285E-2},{"$f":"(Data!L23-Data!L22)/Data!L22","v":2.3468057366362472E-2},{"$f":"(Data!M23-Data!M22)/Data!M22","v":-2.2739577693557139E-2}]
[{"$f":"(Data!B24-Data!B23)/Data!B23","v":-1.0570824524311732E-3},{"$f":"(Data!C24-Data!C23)/Data!C23","v":-9.6153846153846246E-3},{"$f":"(Data!D24-Data!D23)/Data!D23","v":1.0425716768027811E-2},{"$f":"(Data!E24-Data!E23)/Data!E23","v":4.7695605573419182E-2},{"$f":"(Data!F24-Data!F23)/Data!F23","v":-9.223946784922403E-2},{"$f":"(Data!G24-Data!G23)/Data!G23","v":-9.2165898617509907E-3},{"$f":"(Data!H24-Data!H23)/Data!H23","v":6.2957540263543249E-2},{"$f":"(Data!I24-Data!I23)/Data!I23","v":-0.10791366906474818},{"$f":"(Data!J24-Data!J23)/Data!J23","v":2.3696682464454995E-2},{"$f":"(Data!K24-Data!K23)/Data!K23","v":-1.2448132780082997E-2},{"$f":"(Data!L24-Data!L23)/Data!L23","v":-5.0955414012738898E-2},{"$f":"(Data!M24-Data!M23)/Data!M23","v":5.5401662049861548E-3}]
[{"$f":"(Data!B25-Data!B24)/Data!B24","v":-1.0582010582010591E-3},{"$f":"(Data!C25-Data!C24)/Data!C24","v":-4.2071197411003097E-2},{"$f":"(Data!D25-Data!D24)/Data!D24","v":-2.0636285468615668E-2},{"$f":"(Data!E25-Data!E24)/Data!E24","v":-6.240409207161119E-2},{"$f":"(Data!F25-Data!F24)/Data!F24","v":4.8851978505130593E-3},{"$f":"(Data!G25-Data!G24)/Data!G24","v":-6.0465116279069822E-2},{"$f":"(Data!H25-Data!H24)/Data!H24","v":5.5096418732782423E-3},{"$f":"(Data!I25-Data!I24)/Data!I24","v":-0.17741935483870983},{"$f":"(Data!J25-Data!J24)/Data!J24","v":3.7037037037036806E-2},{"$f":"(Data!K25-Data!K24)/Data!K24","v":-8.8235294117647134E-2},{"$f":"(Data!L25-Data!L24)/Data!L24","v":-4.6979865771812124E-2},{"$f":"(Data!M25-Data!M24)/Data!M24","v":-5.4545454545454536E-2}]
[{"$f":"(Data!B26-Data!B25)/Data!B25","v":8.4745762711864476E-3},{"$f":"(Data!C26-Data!C25)/Data!C25","v":0.12499999999999972},{"$f":"(Data!D26-Data!D25)/Data!D25","v":-5.2677787532923667E-3},{"$f":"(Data!E26-Data!E25)/Data!E25","v":-1.3638843426077541E-2},{"$f":"(Data!F26-Data!F25)/Data!F25","v":-9.4312105007292049E-2},{"$f":"(Data!G26-Data!G25)/Data!G25","v":4.9504950495049549E-3},{"$f":"(Data!H26-Data!H25)/Data!H25","v":6.8493150684931572E-3},{"$f":"(Data!I26-Data!I25)/Data!I25","v":0.10784313725490206},{"$f":"(Data!J26-Data!J25)/Data!J25","v":2.2321428571428593E-2},{"$f":"(Data!K26-Data!K25)/Data!K25","v":2.534562211981569E-2},{"$f":"(Data!L26-Data!L25)/Data!L25","v":5.0704225352112726E-2},{"$f":"(Data!M26-Data!M25)/Data!M25","v":-9.3240093240093327E-3}]
[{"$f":"(Data!B27-Data!B26)/Data!B26","v":-4.2016806722690279E-3},{"$f":"(Data!C27-Data!C26)/Data!C26","v":1.2012012012012191E-2},{"$f":"(Data!D27-Data!D26)/Data!D26","v":-1.2356575463371591E-2},{"$f":"(Data!E27-Data!E26)/Data!E26","v":-3.0973451327433656E-2},{"$f":"(Data!F27-Data!F26)/Data!F26","v":-1.0735373054214835E-3},{"$f":"(Data!G27-Data!G26)/Data!G26","v":-9.8522167487684817E-3},{"$f":"(Data!H27-Data!H26)/Data!H26","v":-5.4421768707482894E-2},{"$f":"(Data!I27-Data!I26)/Data!I26","v":2.654867256637158E-2},{"$f":"(Data!J27-Data!J26)/Data!J26","v":3.4934497816593919E-2},{"$f":"(Data!K27-Data!K26)/Data!K26","v":2.6966292134831486E-2},{"$f":"(Data!L27-Data!L26)/Data!L26","v":4.0214477211797774E-3},{"$f":"(Data!M27-Data!M26)/Data!M26","v":-1.7058823529411717E-2}]
[{"$f":"(Data!B28-Data!B27)/Data!B27","v":-6.856540084388181E-2},{"$f":"(Data!C28-Data!C27)/Data!C27","v":-8.0118694362017864E-2},{"$f":"(Data!D28-Data!D27)/Data!D27","v":-6.6130473637176113E-2},{"$f":"(Data!E28-Data!E27)/Data!E27","v":-8.2762557077625587E-2},{"$f":"(Data!F28-Data!F27)/Data!F27","v":-1.8269747447608828E-2},{"$f":"(Data!G28-Data!G27)/Data!G27","v":-7.7114427860696499E-2},{"$f":"(Data!H28-Data!H27)/Data!H27","v":3.59712230215826E-2},{"$f":"(Data!I28-Data!I27)/Data!I27","v":0},{"$f":"(Data!J28-Data!J27)/Data!J27","v":-0.11392405063291139},{"$f":"(Data!K28-Data!K27)/Data!K27","v":-5.4704595185995547E-2},{"$f":"(Data!L28-Data!L27)/Data!L27","v":-8.5447263017356542E-2},{"$f":"(Data!M28-Data!M27)/Data!M27","v":-7.4805505685218432E-2}]
[{"$f":"(Data!B29-Data!B28)/Data!B28","v":5.6625141562853957E-3},{"$f":"(Data!C29-Data!C28)/Data!C28","v":-3.2258064516129059E-2},{"$f":"(Data!D29-Data!D28)/Data!D28","v":9.5693779904306303E-3},{"$f":"(Data!E29-Data!E28)/Data!E28","v":3.2980709396390889E-2},{"$f":"(Data!F29-Data!F28)/Data!F28","v":1.1494252873563289E-2},{"$f":"(Data!G29-Data!G28)/Data!G28","v":-8.9847259658570519E-4},{"$f":"(Data!H29-Data!H28)/Data!H28","v":4.7222222222222422E-2},{"$f":"(Data!I29-Data!I28)/Data!I28","v":1.7241379310344963E-2},{"$f":"(Data!J29-Data!J28)/Data!J28","v":-9.0476190476190294E-2},{"$f":"(Data!K29-Data!K28)/Data!K28","v":-2.3148148148148164E-3},{"$f":"(Data!L29-Data!L28)/Data!L28","v":-3.0656934306569367E-2},{"$f":"(Data!M29-Data!M28)/Data!M28","v":-1.9404915912030346E-3}]
[{"$f":"(Data!B30-Data!B29)/Data!B29","v":6.1936936936936866E-2},{"$f":"(Data!C30-Data!C29)/Data!C29","v":0.13333333333333347},{"$f":"(Data!D30-Data!D29)/Data!D29","v":1.8957345971564E-2},{"$f":"(Data!E30-Data!E29)/Data!E29","v":4.8192771084337388E-3},{"$f":"(Data!F30-Data!F29)/Data!F29","v":-3.7878787878788513E-3},{"$f":"(Data!G30-Data!G29)/Data!G29","v":2.9676258992805678E-2},{"$f":"(Data!H30-Data!H29)/Data!H29","v":1.7241379310344692E-2},{"$f":"(Data!I30-Data!I29)/Data!I29","v":0.1440677966101695},{"$f":"(Data!J30-Data!J29)/Data!J29","v":4.188481675392644E-2},{"$f":"(Data!K30-Data!K29)/Data!K29","v":5.1044083526681917E-2},{"$f":"(Data!L30-Data!L29)/Data!L29","v":4.51807228915663E-2},{"$f":"(Data!M30-Data!M29)/Data!M29","v":4.2773817239144411E-2}]
[{"$f":"(Data!B31-Data!B30)/Data!B30","v":-2.1208907741251226E-2},{"$f":"(Data!C31-Data!C30)/Data!C30","v":5.8823529411764757E-3},{"$f":"(Data!D31-Data!D30)/Data!D30","v":-2.139534883720922E-2},{"$f":"(Data!E31-Data!E30)/Data!E30","v":-5.3357314148681029E-2},{"$f":"(Data!F31-Data!F30)/Data!F30","v":-9.6686583378598437E-2},{"$f":"(Data!G31-Data!G30)/Data!G30","v":-2.1834061135371102E-2},{"$f":"(Data!H31-Data!H30)/Data!H30","v":1.9556714471968727E-2},{"$f":"(Data!I31-Data!I30)/Data!I30","v":0.13333333333333325},{"$f":"(Data!J31-Data!J30)/Data!J30","v":-5.0251256281406947E-2},{"$f":"(Data!K31-Data!K30)/Data!K30","v":-2.4282560706401543E-2},{"$f":"(Data!L31-Data!L30)/Data!L30","v":8.6455331412103823E-3},{"$f":"(Data!M31-Data!M30)/Data!M30","v":-2.9832193909260438E-2}]
[{"$f":"(Data!B32-Data!B31)/Data!B31","v":-2.7085590465872177E-2},{"$f":"(Data!C32-Data!C31)/Data!C31","v":-8.1871345029239831E-2},{"$f":"(Data!D32-Data!D31)/Data!D31","v":-5.0380228136882067E-2},{"$f":"(Data!E32-Data!E31)/Data!E31","v":-3.229892336922098E-2},{"$f":"(Data!F32-Data!F31)/Data!F31","v":-9.5009019843656117E-2},{"$f":"(Data!G32-Data!G31)/Data!G31","v":-3.660714285714279E-2},{"$f":"(Data!H32-Data!H31)/Data!H31","v":-3.3248081841432256E-2},{"$f":"(Data!I32-Data!I31)/Data!I31","v":-5.2287581699346455E-2},{"$f":"(Data!J32-Data!J31)/Data!J31","v":-2.6455026455026478E-2},{"$f":"(Data!K32-Data!K31)/Data!K31","v":-4.977375565610876E-2},{"$f":"(Data!L32-Data!L31)/Data!L31","v":-1.1428571428571437E-2},{"$f":"(Data!M32-Data!M31)/Data!M31","v":-4.8686739269698812E-2}]
[{"$f":"(Data!B33-Data!B32)/Data!B32","v":-1.5590200445434188E-2},{"$f":"(Data!C33-Data!C32)/Data!C32","v":2.5477707006369449E-2},{"$f":"(Data!D33-Data!D32)/Data!D32","v":-3.0030030030031166E-3},{"$f":"(Data!E33-Data!E32)/Data!E32","v":-1.2434554973822072E-2},{"$f":"(Data!F33-Data!F32)/Data!F32","v":5.5813953488372141E-2},{"$f":"(Data!G33-Data!G32)/Data!G32","v":-5.5607043558850829E-2},{"$f":"(Data!H33-Data!H32)/Data!H32","v":-0.1071428571428571},{"$f":"(Data!I33-Data!I32)/Data!I32","v":-7.5862068965517129E-2},{"$f":"(Data!J33-Data!J32)/Data!J32","v":-1.0869565217391314E-2},{"$f":"(Data!K33-Data!K32)/Data!K32","v":-2.8571428571428598E-2},{"$f":"(Data!L33-Data!L32)/Data!L32","v":-2.601156069364164E-2},{"$f":"(Data!M33-Data!M32)/Data!M32","v":-2.8282828282828305E-2}]
[{"$f":"(Data!B34-Data!B33)/Data!B33","v":-8.710407239819011E-2},{"$f":"(Data!C34-Data!C33)/Data!C33","v":-0.11180124223602476},{"$f":"(Data!D34-Data!D33)/Data!D33","v":-0.10240963855421674},{"$f":"(Data!E34-Data!E33)/Data!E33","v":-0.18025182239893969},{"$f":"(Data!F34-Data!F33)/Data!F33","v":-0.12964128382630583},{"$f":"(Data!G34-Data!G33)/Data!G33","v":-0.1717369970559372},{"$f":"(Data!H34-Data!H33)/Data!H33","v":-4.7407407407407447E-2},{"$f":"(Data!I34-Data!I33)/Data!I33","v":-4.4776119402985114E-2},{"$f":"(Data!J34-Data!J33)/Data!J33","v":-0.11538461538461534},{"$f":"(Data!K34-Data!K33)/Data!K33","v":-0.11764705882352938},{"$f":"(Data!L34-Data!L33)/Data!L33","v":-0.13056379821958453},{"$f":"(Data!M34-Data!M33)/Data!M33","v":-0.14968814968814967}]
[{"$f":"(Data!B35-Data!B34)/Data!B34","v":7.4349442379180843E-3},{"$f":"(Data!C35-Data!C34)/Data!C34","v":2.7972027972027799E-2},{"$f":"(Data!D35-Data!D34)/Data!D34","v":3.4675615212527863E-2},{"$f":"(Data!E35-Data!E34)/Data!E34","v":3.1527890056588459E-2},{"$f":"(Data!F35-Data!F34)/Data!F34","v":-2.3138105567606829E-2},{"$f":"(Data!G35-Data!G34)/Data!G34","v":4.0284360189573362E-2},{"$f":"(Data!H35-Data!H34)/Data!H34","v":-7.3094867807154032E-2},{"$f":"(Data!I35-Data!I34)/Data!I34","v":-5.4687500000000049E-2},{"$f":"(Data!J35-Data!J34)/Data!J34","v":0},{"$f":"(Data!K35-Data!K34)/Data!K34","v":-5.5555555555555455E-2},{"$f":"(Data!L35-Data!L34)/Data!L34","v":-3.4129692832766427E-3},{"$f":"(Data!M35-Data!M34)/Data!M34","v":9.7799511002445074E-3}]
[{"$f":"(Data!B36-Data!B35)/Data!B35","v":3.5670356703567205E-2},{"$f":"(Data!C36-Data!C35)/Data!C35","v":0.16666666666666663},{"$f":"(Data!D36-Data!D35)/Data!D35","v":3.6756756756756791E-2},{"$f":"(Data!E36-Data!E35)/Data!E35","v":4.2319749216300974E-2},{"$f":"(Data!F36-Data!F35)/Data!F35","v":0.1576609918578831},{"$f":"(Data!G36-Data!G35)/Data!G35","v":7.1753986332573974E-2},{"$f":"(Data!H36-Data!H35)/Data!H35","v":-6.7114093959729747E-3},{"$f":"(Data!I36-Data!I35)/Data!I35","v":0.19008264462809935},{"$f":"(Data!J36-Data!J35)/Data!J35","v":8.0745341614906735E-2},{"$f":"(Data!K36-Data!K35)/Data!K35","v":5.5882352941176355E-2},{"$f":"(Data!L36-Data!L35)/Data!L35","v":8.5616438356164466E-3},{"$f":"(Data!M36-Data!M35)/Data!M35","v":5.7304277643260654E-2}]
[{"$f":"(Data!B37-Data!B36)/Data!B36","v":1.3064133016626957E-2},{"$f":"(Data!C37-Data!C36)/Data!C36","v":0.10204081632653071},{"$f":"(Data!D37-Data!D36)/Data!D36","v":-1.1470281543274369E-2},{"$f":"(Data!E37-Data!E36)/Data!E36","v":9.774436090225656E-3},{"$f":"(Data!F37-Data!F36)/Data!F36","v":-2.1099744245524386E-2},{"$f":"(Data!G37-Data!G36)/Data!G36","v":1.806588735387887E-2},{"$f":"(Data!H37-Data!H36)/Data!H36","v":6.7567567567565741E-3},{"$f":"(Data!I37-Data!I36)/Data!I36","v":8.3333333333333204E-2},{"$f":"(Data!J37-Data!J36)/Data!J36","v":4.5977011494252915E-2},{"$f":"(Data!K37-Data!K36)/Data!K36","v":3.064066852367691E-2},{"$f":"(Data!L37-Data!L36)/Data!L36","v":-3.3955857385397129E-3},{"$f":"(Data!M37-Data!M36)/Data!M36","v":0}]
[{"$f":"(Data!B38-Data!B37)/Data!B37","v":-2.3446658851113736E-3},{"$f":"(Data!C38-Data!C37)/Data!C37","v":0.10582010582010577},{"$f":"(Data!D38-Data!D37)/Data!D37","v":2.1097046413503301E-3},{"$f":"(Data!E38-Data!E37)/Data!E37","v":7.4460163812360442E-3},{"$f":"(Data!F38-Data!F37)/Data!F37","v":-1.1103853690398371E-2},{"$f":"(Data!G38-Data!G37)/Data!G37","v":2.1920668058455252E-2},{"$f":"(Data!H38-Data!H37)/Data!H37","v":-0.11241610738255026},{"$f":"(Data!I38-Data!I37)/Data!I37","v":0.16025641025641041},{"$f":"(Data!J38-Data!J37)/Data!J37","v":1.0989010989010999E-2},{"$f":"(Data!K38-Data!K37)/Data!K37","v":2.162162162162164E-2},{"$f":"(Data!L38-Data!L37)/Data!L37","v":1.8739352640544969E-2},{"$f":"(Data!M38-Data!M37)/Data!M37","v":9.9236641221374985E-3}]
[{"$f":"(Data!B39-Data!B38)/Data!B38","v":-2.1151586368977692E-2},{"$f":"(Data!C39-Data!C38)/Data!C38","v":4.5454545454545629E-2},{"$f":"(Data!D39-Data!D38)/Data!D38","v":-1.2631578947368547E-2},{"$f":"(Data!E39-Data!E38)/Data!E38","v":-2.8824833702882587E-2},{"$f":"(Data!F39-Data!F38)/Data!F38","v":-4.6235138705416012E-2},{"$f":"(Data!G39-Data!G38)/Data!G38","v":-3.5750766087844769E-2},{"$f":"(Data!H39-Data!H38)/Data!H38","v":9.4517958412098386E-3},{"$f":"(Data!I39-Data!I38)/Data!I38","v":1.1049723756906086E-2},{"$f":"(Data!J39-Data!J38)/Data!J38","v":5.4347826086956423E-2},{"$f":"(Data!K39-Data!K38)/Data!K38","v":-1.587301587301574E-2},{"$f":"(Data!L39-Data!L38)/Data!L38","v":1.1705685618729108E-2},{"$f":"(Data!M39-Data!M38)/Data!M38","v":-1.1337868480725715E-2}]
[{"$f":"(Data!B40-Data!B39)/Data!B39","v":5.5222088835534401E-2},{"$f":"(Data!C40-Data!C39)/Data!C39","v":0.12128146453089228},{"$f":"(Data!D40-Data!D39)/Data!D39","v":2.452025586353947E-2},{"$f":"(Data!E40-Data!E39)/Data!E39","v":7.0015220700152092E-2},{"$f":"(Data!F40-Data!F39)/Data!F39","v":-4.2243767313019348E-2},{"$f":"(Data!G40-Data!G39)/Data!G39","v":6.5677966101694851E-2},{"$f":"(Data!H40-Data!H39)/Data!H39","v":7.8651685393258494E-2},{"$f":"(Data!I40-Data!I39)/Data!I39","v":8.7431693989070802E-2},{"$f":"(Data!J40-Data!J39)/Data!J39","v":1.0309278350515618E-2},{"$f":"(Data!K40-Data!K39)/Data!K39","v":7.7956989247311731E-2},{"$f":"(Data!L40-Data!L39)/Data!L39","v":3.305785123966945E-2},{"$f":"(Data!M40-Data!M39)/Data!M39","v":6.0397553516819538E-2}]
[{"$f":"(Data!B41-Data!B40)/Data!B40","v":-2.1615472127417663E-2},{"$f":"(Data!C41-Data!C40)/Data!C40","v":3.6734693877551051E-2},{"$f":"(Data!D41-Data!D40)/Data!D40","v":-8.3246618106139515E-3},{"$f":"(Data!E41-Data!E40)/Data!E40","v":4.9786628733997996E-3},{"$f":"(Data!F41-Data!F40)/Data!F40","v":-6.5798987707881701E-2},{"$f":"(Data!G41-Data!G40)/Data!G40","v":-1.7892644135188884E-2},{"$f":"(Data!H41-Data!H40)/Data!H40","v":3.4722222222220321E-3},{"$f":"(Data!I41-Data!I40)/Data!I40","v":0.12562814070351758},{"$f":"(Data!J41-Data!J40)/Data!J40","v":-3.5714285714285747E-2},{"$f":"(Data!K41-Data!K40)/Data!K40","v":1.2468827930174575E-2},{"$f":"(Data!L41-Data!L40)/Data!L40","v":-3.3600000000000033E-2},{"$f":"(Data!M41-Data!M40)/Data!M40","v":-1.4419610670511908E-3}]
[{"$f":"(Data!B42-Data!B41)/Data!B41","v":-2.0930232558139424E-2},{"$f":"(Data!C42-Data!C41)/Data!C41","v":-5.9055118110236275E-2},{"$f":"(Data!D42-Data!D41)/Data!D41","v":-8.3945435466945394E-3},{"$f":"(Data!E42-Data!E41)/Data!E41","v":-4.2462845010615591E-2},{"$f":"(Data!F42-Data!F41)/Data!F41","v":4.4891640866873285E-2},{"$f":"(Data!G42-Data!G41)/Data!G41","v":-4.4534412955465515E-2},{"$f":"(Data!H42-Data!H41)/Data!H41","v":-2.4221453287197256E-2},{"$f":"(Data!I42-Data!I41)/Data!I41","v":6.250000000000018E-2},{"$f":"(Data!J42-Data!J41)/Data!J41","v":-3.703703703703707E-2},{"$f":"(Data!K42-Data!K41)/Data!K41","v":-7.3891625615764974E-3},{"$f":"(Data!L42-Data!L41)/Data!L41","v":-9.9337748344370952E-3},{"$f":"(Data!M42-Data!M41)/Data!M41","v":-4.1155234657039665E-2}]
[{"$f":"(Data!B43-Data!B42)/Data!B42","v":-5.4631828978622503E-2},{"$f":"(Data!C43-Data!C42)/Data!C42","v":-6.4853556485355471E-2},{"$f":"(Data!D43-Data!D42)/Data!D42","v":-7.7248677248677317E-2},{"$f":"(Data!E43-Data!E42)/Data!E42","v":-8.9430894308943243E-2},{"$f":"(Data!F43-Data!F42)/Data!F42","v":-2.5925925925926029E-2},{"$f":"(Data!G43-Data!G42)/Data!G42","v":-9.2161016949152505E-2},{"$f":"(Data!H43-Data!H42)/Data!H42","v":-2.1276595744680674E-2},{"$f":"(Data!I43-Data!I42)/Data!I42","v":-6.3025210084033667E-2},{"$f":"(Data!J43-Data!J42)/Data!J42","v":-1.6483516483516498E-2},{"$f":"(Data!K43-Data!K42)/Data!K42","v":-9.1811414392059365E-2},{"$f":"(Data!L43-Data!L42)/Data!L42","v":-4.6822742474916246E-2},{"$f":"(Data!M43-Data!M42)/Data!M42","v":-9.713855421686747E-2}]
[{"$f":"(Data!B44-Data!B43)/Data!B43","v":-0.10427135678391956},{"$f":"(Data!C44-Data!C43)/Data!C43","v":-4.2505592841163467E-2},{"$f":"(Data!D44-Data!D43)/Data!D43","v":-0.11123853211009171},{"$f":"(Data!E44-Data!E43)/Data!E43","v":-7.792207792207799E-2},{"$f":"(Data!F44-Data!F43)/Data!F43","v":-4.9429657794676771E-2},{"$f":"(Data!G44-Data!G43)/Data!G43","v":-9.21820303383898E-2},{"$f":"(Data!H44-Data!H43)/Data!H43","v":8.5144927536231749E-2},{"$f":"(Data!I44-Data!I43)/Data!I43","v":-4.4843049327354174E-2},{"$f":"(Data!J44-Data!J43)/Data!J43","v":-1.117318435754191E-2},{"$f":"(Data!K44-Data!K43)/Data!K43","v":-7.6502732240437368E-2},{"$f":"(Data!L44-Data!L43)/Data!L43","v":-5.7894736842105311E-2},{"$f":"(Data!M44-Data!M43)/Data!M43","v":-0.12760633861551293}]
[{"$f":"(Data!B45-Data!B44)/Data!B44","v":9.8176718092566704E-3},{"$f":"(Data!C45-Data!C44)/Data!C44","v":-5.3738317757009262E-2},{"$f":"(Data!D45-Data!D44)/Data!D44","v":5.1612903225806495E-3},{"$f":"(Data!E45-Data!E44)/Data!E44","v":-1.4964788732394284E-2},{"$f":"(Data!F45-Data!F44)/Data!F44","v":4.000000000000092E-3},{"$f":"(Data!G45-Data!G44)/Data!G44","v":-7.4550128534704441E-2},{"$f":"(Data!H45-Data!H44)/Data!H44","v":-2.0033388981635893E-2},{"$f":"(Data!I45-Data!I44)/Data!I44","v":-4.2253521126760729E-2},{"$f":"(Data!J45-Data!J44)/Data!J44","v":-5.0847457627118536E-2},{"$f":"(Data!K45-Data!K44)/Data!K44","v":-3.5502958579881526E-2},{"$f":"(Data!L45-Data!L44)/Data!L44","v":-4.6554934823091289E-2},{"$f":"(Data!M45-Data!M44)/Data!M44","v":-5.5449330783938863E-2}]
[{"$f":"(Data!B46-Data!B45)/Data!B45","v":-4.0277777777777815E-2},{"$f":"(Data!C46-Data!C45)/Data!C45","v":-1.4814814814814828E-2},{"$f":"(Data!D46-Data!D45)/Data!D45","v":-7.0603337612323416E-2},{"$f":"(Data!E46-Data!E45)/Data!E45","v":-6.4343163538873857E-2},{"$f":"(Data!F46-Data!F45)/Data!F45","v":-8.6852589641434427E-2},{"$f":"(Data!G46-Data!G45)/Data!G45","v":-0.11666666666666663},{"$f":"(Data!H46-Data!H45)/Data!H45","v":-2.555366269165249E-2},{"$f":"(Data!I46-Data!I45)/Data!I45","v":-9.8039215686274595E-3},{"$f":"(Data!J46-Data!J45)/Data!J45","v":1.1904761904761915E-2},{"$f":"(Data!K46-Data!K45)/Data!K45","v":-9.8159509202454073E-2},{"$f":"(Data!L46-Data!L45)/Data!L45","v":-3.5156250000000028E-2},{"$f":"(Data!M46-Data!M45)/Data!M45","v":-8.6032388663967577E-2}]
[{"$f":"(Data!B47-Data!B46)/Data!B46","v":-2.6049204052098433E-2},{"$f":"(Data!C47-Data!C46)/Data!C46","v":-8.5213032581453699E-2},{"$f":"(Data!D47-Data!D46)/Data!D46","v":2.7624309392263683E-3},{"$f":"(Data!E47-Data!E46)/Data!E46","v":-4.680038204393519E-2},{"$f":"(Data!F47-Data!F46)/Data!F46","v":-8.8132635253054092E-2},{"$f":"(Data!G47-Data!G46)/Data!G46","v":-7.704402515723259E-2},{"$f":"(Data!H47-Data!H46)/Data!H46","v":-4.8951048951048987E-2},{"$f":"(Data!I47-Data!I46)/Data!I46","v":4.9504950495049556E-2},{"$f":"(Data!J47-Data!J46)/Data!J46","v":-4.7058823529411806E-2},{"$f":"(Data!K47-Data!K46)/Data!K46","v":-3.4013605442176902E-2},{"$f":"(Data!L47-Data!L46)/Data!L46","v":-5.6680161943319776E-2},{"$f":"(Data!M47-Data!M46)/Data!M46","v":-2.1040974529346518E-2}]
[{"$f":"(Data!B48-Data!B47)/Data!B47","v":5.0520059435364258E-2},{"$f":"(Data!C48-Data!C47)/Data!C47","v":5.7534246575342521E-2},{"$f":"(Data!D48-Data!D47)/Data!D47","v":3.305785123966945E-2},{"$f":"(Data!E48-Data!E47)/Data!E47","v":7.5150300601202355E-2},{"$f":"(Data!F48-Data!F47)/Data!F47","v":2.8708133971291894E-2},{"$f":"(Data!G48-Data!G47)/Data!G47","v":8.1771720613287774E-2},{"$f":"(Data!H48-Data!H47)/Data!H47","v":-4.7794117647058862E-2},{"$f":"(Data!I48-Data!I47)/Data!I47","v":2.3584905660377381E-2},{"$f":"(Data!J48-Data!J47)/Data!J47","v":3.703703703703707E-2},{"$f":"(Data!K48-Data!K47)/Data!K47","v":1.0563380281690151E-2},{"$f":"(Data!L48-Data!L47)/Data!L47","v":1.9313304721030058E-2},{"$f":"(Data!M48-Data!M47)/Data!M47","v":5.3167420814479428E-2}]
[{"$f":"(Data!B49-Data!B48)/Data!B48","v":-7.0721357850070778E-3},{"$f":"(Data!C49-Data!C48)/Data!C48","v":2.3316062176165823E-2},{"$f":"(Data!D49-Data!D48)/Data!D48","v":-3.7333333333333218E-2},{"$f":"(Data!E49-Data!E48)/Data!E48","v":-2.7958993476233846E-3},{"$f":"(Data!F49-Data!F48)/Data!F48","v":-1.6744186046511643E-2},{"$f":"(Data!G49-Data!G48)/Data!G48","v":-4.0944881889763814E-2},{"$f":"(Data!H49-Data!H48)/Data!H48","v":-4.4401544401544438E-2},{"$f":"(Data!I49-Data!I48)/Data!I48","v":4.6082949308755804E-3},{"$f":"(Data!J49-Data!J48)/Data!J48","v":8.3333333333333232E-2},{"$f":"(Data!K49-Data!K48)/Data!K48","v":3.4843205574914861E-3},{"$f":"(Data!L49-Data!L48)/Data!L48","v":-6.3157894736842156E-3},{"$f":"(Data!M49-Data!M48)/Data!M48","v":-3.2223415682062329E-2}]
[{"$f":"(Data!B50-Data!B49)/Data!B49","v":-2.8490028490028513E-3},{"$f":"(Data!C50-Data!C49)/Data!C49","v":-9.6202531645569564E-2},{"$f":"(Data!D50-Data!D49)/Data!D49","v":-3.8781163434903079E-2},{"$f":"(Data!E50-Data!E49)/Data!E49","v":-2.7102803738317884E-2},{"$f":"(Data!F50-Data!F49)/Data!F49","v":-5.2980132450331174E-2},{"$f":"(Data!G50-Data!G49)/Data!G49","v":-4.9261083743842408E-2},{"$f":"(Data!H50-Data!H49)/Data!H49","v":2.2222222222222244E-2},{"$f":"(Data!I50-Data!I49)/Data!I49","v":4.587155963302756E-3},{"$f":"(Data!J50-Data!J49)/Data!J49","v":5.4945054945056519E-3},{"$f":"(Data!K50-Data!K49)/Data!K49","v":-1.3888888888889093E-2},{"$f":"(Data!L50-Data!L49)/Data!L49","v":1.0593220338983059E-2},{"$f":"(Data!M50-Data!M49)/Data!M49","v":-4.1065482796892136E-2}]
[{"$f":"(Data!B51-Data!B50)/Data!B50","v":-6.285714285714307E-2},{"$f":"(Data!C51-Data!C50)/Data!C50","v":-5.8823529411764754E-2},{"$f":"(Data!D51-Data!D50)/Data!D50","v":-4.0345821325648609E-2},{"$f":"(Data!E51-Data!E50)/Data!E50","v":-3.7463976945244885E-2},{"$f":"(Data!F51-Data!F50)/Data!F50","v":-2.6973026973026778E-2},{"$f":"(Data!G51-Data!G50)/Data!G50","v":-9.8445595854922185E-2},{"$f":"(Data!H51-Data!H50)/Data!H50","v":4.743083003952573E-2},{"$f":"(Data!I51-Data!I50)/Data!I50","v":4.1095890410958943E-2},{"$f":"(Data!J51-Data!J50)/Data!J50","v":-1.6393442622950984E-2},{"$f":"(Data!K51-Data!K50)/Data!K50","v":-8.0985915492957625E-2},{"$f":"(Data!L51-Data!L50)/Data!L50","v":-7.7568134171907818E-2},{"$f":"(Data!M51-Data!M50)/Data!M50","v":-0.10648148148148157}]
[{"$f":"(Data!B52-Data!B51)/Data!B51","v":-3.0487804878047121E-3},{"$f":"(Data!C52-Data!C51)/Data!C51","v":-6.8452380952381015E-2},{"$f":"(Data!D52-Data!D51)/Data!D51","v":-1.5015015015013363E-3},{"$f":"(Data!E52-Data!E51)/Data!E51","v":-3.0938123752495036E-2},{"$f":"(Data!F52-Data!F51)/Data!F51","v":-7.8028747433264947E-2},{"$f":"(Data!G52-Data!G51)/Data!G51","v":-4.5977011494252915E-2},{"$f":"(Data!H52-Data!H51)/Data!H51","v":-1.1320754716981142E-2},{"$f":"(Data!I52-Data!I51)/Data!I51","v":4.824561403508764E-2},{"$f":"(Data!J52-Data!J51)/Data!J51","v":-3.8888888888888772E-2},{"$f":"(Data!K52-Data!K51)/Data!K51","v":3.8314176245210761E-3},{"$f":"(Data!L52-Data!L51)/Data!L51","v":0},{"$f":"(Data!M52-Data!M51)/Data!M51","v":-5.9585492227979327E-2}]
[{"$f":"(Data!B53-Data!B52)/Data!B52","v":5.3516819571865486E-2},{"$f":"(Data!C53-Data!C52)/Data!C52","v":6.3897763578274633E-2},{"$f":"(Data!D53-Data!D52)/Data!D52","v":6.3157894736842163E-2},{"$f":"(Data!E53-Data!E52)/Data!E52","v":5.9732234809474941E-2},{"$f":"(Data!F53-Data!F52)/Data!F52","v":4.7884187082405265E-2},{"$f":"(Data!G53-Data!G52)/Data!G52","v":0.11445783132530131},{"$f":"(Data!H53-Data!H52)/Data!H52","v":4.5801526717557078E-2},{"$f":"(Data!I53-Data!I52)/Data!I52","v":2.0920502092050229E-2},{"$f":"(Data!J53-Data!J52)/Data!J52","v":-3.4682080924855523E-2},{"$f":"(Data!K53-Data!K52)/Data!K52","v":6.1068702290076389E-2},{"$f":"(Data!L53-Data!L52)/Data!L52","v":0.10454545454545464},{"$f":"(Data!M53-Data!M52)/Data!M52","v":8.2644628099173473E-2}]
[{"$f":"(Data!B54-Data!B53)/Data!B53","v":5.8055152394775086E-2},{"$f":"(Data!C54-Data!C53)/Data!C53","v":4.5045045045045091E-2},{"$f":"(Data!D54-Data!D53)/Data!D53","v":3.1117397454031141E-2},{"$f":"(Data!E54-Data!E53)/Data!E53","v":3.4013605442176791E-2},{"$f":"(Data!F54-Data!F53)/Data!F53","v":7.1200850159404958E-2},{"$f":"(Data!G54-Data!G53)/Data!G53","v":3.4234234234234065E-2},{"$f":"(Data!H54-Data!H53)/Data!H53","v":-7.2992700729925053E-3},{"$f":"(Data!I54-Data!I53)/Data!I53","v":0.13114754098360668},{"$f":"(Data!J54-Data!J53)/Data!J53","v":0},{"$f":"(Data!K54-Data!K53)/Data!K53","v":8.6330935251798427E-2},{"$f":"(Data!L54-Data!L53)/Data!L53","v":4.1152263374485513E-2},{"$f":"(Data!M54-Data!M53)/Data!M53","v":-2.5445292620863754E-3}]
[{"$f":"(Data!B55-Data!B54)/Data!B54","v":6.0356652949245436E-2},{"$f":"(Data!C55-Data!C54)/Data!C54","v":8.0459770114942611E-2},{"$f":"(Data!D55-Data!D54)/Data!D54","v":3.2921810699588348E-2},{"$f":"(Data!E55-Data!E54)/Data!E54","v":4.7932330827067604E-2},{"$f":"(Data!F55-Data!F54)/Data!F54","v":9.3253968253968339E-2},{"$f":"(Data!G55-Data!G54)/Data!G54","v":7.665505226480844E-2},{"$f":"(Data!H55-Data!H54)/Data!H54","v":0},{"$f":"(Data!I55-Data!I54)/Data!I54","v":0.10869565217391293},{"$f":"(Data!J55-Data!J54)/Data!J54","v":0.11377245508982045},{"$f":"(Data!K55-Data!K54)/Data!K54","v":8.9403973509933857E-2},{"$f":"(Data!L55-Data!L54)/Data!L54","v":5.1383399209486209E-2},{"$f":"(Data!M55-Data!M54)/Data!M54","v":5.7397959183673519E-2}]
[{"$f":"(Data!B56-Data!B55)/Data!B55","v":-3.8809831824062127E-3},{"$f":"(Data!C56-Data!C55)/Data!C55","v":6.3829787234042604E-2},{"$f":"(Data!D56-Data!D55)/Data!D55","v":-9.2961487383798232E-3},{"$f":"(Data!E56-Data!E55)/Data!E55","v":-1.1659192825112019E-2},{"$f":"(Data!F56-Data!F55)/Data!F55","v":8.1669691470054318E-2},{"$f":"(Data!G56-Data!G55)/Data!G55","v":4.692556634304211E-2},{"$f":"(Data!H56-Data!H55)/Data!H55","v":-2.3897058823529431E-2},{"$f":"(Data!I56-Data!I55)/Data!I55","v":-1.3071895424836614E-2},{"$f":"(Data!J56-Data!J55)/Data!J55","v":8.6021505376343857E-2},{"$f":"(Data!K56-Data!K55)/Data!K55","v":3.9513677811550185E-2},{"$f":"(Data!L56-Data!L55)/Data!L55","v":3.7593984962406048E-3},{"$f":"(Data!M56-Data!M55)/Data!M55","v":1.8094089264173718E-2}]
[{"$f":"(Data!B57-Data!B56)/Data!B56","v":2.5974025974025996E-3},{"$f":"(Data!C57-Data!C56)/Data!C56","v":3.7500000000000033E-2},{"$f":"(Data!D57-Data!D56)/Data!D56","v":2.5469168900804313E-2},{"$f":"(Data!E57-Data!E56)/Data!E56","v":1.3611615245008984E-2},{"$f":"(Data!F57-Data!F56)/Data!F56","v":8.3053691275167776E-2},{"$f":"(Data!G57-Data!G56)/Data!G56","v":3.5548686244204049E-2},{"$f":"(Data!H57-Data!H56)/Data!H56","v":-3.2015065913371027E-2},{"$f":"(Data!I57-Data!I56)/Data!I56","v":5.2980132450331174E-2},{"$f":"(Data!J57-Data!J56)/Data!J56","v":8.4158415841584233E-2},{"$f":"(Data!K57-Data!K56)/Data!K56","v":6.4327485380116844E-2},{"$f":"(Data!L57-Data!L56)/Data!L56","v":7.116104868913864E-2},{"$f":"(Data!M57-Data!M56)/Data!M56","v":4.5023696682464358E-2}]
[{"$f":"(Data!B58-Data!B57)/Data!B57","v":2.9792746113989663E-2},{"$f":"(Data!C58-Data!C57)/Data!C57","v":1.927710843373482E-2},{"$f":"(Data!D58-Data!D57)/Data!D57","v":1.3071895424836612E-2},{"$f":"(Data!E58-Data!E57)/Data!E57","v":1.7905102954342004E-2},{"$f":"(Data!F58-Data!F57)/Data!F57","v":-6.2742060418280371E-2},{"$f":"(Data!G58-Data!G57)/Data!G57","v":2.2388059701492557E-2},{"$f":"(Data!H58-Data!H57)/Data!H57","v":-3.3073929961089411E-2},{"$f":"(Data!I58-Data!I57)/Data!I57","v":9.7484276729559657E-2},{"$f":"(Data!J58-Data!J57)/Data!J57","v":8.2191780821917748E-2},{"$f":"(Data!K58-Data!K57)/Data!K57","v":1.3736263736263748E-2},{"$f":"(Data!L58-Data!L57)/Data!L57","v":7.6923076923076789E-2},{"$f":"(Data!M58-Data!M57)/Data!M57","v":2.3809523809523829E-2}]
[{"$f":"(Data!B59-Data!B58)/Data!B58","v":2.6415094339622525E-2},{"$f":"(Data!C59-Data!C58)/Data!C58","v":1.182033096926715E-2},{"$f":"(Data!D59-Data!D58)/Data!D58","v":1.2903225806451623E-2},{"$f":"(Data!E59-Data!E58)/Data!E58","v":-8.7950747581364279E-4},{"$f":"(Data!F59-Data!F58)/Data!F58","v":1.9008264462810027E-2},{"$f":"(Data!G59-Data!G58)/Data!G58","v":0},{"$f":"(Data!H59-Data!H58)/Data!H58","v":-2.4144869215291881E-2},{"$f":"(Data!I59-Data!I58)/Data!I58","v":7.7363896848137603E-2},{"$f":"(Data!J59-Data!J58)/Data!J58","v":9.7046413502109796E-2},{"$f":"(Data!K59-Data!K58)/Data!K58","v":1.3550135501355027E-2},{"$f":"(Data!L59-Data!L58)/Data!L58","v":1.9480519480519497E-2},{"$f":"(Data!M59-Data!M58)/Data!M58","v":-1.9933554817275764E-2}]
[{"$f":"(Data!B60-Data!B59)/Data!B59","v":1.5931372549019759E-2},{"$f":"(Data!C60-Data!C59)/Data!C59","v":4.6728971962616737E-2},{"$f":"(Data!D60-Data!D59)/Data!D59","v":1.2738853503184724E-2},{"$f":"(Data!E60-Data!E59)/Data!E59","v":3.5211267605633839E-2},{"$f":"(Data!F60-Data!F59)/Data!F59","v":2.2708840227088242E-2},{"$f":"(Data!G60-Data!G59)/Data!G59","v":5.9854014598540034E-2},{"$f":"(Data!H60-Data!H59)/Data!H59","v":-8.2474226804122638E-3},{"$f":"(Data!I60-Data!I59)/Data!I59","v":-0.11702127659574464},{"$f":"(Data!J60-Data!J59)/Data!J59","v":4.6153846153846191E-2},{"$f":"(Data!K60-Data!K59)/Data!K59","v":5.6149732620320907E-2},{"$f":"(Data!L60-Data!L59)/Data!L59","v":-3.1847133757961811E-3},{"$f":"(Data!M60-Data!M59)/Data!M59","v":2.8248587570621493E-2}]
[{"$f":"(Data!B61-Data!B60)/Data!B60","v":4.3425814234016792E-2},{"$f":"(Data!C61-Data!C60)/Data!C60","v":1.5625000000000139E-2},{"$f":"(Data!D61-Data!D60)/Data!D60","v":1.1320754716981142E-2},{"$f":"(Data!E61-Data!E60)/Data!E60","v":2.2959183673469503E-2},{"$f":"(Data!F61-Data!F60)/Data!F60","v":2.1411578112609148E-2},{"$f":"(Data!G61-Data!G60)/Data!G60","v":3.5812672176308576E-2},{"$f":"(Data!H61-Data!H60)/Data!H60","v":8.108108108108103E-2},{"$f":"(Data!I61-Data!I60)/Data!I60","v":5.4216867469879561E-2},{"$f":"(Data!J61-Data!J60)/Data!J60","v":9.9264705882352824E-2},{"$f":"(Data!K61-Data!K60)/Data!K60","v":3.7974683544303826E-2},{"$f":"(Data!L61-Data!L60)/Data!L60","v":-2.0766773162939317E-2},{"$f":"(Data!M61-Data!M60)/Data!M60","v":1.0989010989009779E-3}]
[{"$f":"(Data!B62-Data!B61)/Data!B61","v":4.9710982658959582E-2},{"$f":"(Data!C62-Data!C61)/Data!C61","v":5.4945054945054868E-2},{"$f":"(Data!D62-Data!D61)/Data!D61","v":1.741293532338296E-2},{"$f":"(Data!E62-Data!E61)/Data!E61","v":1.6625103906899433E-2},{"$f":"(Data!F62-Data!F61)/Data!F61","v":9.937888198757755E-2},{"$f":"(Data!G62-Data!G61)/Data!G61","v":5.0531914893617066E-2},{"$f":"(Data!H62-Data!H61)/Data!H61","v":8.0769230769230843E-2},{"$f":"(Data!I62-Data!I61)/Data!I61","v":8.2857142857142768E-2},{"$f":"(Data!J62-Data!J61)/Data!J61","v":9.3645484949832866E-2},{"$f":"(Data!K62-Data!K61)/Data!K61","v":8.7804878048780427E-2},{"$f":"(Data!L62-Data!L61)/Data!L61","v":7.0146818923327775E-2},{"$f":"(Data!M62-Data!M61)/Data!M61","v":4.3907793633369968E-2}]
[{"$f":"(Data!B63-Data!B62)/Data!B62","v":1.5418502202643186E-2},{"$f":"(Data!C63-Data!C62)/Data!C62","v":2.500000000000014E-2},{"$f":"(Data!D63-Data!D62)/Data!D62","v":-6.1124694376528173E-3},{"$f":"(Data!E63-Data!E62)/Data!E62","v":4.9059689288634542E-3},{"$f":"(Data!F63-Data!F62)/Data!F62","v":9.8870056497175236E-3},{"$f":"(Data!G63-Data!G62)/Data!G62","v":2.5316455696202554E-3},{"$f":"(Data!H63-Data!H62)/Data!H62","v":5.6939501779359275E-2},{"$f":"(Data!I63-Data!I62)/Data!I62","v":3.6939313984168755E-2},{"$f":"(Data!J63-Data!J62)/Data!J62","v":-2.1406727828746197E-2},{"$f":"(Data!K63-Data!K62)/Data!K62","v":5.1569506726457319E-2},{"$f":"(Data!L63-Data!L62)/Data!L62","v":4.7256097560975825E-2},{"$f":"(Data!M63-Data!M62)/Data!M62","v":1.5772870662460584E-2}]
[{"$f":"(Data!B64-Data!B63)/Data!B63","v":-1.3015184381778754E-2},{"$f":"(Data!C64-Data!C63)/Data!C63","v":1.0162601626016269E-2},{"$f":"(Data!D64-Data!D63)/Data!D63","v":0},{"$f":"(Data!E64-Data!E63)/Data!E63","v":-8.9503661513426532E-3},{"$f":"(Data!F64-Data!F63)/Data!F63","v":-2.027972027972022E-2},{"$f":"(Data!G64-Data!G63)/Data!G63","v":-3.1565656565656595E-2},{"$f":"(Data!H64-Data!H63)/Data!H63","v":1.6835016835016852E-2},{"$f":"(Data!I64-Data!I63)/Data!I63","v":8.1424936386768523E-2},{"$f":"(Data!J64-Data!J63)/Data!J63","v":-3.4375000000000031E-2},{"$f":"(Data!K64-Data!K63)/Data!K63","v":4.0511727078891294E-2},{"$f":"(Data!L64-Data!L63)/Data!L63","v":-1.4556040756915746E-3},{"$f":"(Data!M64-Data!M63)/Data!M63","v":-1.552795031055902E-2}]
[{"$f":"(Data!B65-Data!B64)/Data!B64","v":4.3956043956043991E-3},{"$f":"(Data!C65-Data!C64)/Data!C64","v":3.6217303822937544E-2},{"$f":"(Data!D65-Data!D64)/Data!D64","v":1.4760147601476165E-2},{"$f":"(Data!E65-Data!E64)/Data!E64","v":2.9556650246305445E-2},{"$f":"(Data!F65-Data!F64)/Data!F64","v":2.9978586723768762E-2},{"$f":"(Data!G65-Data!G64)/Data!G64","v":2.6075619295958301E-2},{"$f":"(Data!H65-Data!H64)/Data!H64","v":-1.1589403973509761E-2},{"$f":"(Data!I65-Data!I64)/Data!I64","v":4.470588235294122E-2},{"$f":"(Data!J65-Data!J64)/Data!J64","v":3.5598705501618158E-2},{"$f":"(Data!K65-Data!K64)/Data!K64","v":4.0983606557377086E-3},{"$f":"(Data!L65-Data!L64)/Data!L64","v":-2.1865889212828008E-2},{"$f":"(Data!M65-Data!M64)/Data!M64","v":1.9978969505783404E-2}]
[{"$f":"(Data!B66-Data!B65)/Data!B65","v":-3.5010940919037226E-2},{"$f":"(Data!C66-Data!C65)/Data!C65","v":-0.11650485436893203},{"$f":"(Data!D66-Data!D65)/Data!D65","v":-1.2121212121212132E-2},{"$f":"(Data!E66-Data!E65)/Data!E65","v":-2.1531100478468831E-2},{"$f":"(Data!F66-Data!F65)/Data!F65","v":-1.3167013167013101E-2},{"$f":"(Data!G66-Data!G65)/Data!G65","v":-4.8284625158830904E-2},{"$f":"(Data!H66-Data!H65)/Data!H65","v":-7.3701842546063892E-2},{"$f":"(Data!I66-Data!I65)/Data!I65","v":-0.1216216216216216},{"$f":"(Data!J66-Data!J65)/Data!J65","v":-0.10624999999999991},{"$f":"(Data!K66-Data!K65)/Data!K65","v":-4.4897959183673508E-2},{"$f":"(Data!L66-Data!L65)/Data!L65","v":-3.1296572280178701E-2},{"$f":"(Data!M66-Data!M65)/Data!M65","v":-4.3298969072164989E-2}]
[{"$f":"(Data!B67-Data!B66)/Data!B66","v":2.7210884353741395E-2},{"$f":"(Data!C67-Data!C66)/Data!C66","v":-3.7362637362637396E-2},{"$f":"(Data!D67-Data!D66)/Data!D66","v":4.9079754601227031E-3},{"$f":"(Data!E67-Data!E66)/Data!E66","v":1.6299918500407511E-2},{"$f":"(Data!F67-Data!F66)/Data!F66","v":-2.2471910112359723E-2},{"$f":"(Data!G67-Data!G66)/Data!G66","v":2.5367156208277574E-2},{"$f":"(Data!H67-Data!H66)/Data!H66","v":-6.3291139240506195E-2},{"$f":"(Data!I67-Data!I66)/Data!I66","v":-4.3589743589743629E-2},{"$f":"(Data!J67-Data!J66)/Data!J66","v":-7.342657342657348E-2},{"$f":"(Data!K67-Data!K66)/Data!K66","v":5.1282051282051447E-2},{"$f":"(Data!L67-Data!L66)/Data!L66","v":3.0769230769230795E-2},{"$f":"(Data!M67-Data!M66)/Data!M66","v":2.3706896551724279E-2}]
[{"$f":"(Data!B68-Data!B67)/Data!B67","v":-1.5452538631346472E-2},{"$f":"(Data!C68-Data!C67)/Data!C67","v":-3.4246575342465786E-2},{"$f":"(Data!D68-Data!D67)/Data!D67","v":-2.5641025641025661E-2},{"$f":"(Data!E68-Data!E67)/Data!E67","v":-8.8211708099439606E-3},{"$f":"(Data!F68-Data!F67)/Data!F67","v":-1.7959770114942465E-2},{"$f":"(Data!G68-Data!G67)/Data!G67","v":-2.4739583333333211E-2},{"$f":"(Data!H68-Data!H67)/Data!H67","v":-2.8957528957528983E-2},{"$f":"(Data!I68-Data!I67)/Data!I67","v":-2.6809651474530856E-2},{"$f":"(Data!J68-Data!J67)/Data!J67","v":3.3962264150943215E-2},{"$f":"(Data!K68-Data!K67)/Data!K67","v":1.4227642276422663E-2},{"$f":"(Data!L68-Data!L67)/Data!L67","v":2.2388059701492557E-2},{"$f":"(Data!M68-Data!M67)/Data!M67","v":-2.0000000000000132E-2}]
[{"$f":"(Data!B69-Data!B68)/Data!B68","v":-1.4573991031390022E-2},{"$f":"(Data!C69-Data!C68)/Data!C68","v":3.3096926713948149E-2},{"$f":"(Data!D69-Data!D68)/Data!D68","v":5.0125313283208061E-3},{"$f":"(Data!E69-Data!E68)/Data!E68","v":-2.5889967637540298E-2},{"$f":"(Data!F69-Data!F68)/Data!F68","v":-2.4140453547915084E-2},{"$f":"(Data!G69-Data!G68)/Data!G68","v":-3.2042723631508847E-2},{"$f":"(Data!H69-Data!H68)/Data!H68","v":-4.3737574552683824E-2},{"$f":"(Data!I69-Data!I68)/Data!I68","v":-1.3774104683195605E-2},{"$f":"(Data!J69-Data!J68)/Data!J68","v":3.2846715328467391E-2},{"$f":"(Data!K69-Data!K68)/Data!K68","v":4.0080160320641314E-3},{"$f":"(Data!L69-Data!L68)/Data!L68","v":0},{"$f":"(Data!M69-Data!M68)/Data!M68","v":-2.5778732545649743E-2}]
[{"$f":"(Data!B70-Data!B69)/Data!B69","v":3.0716723549487825E-2},{"$f":"(Data!C70-Data!C69)/Data!C69","v":8.4668192219679445E-2},{"$f":"(Data!D70-Data!D69)/Data!D69","v":3.9900249376558637E-2},{"$f":"(Data!E70-Data!E69)/Data!E69","v":3.6544850498338714E-2},{"$f":"(Data!F70-Data!F69)/Data!F69","v":2.5487256371814114E-2},{"$f":"(Data!G70-Data!G69)/Data!G69","v":3.7241379310344859E-2},{"$f":"(Data!H70-Data!H69)/Data!H69","v":6.2370062370061263E-3},{"$f":"(Data!I70-Data!I69)/Data!I69","v":0.12569832402234632},{"$f":"(Data!J70-Data!J69)/Data!J69","v":5.3003533568904436E-2},{"$f":"(Data!K70-Data!K69)/Data!K69","v":5.988023952095814E-2},{"$f":"(Data!L70-Data!L69)/Data!L69","v":2.9197080291970663E-2},{"$f":"(Data!M70-Data!M69)/Data!M69","v":3.1973539140021955E-2}]
[{"$f":"(Data!B71-Data!B70)/Data!B70","v":8.8300220750553195E-3},{"$f":"(Data!C71-Data!C70)/Data!C70","v":1.6877637130801822E-2},{"$f":"(Data!D71-Data!D70)/Data!D70","v":1.9184652278177339E-2},{"$f":"(Data!E71-Data!E70)/Data!E70","v":2.6442307692307626E-2},{"$f":"(Data!F71-Data!F70)/Data!F70","v":3.508771929824548E-2},{"$f":"(Data!G71-Data!G70)/Data!G70","v":1.3297872340425544E-2},{"$f":"(Data!H71-Data!H70)/Data!H70","v":-8.2644628099173625E-3},{"$f":"(Data!I71-Data!I70)/Data!I70","v":0.11662531017369739},{"$f":"(Data!J71-Data!J70)/Data!J70","v":5.0335570469798703E-2},{"$f":"(Data!K71-Data!K70)/Data!K70","v":4.7080979284369155E-2},{"$f":"(Data!L71-Data!L70)/Data!L70","v":1.560283687943264E-2},{"$f":"(Data!M71-Data!M70)/Data!M70","v":2.1367521367521387E-3}]
[{"$f":"(Data!B72-Data!B71)/Data!B71","v":5.0328227571115894E-2},{"$f":"(Data!C72-Data!C71)/Data!C71","v":1.6597510373443883E-2},{"$f":"(Data!D72-Data!D71)/Data!D71","v":2.1176470588235314E-2},{"$f":"(Data!E72-Data!E71)/Data!E71","v":3.6690085870413863E-2},{"$f":"(Data!F72-Data!F71)/Data!F71","v":7.556497175141258E-2},{"$f":"(Data!G72-Data!G71)/Data!G71","v":3.412073490813651E-2},{"$f":"(Data!H72-Data!H71)/Data!H71","v":-1.041666666666656E-2},{"$f":"(Data!I72-Data!I71)/Data!I71","v":-4.4444444444444481E-2},{"$f":"(Data!J72-Data!J71)/Data!J71","v":4.7923322683705936E-2},{"$f":"(Data!K72-Data!K71)/Data!K71","v":0},{"$f":"(Data!L72-Data!L71)/Data!L71","v":1.5363128491620281E-2},{"$f":"(Data!M72-Data!M71)/Data!M71","v":2.2388059701492678E-2}]
[{"$f":"(Data!B73-Data!B72)/Data!B72","v":2.9166666666666695E-2},{"$f":"(Data!C73-Data!C72)/Data!C72","v":1.2244897959183798E-2},{"$f":"(Data!D73-Data!D72)/Data!D72","v":1.152073732719023E-3},{"$f":"(Data!E73-Data!E72)/Data!E72","v":3.6897590361445728E-2},{"$f":"(Data!F73-Data!F72)/Data!F72","v":4.2678923177938241E-2},{"$f":"(Data!G73-Data!G72)/Data!G72","v":2.6649746192893422E-2},{"$f":"(Data!H73-Data!H72)/Data!H72","v":-2.9473684210526339E-2},{"$f":"(Data!I73-Data!I72)/Data!I72","v":-0.1372093023255814},{"$f":"(Data!J73-Data!J72)/Data!J72","v":7.3170731707317319E-2},{"$f":"(Data!K73-Data!K72)/Data!K72","v":3.597122302158276E-2},{"$f":"(Data!L73-Data!L72)/Data!L72","v":1.925722145804663E-2},{"$f":"(Data!M73-Data!M72)/Data!M72","v":1.7726798748696457E-2}]
[{"$f":"(Data!B74-Data!B73)/Data!B73","v":-1.2145748987854262E-2},{"$f":"(Data!C74-Data!C73)/Data!C73","v":3.4274193548387011E-2},{"$f":"(Data!D74-Data!D73)/Data!D73","v":1.6110471806674222E-2},{"$f":"(Data!E74-Data!E73)/Data!E73","v":3.0501089324618764E-2},{"$f":"(Data!F74-Data!F73)/Data!F73","v":6.1083123425692679E-2},{"$f":"(Data!G74-Data!G73)/Data!G73","v":1.112484548825698E-2},{"$f":"(Data!H74-Data!H73)/Data!H73","v":-5.2060737527114889E-2},{"$f":"(Data!I74-Data!I73)/Data!I73","v":3.2345013477088978E-2},{"$f":"(Data!J74-Data!J73)/Data!J73","v":-1.7045454545454558E-2},{"$f":"(Data!K74-Data!K73)/Data!K73","v":3.4722222222222057E-2},{"$f":"(Data!L74-Data!L73)/Data!L73","v":2.4291497975708672E-2},{"$f":"(Data!M74-Data!M73)/Data!M73","v":2.4590163934426253E-2}]
[{"$f":"(Data!B75-Data!B74)/Data!B74","v":2.6639344262295105E-2},{"$f":"(Data!C75-Data!C74)/Data!C74","v":6.4327485380117011E-2},{"$f":"(Data!D75-Data!D74)/Data!D74","v":3.5107587768969453E-2},{"$f":"(Data!E75-Data!E74)/Data!E74","v":2.8188865398167749E-2},{"$f":"(Data!F75-Data!F74)/Data!F74","v":3.7982195845697363E-2},{"$f":"(Data!G75-Data!G74)/Data!G74","v":2.3227383863080844E-2},{"$f":"(Data!H75-Data!H74)/Data!H74","v":2.9748283752860309E-2},{"$f":"(Data!I75-Data!I74)/Data!I74","v":8.8772845953002694E-2},{"$f":"(Data!J75-Data!J74)/Data!J74","v":4.9132947976878491E-2},{"$f":"(Data!K75-Data!K74)/Data!K74","v":6.7114093959731599E-2},{"$f":"(Data!L75-Data!L74)/Data!L74","v":5.2700922266139552E-2},{"$f":"(Data!M75-Data!M74)/Data!M74","v":5.2999999999999936E-2}]
[{"$f":"(Data!B76-Data!B75)/Data!B75","v":3.9920159680638754E-3},{"$f":"(Data!C76-Data!C75)/Data!C75","v":2.7472527472527496E-2},{"$f":"(Data!D76-Data!D75)/Data!D75","v":-7.658643326039394E-3},{"$f":"(Data!E76-Data!E75)/Data!E75","v":-4.1124057573680636E-3},{"$f":"(Data!F76-Data!F75)/Data!F75","v":7.4328187535734136E-3},{"$f":"(Data!G76-Data!G75)/Data!G75","v":3.5842293906808739E-3},{"$f":"(Data!H76-Data!H75)/Data!H75","v":-1.777777777777767E-2},{"$f":"(Data!I76-Data!I75)/Data!I75","v":4.7961630695442349E-3},{"$f":"(Data!J76-Data!J75)/Data!J75","v":1.1019283746556637E-2},{"$f":"(Data!K76-Data!K75)/Data!K75","v":3.4591194968553486E-2},{"$f":"(Data!L76-Data!L75)/Data!L75","v":3.5043804755944957E-2},{"$f":"(Data!M76-Data!M75)/Data!M75","v":6.6476733143400928E-3}]
[{"$f":"(Data!B77-Data!B76)/Data!B76","v":-2.6838966202783213E-2},{"$f":"(Data!C77-Data!C76)/Data!C76","v":-3.2085561497326227E-2},{"$f":"(Data!D77-Data!D76)/Data!D76","v":-1.4332965821389085E-2},{"$f":"(Data!E77-Data!E76)/Data!E76","v":-1.3764624913971107E-3},{"$f":"(Data!F77-Data!F76)/Data!F76","v":-2.6106696935300818E-2},{"$f":"(Data!G77-Data!G76)/Data!G76","v":-1.6666666666666684E-2},{"$f":"(Data!H77-Data!H76)/Data!H76","v":-4.0723981900452642E-2},{"$f":"(Data!I77-Data!I76)/Data!I76","v":1.1933174224343687E-2},{"$f":"(Data!J77-Data!J76)/Data!J76","v":-4.3596730245231641E-2},{"$f":"(Data!K77-Data!K76)/Data!K76","v":-4.5592705167173293E-3},{"$f":"(Data!L77-Data!L76)/Data!L76","v":2.0556227327690465E-2},{"$f":"(Data!M77-Data!M76)/Data!M76","v":-2.5471698113207673E-2}]
[{"$f":"(Data!B78-Data!B77)/Data!B77","v":3.064351378958123E-3},{"$f":"(Data!C78-Data!C77)/Data!C77","v":-1.8416206261510144E-2},{"$f":"(Data!D78-Data!D77)/Data!D77","v":7.8299776286351042E-3},{"$f":"(Data!E78-Data!E77)/Data!E77","v":-1.3783597518952459E-2},{"$f":"(Data!F78-Data!F77)/Data!F77","v":-1.4568764568764518E-2},{"$f":"(Data!G78-Data!G77)/Data!G77","v":-6.0532687651331778E-3},{"$f":"(Data!H78-Data!H77)/Data!H77","v":-7.7830188679245224E-2},{"$f":"(Data!I78-Data!I77)/Data!I77","v":-2.594339622641512E-2},{"$f":"(Data!J78-Data!J77)/Data!J77","v":1.7094017094017106E-2},{"$f":"(Data!K78-Data!K77)/Data!K77","v":-6.1068702290078079E-3},{"$f":"(Data!L78-Data!L77)/Data!L77","v":-1.0663507109004879E-2},{"$f":"(Data!M78-Data!M77)/Data!M77","v":-1.1616650532429827E-2}]
[{"$f":"(Data!B79-Data!B78)/Data!B78","v":2.0366598778003977E-2},{"$f":"(Data!C79-Data!C78)/Data!C78","v":5.4409005628517866E-2},{"$f":"(Data!D79-Data!D78)/Data!D78","v":2.5527192008879172E-2},{"$f":"(Data!E79-Data!E78)/Data!E78","v":2.5856044723969351E-2},{"$f":"(Data!F79-Data!F78)/Data!F78","v":5.4405677114133695E-2},{"$f":"(Data!G79-Data!G78)/Data!G78","v":5.3593179049939148E-2},{"$f":"(Data!H79-Data!H78)/Data!H78","v":-2.0460358056266004E-2},{"$f":"(Data!I79-Data!I78)/Data!I78","v":4.6004842615012281E-2},{"$f":"(Data!J79-Data!J78)/Data!J78","v":6.7226890756302421E-2},{"$f":"(Data!K79-Data!K78)/Data!K78","v":9.062980030721976E-2},{"$f":"(Data!L79-Data!L78)/Data!L78","v":6.4670658682634927E-2},{"$f":"(Data!M79-Data!M78)/Data!M78","v":5.6807051909892534E-2}]
[{"$f":"(Data!B80-Data!B79)/Data!B79","v":1.8962075848303298E-2},{"$f":"(Data!C80-Data!C79)/Data!C79","v":6.9395017793594166E-2},{"$f":"(Data!D80-Data!D79)/Data!D79","v":3.4632034632034542E-2},{"$f":"(Data!E80-Data!E79)/Data!E79","v":2.8610354223433113E-2},{"$f":"(Data!F80-Data!F79)/Data!F79","v":4.0942232192933102E-2},{"$f":"(Data!G80-Data!G79)/Data!G79","v":3.6994219653179221E-2},{"$f":"(Data!H80-Data!H79)/Data!H79","v":-3.9164490861618835E-2},{"$f":"(Data!I80-Data!I79)/Data!I79","v":9.9537037037036979E-2},{"$f":"(Data!J80-Data!J79)/Data!J79","v":6.0367454068241379E-2},{"$f":"(Data!K80-Data!K79)/Data!K79","v":8.8732394366197273E-2},{"$f":"(Data!L80-Data!L79)/Data!L79","v":3.8245219347581454E-2},{"$f":"(Data!M80-Data!M79)/Data!M79","v":3.9851714550509655E-2}]
[{"$f":"(Data!B81-Data!B80)/Data!B80","v":1.3712047012732629E-2},{"$f":"(Data!C81-Data!C80)/Data!C80","v":4.1597337770382735E-2},{"$f":"(Data!D81-Data!D80)/Data!D80","v":1.569037656903767E-2},{"$f":"(Data!E81-Data!E80)/Data!E80","v":1.4569536423841073E-2},{"$f":"(Data!F81-Data!F80)/Data!F80","v":3.2327586206896582E-2},{"$f":"(Data!G81-Data!G80)/Data!G80","v":3.4559643255295334E-2},{"$f":"(Data!H81-Data!H80)/Data!H80","v":0.10597826086956531},{"$f":"(Data!I81-Data!I80)/Data!I80","v":8.2105263157894681E-2},{"$f":"(Data!J81-Data!J80)/Data!J80","v":5.1980198019802033E-2},{"$f":"(Data!K81-Data!K80)/Data!K80","v":6.2095730918499265E-2},{"$f":"(Data!L81-Data!L80)/Data!L80","v":4.3336944745395366E-2},{"$f":"(Data!M81-Data!M80)/Data!M80","v":4.4563279857396552E-3}]
[{"$f":"(Data!B82-Data!B81)/Data!B81","v":1.3526570048309407E-2},{"$f":"(Data!C82-Data!C81)/Data!C81","v":6.2300319488817944E-2},{"$f":"(Data!D82-Data!D81)/Data!D81","v":1.5447991761071075E-2},{"$f":"(Data!E82-Data!E81)/Data!E81","v":2.610966057441241E-2},{"$f":"(Data!F82-Data!F81)/Data!F81","v":5.219206680583976E-4},{"$f":"(Data!G82-Data!G81)/Data!G81","v":1.5086206896551858E-2},{"$f":"(Data!H82-Data!H81)/Data!H81","v":2.7027027027026914E-2},{"$f":"(Data!I82-Data!I81)/Data!I81","v":0.11673151750972752},{"$f":"(Data!J82-Data!J81)/Data!J81","v":6.8235294117647116E-2},{"$f":"(Data!K82-Data!K81)/Data!K81","v":5.6029232643118203E-2},{"$f":"(Data!L82-Data!L81)/Data!L81","v":1.8691588785046745E-2},{"$f":"(Data!M82-Data!M81)/Data!M81","v":1.2422360248447216E-2}]
[{"$f":"(Data!B83-Data!B82)/Data!B82","v":-2.7645376549094502E-2},{"$f":"(Data!C83-Data!C82)/Data!C82","v":1.8045112781954902E-2},{"$f":"(Data!D83-Data!D82)/Data!D82","v":-1.8255578093306305E-2},{"$f":"(Data!E83-Data!E82)/Data!E82","v":-3.1170483460559617E-2},{"$f":"(Data!F83-Data!F82)/Data!F82","v":1.4084507042253709E-2},{"$f":"(Data!G83-Data!G82)/Data!G82","v":-2.1231422505307873E-3},{"$f":"(Data!H83-Data!H82)/Data!H82","v":-4.066985645933005E-2},{"$f":"(Data!I83-Data!I82)/Data!I82","v":2.2648083623693596E-2},{"$f":"(Data!J83-Data!J82)/Data!J82","v":-2.2026431718062916E-3},{"$f":"(Data!K83-Data!K82)/Data!K82","v":-6.8050749711649428E-2},{"$f":"(Data!L83-Data!L82)/Data!L82","v":-3.2619775739041713E-2},{"$f":"(Data!M83-Data!M82)/Data!M82","v":-9.6406660823837847E-3}]
[{"$f":"(Data!B84-Data!B83)/Data!B83","v":3.0392156862745014E-2},{"$f":"(Data!C84-Data!C83)/Data!C83","v":5.022156573116679E-2},{"$f":"(Data!D84-Data!D83)/Data!D83","v":3.0991735537190111E-2},{"$f":"(Data!E84-Data!E83)/Data!E83","v":5.9093893630990778E-3},{"$f":"(Data!F84-Data!F83)/Data!F83","v":3.5493827160493915E-2},{"$f":"(Data!G84-Data!G83)/Data!G83","v":2.5531914893617041E-2},{"$f":"(Data!H84-Data!H83)/Data!H83","v":-2.9925187032418976E-2},{"$f":"(Data!I84-Data!I83)/Data!I83","v":7.6660988074957276E-2},{"$f":"(Data!J84-Data!J83)/Data!J83","v":3.0905077262693311E-2},{"$f":"(Data!K84-Data!K83)/Data!K83","v":2.2277227722772297E-2},{"$f":"(Data!L84-Data!L83)/Data!L83","v":2.2128556375131617E-2},{"$f":"(Data!M84-Data!M83)/Data!M83","v":3.3628318584070629E-2}]
[{"$f":"(Data!B85-Data!B84)/Data!B84","v":2.5689819219790806E-2},{"$f":"(Data!C85-Data!C84)/Data!C84","v":7.0323488045007099E-2},{"$f":"(Data!D85-Data!D84)/Data!D84","v":1.7034068136272673E-2},{"$f":"(Data!E85-Data!E84)/Data!E84","v":3.4595300261096563E-2},{"$f":"(Data!F85-Data!F84)/Data!F84","v":3.8748137108792761E-2},{"$f":"(Data!G85-Data!G84)/Data!G84","v":4.6680497925311239E-2},{"$f":"(Data!H85-Data!H84)/Data!H84","v":2.3136246786632269E-2},{"$f":"(Data!I85-Data!I84)/Data!I84","v":0.10284810126582287},{"$f":"(Data!J85-Data!J84)/Data!J84","v":7.9229122055674464E-2},{"$f":"(Data!K85-Data!K84)/Data!K84","v":6.5375302663438314E-2},{"$f":"(Data!L85-Data!L84)/Data!L84","v":5.1546391752577365E-2},{"$f":"(Data!M85-Data!M84)/Data!M84","v":5.0513698630137133E-2}]
[{"$f":"(Data!B86-Data!B85)/Data!B85","v":2.5974025974025788E-2},{"$f":"(Data!C86-Data!C85)/Data!C85","v":2.8909329829172166E-2},{"$f":"(Data!D86-Data!D85)/Data!D85","v":2.8571428571428484E-2},{"$f":"(Data!E86-Data!E85)/Data!E85","v":3.0283911671924457E-2},{"$f":"(Data!F86-Data!F85)/Data!F85","v":8.7996174079387715E-2},{"$f":"(Data!G86-Data!G85)/Data!G85","v":3.3696729435084047E-2},{"$f":"(Data!H86-Data!H85)/Data!H85","v":8.7939698492462401E-2},{"$f":"(Data!I86-Data!I85)/Data!I85","v":0.11047345767575316},{"$f":"(Data!J86-Data!J85)/Data!J85","v":4.1666666666666706E-2},{"$f":"(Data!K86-Data!K85)/Data!K85","v":5.6818181818181872E-2},{"$f":"(Data!L86-Data!L85)/Data!L85","v":2.7450980392156887E-2},{"$f":"(Data!M86-Data!M85)/Data!M85","v":2.3634881825590801E-2}]
[{"$f":"(Data!B87-Data!B86)/Data!B86","v":6.3291139240507395E-3},{"$f":"(Data!C87-Data!C86)/Data!C86","v":-2.6819923371647531E-2},{"$f":"(Data!D87-Data!D86)/Data!D86","v":1.7241379310344841E-2},{"$f":"(Data!E87-Data!E86)/Data!E86","v":3.5517452541334857E-2},{"$f":"(Data!F87-Data!F86)/Data!F86","v":6.1978021978021984E-2},{"$f":"(Data!G87-Data!G86)/Data!G86","v":5.3691275167785289E-2},{"$f":"(Data!H87-Data!H86)/Data!H86","v":4.6189376443417925E-2},{"$f":"(Data!I87-Data!I86)/Data!I86","v":0.1408268733850129},{"$f":"(Data!J87-Data!J86)/Data!J86","v":5.714285714285719E-2},{"$f":"(Data!K87-Data!K86)/Data!K86","v":4.7311827956989287E-2},{"$f":"(Data!L87-Data!L86)/Data!L86","v":1.240458015267166E-2},{"$f":"(Data!M87-Data!M86)/Data!M86","v":4.2993630573248447E-2}]
[{"$f":"(Data!B88-Data!B87)/Data!B87","v":1.6172506738544489E-2},{"$f":"(Data!C88-Data!C87)/Data!C87","v":-6.5616797900262527E-3},{"$f":"(Data!D88-Data!D87)/Data!D87","v":2.2598870056497192E-2},{"$f":"(Data!E88-Data!E87)/Data!E87","v":3.015966883500883E-2},{"$f":"(Data!F88-Data!F87)/Data!F87","v":-1.3245033112582794E-2},{"$f":"(Data!G88-Data!G87)/Data!G87","v":2.0928116469517862E-2},{"$f":"(Data!H88-Data!H87)/Data!H87","v":0},{"$f":"(Data!I88-Data!I87)/Data!I87","v":1.359003397508495E-2},{"$f":"(Data!J88-Data!J87)/Data!J87","v":7.5675675675675735E-2},{"$f":"(Data!K88-Data!K87)/Data!K87","v":5.030800821355217E-2},{"$f":"(Data!L88-Data!L87)/Data!L87","v":2.921771913289363E-2},{"$f":"(Data!M88-Data!M87)/Data!M87","v":1.3740458015267187E-2}]
[{"$f":"(Data!B89-Data!B88)/Data!B88","v":2.1220159151193654E-2},{"$f":"(Data!C89-Data!C88)/Data!C88","v":6.208718626155884E-2},{"$f":"(Data!D89-Data!D88)/Data!D88","v":1.9337016574585548E-2},{"$f":"(Data!E89-Data!E88)/Data!E88","v":1.0907003444316823E-2},{"$f":"(Data!F89-Data!F88)/Data!F88","v":3.0201342281879224E-2},{"$f":"(Data!G89-Data!G88)/Data!G88","v":2.3172905525846523E-2},{"$f":"(Data!H89-Data!H88)/Data!H88","v":7.284768211920549E-2},{"$f":"(Data!I89-Data!I88)/Data!I88","v":0.10391061452513962},{"$f":"(Data!J89-Data!J88)/Data!J88","v":7.7051926298157325E-2},{"$f":"(Data!K89-Data!K88)/Data!K88","v":8.1133919843597233E-2},{"$f":"(Data!L89-Data!L88)/Data!L88","v":-1.6483516483516498E-2},{"$f":"(Data!M89-Data!M88)/Data!M88","v":1.8072289156626353E-2}]
[{"$f":"(Data!B90-Data!B89)/Data!B89","v":0},{"$f":"(Data!C90-Data!C89)/Data!C89","v":-1.8656716417910463E-2},{"$f":"(Data!D90-Data!D89)/Data!D89","v":-3.3423667570008961E-2},{"$f":"(Data!E90-Data!E89)/Data!E89","v":-2.7257240204429201E-2},{"$f":"(Data!F90-Data!F89)/Data!F89","v":-4.4381107491856669E-2},{"$f":"(Data!G90-Data!G89)/Data!G89","v":-3.571428571428565E-2},{"$f":"(Data!H90-Data!H89)/Data!H89","v":0.1419753086419753},{"$f":"(Data!I90-Data!I89)/Data!I89","v":-9.1093117408905834E-3},{"$f":"(Data!J90-Data!J89)/Data!J89","v":-6.2208398133748108E-3},{"$f":"(Data!K90-Data!K89)/Data!K89","v":-2.3508137432187888E-2},{"$f":"(Data!L90-Data!L89)/Data!L89","v":-2.0484171322160166E-2},{"$f":"(Data!M90-Data!M89)/Data!M89","v":-3.4763313609467411E-2}]
[{"$f":"(Data!B91-Data!B90)/Data!B90","v":-4.329004329004333E-2},{"$f":"(Data!C91-Data!C90)/Data!C90","v":-0.10012674271229413},{"$f":"(Data!D91-Data!D90)/Data!D90","v":-3.0841121495327025E-2},{"$f":"(Data!E91-Data!E90)/Data!E90","v":-5.078809106830133E-2},{"$f":"(Data!F91-Data!F90)/Data!F90","v":-0.11333617383894334},{"$f":"(Data!G91-Data!G90)/Data!G90","v":-7.046070460704594E-2},{"$f":"(Data!H91-Data!H90)/Data!H90","v":2.5225225225225044E-2},{"$f":"(Data!I91-Data!I90)/Data!I90","v":-0.1205311542390195},{"$f":"(Data!J91-Data!J90)/Data!J90","v":-0.1471048513302034},{"$f":"(Data!K91-Data!K90)/Data!K90","v":-7.9629629629629592E-2},{"$f":"(Data!L91-Data!L90)/Data!L90","v":-7.2243346007604625E-2},{"$f":"(Data!M91-Data!M90)/Data!M90","v":-5.823754789272019E-2}]
[{"$f":"(Data!B92-Data!B91)/Data!B91","v":1.5384615384615498E-2},{"$f":"(Data!C92-Data!C91)/Data!C91","v":2.1126760563380302E-2},{"$f":"(Data!D92-Data!D91)/Data!D91","v":2.8929604628736547E-2},{"$f":"(Data!E92-Data!E91)/Data!E91","v":1.4760147601476165E-2},{"$f":"(Data!F92-Data!F91)/Data!F91","v":2.2585295530994788E-2},{"$f":"(Data!G92-Data!G91)/Data!G91","v":1.5549076773566366E-2},{"$f":"(Data!H92-Data!H91)/Data!H91","v":4.745166959578212E-2},{"$f":"(Data!I92-Data!I91)/Data!I91","v":9.0592334494773608E-2},{"$f":"(Data!J92-Data!J91)/Data!J91","v":6.6055045871559692E-2},{"$f":"(Data!K92-Data!K91)/Data!K91","v":4.2253521126760486E-2},{"$f":"(Data!L92-Data!L91)/Data!L91","v":1.5368852459016407E-2},{"$f":"(Data!M92-Data!M91)/Data!M91","v":3.4174125305125966E-2}]
[{"$f":"(Data!B93-Data!B92)/Data!B92","v":2.3172905525846523E-2},{"$f":"(Data!C93-Data!C92)/Data!C92","v":2.8965517241379336E-2},{"$f":"(Data!D93-Data!D92)/Data!D92","v":7.4976569821930718E-3},{"$f":"(Data!E93-Data!E92)/Data!E92","v":2.6060606060606013E-2},{"$f":"(Data!F93-Data!F92)/Data!F92","v":6.1090225563909722E-2},{"$f":"(Data!G93-Data!G92)/Data!G92","v":2.8708133971291894E-2},{"$f":"(Data!H93-Data!H92)/Data!H92","v":-4.6979865771812124E-2},{"$f":"(Data!I93-Data!I92)/Data!I92","v":7.4547390841320615E-2},{"$f":"(Data!J93-Data!J92)/Data!J92","v":7.056798623063669E-2},{"$f":"(Data!K93-Data!K92)/Data!K92","v":7.7220077220077283E-3},{"$f":"(Data!L93-Data!L92)/Data!L92","v":3.3299697275479344E-2},{"$f":"(Data!M93-Data!M92)/Data!M92","v":3.3044846577498239E-2}]
[{"$f":"(Data!B94-Data!B93)/Data!B93","v":1.0452961672473877E-2},{"$f":"(Data!C94-Data!C93)/Data!C93","v":3.2171581769437026E-2},{"$f":"(Data!D94-Data!D93)/Data!D93","v":2.7906976744187105E-3},{"$f":"(Data!E94-Data!E93)/Data!E93","v":2.3626698168930912E-2},{"$f":"(Data!F94-Data!F93)/Data!F93","v":1.5500442869796342E-2},{"$f":"(Data!G94-Data!G93)/Data!G93","v":2.6046511627907002E-2},{"$f":"(Data!H94-Data!H93)/Data!H93","v":5.9859154929577718E-2},{"$f":"(Data!I94-Data!I93)/Data!I93","v":-4.8562933597621552E-2},{"$f":"(Data!J94-Data!J93)/Data!J93","v":6.4308681672025775E-2},{"$f":"(Data!K94-Data!K93)/Data!K93","v":-2.2988505747126457E-2},{"$f":"(Data!L94-Data!L93)/Data!L93","v":3.4179687500000139E-2},{"$f":"(Data!M94-Data!M93)/Data!M93","v":2.0563594821020496E-2}]
[{"$f":"(Data!B95-Data!B94)/Data!B94","v":3.1896551724138057E-2},{"$f":"(Data!C95-Data!C94)/Data!C94","v":-1.2987012987011556E-3},{"$f":"(Data!D95-Data!D94)/Data!D94","v":3.5250463821892217E-2},{"$f":"(Data!E95-Data!E94)/Data!E94","v":3.1159838430467296E-2},{"$f":"(Data!F95-Data!F94)/Data!F94","v":3.401657217618833E-2},{"$f":"(Data!G95-Data!G94)/Data!G94","v":4.5330915684496868E-2},{"$f":"(Data!H95-Data!H94)/Data!H94","v":4.6511627906976591E-2},{"$f":"(Data!I95-Data!I94)/Data!I94","v":2.8125000000000143E-2},{"$f":"(Data!J95-Data!J94)/Data!J94","v":4.8338368580060465E-2},{"$f":"(Data!K95-Data!K94)/Data!K94","v":3.137254901960787E-2},{"$f":"(Data!L95-Data!L94)/Data!L94","v":5.0047214353163297E-2},{"$f":"(Data!M95-Data!M94)/Data!M94","v":4.0298507462686602E-2}]
[{"$f":"(Data!B96-Data!B95)/Data!B95","v":2.4227234753550469E-2},{"$f":"(Data!C96-Data!C95)/Data!C95","v":3.6410923276982976E-2},{"$f":"(Data!D96-Data!D95)/Data!D95","v":1.0752688172043022E-2},{"$f":"(Data!E96-Data!E95)/Data!E95","v":3.5254616675993382E-2},{"$f":"(Data!F96-Data!F95)/Data!F95","v":4.8502741459299961E-2},{"$f":"(Data!G96-Data!G95)/Data!G95","v":3.122289679098008E-2},{"$f":"(Data!H96-Data!H95)/Data!H95","v":9.6825396825396731E-2},{"$f":"(Data!I96-Data!I95)/Data!I95","v":5.8763931104356459E-2},{"$f":"(Data!J96-Data!J95)/Data!J95","v":6.3400576368875972E-2},{"$f":"(Data!K96-Data!K95)/Data!K95","v":6.3688212927756602E-2},{"$f":"(Data!L96-Data!L95)/Data!L95","v":3.3273381294963954E-2},{"$f":"(Data!M96-Data!M95)/Data!M95","v":1.2195121951219441E-2}]
[{"$f":"(Data!B97-Data!B96)/Data!B96","v":2.5285481239804355E-2},{"$f":"(Data!C97-Data!C96)/Data!C96","v":1.1292346298619695E-2},{"$f":"(Data!D97-Data!D96)/Data!D96","v":8.8652482269513475E-4},{"$f":"(Data!E97-Data!E96)/Data!E96","v":1.4054054054053945E-2},{"$f":"(Data!F97-Data!F96)/Data!F96","v":1.568785197103769E-2},{"$f":"(Data!G97-Data!G96)/Data!G96","v":2.3549201009251491E-2},{"$f":"(Data!H97-Data!H96)/Data!H96","v":0.17945007235890031},{"$f":"(Data!I97-Data!I96)/Data!I96","v":7.9425837320574136E-2},{"$f":"(Data!J97-Data!J96)/Data!J96","v":1.4905149051490679E-2},{"$f":"(Data!K97-Data!K96)/Data!K96","v":3.2171581769437026E-2},{"$f":"(Data!L97-Data!L96)/Data!L96","v":2.9590948651000894E-2},{"$f":"(Data!M97-Data!M96)/Data!M96","v":0}]
[{"$f":"(Data!B98-Data!B97)/Data!B97","v":5.5688146380269647E-3},{"$f":"(Data!C98-Data!C97)/Data!C97","v":-2.7295285359801379E-2},{"$f":"(Data!D98-Data!D97)/Data!D97","v":1.0628875110717459E-2},{"$f":"(Data!E98-Data!E97)/Data!E97","v":2.5053304904051374E-2},{"$f":"(Data!F98-Data!F97)/Data!F97","v":6.7722772277227825E-2},{"$f":"(Data!G98-Data!G97)/Data!G97","v":3.3689400164338475E-2},{"$f":"(Data!H98-Data!H97)/Data!H97","v":0.214723926380368},{"$f":"(Data!I98-Data!I97)/Data!I97","v":1.9503546099290996E-2},{"$f":"(Data!J98-Data!J97)/Data!J97","v":2.8037383177569965E-2},{"$f":"(Data!K98-Data!K97)/Data!K97","v":3.7229437229437168E-2},{"$f":"(Data!L98-Data!L97)/Data!L97","v":4.3110735418427672E-2},{"$f":"(Data!M98-Data!M97)/Data!M97","v":3.0474840538625193E-2}]
[{"$f":"(Data!B99-Data!B98)/Data!B98","v":2.3734177215189896E-2},{"$f":"(Data!C99-Data!C98)/Data!C98","v":3.9540816326530649E-2},{"$f":"(Data!D99-Data!D98)/Data!D98","v":2.0157756354075487E-2},{"$f":"(Data!E99-Data!E98)/Data!E98","v":2.0280811232449139E-2},{"$f":"(Data!F99-Data!F98)/Data!F98","v":2.1884272997032536E-2},{"$f":"(Data!G99-Data!G98)/Data!G98","v":3.6565977742448366E-2},{"$f":"(Data!H99-Data!H98)/Data!H98","v":2.0202020202020221E-2},{"$f":"(Data!I99-Data!I98)/Data!I98","v":3.0434782608695581E-2},{"$f":"(Data!J99-Data!J98)/Data!J98","v":1.0389610389610398E-2},{"$f":"(Data!K99-Data!K98)/Data!K98","v":3.5893155258764547E-2},{"$f":"(Data!L99-Data!L98)/Data!L98","v":4.7001620745542809E-2},{"$f":"(Data!M99-Data!M98)/Data!M98","v":1.9944979367262663E-2}]
[{"$f":"(Data!B100-Data!B99)/Data!B99","v":-2.4729520865533251E-2},{"$f":"(Data!C100-Data!C99)/Data!C99","v":-3.6809815950920276E-3},{"$f":"(Data!D100-Data!D99)/Data!D99","v":-2.4914089347079151E-2},{"$f":"(Data!E100-Data!E99)/Data!E99","v":-3.7716615698266995E-2},{"$f":"(Data!F100-Data!F99)/Data!F99","v":-3.7386569872958172E-2},{"$f":"(Data!G100-Data!G99)/Data!G99","v":-2.6073619631901863E-2},{"$f":"(Data!H100-Data!H99)/Data!H99","v":4.6534653465346465E-2},{"$f":"(Data!I100-Data!I99)/Data!I99","v":-4.1350210970464263E-2},{"$f":"(Data!J100-Data!J99)/Data!J99","v":-8.9974293059126034E-2},{"$f":"(Data!K100-Data!K99)/Data!K99","v":-3.3037872683319848E-2},{"$f":"(Data!L100-Data!L99)/Data!L99","v":-3.9473684210526272E-2},{"$f":"(Data!M100-Data!M99)/Data!M99","v":-1.7532029669588837E-2}]
[{"$f":"(Data!B101-Data!B100)/Data!B100","v":4.6751188589540367E-2},{"$f":"(Data!C101-Data!C100)/Data!C100","v":6.0344827586206809E-2},{"$f":"(Data!D101-Data!D100)/Data!D100","v":3.6123348017621078E-2},{"$f":"(Data!E101-Data!E100)/Data!E100","v":5.667372881355931E-2},{"$f":"(Data!F101-Data!F100)/Data!F100","v":5.1282051282051322E-2},{"$f":"(Data!G101-Data!G100)/Data!G100","v":7.3228346456693058E-2},{"$f":"(Data!H101-Data!H100)/Data!H100","v":0.18259224219489126},{"$f":"(Data!I101-Data!I100)/Data!I100","v":6.2500000000000153E-2},{"$f":"(Data!J101-Data!J100)/Data!J100","v":4.5197740112994392E-2},{"$f":"(Data!K101-Data!K100)/Data!K100","v":4.7500000000000139E-2},{"$f":"(Data!L101-Data!L100)/Data!L100","v":4.8348106365834052E-2},{"$f":"(Data!M101-Data!M100)/Data!M100","v":6.2457103637611672E-2}]
[{"$f":"(Data!B102-Data!B101)/Data!B101","v":2.8766086298258921E-2},{"$f":"(Data!C102-Data!C101)/Data!C101","v":6.3879210220673568E-2},{"$f":"(Data!D102-Data!D101)/Data!D101","v":2.2108843537414987E-2},{"$f":"(Data!E102-Data!E101)/Data!E101","v":1.2030075187969934E-2},{"$f":"(Data!F102-Data!F101)/Data!F101","v":1.6857962697273927E-2},{"$f":"(Data!G102-Data!G101)/Data!G101","v":3.0814380044020404E-2},{"$f":"(Data!H102-Data!H101)/Data!H101","v":0.13920000000000013},{"$f":"(Data!I102-Data!I101)/Data!I101","v":-5.7995028997514547E-2},{"$f":"(Data!J102-Data!J101)/Data!J101","v":5.0000000000000044E-2},{"$f":"(Data!K102-Data!K101)/Data!K101","v":3.9777247414478772E-2},{"$f":"(Data!L102-Data!L101)/Data!L101","v":3.5357417371252912E-2},{"$f":"(Data!M102-Data!M101)/Data!M101","v":1.8733850129198912E-2}]
[{"$f":"(Data!B103-Data!B102)/Data!B102","v":7.3583517292126633E-3},{"$f":"(Data!C103-Data!C102)/Data!C102","v":8.6244541484716247E-2},{"$f":"(Data!D103-Data!D102)/Data!D102","v":4.1597337770383656E-3},{"$f":"(Data!E103-Data!E102)/Data!E102","v":-2.3774145616641922E-2},{"$f":"(Data!F103-Data!F102)/Data!F102","v":2.4691358024691774E-3},{"$f":"(Data!G103-Data!G102)/Data!G102","v":2.8469750889679742E-2},{"$f":"(Data!H103-Data!H102)/Data!H102","v":-4.2134831460674191E-3},{"$f":"(Data!I103-Data!I102)/Data!I102","v":7.9155672823218084E-3},{"$f":"(Data!J103-Data!J102)/Data!J102","v":1.415701415701417E-2},{"$f":"(Data!K103-Data!K102)/Data!K102","v":3.2899770466717791E-2},{"$f":"(Data!L103-Data!L102)/Data!L102","v":2.2271714922049842E-3},{"$f":"(Data!M103-Data!M102)/Data!M102","v":1.8389346861128673E-2}]
[{"$f":"(Data!B104-Data!B103)/Data!B103","v":9.4959824689553694E-3},{"$f":"(Data!C104-Data!C103)/Data!C103","v":9.1457286432160889E-2},{"$f":"(Data!D104-Data!D103)/Data!D103","v":-5.7995028997515465E-3},{"$f":"(Data!E104-Data!E103)/Data!E103","v":-1.1669203450025322E-2},{"$f":"(Data!F104-Data!F103)/Data!F103","v":2.8852920478536187E-2},{"$f":"(Data!G104-Data!G103)/Data!G103","v":4.844290657439374E-3},{"$f":"(Data!H104-Data!H103)/Data!H103","v":7.0521861777143142E-4},{"$f":"(Data!I104-Data!I103)/Data!I103","v":6.5445026178010443E-2},{"$f":"(Data!J104-Data!J103)/Data!J103","v":6.4720812182741172E-2},{"$f":"(Data!K104-Data!K103)/Data!K103","v":3.703703703703707E-2},{"$f":"(Data!L104-Data!L103)/Data!L103","v":3.777777777777773E-2},{"$f":"(Data!M104-Data!M103)/Data!M103","v":1.120797011207985E-2}]
[{"$f":"(Data!B105-Data!B104)/Data!B104","v":-5.4992764109985423E-2},{"$f":"(Data!C105-Data!C104)/Data!C104","v":-5.1565377532228403E-2},{"$f":"(Data!D105-Data!D104)/Data!D104","v":-5.8333333333333202E-2},{"$f":"(Data!E105-Data!E104)/Data!E104","v":-5.9548254620123364E-2},{"$f":"(Data!F105-Data!F104)/Data!F104","v":-4.6853625170998635E-2},{"$f":"(Data!G105-Data!G104)/Data!G104","v":-5.9228650137741104E-2},{"$f":"(Data!H105-Data!H104)/Data!H104","v":0.20718816067653278},{"$f":"(Data!I105-Data!I104)/Data!I104","v":-5.1597051597051559E-2},{"$f":"(Data!J105-Data!J104)/Data!J104","v":-3.0989272943981086E-2},{"$f":"(Data!K105-Data!K104)/Data!K104","v":-8.6428571428571424E-2},{"$f":"(Data!L105-Data!L104)/Data!L104","v":-2.9264810849393235E-2},{"$f":"(Data!M105-Data!M104)/Data!M104","v":-6.650246305418725E-2}]
[{"$f":"(Data!B106-Data!B105)/Data!B105","v":3.5222052067381174E-2},{"$f":"(Data!C106-Data!C105)/Data!C105","v":3.8834951456310711E-2},{"$f":"(Data!D106-Data!D105)/Data!D105","v":2.6548672566371504E-2},{"$f":"(Data!E106-Data!E105)/Data!E105","v":5.4585152838446181E-4},{"$f":"(Data!F106-Data!F105)/Data!F105","v":3.5163257983494907E-2},{"$f":"(Data!G106-Data!G105)/Data!G105","v":2.1961932650073228E-2},{"$f":"(Data!H106-Data!H105)/Data!H105","v":0.10566258026853476},{"$f":"(Data!I106-Data!I105)/Data!I105","v":1.6407599309153826E-2},{"$f":"(Data!J106-Data!J105)/Data!J105","v":8.6100861008610169E-2},{"$f":"(Data!K106-Data!K105)/Data!K105","v":4.2220484753713872E-2},{"$f":"(Data!L106-Data!L105)/Data!L105","v":4.4117647058821933E-3},{"$f":"(Data!M106-Data!M105)/Data!M105","v":2.9683377308707078E-2}]
[{"$f":"(Data!B107-Data!B106)/Data!B106","v":3.9940828402366901E-2},{"$f":"(Data!C107-Data!C106)/Data!C106","v":6.3551401869158725E-2},{"$f":"(Data!D107-Data!D106)/Data!D106","v":4.0517241379310481E-2},{"$f":"(Data!E107-Data!E106)/Data!E106","v":2.0731042007637649E-2},{"$f":"(Data!F107-Data!F106)/Data!F106","v":5.8578856152512855E-2},{"$f":"(Data!G107-Data!G106)/Data!G106","v":4.3696275071633199E-2},{"$f":"(Data!H107-Data!H106)/Data!H106","v":7.5501583949313514E-2},{"$f":"(Data!I107-Data!I106)/Data!I106","v":7.6465590484282142E-2},{"$f":"(Data!J107-Data!J106)/Data!J106","v":0.14949037372593443},{"$f":"(Data!K107-Data!K106)/Data!K106","v":2.5506376594148391E-2},{"$f":"(Data!L107-Data!L106)/Data!L106","v":2.6354319180087873E-2},{"$f":"(Data!M107-Data!M106)/Data!M106","v":3.139013452914808E-2}]
[{"$f":"(Data!B108-Data!B107)/Data!B107","v":-4.2674253200569029E-2},{"$f":"(Data!C108-Data!C107)/Data!C107","v":-4.0421792618629021E-2},{"$f":"(Data!D108-Data!D107)/Data!D107","v":-4.1425020712510391E-2},{"$f":"(Data!E108-Data!E107)/Data!E107","v":-5.3981827899518962E-2},{"$f":"(Data!F108-Data!F107)/Data!F107","v":-2.7504911591355478E-2},{"$f":"(Data!G108-Data!G107)/Data!G107","v":-3.5003431708991034E-2},{"$f":"(Data!H108-Data!H107)/Data!H107","v":-8.6401570937653382E-2},{"$f":"(Data!I108-Data!I107)/Data!I107","v":1.736385161799528E-2},{"$f":"(Data!J108-Data!J107)/Data!J107","v":4.3349753694581314E-2},{"$f":"(Data!K108-Data!K107)/Data!K107","v":-1.0241404535478999E-2},{"$f":"(Data!L108-Data!L107)/Data!L107","v":-6.062767475035661E-2},{"$f":"(Data!M108-Data!M107)/Data!M107","v":-7.5155279503105576E-2}]
[{"$f":"(Data!B109-Data!B108)/Data!B108","v":8.1723625557207445E-3},{"$f":"(Data!C109-Data!C108)/Data!C108","v":-1.0989010989010999E-2},{"$f":"(Data!D109-Data!D108)/Data!D108","v":1.7286084701815054E-2},{"$f":"(Data!E109-Data!E108)/Data!E108","v":-6.7796610169490326E-3},{"$f":"(Data!F109-Data!F108)/Data!F108","v":4.7138047138046433E-3},{"$f":"(Data!G109-Data!G108)/Data!G108","v":2.2759601706970306E-2},{"$f":"(Data!H109-Data!H108)/Data!H108","v":-3.5464803868887729E-2},{"$f":"(Data!I109-Data!I108)/Data!I108","v":3.2583397982932361E-2},{"$f":"(Data!J109-Data!J108)/Data!J108","v":2.8328611898017018E-2},{"$f":"(Data!K109-Data!K108)/Data!K108","v":-1.9216555801921834E-2},{"$f":"(Data!L109-Data!L108)/Data!L108","v":-2.6575550493546048E-2},{"$f":"(Data!M109-Data!M108)/Data!M108","v":0}]
[{"$f":"(Data!B110-Data!B109)/Data!B109","v":-6.4848931466470056E-2},{"$f":"(Data!C110-Data!C109)/Data!C109","v":-8.6111111111111083E-2},{"$f":"(Data!D110-Data!D109)/Data!D109","v":-6.0322854715378224E-2},{"$f":"(Data!E110-Data!E109)/Data!E109","v":-7.5085324232082098E-2},{"$f":"(Data!F110-Data!F109)/Data!F109","v":-7.6742627345844541E-2},{"$f":"(Data!G110-Data!G109)/Data!G109","v":-8.1363004172461895E-2},{"$f":"(Data!H110-Data!H109)/Data!H109","v":-5.0139275766016142E-3},{"$f":"(Data!I110-Data!I109)/Data!I109","v":-6.3110443275732425E-2},{"$f":"(Data!J110-Data!J109)/Data!J109","v":-2.3875114784205915E-2},{"$f":"(Data!K110-Data!K109)/Data!K109","v":-0.10399397136397882},{"$f":"(Data!L110-Data!L109)/Data!L109","v":-0.10062402496099829},{"$f":"(Data!M110-Data!M109)/Data!M109","v":-8.5963734049697857E-2}]
[{"$f":"(Data!B111-Data!B110)/Data!B110","v":-1.4184397163120754E-2},{"$f":"(Data!C111-Data!C110)/Data!C110","v":-2.7355623100304087E-2},{"$f":"(Data!D111-Data!D110)/Data!D110","v":-2.2603978300180756E-2},{"$f":"(Data!E111-Data!E110)/Data!E110","v":-5.2275522755227531E-2},{"$f":"(Data!F111-Data!F110)/Data!F110","v":-7.8765880217785716E-2},{"$f":"(Data!G111-Data!G110)/Data!G110","v":-5.4504163512490419E-2},{"$f":"(Data!H111-Data!H110)/Data!H110","v":-0.1119820828667413},{"$f":"(Data!I111-Data!I110)/Data!I110","v":-6.5757818765036141E-2},{"$f":"(Data!J111-Data!J110)/Data!J110","v":-8.2784571966133563E-2},{"$f":"(Data!K111-Data!K110)/Data!K110","v":-3.7846930193439807E-2},{"$f":"(Data!L111-Data!L110)/Data!L110","v":5.203816131830013E-3},{"$f":"(Data!M111-Data!M110)/Data!M110","v":-3.5268185157971949E-2}]
[{"$f":"(Data!B112-Data!B111)/Data!B111","v":-2.9576338928856676E-2},{"$f":"(Data!C112-Data!C111)/Data!C111","v":-2.3958333333333241E-2},{"$f":"(Data!D112-Data!D111)/Data!D111","v":-4.2553191489361743E-2},{"$f":"(Data!E112-Data!E111)/Data!E111","v":-6.229720960415306E-2},{"$f":"(Data!F112-Data!F111)/Data!F111","v":-9.9290780141844046E-2},{"$f":"(Data!G112-Data!G111)/Data!G111","v":-5.6845476381105021E-2},{"$f":"(Data!H112-Data!H111)/Data!H111","v":-0.12736443883984863},{"$f":"(Data!I112-Data!I111)/Data!I111","v":-2.7467811158798306E-2},{"$f":"(Data!J112-Data!J111)/Data!J111","v":-0.10871794871794858},{"$f":"(Data!K112-Data!K111)/Data!K111","v":-2.0979020979020994E-2},{"$f":"(Data!L112-Data!L111)/Data!L111","v":-2.6747195858498825E-2},{"$f":"(Data!M112-Data!M111)/Data!M111","v":-2.437166793602456E-2}]
[{"$f":"(Data!B113-Data!B112)/Data!B112","v":4.5304777594728111E-2},{"$f":"(Data!C113-Data!C112)/Data!C112","v":7.5773745997865474E-2},{"$f":"(Data!D113-Data!D112)/Data!D112","v":5.8937198067632798E-2},{"$f":"(Data!E113-Data!E112)/Data!E112","v":4.5674740484428954E-2},{"$f":"(Data!F113-Data!F112)/Data!F112","v":3.980752405949245E-2},{"$f":"(Data!G113-Data!G112)/Data!G112","v":3.9898132427843937E-2},{"$f":"(Data!H113-Data!H112)/Data!H112","v":-0.1322254335260116},{"$f":"(Data!I113-Data!I112)/Data!I112","v":2.5595763459841249E-2},{"$f":"(Data!J113-Data!J112)/Data!J112","v":2.9919447640966525E-2},{"$f":"(Data!K113-Data!K112)/Data!K112","v":7.6785714285714152E-2},{"$f":"(Data!L113-Data!L112)/Data!L112","v":2.4822695035461018E-2},{"$f":"(Data!M113-Data!M112)/Data!M112","v":6.7135050741608179E-2}]
[{"$f":"(Data!B114-Data!B113)/Data!B113","v":2.7580772261623261E-2},{"$f":"(Data!C114-Data!C113)/Data!C113","v":3.8690476190476338E-2},{"$f":"(Data!D114-Data!D113)/Data!D113","v":3.19343065693432E-2},{"$f":"(Data!E114-Data!E113)/Data!E113","v":1.6545334215751249E-2},{"$f":"(Data!F114-Data!F113)/Data!F113","v":2.9869583508624391E-2},{"$f":"(Data!G114-Data!G113)/Data!G113","v":3.0204081632652997E-2},{"$f":"(Data!H114-Data!H113)/Data!H113","v":4.912572855953367E-2},{"$f":"(Data!I114-Data!I113)/Data!I113","v":0.10671256454388973},{"$f":"(Data!J114-Data!J113)/Data!J113","v":4.3575418994413445E-2},{"$f":"(Data!K114-Data!K113)/Data!K113","v":0.12106135986732994},{"$f":"(Data!L114-Data!L113)/Data!L113","v":3.8062283737024256E-2},{"$f":"(Data!M114-Data!M113)/Data!M113","v":4.8280907095830328E-2}]
[{"$f":"(Data!B115-Data!B114)/Data!B114","v":-4.5245398773006089E-2},{"$f":"(Data!C115-Data!C114)/Data!C114","v":-4.4890162368672534E-2},{"$f":"(Data!D115-Data!D114)/Data!D114","v":-6.5428824049513765E-2},{"$f":"(Data!E115-Data!E114)/Data!E114","v":-7.2916666666666588E-2},{"$f":"(Data!F115-Data!F114)/Data!F114","v":-9.7222222222222224E-2},{"$f":"(Data!G115-Data!G114)/Data!G114","v":-5.1505546751188548E-2},{"$f":"(Data!H115-Data!H114)/Data!H114","v":-0.1555555555555555},{"$f":"(Data!I115-Data!I114)/Data!I114","v":-1.0108864696734153E-2},{"$f":"(Data!J115-Data!J114)/Data!J114","v":-0.11670235546038542},{"$f":"(Data!K115-Data!K114)/Data!K114","v":-2.2189349112426059E-2},{"$f":"(Data!L115-Data!L114)/Data!L114","v":-2.5000000000000022E-2},{"$f":"(Data!M115-Data!M114)/Data!M114","v":-5.5129099790648957E-2}]
[{"$f":"(Data!B116-Data!B115)/Data!B115","v":-6.3453815261044322E-2},{"$f":"(Data!C116-Data!C115)/Data!C115","v":-0.10899999999999999},{"$f":"(Data!D116-Data!D115)/Data!D115","v":-7.0009460737937526E-2},{"$f":"(Data!E116-Data!E115)/Data!E115","v":-8.8483146067415794E-2},{"$f":"(Data!F116-Data!F115)/Data!F115","v":-0.11402714932126687},{"$f":"(Data!G116-Data!G115)/Data!G115","v":-6.5998329156223862E-2},{"$f":"(Data!H116-Data!H115)/Data!H115","v":-6.9548872180451179E-2},{"$f":"(Data!I116-Data!I115)/Data!I115","v":-0.11626080125687346},{"$f":"(Data!J116-Data!J115)/Data!J115","v":-8.606060606060599E-2},{"$f":"(Data!K116-Data!K115)/Data!K115","v":-0.11422087745839624},{"$f":"(Data!L116-Data!L115)/Data!L115","v":-8.6324786324786115E-2},{"$f":"(Data!M116-Data!M115)/Data!M115","v":-0.12038404726735599}]
[{"$f":"(Data!B117-Data!B116)/Data!B116","v":-7.7186963979415935E-3},{"$f":"(Data!C117-Data!C116)/Data!C116","v":-1.9079685746352305E-2},{"$f":"(Data!D117-Data!D116)/Data!D116","v":1.729399796541202E-2},{"$f":"(Data!E117-Data!E116)/Data!E116","v":6.9337442218797354E-3},{"$f":"(Data!F117-Data!F116)/Data!F116","v":-6.1287027579163596E-3},{"$f":"(Data!G117-Data!G116)/Data!G116","v":1.0733452593917718E-2},{"$f":"(Data!H117-Data!H116)/Data!H116","v":-0.10909090909090907},{"$f":"(Data!I117-Data!I116)/Data!I116","v":-0.13333333333333336},{"$f":"(Data!J117-Data!J116)/Data!J116","v":7.427055702917762E-2},{"$f":"(Data!K117-Data!K116)/Data!K116","v":-3.5012809564474744E-2},{"$f":"(Data!L117-Data!L116)/Data!L116","v":1.8709073900841922E-2},{"$f":"(Data!M117-Data!M116)/Data!M116","v":1.2594458438287071E-2}]
[{"$f":"(Data!B118-Data!B117)/Data!B117","v":-5.4451166810717322E-2},{"$f":"(Data!C118-Data!C117)/Data!C117","v":-5.9496567505720868E-2},{"$f":"(Data!D118-Data!D117)/Data!D117","v":-4.2999999999999927E-2},{"$f":"(Data!E118-Data!E117)/Data!E117","v":-3.6725325172149825E-2},{"$f":"(Data!F118-Data!F117)/Data!F117","v":-6.526207605344285E-2},{"$f":"(Data!G118-Data!G117)/Data!G117","v":-4.9557522123893846E-2},{"$f":"(Data!H118-Data!H117)/Data!H117","v":-0.12925170068027209},{"$f":"(Data!I118-Data!I117)/Data!I117","v":-0.19999999999999996},{"$f":"(Data!J118-Data!J117)/Data!J117","v":-4.9382716049382755E-2},{"$f":"(Data!K118-Data!K117)/Data!K117","v":-0.12477876106194691},{"$f":"(Data!L118-Data!L117)/Data!L117","v":-6.3360881542699865E-2},{"$f":"(Data!M118-Data!M117)/Data!M117","v":-6.7164179104477584E-2}]
[{"$f":"(Data!B119-Data!B118)/Data!B118","v":-0.22486288848263261},{"$f":"(Data!C119-Data!C118)/Data!C118","v":-0.16423357664233576},{"$f":"(Data!D119-Data!D118)/Data!D118","v":-0.18181818181818185},{"$f":"(Data!E119-Data!E118)/Data!E118","v":-0.20254169976171571},{"$f":"(Data!F119-Data!F118)/Data!F118","v":-0.2660802638812535},{"$f":"(Data!G119-Data!G118)/Data!G118","v":-0.20856610800744885},{"$f":"(Data!H119-Data!H118)/Data!H118","v":-8.8541666666666602E-2},{"$f":"(Data!I119-Data!I118)/Data!I118","v":-0.3807692307692308},{"$f":"(Data!J119-Data!J118)/Data!J118","v":-0.24155844155844161},{"$f":"(Data!K119-Data!K118)/Data!K118","v":-0.2780586450960566},{"$f":"(Data!L119-Data!L118)/Data!L118","v":-0.23529411764705882},{"$f":"(Data!M119-Data!M118)/Data!M118","v":-0.26311111111111107}]
[{"$f":"(Data!B120-Data!B119)/Data!B119","v":-9.7877358490566002E-2},{"$f":"(Data!C120-Data!C119)/Data!C119","v":-0.1120815138282388},{"$f":"(Data!D120-Data!D119)/Data!D119","v":-1.4048531289910612E-2},{"$f":"(Data!E120-Data!E119)/Data!E119","v":-4.7808764940239085E-2},{"$f":"(Data!F120-Data!F119)/Data!F119","v":-0.1273408239700374},{"$f":"(Data!G120-Data!G119)/Data!G119","v":-6.5882352941176406E-2},{"$f":"(Data!H120-Data!H119)/Data!H119","v":-5.2857142857142901E-2},{"$f":"(Data!I120-Data!I119)/Data!I119","v":-8.074534161490679E-2},{"$f":"(Data!J120-Data!J119)/Data!J119","v":-0.11130136986301362},{"$f":"(Data!K120-Data!K119)/Data!K119","v":-8.8235294117647287E-2},{"$f":"(Data!L120-Data!L119)/Data!L119","v":-9.7435897435897381E-2},{"$f":"(Data!M120-Data!M119)/Data!M119","v":-8.2026537997587523E-2}]
[{"$f":"(Data!B121-Data!B120)/Data!B120","v":-1.3071895424835161E-3},{"$f":"(Data!C121-Data!C120)/Data!C120","v":3.7704918032786923E-2},{"$f":"(Data!D121-Data!D120)/Data!D120","v":1.0362694300518144E-2},{"$f":"(Data!E121-Data!E120)/Data!E120","v":-6.6945606694560622E-2},{"$f":"(Data!F121-Data!F120)/Data!F120","v":-0.10472103004291855},{"$f":"(Data!G121-Data!G120)/Data!G120","v":-2.7707808564231762E-2},{"$f":"(Data!H121-Data!H120)/Data!H120","v":3.9215686274509838E-2},{"$f":"(Data!I121-Data!I120)/Data!I120","v":-3.603603603603607E-2},{"$f":"(Data!J121-Data!J120)/Data!J120","v":7.7071290944123383E-3},{"$f":"(Data!K121-Data!K120)/Data!K120","v":-5.9907834101382382E-2},{"$f":"(Data!L121-Data!L120)/Data!L120","v":-6.5340909090909144E-2},{"$f":"(Data!M121-Data!M120)/Data!M120","v":-4.4678055190538656E-2}]
[{"$f":"(Data!B122-Data!B121)/Data!B121","v":-6.5445026178010523E-3},{"$f":"(Data!C122-Data!C121)/Data!C121","v":3.0015797788309664E-2},{"$f":"(Data!D122-Data!D121)/Data!D121","v":5.1282051282051325E-3},{"$f":"(Data!E122-Data!E121)/Data!E121","v":-6.7264573991031446E-3},{"$f":"(Data!F122-Data!F121)/Data!F121","v":-6.7114093959730545E-3},{"$f":"(Data!G122-Data!G121)/Data!G121","v":-1.0362694300518E-2},{"$f":"(Data!H122-Data!H121)/Data!H121","v":-5.8055152394775079E-3},{"$f":"(Data!I122-Data!I121)/Data!I121","v":-4.672897196261557E-3},{"$f":"(Data!J122-Data!J121)/Data!J121","v":-1.9120458891013402E-2},{"$f":"(Data!K122-Data!K121)/Data!K121","v":7.6797385620915107E-2},{"$f":"(Data!L122-Data!L121)/Data!L121","v":2.2796352583586477E-2},{"$f":"(Data!M122-Data!M121)/Data!M121","v":2.8885832187070019E-2}]
[{"$f":"(Data!B123-Data!B122)/Data!B122","v":-7.7733860342556055E-2},{"$f":"(Data!C123-Data!C122)/Data!C122","v":-7.6687116564417247E-3},{"$f":"(Data!D123-Data!D122)/Data!D122","v":-4.9744897959183715E-2},{"$f":"(Data!E123-Data!E122)/Data!E122","v":-7.7878103837471721E-2},{"$f":"(Data!F123-Data!F122)/Data!F122","v":-6.2741312741312796E-2},{"$f":"(Data!G123-Data!G122)/Data!G122","v":-6.4136125654450454E-2},{"$f":"(Data!H123-Data!H122)/Data!H122","v":0.13722627737226273},{"$f":"(Data!I123-Data!I122)/Data!I122","v":8.4507042253521056E-2},{"$f":"(Data!J123-Data!J122)/Data!J122","v":-1.7543859649122823E-2},{"$f":"(Data!K123-Data!K122)/Data!K122","v":-3.0349013657056171E-2},{"$f":"(Data!L123-Data!L122)/Data!L122","v":-1.6344725111441159E-2},{"$f":"(Data!M123-Data!M122)/Data!M122","v":-4.1443850267379567E-2}]
[{"$f":"(Data!B124-Data!B123)/Data!B123","v":-6.285714285714307E-2},{"$f":"(Data!C124-Data!C123)/Data!C123","v":0},{"$f":"(Data!D124-Data!D123)/Data!D123","v":-7.6510067114094027E-2},{"$f":"(Data!E124-Data!E123)/Data!E123","v":-0.13219094247246019},{"$f":"(Data!F124-Data!F123)/Data!F123","v":-4.2224510813594157E-2},{"$f":"(Data!G124-Data!G123)/Data!G123","v":-7.1328671328671239E-2},{"$f":"(Data!H124-Data!H123)/Data!H123","v":1.0269576379974334E-2},{"$f":"(Data!I124-Data!I123)/Data!I123","v":0.13852813852813853},{"$f":"(Data!J124-Data!J123)/Data!J123","v":-2.5793650793650705E-2},{"$f":"(Data!K124-Data!K123)/Data!K123","v":-3.7558685446009425E-2},{"$f":"(Data!L124-Data!L123)/Data!L123","v":-0.11782477341389738},{"$f":"(Data!M124-Data!M123)/Data!M123","v":-0.11018131101813118}]
[{"$f":"(Data!B125-Data!B124)/Data!B124","v":0.12652439024390275},{"$f":"(Data!C125-Data!C124)/Data!C124","v":0.15919629057187012},{"$f":"(Data!D125-Data!D124)/Data!D124","v":7.4127906976744415E-2},{"$f":"(Data!E125-Data!E124)/Data!E124","v":0.18194640338504919},{"$f":"(Data!F125-Data!F124)/Data!F124","v":0.18172043010752678},{"$f":"(Data!G125-Data!G124)/Data!G124","v":0.13855421686746983},{"$f":"(Data!H125-Data!H124)/Data!H124","v":0.10419313850063541},{"$f":"(Data!I125-Data!I124)/Data!I124","v":0.18060836501901134},{"$f":"(Data!J125-Data!J124)/Data!J124","v":0.21995926680244382},{"$f":"(Data!K125-Data!K124)/Data!K124","v":7.3170731707317138E-2},{"$f":"(Data!L125-Data!L124)/Data!L124","v":0.10102739726027407},{"$f":"(Data!M125-Data!M124)/Data!M124","v":9.7178683385580028E-2}]
[{"$f":"(Data!B126-Data!B125)/Data!B125","v":8.9309878213802346E-2},{"$f":"(Data!C126-Data!C125)/Data!C125","v":5.8666666666666721E-2},{"$f":"(Data!D126-Data!D125)/Data!D125","v":8.525033829499315E-2},{"$f":"(Data!E126-Data!E125)/Data!E125","v":0.11813842482100249},{"$f":"(Data!F126-Data!F125)/Data!F125","v":0.17288444040036413},{"$f":"(Data!G126-Data!G125)/Data!G125","v":5.4232804232804278E-2},{"$f":"(Data!H126-Data!H125)/Data!H125","v":6.2140391254315225E-2},{"$f":"(Data!I126-Data!I125)/Data!I125","v":0.15297906602254424},{"$f":"(Data!J126-Data!J125)/Data!J125","v":0.19031719532554256},{"$f":"(Data!K126-Data!K125)/Data!K125","v":0.17575757575757556},{"$f":"(Data!L126-Data!L125)/Data!L125","v":0.17262830482115099},{"$f":"(Data!M126-Data!M125)/Data!M125","v":0.1042857142857142}]
[{"$f":"(Data!B127-Data!B126)/Data!B126","v":2.8571428571428456E-2},{"$f":"(Data!C127-Data!C126)/Data!C126","v":-2.5188916876574328E-3},{"$f":"(Data!D127-Data!D126)/Data!D126","v":-8.7281795511222025E-3},{"$f":"(Data!E127-Data!E126)/Data!E126","v":-8.5378868729989402E-3},{"$f":"(Data!F127-Data!F126)/Data!F126","v":3.7238169123351289E-2},{"$f":"(Data!G127-Data!G126)/Data!G126","v":5.0188205771642316E-3},{"$f":"(Data!H127-Data!H126)/Data!H126","v":8.342361863488619E-2},{"$f":"(Data!I127-Data!I126)/Data!I126","v":3.6312849162011204E-2},{"$f":"(Data!J127-Data!J126)/Data!J126","v":0.14025245441795228},{"$f":"(Data!K127-Data!K126)/Data!K126","v":4.5103092783505203E-2},{"$f":"(Data!L127-Data!L126)/Data!L126","v":-1.0610079575596973E-2},{"$f":"(Data!M127-Data!M126)/Data!M126","v":1.6817593790426778E-2}]
[{"$f":"(Data!B128-Data!B127)/Data!B127","v":4.8309178743962738E-3},{"$f":"(Data!C128-Data!C127)/Data!C127","v":4.6717171717171754E-2},{"$f":"(Data!D128-Data!D127)/Data!D127","v":6.2893081761006345E-3},{"$f":"(Data!E128-Data!E127)/Data!E127","v":-1.614639397201293E-2},{"$f":"(Data!F128-Data!F127)/Data!F127","v":-2.1690351533283407E-2},{"$f":"(Data!G128-Data!G127)/Data!G127","v":4.99375780274671E-3},{"$f":"(Data!H128-Data!H127)/Data!H127","v":0.13400000000000012},{"$f":"(Data!I128-Data!I127)/Data!I127","v":-9.0296495956873252E-2},{"$f":"(Data!J128-Data!J127)/Data!J127","v":-9.8400984009838835E-3},{"$f":"(Data!K128-Data!K127)/Data!K127","v":-2.8360049321824798E-2},{"$f":"(Data!L128-Data!L127)/Data!L127","v":-2.6809651474529366E-3},{"$f":"(Data!M128-Data!M127)/Data!M127","v":7.6335877862596909E-3}]
[{"$f":"(Data!B129-Data!B128)/Data!B128","v":9.3749999999999944E-2},{"$f":"(Data!C129-Data!C128)/Data!C128","v":8.0820265379975678E-2},{"$f":"(Data!D129-Data!D128)/Data!D128","v":8.874999999999994E-2},{"$f":"(Data!E129-Data!E128)/Data!E128","v":9.8468271334792079E-2},{"$f":"(Data!F129-Data!F128)/Data!F128","v":7.6452599388379269E-2},{"$f":"(Data!G129-Data!G128)/Data!G128","v":9.1925465838509399E-2},{"$f":"(Data!H129-Data!H128)/Data!H128","v":-4.1446208112874909E-2},{"$f":"(Data!I129-Data!I128)/Data!I128","v":0.1229629629629629},{"$f":"(Data!J129-Data!J128)/Data!J128","v":5.3416149068322885E-2},{"$f":"(Data!K129-Data!K128)/Data!K128","v":6.0913705583756257E-2},{"$f":"(Data!L129-Data!L128)/Data!L128","v":0.10618279569892451},{"$f":"(Data!M129-Data!M128)/Data!M128","v":0.10227272727272722}]
[{"$f":"(Data!B130-Data!B129)/Data!B129","v":3.8461538461538491E-2},{"$f":"(Data!C130-Data!C129)/Data!C129","v":5.1339285714285886E-2},{"$f":"(Data!D130-Data!D129)/Data!D129","v":5.6257175660160787E-2},{"$f":"(Data!E130-Data!E129)/Data!E129","v":5.6772908366533807E-2},{"$f":"(Data!F130-Data!F129)/Data!F129","v":5.6818181818181865E-2},{"$f":"(Data!G130-Data!G129)/Data!G129","v":4.0955631399317308E-2},{"$f":"(Data!H130-Data!H129)/Data!H129","v":-6.0717571297148172E-2},{"$f":"(Data!I130-Data!I129)/Data!I129","v":7.3878627968337801E-2},{"$f":"(Data!J130-Data!J129)/Data!J129","v":6.1320754716981188E-2},{"$f":"(Data!K130-Data!K129)/Data!K129","v":2.8708133971291894E-2},{"$f":"(Data!L130-Data!L129)/Data!L129","v":2.3086269744836123E-2},{"$f":"(Data!M130-Data!M129)/Data!M129","v":5.1546391752577365E-2}]
[{"$f":"(Data!B131-Data!B130)/Data!B130","v":2.3280423280423301E-2},{"$f":"(Data!C131-Data!C130)/Data!C130","v":-1.6985138004246416E-2},{"$f":"(Data!D131-Data!D130)/Data!D130","v":2.6086956521739153E-2},{"$f":"(Data!E131-Data!E130)/Data!E130","v":3.016022620169654E-2},{"$f":"(Data!F131-Data!F130)/Data!F130","v":8.6021505376343857E-2},{"$f":"(Data!G131-Data!G130)/Data!G130","v":1.9672131147540878E-2},{"$f":"(Data!H131-Data!H130)/Data!H130","v":1.958863858961804E-2},{"$f":"(Data!I131-Data!I130)/Data!I130","v":0.11425061425061421},{"$f":"(Data!J131-Data!J130)/Data!J130","v":3.0000000000000027E-2},{"$f":"(Data!K131-Data!K130)/Data!K130","v":5.8139534883720985E-2},{"$f":"(Data!L131-Data!L130)/Data!L130","v":3.5629453681708923E-3},{"$f":"(Data!M131-Data!M130)/Data!M130","v":2.5054466230936719E-2}]
[{"$f":"(Data!B132-Data!B131)/Data!B131","v":1.447776628748697E-2},{"$f":"(Data!C132-Data!C131)/Data!C131","v":-2.9157667386608979E-2},{"$f":"(Data!D132-Data!D131)/Data!D131","v":1.5889830508474589E-2},{"$f":"(Data!E132-Data!E131)/Data!E131","v":-3.2936870997255292E-2},{"$f":"(Data!F132-Data!F131)/Data!F131","v":-8.7871287128712824E-2},{"$f":"(Data!G132-Data!G131)/Data!G131","v":-8.5744908896033187E-3},{"$f":"(Data!H132-Data!H131)/Data!H131","v":8.8376560999039469E-2},{"$f":"(Data!I132-Data!I131)/Data!I131","v":3.3076074972436631E-3},{"$f":"(Data!J132-Data!J131)/Data!J131","v":-1.186623516720617E-2},{"$f":"(Data!K132-Data!K131)/Data!K131","v":3.2967032967032996E-2},{"$f":"(Data!L132-Data!L131)/Data!L131","v":-5.9171597633136145E-3},{"$f":"(Data!M132-Data!M131)/Data!M131","v":-4.250797024441969E-3}]
[{"$f":"(Data!B133-Data!B132)/Data!B132","v":1.121304791029574E-2},{"$f":"(Data!C133-Data!C132)/Data!C132","v":4.1156840934371434E-2},{"$f":"(Data!D133-Data!D132)/Data!D132","v":1.4598540145985297E-2},{"$f":"(Data!E133-Data!E132)/Data!E132","v":2.8382213812678464E-3},{"$f":"(Data!F133-Data!F132)/Data!F132","v":-0.11465400271370424},{"$f":"(Data!G133-Data!G132)/Data!G132","v":3.6756756756756791E-2},{"$f":"(Data!H133-Data!H132)/Data!H132","v":4.4130626654897559E-3},{"$f":"(Data!I133-Data!I132)/Data!I132","v":2.9670329670329697E-2},{"$f":"(Data!J133-Data!J132)/Data!J132","v":2.7292576419213999E-2},{"$f":"(Data!K133-Data!K132)/Data!K132","v":4.2553191489361618E-2},{"$f":"(Data!L133-Data!L132)/Data!L132","v":1.6666666666666816E-2},{"$f":"(Data!M133-Data!M132)/Data!M132","v":3.8420490928495109E-2}]
[{"$f":"(Data!B134-Data!B133)/Data!B133","v":1.2096774193548284E-2},{"$f":"(Data!C134-Data!C133)/Data!C133","v":2.0299145299145439E-2},{"$f":"(Data!D134-Data!D133)/Data!D133","v":1.7471736896197344E-2},{"$f":"(Data!E134-Data!E133)/Data!E133","v":2.1698113207547082E-2},{"$f":"(Data!F134-Data!F133)/Data!F133","v":-3.9080459770114893E-2},{"$f":"(Data!G134-Data!G133)/Data!G133","v":6.2565172054222041E-3},{"$f":"(Data!H134-Data!H133)/Data!H133","v":-1.5817223198593845E-2},{"$f":"(Data!I134-Data!I133)/Data!I133","v":5.4429028815368125E-2},{"$f":"(Data!J134-Data!J133)/Data!J133","v":8.5015940488842919E-3},{"$f":"(Data!K134-Data!K133)/Data!K133","v":1.6326530612244913E-2},{"$f":"(Data!L134-Data!L133)/Data!L133","v":5.152224824355963E-2},{"$f":"(Data!M134-Data!M133)/Data!M133","v":3.1860226104830448E-2}]
[{"$f":"(Data!B135-Data!B134)/Data!B134","v":-4.1832669322709091E-2},{"$f":"(Data!C135-Data!C134)/Data!C134","v":-5.0261780104712085E-2},{"$f":"(Data!D135-Data!D134)/Data!D134","v":-3.333333333333325E-2},{"$f":"(Data!E135-Data!E134)/Data!E134","v":-6.7405355493998106E-2},{"$f":"(Data!F135-Data!F134)/Data!F134","v":-0.1028708133971292},{"$f":"(Data!G135-Data!G134)/Data!G134","v":-4.8704663212435162E-2},{"$f":"(Data!H135-Data!H134)/Data!H134","v":-5.5357142857142903E-2},{"$f":"(Data!I135-Data!I134)/Data!I134","v":-4.4534412955465515E-2},{"$f":"(Data!J135-Data!J134)/Data!J134","v":-6.1116965226554319E-2},{"$f":"(Data!K135-Data!K134)/Data!K134","v":-5.120481927710837E-2},{"$f":"(Data!L135-Data!L134)/Data!L134","v":1.224944320712696E-2},{"$f":"(Data!M135-Data!M134)/Data!M134","v":-4.2828685258964182E-2}]
[{"$f":"(Data!B136-Data!B135)/Data!B135","v":5.7172557172557217E-2},{"$f":"(Data!C136-Data!C135)/Data!C135","v":4.0793825799338511E-2},{"$f":"(Data!D136-Data!D135)/Data!D135","v":7.4190177638453439E-2},{"$f":"(Data!E136-Data!E135)/Data!E135","v":4.6534653465346465E-2},{"$f":"(Data!F136-Data!F135)/Data!F135","v":7.822222222222229E-2},{"$f":"(Data!G136-Data!G135)/Data!G135","v":6.644880174291945E-2},{"$f":"(Data!H136-Data!H135)/Data!H135","v":2.0793950850661644E-2},{"$f":"(Data!I136-Data!I135)/Data!I135","v":4.2372881355932236E-2},{"$f":"(Data!J136-Data!J135)/Data!J135","v":6.621773288439961E-2},{"$f":"(Data!K136-Data!K135)/Data!K135","v":4.6560846560846601E-2},{"$f":"(Data!L136-Data!L135)/Data!L135","v":4.8404840484048327E-2},{"$f":"(Data!M136-Data!M135)/Data!M135","v":5.8272632674297775E-2}]
[{"$f":"(Data!B137-Data!B136)/Data!B136","v":3.4414945919370617E-2},{"$f":"(Data!C137-Data!C136)/Data!C136","v":4.0254237288135625E-2},{"$f":"(Data!D137-Data!D136)/Data!D136","v":1.8482490272373666E-2},{"$f":"(Data!E137-Data!E136)/Data!E136","v":1.7975402081362467E-2},{"$f":"(Data!F137-Data!F136)/Data!F136","v":-6.183017312448489E-2},{"$f":"(Data!G137-Data!G136)/Data!G136","v":4.1879468845760902E-2},{"$f":"(Data!H137-Data!H136)/Data!H136","v":9.2592592592582394E-4},{"$f":"(Data!I137-Data!I136)/Data!I136","v":4.8780487804877974E-2},{"$f":"(Data!J137-Data!J136)/Data!J136","v":2.4210526315789377E-2},{"$f":"(Data!K137-Data!K136)/Data!K136","v":4.347826086956514E-2},{"$f":"(Data!L137-Data!L136)/Data!L136","v":5.3515215110178434E-2},{"$f":"(Data!M137-Data!M136)/Data!M136","v":4.1297935103244872E-2}]
[{"$f":"(Data!B138-Data!B137)/Data!B137","v":-7.984790874524722E-2},{"$f":"(Data!C138-Data!C137)/Data!C137","v":-4.6843177189409516E-2},{"$f":"(Data!D138-Data!D137)/Data!D137","v":-8.5004775549188324E-2},{"$f":"(Data!E138-Data!E137)/Data!E137","v":-0.11524163568773234},{"$f":"(Data!F138-Data!F137)/Data!F137","v":-0.15114235500878731},{"$f":"(Data!G138-Data!G137)/Data!G137","v":-6.0784313725490251E-2},{"$f":"(Data!H138-Data!H137)/Data!H137","v":-0.1267345050878815},{"$f":"(Data!I138-Data!I137)/Data!I137","v":-0.10271317829457373},{"$f":"(Data!J138-Data!J137)/Data!J137","v":-4.8304213771839716E-2},{"$f":"(Data!K138-Data!K137)/Data!K137","v":-6.2984496124030953E-2},{"$f":"(Data!L138-Data!L137)/Data!L137","v":-2.5896414342629504E-2},{"$f":"(Data!M138-Data!M137)/Data!M137","v":-8.3097261567516692E-2}]
[{"$f":"(Data!B139-Data!B138)/Data!B138","v":-3.305785123966945E-2},{"$f":"(Data!C139-Data!C138)/Data!C138","v":2.4572649572649714E-2},{"$f":"(Data!D139-Data!D138)/Data!D138","v":-1.8789144050104286E-2},{"$f":"(Data!E139-Data!E138)/Data!E138","v":-9.4537815126051663E-3},{"$f":"(Data!F139-Data!F138)/Data!F138","v":-9.3167701863354005E-2},{"$f":"(Data!G139-Data!G138)/Data!G138","v":1.3569937369519846E-2},{"$f":"(Data!H139-Data!H138)/Data!H138","v":-4.7669491525423768E-2},{"$f":"(Data!I139-Data!I138)/Data!I138","v":1.5118790496760393E-2},{"$f":"(Data!J139-Data!J138)/Data!J138","v":2.6997840172786204E-2},{"$f":"(Data!K139-Data!K138)/Data!K138","v":-9.307135470527526E-3},{"$f":"(Data!L139-Data!L138)/Data!L138","v":2.4539877300613518E-2},{"$f":"(Data!M139-Data!M138)/Data!M138","v":2.0597322348094769E-3}]
[{"$f":"(Data!B140-Data!B139)/Data!B139","v":4.2735042735043962E-3},{"$f":"(Data!C140-Data!C139)/Data!C139","v":2.5026068821689163E-2},{"$f":"(Data!D140-Data!D139)/Data!D139","v":3.1914893617020121E-3},{"$f":"(Data!E140-Data!E139)/Data!E139","v":1.484623541887606E-2},{"$f":"(Data!F140-Data!F139)/Data!F139","v":5.2511415525114201E-2},{"$f":"(Data!G140-Data!G139)/Data!G139","v":-2.0597322348093624E-3},{"$f":"(Data!H140-Data!H139)/Data!H139","v":-2.0022246941045624E-2},{"$f":"(Data!I140-Data!I139)/Data!I139","v":1.0638297872339253E-3},{"$f":"(Data!J140-Data!J139)/Data!J139","v":3.2597266035751984E-2},{"$f":"(Data!K140-Data!K139)/Data!K139","v":-1.356993736951973E-2},{"$f":"(Data!L140-Data!L139)/Data!L139","v":6.9860279441118934E-3},{"$f":"(Data!M140-Data!M139)/Data!M139","v":-1.0277492291880791E-2}]
[{"$f":"(Data!B141-Data!B140)/Data!B140","v":1.9148936170212665E-2},{"$f":"(Data!C141-Data!C140)/Data!C140","v":1.729399796541202E-2},{"$f":"(Data!D141-Data!D140)/Data!D140","v":2.332979851537648E-2},{"$f":"(Data!E141-Data!E140)/Data!E140","v":8.3594566353185958E-3},{"$f":"(Data!F141-Data!F140)/Data!F140","v":4.1214750542299262E-2},{"$f":"(Data!G141-Data!G140)/Data!G140","v":9.2879256965943194E-3},{"$f":"(Data!H141-Data!H140)/Data!H140","v":5.7888762769580077E-2},{"$f":"(Data!I141-Data!I140)/Data!I140","v":2.550478214665252E-2},{"$f":"(Data!J141-Data!J140)/Data!J140","v":1.8329938900203568E-2},{"$f":"(Data!K141-Data!K140)/Data!K140","v":1.9047619047618945E-2},{"$f":"(Data!L141-Data!L140)/Data!L140","v":0},{"$f":"(Data!M141-Data!M140)/Data!M140","v":3.1152647975077911E-3}]
[{"$f":"(Data!B142-Data!B141)/Data!B141","v":3.2359081419624361E-2},{"$f":"(Data!C142-Data!C141)/Data!C141","v":3.2000000000000028E-2},{"$f":"(Data!D142-Data!D141)/Data!D141","v":4.5595854922279952E-2},{"$f":"(Data!E142-Data!E141)/Data!E141","v":1.1398963730569958E-2},{"$f":"(Data!F142-Data!F141)/Data!F141","v":-5.5208333333333269E-2},{"$f":"(Data!G142-Data!G141)/Data!G141","v":1.8404907975460138E-2},{"$f":"(Data!H142-Data!H141)/Data!H141","v":0},{"$f":"(Data!I142-Data!I141)/Data!I141","v":2.9015544041450805E-2},{"$f":"(Data!J142-Data!J141)/Data!J141","v":6.2999999999999945E-2},{"$f":"(Data!K142-Data!K141)/Data!K141","v":2.5960539979231593E-2},{"$f":"(Data!L142-Data!L141)/Data!L141","v":1.1892963330029522E-2},{"$f":"(Data!M142-Data!M141)/Data!M141","v":2.7950310559006236E-2}]
[{"$f":"(Data!B143-Data!B142)/Data!B142","v":4.6511627906976556E-2},{"$f":"(Data!C143-Data!C142)/Data!C142","v":3.9728682170542561E-2},{"$f":"(Data!D143-Data!D142)/Data!D142","v":3.0723488602576721E-2},{"$f":"(Data!E143-Data!E142)/Data!E142","v":2.6639344262295105E-2},{"$f":"(Data!F143-Data!F142)/Data!F142","v":4.4101433296580951E-3},{"$f":"(Data!G143-Data!G142)/Data!G142","v":3.8152610441767106E-2},{"$f":"(Data!H143-Data!H142)/Data!H142","v":9.0128755364806828E-2},{"$f":"(Data!I143-Data!I142)/Data!I142","v":4.9345417925478391E-2},{"$f":"(Data!J143-Data!J142)/Data!J142","v":4.7977422389463932E-2},{"$f":"(Data!K143-Data!K142)/Data!K142","v":4.6558704453441339E-2},{"$f":"(Data!L143-Data!L142)/Data!L142","v":1.567091087169465E-2},{"$f":"(Data!M143-Data!M142)/Data!M142","v":1.9133937562940601E-2}]
[{"$f":"(Data!B144-Data!B143)/Data!B143","v":1.7391304347826105E-2},{"$f":"(Data!C144-Data!C143)/Data!C143","v":1.770736253494886E-2},{"$f":"(Data!D144-Data!D143)/Data!D143","v":8.6538461538462688E-3},{"$f":"(Data!E144-Data!E143)/Data!E143","v":-1.0978043912175658E-2},{"$f":"(Data!F144-Data!F143)/Data!F143","v":-4.7200878155872594E-2},{"$f":"(Data!G144-Data!G143)/Data!G143","v":4.7388781431334556E-2},{"$f":"(Data!H144-Data!H143)/Data!H143","v":3.4448818897637713E-2},{"$f":"(Data!I144-Data!I143)/Data!I143","v":4.0307101727447253E-2},{"$f":"(Data!J144-Data!J143)/Data!J143","v":-7.1813285457811744E-3},{"$f":"(Data!K144-Data!K143)/Data!K143","v":2.9980657640232028E-2},{"$f":"(Data!L144-Data!L143)/Data!L143","v":3.1822565091610334E-2},{"$f":"(Data!M144-Data!M143)/Data!M143","v":1.0869565217391203E-2}]
[{"$f":"(Data!B145-Data!B144)/Data!B144","v":3.0389363722697085E-2},{"$f":"(Data!C145-Data!C144)/Data!C144","v":4.2124542124541954E-2},{"$f":"(Data!D145-Data!D144)/Data!D144","v":2.4785510009532694E-2},{"$f":"(Data!E145-Data!E144)/Data!E144","v":-4.0363269424822327E-3},{"$f":"(Data!F145-Data!F144)/Data!F144","v":-9.2165898617511607E-3},{"$f":"(Data!G145-Data!G144)/Data!G144","v":4.2474607571560519E-2},{"$f":"(Data!H145-Data!H144)/Data!H144","v":-4.2816365366317728E-2},{"$f":"(Data!I145-Data!I144)/Data!I144","v":7.1955719557195624E-2},{"$f":"(Data!J145-Data!J144)/Data!J144","v":-9.0415913200723418E-3},{"$f":"(Data!K145-Data!K144)/Data!K144","v":4.9765258215962595E-2},{"$f":"(Data!L145-Data!L144)/Data!L144","v":3.6448598130841045E-2},{"$f":"(Data!M145-Data!M144)/Data!M144","v":3.323558162267843E-2}]
[{"$f":"(Data!B146-Data!B145)/Data!B145","v":3.2258064516129163E-2},{"$f":"(Data!C146-Data!C145)/Data!C145","v":4.3057996485061652E-2},{"$f":"(Data!D146-Data!D145)/Data!D145","v":1.4883720930232571E-2},{"$f":"(Data!E146-Data!E145)/Data!E145","v":3.7487335359675703E-2},{"$f":"(Data!F146-Data!F145)/Data!F145","v":1.1627906976744197E-3},{"$f":"(Data!G146-Data!G145)/Data!G145","v":8.8573959255978819E-3},{"$f":"(Data!H146-Data!H145)/Data!H145","v":-2.7833001988071596E-2},{"$f":"(Data!I146-Data!I145)/Data!I145","v":3.7005163511187537E-2},{"$f":"(Data!J146-Data!J145)/Data!J145","v":-3.2846715328466981E-2},{"$f":"(Data!K146-Data!K145)/Data!K145","v":2.6833631484794097E-2},{"$f":"(Data!L146-Data!L145)/Data!L145","v":3.2461677186654672E-2},{"$f":"(Data!M146-Data!M145)/Data!M145","v":2.6490066225165587E-2}]
[{"$f":"(Data!B147-Data!B146)/Data!B146","v":3.3928571428571259E-2},{"$f":"(Data!C147-Data!C146)/Data!C146","v":-3.7068239258635248E-2},{"$f":"(Data!D147-Data!D146)/Data!D146","v":9.1659028414298894E-3},{"$f":"(Data!E147-Data!E146)/Data!E146","v":4.4921875000000042E-2},{"$f":"(Data!F147-Data!F146)/Data!F146","v":0.11614401858304295},{"$f":"(Data!G147-Data!G146)/Data!G146","v":3.0728709394205567E-2},{"$f":"(Data!H147-Data!H146)/Data!H146","v":3.0674846625766899E-2},{"$f":"(Data!I147-Data!I146)/Data!I146","v":-8.2987551867210775E-4},{"$f":"(Data!J147-Data!J146)/Data!J146","v":-6.4150943396226359E-2},{"$f":"(Data!K147-Data!K146)/Data!K146","v":1.480836236933809E-2},{"$f":"(Data!L147-Data!L146)/Data!L146","v":-2.6200873362444469E-3},{"$f":"(Data!M147-Data!M146)/Data!M146","v":2.3041474654378002E-2}]
[{"$f":"(Data!B148-Data!B147)/Data!B147","v":-1.1226252158894562E-2},{"$f":"(Data!C148-Data!C147)/Data!C147","v":-6.9991251093613361E-3},{"$f":"(Data!D148-Data!D147)/Data!D147","v":-2.7247956403269779E-2},{"$f":"(Data!E148-Data!E147)/Data!E147","v":-2.3364485981308535E-2},{"$f":"(Data!F148-Data!F147)/Data!F147","v":-3.3298647242455688E-2},{"$f":"(Data!G148-Data!G147)/Data!G147","v":-4.4293015332197649E-2},{"$f":"(Data!H148-Data!H147)/Data!H147","v":3.1746031746031772E-2},{"$f":"(Data!I148-Data!I147)/Data!I147","v":2.2425249169434957E-2},{"$f":"(Data!J148-Data!J147)/Data!J147","v":2.318548387096776E-2},{"$f":"(Data!K148-Data!K147)/Data!K147","v":4.2918454935621398E-3},{"$f":"(Data!L148-Data!L147)/Data!L147","v":-1.8388791593695383E-2},{"$f":"(Data!M148-Data!M147)/Data!M147","v":-2.3423423423423441E-2}]
[{"$f":"(Data!B149-Data!B148)/Data!B148","v":2.3580786026200992E-2},{"$f":"(Data!C149-Data!C148)/Data!C148","v":7.6651982378854594E-2},{"$f":"(Data!D149-Data!D148)/Data!D148","v":2.6143790849673228E-2},{"$f":"(Data!E149-Data!E148)/Data!E148","v":1.4354066985646053E-2},{"$f":"(Data!F149-Data!F148)/Data!F148","v":-7.5349838536060226E-2},{"$f":"(Data!G149-Data!G148)/Data!G148","v":3.5650623885918033E-2},{"$f":"(Data!H149-Data!H148)/Data!H148","v":1.7307692307692323E-2},{"$f":"(Data!I149-Data!I148)/Data!I148","v":1.7871649065800181E-2},{"$f":"(Data!J149-Data!J148)/Data!J148","v":5.4187192118226535E-2},{"$f":"(Data!K149-Data!K148)/Data!K148","v":1.709401709401711E-2},{"$f":"(Data!L149-Data!L148)/Data!L148","v":1.7841213202497786E-3},{"$f":"(Data!M149-Data!M148)/Data!M148","v":8.3025830258301632E-3}]
[{"$f":"(Data!B150-Data!B149)/Data!B149","v":-6.8259385665529063E-3},{"$f":"(Data!C150-Data!C149)/Data!C149","v":-1.3093289689034383E-2},{"$f":"(Data!D150-Data!D149)/Data!D149","v":-1.091901728844405E-2},{"$f":"(Data!E150-Data!E149)/Data!E149","v":-1.6981132075471712E-2},{"$f":"(Data!F150-Data!F149)/Data!F149","v":-9.0803259604191125E-2},{"$f":"(Data!G150-Data!G149)/Data!G149","v":-2.5817555938038839E-3},{"$f":"(Data!H150-Data!H149)/Data!H149","v":-5.4820415879017058E-2},{"$f":"(Data!I150-Data!I149)/Data!I149","v":-8.5395051875498798E-2},{"$f":"(Data!J150-Data!J149)/Data!J149","v":-5.7943925233644909E-2},{"$f":"(Data!K150-Data!K149)/Data!K149","v":-2.8571428571428598E-2},{"$f":"(Data!L150-Data!L149)/Data!L149","v":-5.3428317008014292E-3},{"$f":"(Data!M150-Data!M149)/Data!M149","v":-2.4702653247941367E-2}]
[{"$f":"(Data!B151-Data!B150)/Data!B150","v":-3.6082474226804148E-2},{"$f":"(Data!C151-Data!C150)/Data!C150","v":-2.2388059701492467E-2},{"$f":"(Data!D151-Data!D150)/Data!D150","v":-2.5758969641214172E-2},{"$f":"(Data!E151-Data!E150)/Data!E150","v":-6.0460652591170769E-2},{"$f":"(Data!F151-Data!F150)/Data!F150","v":-5.3777208706785942E-2},{"$f":"(Data!G151-Data!G150)/Data!G150","v":-2.7610008628127718E-2},{"$f":"(Data!H151-Data!H150)/Data!H150","v":-4.2000000000000037E-2},{"$f":"(Data!I151-Data!I150)/Data!I150","v":6.9808027923213174E-3},{"$f":"(Data!J151-Data!J150)/Data!J150","v":-4.9603174603175745E-3},{"$f":"(Data!K151-Data!K150)/Data!K150","v":-3.8927335640138352E-2},{"$f":"(Data!L151-Data!L150)/Data!L150","v":-5.9086839749328608E-2},{"$f":"(Data!M151-Data!M150)/Data!M150","v":-4.784240150093802E-2}]
[{"$f":"(Data!B152-Data!B151)/Data!B151","v":2.2281639928698672E-2},{"$f":"(Data!C152-Data!C151)/Data!C151","v":3.4775233248515627E-2},{"$f":"(Data!D152-Data!D151)/Data!D151","v":2.0774315391878937E-2},{"$f":"(Data!E152-Data!E151)/Data!E151","v":-4.5965270684371846E-2},{"$f":"(Data!F152-Data!F151)/Data!F151","v":-2.571041948579178E-2},{"$f":"(Data!G152-Data!G151)/Data!G151","v":1.6858917480035408E-2},{"$f":"(Data!H152-Data!H151)/Data!H151","v":2.2964509394572046E-2},{"$f":"(Data!I152-Data!I151)/Data!I151","v":3.5528596187174973E-2},{"$f":"(Data!J152-Data!J151)/Data!J151","v":2.0937188434696045E-2},{"$f":"(Data!K152-Data!K151)/Data!K151","v":3.6003600360036037E-3},{"$f":"(Data!L152-Data!L151)/Data!L151","v":-6.6603235014271126E-3},{"$f":"(Data!M152-Data!M151)/Data!M151","v":9.8522167487673858E-4}]
[{"$f":"(Data!B153-Data!B152)/Data!B152","v":-0.11421098517872712},{"$f":"(Data!C153-Data!C152)/Data!C152","v":-0.13196721311475396},{"$f":"(Data!D153-Data!D152)/Data!D152","v":-0.10915818686401479},{"$f":"(Data!E153-Data!E152)/Data!E152","v":-0.16488222698072807},{"$f":"(Data!F153-Data!F152)/Data!F152","v":-0.19166666666666654},{"$f":"(Data!G153-Data!G152)/Data!G152","v":-0.18411867364746934},{"$f":"(Data!H153-Data!H152)/Data!H152","v":-6.5306122448979653E-2},{"$f":"(Data!I153-Data!I152)/Data!I152","v":-0.11548117154811725},{"$f":"(Data!J153-Data!J152)/Data!J152","v":-9.3750000000000083E-2},{"$f":"(Data!K153-Data!K152)/Data!K152","v":-0.11748878923766806},{"$f":"(Data!L153-Data!L152)/Data!L152","v":-0.14942528735632185},{"$f":"(Data!M153-Data!M152)/Data!M152","v":-0.14271653543307089}]
[{"$f":"(Data!B154-Data!B153)/Data!B153","v":-3.2480314960629947E-2},{"$f":"(Data!C154-Data!C153)/Data!C153","v":-3.8715769593956693E-2},{"$f":"(Data!D154-Data!D153)/Data!D153","v":-7.2689511941848453E-3},{"$f":"(Data!E154-Data!E153)/Data!E153","v":-6.5384615384615305E-2},{"$f":"(Data!F154-Data!F153)/Data!F153","v":-0.14776632302405501},{"$f":"(Data!G154-Data!G153)/Data!G153","v":-8.2352941176470656E-2},{"$f":"(Data!H154-Data!H153)/Data!H153","v":-5.0218340611353642E-2},{"$f":"(Data!I154-Data!I153)/Data!I153","v":-3.0274361400189242E-2},{"$f":"(Data!J154-Data!J153)/Data!J153","v":-1.0775862068965409E-2},{"$f":"(Data!K154-Data!K153)/Data!K153","v":-2.3373983739837529E-2},{"$f":"(Data!L154-Data!L153)/Data!L153","v":-5.067567567567572E-2},{"$f":"(Data!M154-Data!M153)/Data!M153","v":-3.9035591274397152E-2}]
[{"$f":"(Data!B155-Data!B154)/Data!B154","v":2.1363173957273673E-2},{"$f":"(Data!C155-Data!C154)/Data!C154","v":1.6699410609037235E-2},{"$f":"(Data!D155-Data!D154)/Data!D154","v":3.4518828451882991E-2},{"$f":"(Data!E155-Data!E154)/Data!E154","v":8.230452674897111E-2},{"$f":"(Data!F155-Data!F154)/Data!F154","v":-0.10282258064516137},{"$f":"(Data!G155-Data!G154)/Data!G154","v":7.4592074592074661E-2},{"$f":"(Data!H155-Data!H154)/Data!H154","v":-2.8735632183908073E-2},{"$f":"(Data!I155-Data!I154)/Data!I154","v":-4.0975609756097493E-2},{"$f":"(Data!J155-Data!J154)/Data!J154","v":6.5359477124183061E-3},{"$f":"(Data!K155-Data!K154)/Data!K154","v":2.6014568158168598E-2},{"$f":"(Data!L155-Data!L154)/Data!L154","v":1.6607354685646648E-2},{"$f":"(Data!M155-Data!M154)/Data!M154","v":6.3321385902030985E-2}]
[{"$f":"(Data!B156-Data!B155)/Data!B155","v":9.9601593625498093E-3},{"$f":"(Data!C156-Data!C155)/Data!C155","v":1.9323671497584561E-2},{"$f":"(Data!D156-Data!D155)/Data!D155","v":-1.0111223458039553E-3},{"$f":"(Data!E156-Data!E155)/Data!E155","v":-4.4359949302914981E-2},{"$f":"(Data!F156-Data!F155)/Data!F155","v":-5.1685393258426887E-2},{"$f":"(Data!G156-Data!G155)/Data!G155","v":-5.4229934924078134E-3},{"$f":"(Data!H156-Data!H155)/Data!H155","v":2.721893491124263E-2},{"$f":"(Data!I156-Data!I155)/Data!I155","v":4.0691759918616406E-2},{"$f":"(Data!J156-Data!J155)/Data!J155","v":-3.2467532467533697E-3},{"$f":"(Data!K156-Data!K155)/Data!K155","v":3.1440162271805412E-2},{"$f":"(Data!L156-Data!L155)/Data!L155","v":2.8004667444573989E-2},{"$f":"(Data!M156-Data!M155)/Data!M155","v":-1.7977528089887531E-2}]
[{"$f":"(Data!B157-Data!B156)/Data!B156","v":1.0848126232741517E-2},{"$f":"(Data!C157-Data!C156)/Data!C156","v":1.8957345971563999E-3},{"$f":"(Data!D157-Data!D156)/Data!D156","v":1.5182186234817714E-2},{"$f":"(Data!E157-Data!E156)/Data!E156","v":0},{"$f":"(Data!F157-Data!F156)/Data!F156","v":-7.3459715639810491E-2},{"$f":"(Data!G157-Data!G156)/Data!G156","v":4.3620501635767634E-3},{"$f":"(Data!H157-Data!H156)/Data!H156","v":-8.4101382488479204E-2},{"$f":"(Data!I157-Data!I156)/Data!I156","v":-3.7145650048875781E-2},{"$f":"(Data!J157-Data!J156)/Data!J156","v":-4.4516829533116101E-2},{"$f":"(Data!K157-Data!K156)/Data!K156","v":6.8829891838740357E-3},{"$f":"(Data!L157-Data!L156)/Data!L156","v":2.9511918274687882E-2},{"$f":"(Data!M157-Data!M156)/Data!M156","v":3.7757437070938114E-2}]
[{"$f":"(Data!B158-Data!B157)/Data!B157","v":4.195121951219527E-2},{"$f":"(Data!C158-Data!C157)/Data!C157","v":1.7975402081362467E-2},{"$f":"(Data!D158-Data!D157)/Data!D157","v":3.6889332003988182E-2},{"$f":"(Data!E158-Data!E157)/Data!E157","v":2.6525198938991915E-2},{"$f":"(Data!F158-Data!F157)/Data!F157","v":2.5575447570332501E-2},{"$f":"(Data!G158-Data!G157)/Data!G157","v":6.948968512486435E-2},{"$f":"(Data!H158-Data!H157)/Data!H157","v":5.0314465408805072E-3},{"$f":"(Data!I158-Data!I157)/Data!I157","v":4.467005076142147E-2},{"$f":"(Data!J158-Data!J157)/Data!J157","v":2.6136363636363659E-2},{"$f":"(Data!K158-Data!K157)/Data!K157","v":4.3945312500000146E-2},{"$f":"(Data!L158-Data!L157)/Data!L157","v":6.1742006615214923E-2},{"$f":"(Data!M158-Data!M157)/Data!M157","v":4.7409040793825838E-2}]
[{"$f":"(Data!B159-Data!B158)/Data!B158","v":4.5880149812734014E-2},{"$f":"(Data!C159-Data!C158)/Data!C158","v":5.6691449814126341E-2},{"$f":"(Data!D159-Data!D158)/Data!D158","v":3.6538461538461568E-2},{"$f":"(Data!E159-Data!E158)/Data!E158","v":7.3643410852713101E-2},{"$f":"(Data!F159-Data!F158)/Data!F158","v":0.14463840399002492},{"$f":"(Data!G159-Data!G158)/Data!G158","v":7.7157360406091322E-2},{"$f":"(Data!H159-Data!H158)/Data!H158","v":4.6307884856069986E-2},{"$f":"(Data!I159-Data!I158)/Data!I158","v":5.9280855199222486E-2},{"$f":"(Data!J159-Data!J158)/Data!J158","v":8.7486157253599192E-2},{"$f":"(Data!K159-Data!K158)/Data!K158","v":5.2385406922357172E-2},{"$f":"(Data!L159-Data!L158)/Data!L158","v":9.3457943925233614E-2},{"$f":"(Data!M159-Data!M158)/Data!M158","v":3.2631578947368331E-2}]
[{"$f":"(Data!B160-Data!B159)/Data!B159","v":1.1638316920322401E-2},{"$f":"(Data!C160-Data!C159)/Data!C159","v":1.0554089709762543E-2},{"$f":"(Data!D160-Data!D159)/Data!D159","v":-2.7829313543600311E-3},{"$f":"(Data!E160-Data!E159)/Data!E159","v":9.6269554753310692E-3},{"$f":"(Data!F160-Data!F159)/Data!F159","v":-3.9215686274509838E-2},{"$f":"(Data!G160-Data!G159)/Data!G159","v":2.3562676720075528E-2},{"$f":"(Data!H160-Data!H159)/Data!H159","v":7.1770334928231063E-3},{"$f":"(Data!I160-Data!I159)/Data!I159","v":7.3394495412844093E-3},{"$f":"(Data!J160-Data!J159)/Data!J159","v":-2.5458248472505111E-2},{"$f":"(Data!K160-Data!K159)/Data!K159","v":2.0444444444444362E-2},{"$f":"(Data!L160-Data!L159)/Data!L159","v":1.5194681861348753E-2},{"$f":"(Data!M160-Data!M159)/Data!M159","v":6.1162079510704553E-3}]
[{"$f":"(Data!B161-Data!B160)/Data!B160","v":-1.504424778761073E-2},{"$f":"(Data!C161-Data!C160)/Data!C160","v":-1.3925152306353362E-2},{"$f":"(Data!D161-Data!D160)/Data!D160","v":-2.6046511627906794E-2},{"$f":"(Data!E161-Data!E160)/Data!E160","v":-9.6543504171632974E-2},{"$f":"(Data!F161-Data!F160)/Data!F160","v":-5.8956916099773167E-2},{"$f":"(Data!G161-Data!G160)/Data!G160","v":-3.1307550644567243E-2},{"$f":"(Data!H161-Data!H160)/Data!H160","v":-1.5439429928741104E-2},{"$f":"(Data!I161-Data!I160)/Data!I160","v":-5.191256830601107E-2},{"$f":"(Data!J161-Data!J160)/Data!J160","v":-5.2246603970741946E-3},{"$f":"(Data!K161-Data!K160)/Data!K160","v":-2.1777003484320483E-2},{"$f":"(Data!L161-Data!L160)/Data!L160","v":2.8063610851261846E-3},{"$f":"(Data!M161-Data!M160)/Data!M160","v":-4.1540020263424661E-2}]
[{"$f":"(Data!B162-Data!B161)/Data!B161","v":-4.2228212039532732E-2},{"$f":"(Data!C162-Data!C161)/Data!C161","v":-5.472197705207419E-2},{"$f":"(Data!D162-Data!D161)/Data!D161","v":-4.4890162368672534E-2},{"$f":"(Data!E162-Data!E161)/Data!E161","v":-6.9920844327176837E-2},{"$f":"(Data!F162-Data!F161)/Data!F161","v":-0.18072289156626506},{"$f":"(Data!G162-Data!G161)/Data!G161","v":-5.6083650190114118E-2},{"$f":"(Data!H162-Data!H161)/Data!H161","v":1.8094089264173718E-2},{"$f":"(Data!I162-Data!I161)/Data!I161","v":-9.7982708933717466E-2},{"$f":"(Data!J162-Data!J161)/Data!J161","v":-5.0420168067226934E-2},{"$f":"(Data!K162-Data!K161)/Data!K161","v":-3.9180765805876955E-2},{"$f":"(Data!L162-Data!L161)/Data!L161","v":-2.1455223880596928E-2},{"$f":"(Data!M162-Data!M161)/Data!M161","v":-4.3340380549682797E-2}]
[{"$f":"(Data!B163-Data!B162)/Data!B162","v":-1.9699812382739334E-2},{"$f":"(Data!C163-Data!C162)/Data!C162","v":-2.1475256769374333E-2},{"$f":"(Data!D163-Data!D162)/Data!D162","v":-2.0000000000000018E-3},{"$f":"(Data!E163-Data!E162)/Data!E162","v":-2.5531914893616888E-2},{"$f":"(Data!F163-Data!F162)/Data!F162","v":-6.1764705882352992E-2},{"$f":"(Data!G163-Data!G162)/Data!G162","v":-4.7331319234642538E-2},{"$f":"(Data!H163-Data!H162)/Data!H162","v":-4.5023696682464621E-2},{"$f":"(Data!I163-Data!I162)/Data!I162","v":0},{"$f":"(Data!J163-Data!J162)/Data!J162","v":1.8805309734513168E-2},{"$f":"(Data!K163-Data!K162)/Data!K162","v":-3.4291010194624778E-2},{"$f":"(Data!L163-Data!L162)/Data!L162","v":-3.5271687321258474E-2},{"$f":"(Data!M163-Data!M162)/Data!M162","v":-8.8397790055248695E-3}]
[{"$f":"(Data!B164-Data!B163)/Data!B163","v":2.8708133971291894E-2},{"$f":"(Data!C164-Data!C163)/Data!C163","v":-1.0496183206106773E-2},{"$f":"(Data!D164-Data!D163)/Data!D163","v":3.3066132264528973E-2},{"$f":"(Data!E164-Data!E163)/Data!E163","v":2.7656477438136689E-2},{"$f":"(Data!F164-Data!F163)/Data!F163","v":0.12225705329153598},{"$f":"(Data!G164-Data!G163)/Data!G163","v":5.4968287526427115E-2},{"$f":"(Data!H164-Data!H163)/Data!H163","v":-4.9627791563275347E-2},{"$f":"(Data!I164-Data!I163)/Data!I163","v":4.8988285410010574E-2},{"$f":"(Data!J164-Data!J163)/Data!J163","v":2.8230184581976261E-2},{"$f":"(Data!K164-Data!K163)/Data!K163","v":6.2380038387715879E-2},{"$f":"(Data!L164-Data!L163)/Data!L163","v":7.2134387351778614E-2},{"$f":"(Data!M164-Data!M163)/Data!M163","v":6.6889632107023464E-2}]
[{"$f":"(Data!B165-Data!B164)/Data!B164","v":3.1627906976744218E-2},{"$f":"(Data!C165-Data!C164)/Data!C164","v":5.1108968177434842E-2},{"$f":"(Data!D165-Data!D164)/Data!D164","v":2.8128031037827485E-2},{"$f":"(Data!E165-Data!E164)/Data!E164","v":6.6572237960340008E-2},{"$f":"(Data!F165-Data!F164)/Data!F164","v":2.2346368715083973E-2},{"$f":"(Data!G165-Data!G164)/Data!G164","v":5.6112224448897845E-2},{"$f":"(Data!H165-Data!H164)/Data!H164","v":-2.4804177545691926E-2},{"$f":"(Data!I165-Data!I164)/Data!I164","v":2.131979695431474E-2},{"$f":"(Data!J165-Data!J164)/Data!J164","v":2.2175290390707397E-2},{"$f":"(Data!K165-Data!K164)/Data!K164","v":3.523035230352297E-2},{"$f":"(Data!L165-Data!L164)/Data!L164","v":4.3317972350230556E-2},{"$f":"(Data!M165-Data!M164)/Data!M164","v":3.5527690700104406E-2}]
[{"$f":"(Data!B166-Data!B165)/Data!B165","v":3.1559963931469918E-2},{"$f":"(Data!C166-Data!C165)/Data!C165","v":2.1100917431192575E-2},{"$f":"(Data!D166-Data!D165)/Data!D165","v":1.8867924528301902E-3},{"$f":"(Data!E166-Data!E165)/Data!E165","v":6.9057104913678682E-2},{"$f":"(Data!F166-Data!F165)/Data!F165","v":0.16393442622950816},{"$f":"(Data!G166-Data!G165)/Data!G165","v":4.1745730550284667E-2},{"$f":"(Data!H166-Data!H165)/Data!H165","v":-2.008032128514043E-2},{"$f":"(Data!I166-Data!I165)/Data!I165","v":2.4850894632206671E-2},{"$f":"(Data!J166-Data!J165)/Data!J165","v":3.2024793388429895E-2},{"$f":"(Data!K166-Data!K165)/Data!K165","v":3.1413612565445254E-2},{"$f":"(Data!L166-Data!L165)/Data!L165","v":9.7173144876324183E-3},{"$f":"(Data!M166-Data!M165)/Data!M165","v":4.0363269424823446E-3}]
[{"$f":"(Data!B167-Data!B166)/Data!B166","v":2.6223776223775275E-3},{"$f":"(Data!C167-Data!C166)/Data!C166","v":-7.1877807726864395E-3},{"$f":"(Data!D167-Data!D166)/Data!D166","v":4.7080979284368106E-3},{"$f":"(Data!E167-Data!E166)/Data!E166","v":-1.1180124223602631E-2},{"$f":"(Data!F167-Data!F166)/Data!F166","v":0.14319248826291078},{"$f":"(Data!G167-Data!G166)/Data!G166","v":5.4644808743169442E-3},{"$f":"(Data!H167-Data!H166)/Data!H166","v":1.2295081967212972E-2},{"$f":"(Data!I167-Data!I166)/Data!I166","v":-1.2609117361784579E-2},{"$f":"(Data!J167-Data!J166)/Data!J166","v":3.1031031031030946E-2},{"$f":"(Data!K167-Data!K166)/Data!K166","v":-1.0152284263959586E-2},{"$f":"(Data!L167-Data!L166)/Data!L166","v":7.8740157480316E-3},{"$f":"(Data!M167-Data!M166)/Data!M166","v":-9.0452261306532746E-3}]
[{"$f":"(Data!B168-Data!B167)/Data!B167","v":-1.9180470793374035E-2},{"$f":"(Data!C168-Data!C167)/Data!C167","v":-2.1719457013574681E-2},{"$f":"(Data!D168-Data!D167)/Data!D167","v":-8.4348641049671012E-3},{"$f":"(Data!E168-Data!E167)/Data!E167","v":-1.5075376884421985E-2},{"$f":"(Data!F168-Data!F167)/Data!F167","v":-2.464065708418893E-2},{"$f":"(Data!G168-Data!G167)/Data!G167","v":-3.6231884057971045E-3},{"$f":"(Data!H168-Data!H167)/Data!H167","v":-2.5641025641025515E-2},{"$f":"(Data!I168-Data!I167)/Data!I167","v":-3.7328094302554057E-2},{"$f":"(Data!J168-Data!J167)/Data!J167","v":-2.9126213592231957E-3},{"$f":"(Data!K168-Data!K167)/Data!K167","v":-2.1367521367521292E-2},{"$f":"(Data!L168-Data!L167)/Data!L167","v":-2.4305555555555573E-2},{"$f":"(Data!M168-Data!M167)/Data!M167","v":0}]
[{"$f":"(Data!B169-Data!B168)/Data!B168","v":2.933333333333326E-2},{"$f":"(Data!C169-Data!C168)/Data!C168","v":3.7927844588344264E-2},{"$f":"(Data!D169-Data!D168)/Data!D168","v":2.4574669187145577E-2},{"$f":"(Data!E169-Data!E168)/Data!E168","v":3.5714285714285747E-2},{"$f":"(Data!F169-Data!F168)/Data!F168","v":6.7368421052631522E-2},{"$f":"(Data!G169-Data!G168)/Data!G168","v":4.6363636363636301E-2},{"$f":"(Data!H169-Data!H168)/Data!H168","v":4.0166204986149465E-2},{"$f":"(Data!I169-Data!I168)/Data!I168","v":4.0816326530612283E-2},{"$f":"(Data!J169-Data!J168)/Data!J168","v":3.7000973709834281E-2},{"$f":"(Data!K169-Data!K168)/Data!K168","v":1.4847161572052512E-2},{"$f":"(Data!L169-Data!L168)/Data!L168","v":2.4911032028469771E-2},{"$f":"(Data!M169-Data!M168)/Data!M168","v":2.8397565922920916E-2}]
[{"$f":"(Data!B170-Data!B169)/Data!B169","v":4.4905008635578628E-2},{"$f":"(Data!C170-Data!C169)/Data!C169","v":5.3475935828875068E-3},{"$f":"(Data!D170-Data!D169)/Data!D169","v":3.782287822878222E-2},{"$f":"(Data!E170-Data!E169)/Data!E169","v":7.8817733990147715E-2},{"$f":"(Data!F170-Data!F169)/Data!F169","v":0.12623274161735712},{"$f":"(Data!G170-Data!G169)/Data!G169","v":2.3457862728062478E-2},{"$f":"(Data!H170-Data!H169)/Data!H169","v":8.5219707057257066E-2},{"$f":"(Data!I170-Data!I169)/Data!I169","v":3.9215686274509838E-2},{"$f":"(Data!J170-Data!J169)/Data!J169","v":2.6291079812206599E-2},{"$f":"(Data!K170-Data!K169)/Data!K169","v":4.0447504302925923E-2},{"$f":"(Data!L170-Data!L169)/Data!L169","v":5.5555555555555407E-2},{"$f":"(Data!M170-Data!M169)/Data!M169","v":2.2682445759368966E-2}]
[{"$f":"(Data!B171-Data!B170)/Data!B170","v":1.735537190082637E-2},{"$f":"(Data!C171-Data!C170)/Data!C170","v":-4.4326241134750831E-3},{"$f":"(Data!D171-Data!D170)/Data!D170","v":2.6666666666666689E-2},{"$f":"(Data!E171-Data!E170)/Data!E170","v":-4.2237442922374337E-2},{"$f":"(Data!F171-Data!F170)/Data!F170","v":4.0280210157618047E-2},{"$f":"(Data!G171-Data!G170)/Data!G170","v":-4.2444821731747826E-3},{"$f":"(Data!H171-Data!H170)/Data!H170","v":3.8036809815950812E-2},{"$f":"(Data!I171-Data!I170)/Data!I170","v":-2.8301886792453899E-3},{"$f":"(Data!J171-Data!J170)/Data!J170","v":-2.1043000914913002E-2},{"$f":"(Data!K171-Data!K170)/Data!K170","v":1.7369727047146323E-2},{"$f":"(Data!L171-Data!L170)/Data!L170","v":2.3026315789473704E-2},{"$f":"(Data!M171-Data!M170)/Data!M170","v":-1.5429122468659821E-2}]
[{"$f":"(Data!B172-Data!B171)/Data!B171","v":1.6246953696181982E-2},{"$f":"(Data!C172-Data!C171)/Data!C171","v":7.1237756010685731E-3},{"$f":"(Data!D172-Data!D171)/Data!D171","v":1.9047619047619063E-2},{"$f":"(Data!E172-Data!E171)/Data!E171","v":-2.1454112038140793E-2},{"$f":"(Data!F172-Data!F171)/Data!F171","v":-7.9124579124579014E-2},{"$f":"(Data!G172-Data!G171)/Data!G171","v":2.8132992327365658E-2},{"$f":"(Data!H172-Data!H171)/Data!H171","v":-4.018912529550818E-2},{"$f":"(Data!I172-Data!I171)/Data!I171","v":-3.1220435193945052E-2},{"$f":"(Data!J172-Data!J171)/Data!J171","v":-1.7757009345794512E-2},{"$f":"(Data!K172-Data!K171)/Data!K171","v":6.5040650406504126E-3},{"$f":"(Data!L172-Data!L171)/Data!L171","v":2.2508038585209025E-2},{"$f":"(Data!M172-Data!M171)/Data!M171","v":1.469147894221364E-2}]
[{"$f":"(Data!B173-Data!B172)/Data!B172","v":5.5955235811351858E-3},{"$f":"(Data!C173-Data!C172)/Data!C172","v":-2.7409372236958371E-2},{"$f":"(Data!D173-Data!D172)/Data!D172","v":-1.1045029736618436E-2},{"$f":"(Data!E173-Data!E172)/Data!E172","v":4.8721071863582401E-3},{"$f":"(Data!F173-Data!F172)/Data!F172","v":-2.7422303473491796E-2},{"$f":"(Data!G173-Data!G172)/Data!G172","v":-2.4046434494195617E-2},{"$f":"(Data!H173-Data!H172)/Data!H172","v":-3.8177339901478001E-2},{"$f":"(Data!I173-Data!I172)/Data!I172","v":-5.6640625000000049E-2},{"$f":"(Data!J173-Data!J172)/Data!J172","v":-1.4272121788772506E-2},{"$f":"(Data!K173-Data!K172)/Data!K172","v":-1.373182552504049E-2},{"$f":"(Data!L173-Data!L172)/Data!L172","v":-2.044025157232706E-2},{"$f":"(Data!M173-Data!M172)/Data!M172","v":-1.3513513513513525E-2}]
[{"$f":"(Data!B174-Data!B173)/Data!B173","v":3.8155802861685247E-2},{"$f":"(Data!C174-Data!C173)/Data!C173","v":1.9090909090909006E-2},{"$f":"(Data!D174-Data!D173)/Data!D173","v":4.3814432989690663E-2},{"$f":"(Data!E174-Data!E173)/Data!E173","v":7.7575757575757645E-2},{"$f":"(Data!F174-Data!F173)/Data!F173","v":0.15037593984962397},{"$f":"(Data!G174-Data!G173)/Data!G173","v":5.1826677994902245E-2},{"$f":"(Data!H174-Data!H173)/Data!H173","v":2.304737516005138E-2},{"$f":"(Data!I174-Data!I173)/Data!I173","v":1.1387163561076731E-2},{"$f":"(Data!J174-Data!J173)/Data!J173","v":5.8880308880308825E-2},{"$f":"(Data!K174-Data!K173)/Data!K173","v":3.1941031941032066E-2},{"$f":"(Data!L174-Data!L173)/Data!L173","v":2.2471910112359571E-2},{"$f":"(Data!M174-Data!M173)/Data!M173","v":4.207436399217214E-2}]
[{"$f":"(Data!B175-Data!B174)/Data!B174","v":-2.5267993874425833E-2},{"$f":"(Data!C175-Data!C174)/Data!C174","v":-4.3710972346119474E-2},{"$f":"(Data!D175-Data!D174)/Data!D174","v":-5.1851851851851802E-2},{"$f":"(Data!E175-Data!E174)/Data!E174","v":-5.84926884139483E-2},{"$f":"(Data!F175-Data!F174)/Data!F174","v":-0.13562091503267967},{"$f":"(Data!G175-Data!G174)/Data!G174","v":-2.9886914378029015E-2},{"$f":"(Data!H175-Data!H174)/Data!H174","v":-5.6320400500625693E-2},{"$f":"(Data!I175-Data!I174)/Data!I174","v":-6.0388945752303018E-2},{"$f":"(Data!J175-Data!J174)/Data!J174","v":-4.1020966271649889E-2},{"$f":"(Data!K175-Data!K174)/Data!K174","v":-2.4603174603174537E-2},{"$f":"(Data!L175-Data!L174)/Data!L174","v":-3.8461538461538408E-2},{"$f":"(Data!M175-Data!M174)/Data!M174","v":-4.3192488262910632E-2}]
[{"$f":"(Data!B176-Data!B175)/Data!B175","v":2.6708562450903403E-2},{"$f":"(Data!C176-Data!C175)/Data!C175","v":-9.3283582089552317E-3},{"$f":"(Data!D176-Data!D175)/Data!D175","v":3.4722222222222057E-2},{"$f":"(Data!E176-Data!E175)/Data!E175","v":-4.7789725209081415E-3},{"$f":"(Data!F176-Data!F175)/Data!F175","v":-7.3724007561436739E-2},{"$f":"(Data!G176-Data!G175)/Data!G175","v":9.9916736053289011E-3},{"$f":"(Data!H176-Data!H175)/Data!H175","v":-5.5702917771883333E-2},{"$f":"(Data!I176-Data!I175)/Data!I175","v":5.010893246187368E-2},{"$f":"(Data!J176-Data!J175)/Data!J175","v":3.0418250950570366E-2},{"$f":"(Data!K176-Data!K175)/Data!K175","v":2.8478437754271699E-2},{"$f":"(Data!L176-Data!L175)/Data!L175","v":3.1020408163265151E-2},{"$f":"(Data!M176-Data!M175)/Data!M175","v":3.827281648675164E-2}]
[{"$f":"(Data!B177-Data!B176)/Data!B176","v":5.355776587605293E-3},{"$f":"(Data!C177-Data!C176)/Data!C176","v":1.4124293785310642E-2},{"$f":"(Data!D177-Data!D176)/Data!D176","v":0},{"$f":"(Data!E177-Data!E176)/Data!E176","v":6.3625450180072082E-2},{"$f":"(Data!F177-Data!F176)/Data!F176","v":0.10204081632653071},{"$f":"(Data!G177-Data!G176)/Data!G176","v":2.4732069249793921E-2},{"$f":"(Data!H177-Data!H176)/Data!H176","v":2.9494382022471777E-2},{"$f":"(Data!I177-Data!I176)/Data!I176","v":2.0746887966803843E-3},{"$f":"(Data!J177-Data!J176)/Data!J176","v":-5.2583025830258243E-2},{"$f":"(Data!K177-Data!K176)/Data!K176","v":1.8987341772151917E-2},{"$f":"(Data!L177-Data!L176)/Data!L176","v":4.7505938242280506E-2},{"$f":"(Data!M177-Data!M176)/Data!M176","v":2.4574669187145577E-2}]
[{"$f":"(Data!B178-Data!B177)/Data!B177","v":1.2937595129375878E-2},{"$f":"(Data!C178-Data!C177)/Data!C177","v":4.7353760445682395E-2},{"$f":"(Data!D178-Data!D177)/Data!D177","v":5.0335570469798706E-3},{"$f":"(Data!E178-Data!E177)/Data!E177","v":2.2573363431151135E-2},{"$f":"(Data!F178-Data!F177)/Data!F177","v":6.4814814814814867E-2},{"$f":"(Data!G178-Data!G177)/Data!G177","v":1.9308125502815784E-2},{"$f":"(Data!H178-Data!H177)/Data!H177","v":5.3206002728513009E-2},{"$f":"(Data!I178-Data!I177)/Data!I177","v":4.6583850931676947E-2},{"$f":"(Data!J178-Data!J177)/Data!J177","v":5.0632911392405104E-2},{"$f":"(Data!K178-Data!K177)/Data!K177","v":1.940993788819886E-2},{"$f":"(Data!L178-Data!L177)/Data!L177","v":1.5117157974300842E-2},{"$f":"(Data!M178-Data!M177)/Data!M177","v":1.1070110701106816E-2}]
[{"$f":"(Data!B179-Data!B178)/Data!B178","v":2.329075882794885E-2},{"$f":"(Data!C179-Data!C178)/Data!C178","v":2.0390070921985935E-2},{"$f":"(Data!D179-Data!D178)/Data!D178","v":3.3388981636060132E-3},{"$f":"(Data!E179-Data!E178)/Data!E178","v":6.5121412803532078E-2},{"$f":"(Data!F179-Data!F178)/Data!F178","v":0.14956521739130407},{"$f":"(Data!G179-Data!G178)/Data!G178","v":3.5516969218626446E-2},{"$f":"(Data!H179-Data!H178)/Data!H178","v":0},{"$f":"(Data!I179-Data!I178)/Data!I178","v":3.8575667655786496E-2},{"$f":"(Data!J179-Data!J178)/Data!J178","v":4.2632066728452093E-2},{"$f":"(Data!K179-Data!K178)/Data!K178","v":2.437166793602422E-2},{"$f":"(Data!L179-Data!L178)/Data!L178","v":2.5316455696202386E-2},{"$f":"(Data!M179-Data!M178)/Data!M178","v":1.3686131386861429E-2}]
[{"$f":"(Data!B180-Data!B179)/Data!B179","v":2.6431718061674197E-2},{"$f":"(Data!C180-Data!C179)/Data!C179","v":-8.6880973066898425E-3},{"$f":"(Data!D180-Data!D179)/Data!D179","v":1.8302828618968404E-2},{"$f":"(Data!E180-Data!E179)/Data!E179","v":1.4507772020725517E-2},{"$f":"(Data!F180-Data!F179)/Data!F179","v":2.4205748865355713E-2},{"$f":"(Data!G180-Data!G179)/Data!G179","v":4.1920731707317201E-2},{"$f":"(Data!H180-Data!H179)/Data!H179","v":-1.0362694300518E-2},{"$f":"(Data!I180-Data!I179)/Data!I179","v":-5.7142857142857195E-3},{"$f":"(Data!J180-Data!J179)/Data!J179","v":8.000000000000106E-3},{"$f":"(Data!K180-Data!K179)/Data!K179","v":4.0148698884758402E-2},{"$f":"(Data!L180-Data!L179)/Data!L179","v":1.8881626724764157E-2},{"$f":"(Data!M180-Data!M179)/Data!M179","v":2.8802880288028829E-2}]
[{"$f":"(Data!B181-Data!B180)/Data!B180","v":5.0071530758225282E-3},{"$f":"(Data!C181-Data!C180)/Data!C180","v":-1.0517090271691508E-2},{"$f":"(Data!D181-Data!D180)/Data!D180","v":-1.6339869281045586E-2},{"$f":"(Data!E181-Data!E180)/Data!E180","v":-2.5536261491317692E-2},{"$f":"(Data!F181-Data!F180)/Data!F180","v":5.9084194977841835E-3},{"$f":"(Data!G181-Data!G180)/Data!G180","v":1.024140453547916E-2},{"$f":"(Data!H181-Data!H180)/Data!H180","v":1.3089005235600651E-3},{"$f":"(Data!I181-Data!I180)/Data!I180","v":-1.3409961685823766E-2},{"$f":"(Data!J181-Data!J180)/Data!J180","v":1.7636684303350983E-2},{"$f":"(Data!K181-Data!K180)/Data!K180","v":0},{"$f":"(Data!L181-Data!L180)/Data!L180","v":1.8531717747683391E-2},{"$f":"(Data!M181-Data!M180)/Data!M180","v":-1.2248468941382339E-2}]
[{"$f":"(Data!B182-Data!B181)/Data!B181","v":9.2526690391459953E-3},{"$f":"(Data!C182-Data!C181)/Data!C181","v":-1.9486271036315339E-2},{"$f":"(Data!D182-Data!D181)/Data!D181","v":1.9933554817275576E-2},{"$f":"(Data!E182-Data!E181)/Data!E181","v":5.7651991614255813E-2},{"$f":"(Data!F182-Data!F181)/Data!F181","v":4.8458149779735893E-2},{"$f":"(Data!G182-Data!G181)/Data!G181","v":2.6068066618392331E-2},{"$f":"(Data!H182-Data!H181)/Data!H181","v":-5.7516339869281098E-2},{"$f":"(Data!I182-Data!I181)/Data!I181","v":2.9126213592231957E-3},{"$f":"(Data!J182-Data!J181)/Data!J181","v":-1.7331022530329304E-3},{"$f":"(Data!K182-Data!K181)/Data!K181","v":2.8591851322373147E-2},{"$f":"(Data!L182-Data!L181)/Data!L181","v":6.9279216235129601E-2},{"$f":"(Data!M182-Data!M181)/Data!M181","v":3.1000885739592685E-2}]
[{"$f":"(Data!B183-Data!B182)/Data!B182","v":-6.3469675599436655E-3},{"$f":"(Data!C183-Data!C182)/Data!C182","v":-6.3233965672989121E-3},{"$f":"(Data!D183-Data!D182)/Data!D182","v":-3.2573289902280158E-3},{"$f":"(Data!E183-Data!E182)/Data!E182","v":2.3785926660059263E-2},{"$f":"(Data!F183-Data!F182)/Data!F182","v":3.2212885154061496E-2},{"$f":"(Data!G183-Data!G182)/Data!G182","v":-7.0571630204649969E-4},{"$f":"(Data!H183-Data!H182)/Data!H182","v":1.9417475728155359E-2},{"$f":"(Data!I183-Data!I182)/Data!I182","v":-2.9041626331073492E-3},{"$f":"(Data!J183-Data!J182)/Data!J182","v":-1.9097222222222238E-2},{"$f":"(Data!K183-Data!K182)/Data!K182","v":-4.1695621959694264E-3},{"$f":"(Data!L183-Data!L182)/Data!L182","v":5.890052356020932E-2},{"$f":"(Data!M183-Data!M182)/Data!M182","v":-7.7319587628866988E-3}]
[{"$f":"(Data!B184-Data!B183)/Data!B183","v":2.2711142654364816E-2},{"$f":"(Data!C184-Data!C183)/Data!C183","v":7.2727272727272788E-3},{"$f":"(Data!D184-Data!D183)/Data!D183","v":-8.9869281045750812E-3},{"$f":"(Data!E184-Data!E183)/Data!E183","v":4.1626331074540321E-2},{"$f":"(Data!F184-Data!F183)/Data!F183","v":6.2415196743555008E-2},{"$f":"(Data!G184-Data!G183)/Data!G183","v":-1.6949152542372899E-2},{"$f":"(Data!H184-Data!H183)/Data!H183","v":-2.0408163265306142E-2},{"$f":"(Data!I184-Data!I183)/Data!I183","v":-0.10776699029126212},{"$f":"(Data!J184-Data!J183)/Data!J183","v":6.194690265486711E-2},{"$f":"(Data!K184-Data!K183)/Data!K183","v":1.3956734124214946E-2},{"$f":"(Data!L184-Data!L183)/Data!L183","v":1.5451174289246064E-2},{"$f":"(Data!M184-Data!M183)/Data!M183","v":2.5974025974025037E-3}]
[{"$f":"(Data!B185-Data!B184)/Data!B184","v":9.021512838306817E-3},{"$f":"(Data!C185-Data!C184)/Data!C184","v":1.9855595667870051E-2},{"$f":"(Data!D185-Data!D184)/Data!D184","v":2.4732069249793005E-3},{"$f":"(Data!E185-Data!E184)/Data!E184","v":3.624535315985123E-2},{"$f":"(Data!F185-Data!F184)/Data!F184","v":-6.0025542784163527E-2},{"$f":"(Data!G185-Data!G184)/Data!G184","v":1.0057471264367826E-2},{"$f":"(Data!H185-Data!H184)/Data!H184","v":1.8055555555555571E-2},{"$f":"(Data!I185-Data!I184)/Data!I184","v":1.6322089227421125E-2},{"$f":"(Data!J185-Data!J184)/Data!J184","v":3.5000000000000031E-2},{"$f":"(Data!K185-Data!K184)/Data!K184","v":1.1011699931176885E-2},{"$f":"(Data!L185-Data!L184)/Data!L184","v":-4.8691418137554645E-3},{"$f":"(Data!M185-Data!M184)/Data!M184","v":1.9861830742659872E-2}]
[{"$f":"(Data!B186-Data!B185)/Data!B185","v":1.3067400275103098E-2},{"$f":"(Data!C186-Data!C185)/Data!C185","v":-8.8495575221248836E-4},{"$f":"(Data!D186-Data!D185)/Data!D185","v":2.7960526315789498E-2},{"$f":"(Data!E186-Data!E185)/Data!E185","v":-2.2421524663677049E-2},{"$f":"(Data!F186-Data!F185)/Data!F185","v":-6.1141304347826143E-2},{"$f":"(Data!G186-Data!G185)/Data!G185","v":7.82361308677091E-3},{"$f":"(Data!H186-Data!H185)/Data!H185","v":-2.1828103683492365E-2},{"$f":"(Data!I186-Data!I185)/Data!I185","v":3.8543897216274006E-2},{"$f":"(Data!J186-Data!J185)/Data!J185","v":4.911433172302751E-2},{"$f":"(Data!K186-Data!K185)/Data!K185","v":6.8073519400953089E-2},{"$f":"(Data!L186-Data!L185)/Data!L185","v":2.8134556574923572E-2},{"$f":"(Data!M186-Data!M185)/Data!M185","v":1.1007620660457343E-2}]
[{"$f":"(Data!B187-Data!B186)/Data!B186","v":2.4439918533604908E-2},{"$f":"(Data!C187-Data!C186)/Data!C186","v":3.5429583702391528E-3},{"$f":"(Data!D187-Data!D186)/Data!D186","v":-4.8000000000000039E-3},{"$f":"(Data!E187-Data!E186)/Data!E186","v":2.8440366972476986E-2},{"$f":"(Data!F187-Data!F186)/Data!F186","v":7.2358900144717866E-2},{"$f":"(Data!G187-Data!G186)/Data!G186","v":1.6937191249118029E-2},{"$f":"(Data!H187-Data!H186)/Data!H186","v":6.9735006973500749E-3},{"$f":"(Data!I187-Data!I186)/Data!I186","v":6.9072164948453779E-2},{"$f":"(Data!J187-Data!J186)/Data!J186","v":6.4466615502685981E-2},{"$f":"(Data!K187-Data!K186)/Data!K186","v":4.5251752708731642E-2},{"$f":"(Data!L187-Data!L186)/Data!L186","v":3.2718619869125484E-2},{"$f":"(Data!M187-Data!M186)/Data!M186","v":2.5125628140703349E-2}]
[{"$f":"(Data!B188-Data!B187)/Data!B187","v":7.289595758780582E-3},{"$f":"(Data!C188-Data!C187)/Data!C187","v":1.3239187996469464E-2},{"$f":"(Data!D188-Data!D187)/Data!D187","v":-4.823151125401934E-3},{"$f":"(Data!E188-Data!E187)/Data!E187","v":-3.8358608385370141E-2},{"$f":"(Data!F188-Data!F187)/Data!F187","v":-5.9379217273954017E-2},{"$f":"(Data!G188-Data!G187)/Data!G187","v":-1.9430950728660669E-2},{"$f":"(Data!H188-Data!H187)/Data!H187","v":2.0775623268697922E-2},{"$f":"(Data!I188-Data!I187)/Data!I187","v":-2.5072324011572073E-2},{"$f":"(Data!J188-Data!J187)/Data!J187","v":2.0187454938716671E-2},{"$f":"(Data!K188-Data!K187)/Data!K187","v":6.0975609756090839E-4},{"$f":"(Data!L188-Data!L187)/Data!L187","v":-2.8801843317973015E-3},{"$f":"(Data!M188-Data!M187)/Data!M187","v":-1.3071895424836614E-2}]
[{"$f":"(Data!B189-Data!B188)/Data!B188","v":-1.3157894736842117E-2},{"$f":"(Data!C189-Data!C188)/Data!C188","v":1.916376306620211E-2},{"$f":"(Data!D189-Data!D188)/Data!D188","v":-8.0775444264943527E-3},{"$f":"(Data!E189-Data!E188)/Data!E188","v":-5.1948051948051993E-2},{"$f":"(Data!F189-Data!F188)/Data!F188","v":-5.5954088952654274E-2},{"$f":"(Data!G189-Data!G188)/Data!G188","v":-4.8832271762208029E-2},{"$f":"(Data!H189-Data!H188)/Data!H188","v":6.3772048846675769E-2},{"$f":"(Data!I189-Data!I188)/Data!I188","v":-3.0662710187932662E-2},{"$f":"(Data!J189-Data!J188)/Data!J188","v":1.413427561837457E-2},{"$f":"(Data!K189-Data!K188)/Data!K188","v":-2.9250457038391114E-2},{"$f":"(Data!L189-Data!L188)/Data!L188","v":-1.2709416522241362E-2},{"$f":"(Data!M189-Data!M188)/Data!M188","v":-1.8211920529801341E-2}]
[{"$f":"(Data!B190-Data!B189)/Data!B189","v":8.6666666666667478E-3},{"$f":"(Data!C190-Data!C189)/Data!C189","v":-8.5470085470085548E-3},{"$f":"(Data!D190-Data!D189)/Data!D189","v":9.7719869706840486E-3},{"$f":"(Data!E190-Data!E189)/Data!E189","v":4.5009784735812172E-2},{"$f":"(Data!F190-Data!F189)/Data!F189","v":1.0638297872340434E-2},{"$f":"(Data!G190-Data!G189)/Data!G189","v":3.497023809523804E-2},{"$f":"(Data!H190-Data!H189)/Data!H189","v":4.4642857142857179E-2},{"$f":"(Data!I190-Data!I189)/Data!I189","v":2.6530612244897982E-2},{"$f":"(Data!J190-Data!J189)/Data!J189","v":3.1358885017421553E-2},{"$f":"(Data!K190-Data!K189)/Data!K189","v":1.3182674199623292E-2},{"$f":"(Data!L190-Data!L189)/Data!L189","v":3.335283791691044E-2},{"$f":"(Data!M190-Data!M189)/Data!M189","v":4.0472175379426684E-2}]
[{"$f":"(Data!B191-Data!B190)/Data!B190","v":-4.2300066093853304E-2},{"$f":"(Data!C191-Data!C190)/Data!C190","v":-4.8275862068965371E-2},{"$f":"(Data!D191-Data!D190)/Data!D190","v":-5.4838709677419224E-2},{"$f":"(Data!E191-Data!E190)/Data!E190","v":-7.5842696629213446E-2},{"$f":"(Data!F191-Data!F190)/Data!F190","v":-0.13984962406015033},{"$f":"(Data!G191-Data!G190)/Data!G190","v":-6.5420560747663531E-2},{"$f":"(Data!H191-Data!H190)/Data!H190","v":1.7094017094016971E-2},{"$f":"(Data!I191-Data!I190)/Data!I190","v":-3.1809145129224572E-2},{"$f":"(Data!J191-Data!J190)/Data!J190","v":-1.0810810810810671E-2},{"$f":"(Data!K191-Data!K190)/Data!K190","v":-7.4349442379182215E-2},{"$f":"(Data!L191-Data!L190)/Data!L190","v":-4.2468856172140405E-2},{"$f":"(Data!M191-Data!M190)/Data!M190","v":-5.3484602917342028E-2}]
[{"$f":"(Data!B192-Data!B191)/Data!B191","v":4.2788129744651369E-2},{"$f":"(Data!C192-Data!C191)/Data!C191","v":7.2463768115942091E-3},{"$f":"(Data!D192-Data!D191)/Data!D191","v":3.6689419795221778E-2},{"$f":"(Data!E192-Data!E191)/Data!E191","v":5.0658561296859205E-3},{"$f":"(Data!F192-Data!F191)/Data!F191","v":-4.3706293706293739E-2},{"$f":"(Data!G192-Data!G191)/Data!G191","v":5.9230769230769198E-2},{"$f":"(Data!H192-Data!H191)/Data!H191","v":5.762304921968793E-2},{"$f":"(Data!I192-Data!I191)/Data!I191","v":8.5215605749486487E-2},{"$f":"(Data!J192-Data!J191)/Data!J191","v":5.6010928961748523E-2},{"$f":"(Data!K192-Data!K191)/Data!K191","v":2.5435073627844734E-2},{"$f":"(Data!L192-Data!L191)/Data!L191","v":2.6020106445890027E-2},{"$f":"(Data!M192-Data!M191)/Data!M191","v":4.3664383561643975E-2}]
[{"$f":"(Data!B193-Data!B192)/Data!B192","v":-8.6035737921903895E-3},{"$f":"(Data!C193-Data!C192)/Data!C192","v":-8.99280575539569E-3},{"$f":"(Data!D193-Data!D192)/Data!D192","v":-1.3991769547325205E-2},{"$f":"(Data!E193-Data!E192)/Data!E192","v":-8.0645161290322648E-3},{"$f":"(Data!F193-Data!F192)/Data!F192","v":-4.7531992687385782E-2},{"$f":"(Data!G193-Data!G192)/Data!G192","v":3.4858387799564301E-2},{"$f":"(Data!H193-Data!H192)/Data!H192","v":0.2009080590238366},{"$f":"(Data!I193-Data!I192)/Data!I192","v":-3.1220435193945052E-2},{"$f":"(Data!J193-Data!J192)/Data!J192","v":-1.6817593790426924E-2},{"$f":"(Data!K193-Data!K192)/Data!K192","v":-5.6788511749347237E-2},{"$f":"(Data!L193-Data!L192)/Data!L192","v":5.7636887608062814E-4},{"$f":"(Data!M193-Data!M192)/Data!M192","v":6.5627563576702271E-3}]
[{"$f":"(Data!B194-Data!B193)/Data!B193","v":-1.3351134846461958E-2},{"$f":"(Data!C194-Data!C193)/Data!C193","v":-1.0889292196007268E-2},{"$f":"(Data!D194-Data!D193)/Data!D193","v":9.1819699499166279E-3},{"$f":"(Data!E194-Data!E193)/Data!E193","v":1.4227642276422663E-2},{"$f":"(Data!F194-Data!F193)/Data!F193","v":-0.11132437619961622},{"$f":"(Data!G194-Data!G193)/Data!G193","v":3.2982456140350828E-2},{"$f":"(Data!H194-Data!H193)/Data!H193","v":9.8298676748582309E-2},{"$f":"(Data!I194-Data!I193)/Data!I193","v":6.4453125000000056E-2},{"$f":"(Data!J194-Data!J193)/Data!J193","v":2.3026315789473631E-2},{"$f":"(Data!K194-Data!K193)/Data!K193","v":3.0449826989619403E-2},{"$f":"(Data!L194-Data!L193)/Data!L193","v":3.5138248847926233E-2},{"$f":"(Data!M194-Data!M193)/Data!M193","v":2.8524857375713055E-2}]
[{"$f":"(Data!B195-Data!B194)/Data!B194","v":2.7063599458728032E-2},{"$f":"(Data!C195-Data!C194)/Data!C194","v":2.1100917431192575E-2},{"$f":"(Data!D195-Data!D194)/Data!D194","v":4.052936311000821E-2},{"$f":"(Data!E195-Data!E194)/Data!E194","v":0.10020040080160329},{"$f":"(Data!F195-Data!F194)/Data!F194","v":7.1274298056155691E-2},{"$f":"(Data!G195-Data!G194)/Data!G194","v":8.2201086956521882E-2},{"$f":"(Data!H195-Data!H194)/Data!H194","v":-2.6678141135972576E-2},{"$f":"(Data!I195-Data!I194)/Data!I194","v":0.1238532110091743},{"$f":"(Data!J195-Data!J194)/Data!J194","v":2.3794212218649469E-2},{"$f":"(Data!K195-Data!K194)/Data!K194","v":5.0369375419744761E-2},{"$f":"(Data!L195-Data!L194)/Data!L194","v":5.8987200890373022E-2},{"$f":"(Data!M195-Data!M194)/Data!M194","v":7.4484944532488009E-2}]
[{"$f":"(Data!B196-Data!B195)/Data!B195","v":-4.6113306982874429E-3},{"$f":"(Data!C196-Data!C195)/Data!C195","v":2.6055705300988444E-2},{"$f":"(Data!D196-Data!D195)/Data!D195","v":7.9491255961853093E-4},{"$f":"(Data!E196-Data!E195)/Data!E195","v":7.0127504553734024E-2},{"$f":"(Data!F196-Data!F195)/Data!F195","v":-6.4516129032258229E-2},{"$f":"(Data!G196-Data!G195)/Data!G195","v":6.842435655994962E-2},{"$f":"(Data!H196-Data!H195)/Data!H195","v":8.8417329796640021E-2},{"$f":"(Data!I196-Data!I195)/Data!I195","v":-5.4693877551020544E-2},{"$f":"(Data!J196-Data!J195)/Data!J195","v":-1.2562814070351772E-2},{"$f":"(Data!K196-Data!K195)/Data!K195","v":0},{"$f":"(Data!L196-Data!L195)/Data!L195","v":9.30110352075669E-2},{"$f":"(Data!M196-Data!M195)/Data!M195","v":5.3834808259587155E-2}]
[{"$f":"(Data!B197-Data!B196)/Data!B196","v":1.5221707478491154E-2},{"$f":"(Data!C197-Data!C196)/Data!C196","v":4.7285464098073396E-2},{"$f":"(Data!D197-Data!D196)/Data!D196","v":1.5885623510722809E-2},{"$f":"(Data!E197-Data!E196)/Data!E196","v":3.7446808510638328E-2},{"$f":"(Data!F197-Data!F196)/Data!F196","v":-3.6637931034482554E-2},{"$f":"(Data!G197-Data!G196)/Data!G196","v":1.4101057579318461E-2},{"$f":"(Data!H197-Data!H196)/Data!H196","v":0.19740048740861099},{"$f":"(Data!I197-Data!I196)/Data!I196","v":1.1226252158894752E-2},{"$f":"(Data!J197-Data!J196)/Data!J196","v":-1.4631043256997258E-2},{"$f":"(Data!K197-Data!K196)/Data!K196","v":5.3069053708439874E-2},{"$f":"(Data!L197-Data!L196)/Data!L196","v":5.7211538461538564E-2},{"$f":"(Data!M197-Data!M196)/Data!M196","v":2.0993701889433187E-2}]
[{"$f":"(Data!B198-Data!B197)/Data!B197","v":5.215123859191516E-3},{"$f":"(Data!C198-Data!C197)/Data!C197","v":5.0167224080267603E-3},{"$f":"(Data!D198-Data!D197)/Data!D197","v":-1.5637216575449583E-3},{"$f":"(Data!E198-Data!E197)/Data!E197","v":-9.8441345365053411E-3},{"$f":"(Data!F198-Data!F197)/Data!F197","v":8.5011185682326434E-2},{"$f":"(Data!G198-Data!G197)/Data!G197","v":-3.8818076477404373E-2},{"$f":"(Data!H198-Data!H197)/Data!H197","v":7.0556309362279579E-2},{"$f":"(Data!I198-Data!I197)/Data!I197","v":-8.5397096498728594E-4},{"$f":"(Data!J198-Data!J197)/Data!J197","v":-2.7114267269206103E-2},{"$f":"(Data!K198-Data!K197)/Data!K197","v":9.1074681238615066E-3},{"$f":"(Data!L198-Data!L197)/Data!L197","v":-1.2278308321964589E-2},{"$f":"(Data!M198-Data!M197)/Data!M197","v":-1.2337217272104191E-2}]
[{"$f":"(Data!B199-Data!B198)/Data!B198","v":-1.1673151750972631E-2},{"$f":"(Data!C199-Data!C198)/Data!C198","v":-2.5790349417637203E-2},{"$f":"(Data!D199-Data!D198)/Data!D198","v":-2.8191072826938331E-2},{"$f":"(Data!E199-Data!E198)/Data!E198","v":-1.574150787075404E-2},{"$f":"(Data!F199-Data!F198)/Data!F198","v":-7.01030927835051E-2},{"$f":"(Data!G199-Data!G198)/Data!G198","v":-3.737191078963234E-2},{"$f":"(Data!H199-Data!H198)/Data!H198","v":7.0975918884664049E-2},{"$f":"(Data!I199-Data!I198)/Data!I198","v":-1.538461538461521E-2},{"$f":"(Data!J199-Data!J198)/Data!J198","v":-9.2899800928996617E-3},{"$f":"(Data!K199-Data!K198)/Data!K198","v":-1.8652226233453622E-2},{"$f":"(Data!L199-Data!L198)/Data!L198","v":-1.4272559852670412E-2},{"$f":"(Data!M199-Data!M198)/Data!M198","v":-2.1512838306731532E-2}]
[{"$f":"(Data!B200-Data!B199)/Data!B199","v":-1.4435695538057755E-2},{"$f":"(Data!C200-Data!C199)/Data!C199","v":-2.5619128949616681E-3},{"$f":"(Data!D200-Data!D199)/Data!D199","v":-2.0145044319097433E-2},{"$f":"(Data!E200-Data!E199)/Data!E199","v":3.3670033670033703E-3},{"$f":"(Data!F200-Data!F199)/Data!F199","v":3.3259423503325974E-2},{"$f":"(Data!G200-Data!G199)/Data!G199","v":6.2617407639323792E-3},{"$f":"(Data!H200-Data!H199)/Data!H199","v":-0.19526627218934903},{"$f":"(Data!I200-Data!I199)/Data!I199","v":-1.3888888888889093E-2},{"$f":"(Data!J200-Data!J199)/Data!J199","v":3.2150033489618098E-2},{"$f":"(Data!K200-Data!K199)/Data!K199","v":-9.1968117719191441E-3},{"$f":"(Data!L200-Data!L199)/Data!L199","v":2.4287716020551166E-2},{"$f":"(Data!M200-Data!M199)/Data!M199","v":6.38297872340434E-3}]
[{"$f":"(Data!B201-Data!B200)/Data!B200","v":-2.9960053262317012E-2},{"$f":"(Data!C201-Data!C200)/Data!C200","v":-5.0513698630136938E-2},{"$f":"(Data!D201-Data!D200)/Data!D200","v":-3.0427631578947303E-2},{"$f":"(Data!E201-Data!E200)/Data!E200","v":0},{"$f":"(Data!F201-Data!F200)/Data!F200","v":-0.17596566523605153},{"$f":"(Data!G201-Data!G200)/Data!G200","v":-3.4847542003733696E-2},{"$f":"(Data!H201-Data!H200)/Data!H200","v":-6.617647058823535E-2},{"$f":"(Data!I201-Data!I200)/Data!I200","v":3.6971830985915527E-2},{"$f":"(Data!J201-Data!J200)/Data!J200","v":-2.271252433484745E-2},{"$f":"(Data!K201-Data!K200)/Data!K200","v":-4.3935643564356412E-2},{"$f":"(Data!L201-Data!L200)/Data!L200","v":-1.0031919744642152E-2},{"$f":"(Data!M201-Data!M200)/Data!M200","v":-2.7484143763213478E-2}]
[{"$f":"(Data!B202-Data!B201)/Data!B201","v":-5.490734385724081E-2},{"$f":"(Data!C202-Data!C201)/Data!C201","v":-7.2137060414788163E-3},{"$f":"(Data!D202-Data!D201)/Data!D201","v":-5.5979643765903357E-2},{"$f":"(Data!E202-Data!E201)/Data!E201","v":-5.3691275167785282E-2},{"$f":"(Data!F202-Data!F201)/Data!F201","v":1.5625000000000014E-2},{"$f":"(Data!G202-Data!G201)/Data!G201","v":-7.2211476466795543E-2},{"$f":"(Data!H202-Data!H201)/Data!H201","v":-0.12913385826771664},{"$f":"(Data!I202-Data!I201)/Data!I201","v":0},{"$f":"(Data!J202-Data!J201)/Data!J201","v":-6.0424966799468773E-2},{"$f":"(Data!K202-Data!K201)/Data!K201","v":-4.5307443365695692E-2},{"$f":"(Data!L202-Data!L201)/Data!L201","v":-3.592814371257478E-2},{"$f":"(Data!M202-Data!M201)/Data!M201","v":-8.0434782608695632E-2}]
[{"$f":"(Data!B203-Data!B202)/Data!B202","v":3.7763253449527995E-2},{"$f":"(Data!C203-Data!C202)/Data!C202","v":4.1780199818346998E-2},{"$f":"(Data!D203-Data!D202)/Data!D202","v":4.2228212039532732E-2},{"$f":"(Data!E203-Data!E202)/Data!E202","v":2.8368794326241162E-2},{"$f":"(Data!F203-Data!F202)/Data!F202","v":3.3333333333333222E-2},{"$f":"(Data!G203-Data!G202)/Data!G202","v":2.4322446143154913E-2},{"$f":"(Data!H203-Data!H202)/Data!H202","v":4.7016274864376179E-2},{"$f":"(Data!I203-Data!I202)/Data!I202","v":7.6400679117148724E-3},{"$f":"(Data!J203-Data!J202)/Data!J202","v":4.8763250883392187E-2},{"$f":"(Data!K203-Data!K202)/Data!K202","v":5.5593220338982945E-2},{"$f":"(Data!L203-Data!L202)/Data!L202","v":-2.8666985188725404E-3},{"$f":"(Data!M203-Data!M202)/Data!M202","v":3.5460992907801359E-2}]
[{"$f":"(Data!B204-Data!B203)/Data!B203","v":9.7970608817354882E-3},{"$f":"(Data!C204-Data!C203)/Data!C203","v":-6.9747166521360133E-3},{"$f":"(Data!D204-Data!D203)/Data!D203","v":-6.0344827586205994E-3},{"$f":"(Data!E204-Data!E203)/Data!E203","v":1.1206896551724244E-2},{"$f":"(Data!F204-Data!F203)/Data!F203","v":-3.2258064516128927E-2},{"$f":"(Data!G204-Data!G203)/Data!G203","v":6.716417910447775E-2},{"$f":"(Data!H204-Data!H203)/Data!H203","v":8.6355785837651203E-2},{"$f":"(Data!I204-Data!I203)/Data!I203","v":4.6335299073293965E-2},{"$f":"(Data!J204-Data!J203)/Data!J203","v":-3.6388140161725098E-2},{"$f":"(Data!K204-Data!K203)/Data!K203","v":1.2202954399486274E-2},{"$f":"(Data!L204-Data!L203)/Data!L203","v":4.1207474844274228E-2},{"$f":"(Data!M204-Data!M203)/Data!M203","v":3.8051750380517536E-2}]
[{"$f":"(Data!B205-Data!B204)/Data!B204","v":-2.1483021483021579E-2},{"$f":"(Data!C205-Data!C204)/Data!C204","v":-1.7559262510974553E-2},{"$f":"(Data!D205-Data!D204)/Data!D204","v":-2.1682567215958484E-2},{"$f":"(Data!E205-Data!E204)/Data!E204","v":-2.4722932651321323E-2},{"$f":"(Data!F205-Data!F204)/Data!F204","v":-8.7179487179487106E-2},{"$f":"(Data!G205-Data!G204)/Data!G204","v":-2.2250476795931288E-2},{"$f":"(Data!H205-Data!H204)/Data!H204","v":-3.9745627980923015E-3},{"$f":"(Data!I205-Data!I204)/Data!I204","v":-2.0128824476650493E-2},{"$f":"(Data!J205-Data!J204)/Data!J204","v":-1.2587412587412599E-2},{"$f":"(Data!K205-Data!K204)/Data!K204","v":-2.9822335025380665E-2},{"$f":"(Data!L205-Data!L204)/Data!L204","v":1.4726184997699046E-2},{"$f":"(Data!M205-Data!M204)/Data!M204","v":-4.6920821114369543E-2}]
[{"$f":"(Data!B206-Data!B205)/Data!B205","v":-6.6572237960339856E-2},{"$f":"(Data!C206-Data!C205)/Data!C205","v":-3.7533512064343195E-2},{"$f":"(Data!D206-Data!D205)/Data!D205","v":-3.7234042553191328E-2},{"$f":"(Data!E206-Data!E205)/Data!E205","v":-8.4790209790209764E-2},{"$f":"(Data!F206-Data!F205)/Data!F205","v":-6.4606741573033907E-2},{"$f":"(Data!G206-Data!G205)/Data!G205","v":-7.3472041612483871E-2},{"$f":"(Data!H206-Data!H205)/Data!H205","v":-0.15083798882681551},{"$f":"(Data!I206-Data!I205)/Data!I205","v":-2.0542317173377265E-2},{"$f":"(Data!J206-Data!J205)/Data!J205","v":-3.5410764872521282E-2},{"$f":"(Data!K206-Data!K205)/Data!K205","v":-7.9136690647482008E-2},{"$f":"(Data!L206-Data!L205)/Data!L205","v":-3.9002267573696077E-2},{"$f":"(Data!M206-Data!M205)/Data!M205","v":-5.3076923076923209E-2}]
[{"$f":"(Data!B207-Data!B206)/Data!B206","v":-1.062215477996966E-2},{"$f":"(Data!C207-Data!C206)/Data!C206","v":2.7855153203343677E-3},{"$f":"(Data!D207-Data!D206)/Data!D206","v":-9.2081031307550722E-3},{"$f":"(Data!E207-Data!E206)/Data!E206","v":-0.10601719197707755},{"$f":"(Data!F207-Data!F206)/Data!F206","v":-0.13813813813813811},{"$f":"(Data!G207-Data!G206)/Data!G206","v":-5.6842105263157867E-2},{"$f":"(Data!H207-Data!H206)/Data!H206","v":-7.236842105263154E-2},{"$f":"(Data!I207-Data!I206)/Data!I206","v":3.8590604026845672E-2},{"$f":"(Data!J207-Data!J206)/Data!J206","v":-4.3318649045521088E-2},{"$f":"(Data!K207-Data!K206)/Data!K206","v":-8.5227272727274369E-3},{"$f":"(Data!L207-Data!L206)/Data!L206","v":-4.6248230297310192E-2},{"$f":"(Data!M207-Data!M206)/Data!M206","v":-2.1933387489845406E-2}]
[{"$f":"(Data!B208-Data!B207)/Data!B207","v":6.7484662576687005E-2},{"$f":"(Data!C208-Data!C207)/Data!C207","v":3.703703703703707E-2},{"$f":"(Data!D208-Data!D207)/Data!D207","v":4.5539033457249002E-2},{"$f":"(Data!E208-Data!E207)/Data!E207","v":6.7307692307692485E-2},{"$f":"(Data!F208-Data!F207)/Data!F207","v":0.13588850174216041},{"$f":"(Data!G208-Data!G207)/Data!G207","v":5.8779761904761869E-2},{"$f":"(Data!H208-Data!H207)/Data!H207","v":4.1540020263424439E-2},{"$f":"(Data!I208-Data!I207)/Data!I207","v":5.6542810985460469E-2},{"$f":"(Data!J208-Data!J207)/Data!J207","v":4.911742133537976E-2},{"$f":"(Data!K208-Data!K207)/Data!K207","v":7.306590257879679E-2},{"$f":"(Data!L208-Data!L207)/Data!L207","v":5.2944087085601291E-2},{"$f":"(Data!M208-Data!M207)/Data!M207","v":6.7275747508305422E-2}]
[{"$f":"(Data!B209-Data!B208)/Data!B208","v":2.8017241379310453E-2},{"$f":"(Data!C209-Data!C208)/Data!C208","v":1.1607142857142767E-2},{"$f":"(Data!D209-Data!D208)/Data!D208","v":1.9555555555555573E-2},{"$f":"(Data!E209-Data!E208)/Data!E208","v":-8.0080080080081259E-3},{"$f":"(Data!F209-Data!F208)/Data!F208","v":2.7607361963190209E-2},{"$f":"(Data!G209-Data!G208)/Data!G208","v":1.4757554462403464E-2},{"$f":"(Data!H209-Data!H208)/Data!H208","v":3.3073929961089522E-2},{"$f":"(Data!I209-Data!I208)/Data!I208","v":2.1406727828746197E-2},{"$f":"(Data!J209-Data!J208)/Data!J208","v":2.4871982443306531E-2},{"$f":"(Data!K209-Data!K208)/Data!K208","v":6.6755674232309792E-3},{"$f":"(Data!L209-Data!L208)/Data!L208","v":-4.2293233082706279E-3},{"$f":"(Data!M209-Data!M208)/Data!M208","v":1.7898832684825006E-2}]
[{"$f":"(Data!B210-Data!B209)/Data!B209","v":0},{"$f":"(Data!C210-Data!C209)/Data!C209","v":-1.4121800529567533E-2},{"$f":"(Data!D210-Data!D209)/Data!D209","v":-1.5693112467306029E-2},{"$f":"(Data!E210-Data!E209)/Data!E209","v":-7.0635721493439909E-3},{"$f":"(Data!F210-Data!F209)/Data!F209","v":8.9552238805970061E-2},{"$f":"(Data!G210-Data!G209)/Data!G209","v":-1.3157894736842193E-2},{"$f":"(Data!H210-Data!H209)/Data!H209","v":-4.7080979284369155E-2},{"$f":"(Data!I210-Data!I209)/Data!I209","v":-2.9940119760480731E-3},{"$f":"(Data!J210-Data!J209)/Data!J209","v":8.5653104925053607E-3},{"$f":"(Data!K210-Data!K209)/Data!K209","v":3.3156498673739931E-2},{"$f":"(Data!L210-Data!L209)/Data!L209","v":9.9103350637092524E-3},{"$f":"(Data!M210-Data!M209)/Data!M209","v":-1.2232415902140853E-2}]
[{"$f":"(Data!B211-Data!B210)/Data!B210","v":6.9881201956673716E-3},{"$f":"(Data!C211-Data!C210)/Data!C210","v":4.4762757385855998E-3},{"$f":"(Data!D211-Data!D210)/Data!D210","v":0},{"$f":"(Data!E211-Data!E210)/Data!E210","v":-4.2682926829268324E-2},{"$f":"(Data!F211-Data!F210)/Data!F210","v":-4.1095890410958791E-2},{"$f":"(Data!G211-Data!G210)/Data!G210","v":-1.9649122807017562E-2},{"$f":"(Data!H211-Data!H210)/Data!H210","v":1.2845849802371443E-2},{"$f":"(Data!I211-Data!I210)/Data!I210","v":-6.0060060060058455E-3},{"$f":"(Data!J211-Data!J210)/Data!J210","v":3.9631988676574699E-2},{"$f":"(Data!K211-Data!K210)/Data!K210","v":2.5673940949934413E-3},{"$f":"(Data!L211-Data!L210)/Data!L210","v":-1.3084112149532721E-2},{"$f":"(Data!M211-Data!M210)/Data!M210","v":-8.5139318885448147E-3}]
[{"$f":"(Data!B212-Data!B211)/Data!B211","v":2.4982650936849277E-2},{"$f":"(Data!C212-Data!C211)/Data!C211","v":1.3368983957219163E-2},{"$f":"(Data!D212-Data!D211)/Data!D211","v":7.7945084145261356E-2},{"$f":"(Data!E212-Data!E211)/Data!E211","v":-2.866242038216563E-2},{"$f":"(Data!F212-Data!F211)/Data!F211","v":-7.142857142857148E-2},{"$f":"(Data!G212-Data!G211)/Data!G211","v":1.0021474588403731E-2},{"$f":"(Data!H212-Data!H211)/Data!H211","v":4.0000000000000147E-2},{"$f":"(Data!I212-Data!I211)/Data!I211","v":1.2839879154078476E-2},{"$f":"(Data!J212-Data!J211)/Data!J211","v":3.6759700476514667E-2},{"$f":"(Data!K212-Data!K211)/Data!K211","v":3.2650448143406133E-2},{"$f":"(Data!L212-Data!L211)/Data!L211","v":2.083333333333335E-2},{"$f":"(Data!M212-Data!M211)/Data!M211","v":1.6393442622950748E-2}]
[{"$f":"(Data!B213-Data!B212)/Data!B212","v":1.083276912660815E-2},{"$f":"(Data!C213-Data!C212)/Data!C212","v":1.671064204045726E-2},{"$f":"(Data!D213-Data!D212)/Data!D212","v":2.5472473294987603E-2},{"$f":"(Data!E213-Data!E212)/Data!E212","v":1.6393442622950834E-2},{"$f":"(Data!F213-Data!F212)/Data!F212","v":1.8461538461538477E-2},{"$f":"(Data!G213-Data!G212)/Data!G212","v":5.3862508858965159E-2},{"$f":"(Data!H213-Data!H212)/Data!H212","v":1.1257035647279558E-2},{"$f":"(Data!I213-Data!I212)/Data!I212","v":2.1625652498135823E-2},{"$f":"(Data!J213-Data!J212)/Data!J212","v":1.1818778726198156E-2},{"$f":"(Data!K213-Data!K212)/Data!K212","v":-8.679479231246132E-3},{"$f":"(Data!L213-Data!L212)/Data!L212","v":-1.1595547309833188E-2},{"$f":"(Data!M213-Data!M212)/Data!M212","v":1.2288786482335053E-2}]
[{"$f":"(Data!B214-Data!B213)/Data!B213","v":-8.03750837240471E-3},{"$f":"(Data!C214-Data!C213)/Data!C213","v":0},{"$f":"(Data!D214-Data!D213)/Data!D213","v":-1.602564102564104E-3},{"$f":"(Data!E214-Data!E213)/Data!E213","v":-2.1505376344087231E-3},{"$f":"(Data!F214-Data!F213)/Data!F213","v":0},{"$f":"(Data!G214-Data!G213)/Data!G213","v":0},{"$f":"(Data!H214-Data!H213)/Data!H213","v":-5.5658627087198558E-3},{"$f":"(Data!I214-Data!I213)/Data!I213","v":2.1167883211678767E-2},{"$f":"(Data!J214-Data!J213)/Data!J213","v":1.6872160934458161E-2},{"$f":"(Data!K214-Data!K213)/Data!K213","v":-3.1269543464666136E-3},{"$f":"(Data!L214-Data!L213)/Data!L213","v":-7.9774753636789805E-3},{"$f":"(Data!M214-Data!M213)/Data!M213","v":7.5872534142648856E-4}]
[{"$f":"(Data!B215-Data!B214)/Data!B214","v":-1.2153950033760835E-2},{"$f":"(Data!C215-Data!C214)/Data!C214","v":0},{"$f":"(Data!D215-Data!D214)/Data!D214","v":2.8892455858747841E-2},{"$f":"(Data!E215-Data!E214)/Data!E214","v":6.465517241379436E-3},{"$f":"(Data!F215-Data!F214)/Data!F214","v":3.6253776435045182E-2},{"$f":"(Data!G215-Data!G214)/Data!G214","v":9.4149293880295987E-3},{"$f":"(Data!H215-Data!H214)/Data!H214","v":1.1194029850746278E-2},{"$f":"(Data!I215-Data!I214)/Data!I214","v":-1.3581129378127166E-2},{"$f":"(Data!J215-Data!J214)/Data!J214","v":-1.6592214422463322E-2},{"$f":"(Data!K215-Data!K214)/Data!K214","v":4.0777917189460444E-2},{"$f":"(Data!L215-Data!L214)/Data!L214","v":-2.459791863765376E-2},{"$f":"(Data!M215-Data!M214)/Data!M214","v":7.5815011372251766E-3}]
[{"$f":"(Data!B216-Data!B215)/Data!B215","v":8.2023239917976831E-3},{"$f":"(Data!C216-Data!C215)/Data!C215","v":-2.6816608996539721E-2},{"$f":"(Data!D216-Data!D215)/Data!D215","v":-2.9641185647425756E-2},{"$f":"(Data!E216-Data!E215)/Data!E215","v":-1.0706638115631701E-2},{"$f":"(Data!F216-Data!F215)/Data!F215","v":2.0408163265306305E-2},{"$f":"(Data!G216-Data!G215)/Data!G215","v":-9.9933377748167244E-3},{"$f":"(Data!H216-Data!H215)/Data!H215","v":4.1512915129151222E-2},{"$f":"(Data!I216-Data!I215)/Data!I215","v":2.8260869565217332E-2},{"$f":"(Data!J216-Data!J215)/Data!J215","v":-4.60739779364049E-2},{"$f":"(Data!K216-Data!K215)/Data!K215","v":1.6274864376130148E-2},{"$f":"(Data!L216-Data!L215)/Data!L215","v":-6.9835111542191894E-2},{"$f":"(Data!M216-Data!M215)/Data!M215","v":-1.3544018058690922E-2}]
[{"$f":"(Data!B217-Data!B216)/Data!B216","v":3.9999999999999959E-2},{"$f":"(Data!C217-Data!C216)/Data!C216","v":2.0444444444444362E-2},{"$f":"(Data!D217-Data!D216)/Data!D216","v":2.491961414791008E-2},{"$f":"(Data!E217-Data!E216)/Data!E216","v":0.10606060606060604},{"$f":"(Data!F217-Data!F216)/Data!F216","v":5.4285714285714173E-2},{"$f":"(Data!G217-Data!G216)/Data!G216","v":5.3835800807537061E-2},{"$f":"(Data!H217-Data!H216)/Data!H216","v":-1.2400354295837034E-2},{"$f":"(Data!I217-Data!I216)/Data!I216","v":7.9633544749823815E-2},{"$f":"(Data!J217-Data!J216)/Data!J216","v":-1.360544217687076E-2},{"$f":"(Data!K217-Data!K216)/Data!K216","v":5.9905100830367722E-2},{"$f":"(Data!L217-Data!L216)/Data!L216","v":4.3274244004170875E-2},{"$f":"(Data!M217-Data!M216)/Data!M216","v":4.5766590389016058E-2}]
[{"$f":"(Data!B218-Data!B217)/Data!B217","v":1.173402868318109E-2},{"$f":"(Data!C218-Data!C217)/Data!C217","v":2.0034843205575029E-2},{"$f":"(Data!D218-Data!D217)/Data!D217","v":3.3725490196078373E-2},{"$f":"(Data!E218-Data!E217)/Data!E217","v":4.6966731898238787E-2},{"$f":"(Data!F218-Data!F217)/Data!F217","v":2.7100271002710053E-2},{"$f":"(Data!G218-Data!G217)/Data!G217","v":3.6398467432950291E-2},{"$f":"(Data!H218-Data!H217)/Data!H217","v":-5.3811659192825158E-3},{"$f":"(Data!I218-Data!I217)/Data!I217","v":5.8746736292427529E-3},{"$f":"(Data!J218-Data!J217)/Data!J217","v":3.1034482758620793E-2},{"$f":"(Data!K218-Data!K217)/Data!K217","v":3.0218242865137128E-2},{"$f":"(Data!L218-Data!L217)/Data!L217","v":4.5977011494252915E-2},{"$f":"(Data!M218-Data!M217)/Data!M217","v":2.6987600291757945E-2}]
[{"$f":"(Data!B219-Data!B218)/Data!B218","v":1.8041237113402223E-2},{"$f":"(Data!C219-Data!C218)/Data!C218","v":9.393680614859198E-3},{"$f":"(Data!D219-Data!D218)/Data!D218","v":4.5523520485584255E-3},{"$f":"(Data!E219-Data!E218)/Data!E218","v":-1.8691588785046745E-2},{"$f":"(Data!F219-Data!F218)/Data!F218","v":-2.3746701846965722E-2},{"$f":"(Data!G219-Data!G218)/Data!G218","v":1.1090573012938873E-2},{"$f":"(Data!H219-Data!H218)/Data!H218","v":2.1641118124436448E-2},{"$f":"(Data!I219-Data!I218)/Data!I218","v":-2.6606099935107028E-2},{"$f":"(Data!J219-Data!J218)/Data!J218","v":4.7491638795986585E-2},{"$f":"(Data!K219-Data!K218)/Data!K218","v":-6.5181966322649587E-3},{"$f":"(Data!L219-Data!L218)/Data!L218","v":1.5766841853798338E-2},{"$f":"(Data!M219-Data!M218)/Data!M218","v":1.7045454545454402E-2}]
[{"$f":"(Data!B220-Data!B219)/Data!B219","v":8.2278481012658996E-3},{"$f":"(Data!C220-Data!C219)/Data!C219","v":2.453468697123512E-2},{"$f":"(Data!D220-Data!D219)/Data!D219","v":1.6616314199395618E-2},{"$f":"(Data!E220-Data!E219)/Data!E219","v":5.238095238095232E-2},{"$f":"(Data!F220-Data!F219)/Data!F219","v":2.4324324324324346E-2},{"$f":"(Data!G220-Data!G219)/Data!G219","v":2.315661182205974E-2},{"$f":"(Data!H220-Data!H219)/Data!H219","v":1.0591350397175649E-2},{"$f":"(Data!I220-Data!I219)/Data!I219","v":-5.7999999999999975E-2},{"$f":"(Data!J220-Data!J219)/Data!J219","v":2.7458492975734307E-2},{"$f":"(Data!K220-Data!K219)/Data!K219","v":-7.107709130672565E-3},{"$f":"(Data!L220-Data!L219)/Data!L219","v":2.8222013170273882E-3},{"$f":"(Data!M220-Data!M219)/Data!M219","v":3.2122905027933149E-2}]
[{"$f":"(Data!B221-Data!B220)/Data!B220","v":-5.0219711236661824E-3},{"$f":"(Data!C221-Data!C220)/Data!C220","v":1.2386457473162594E-2},{"$f":"(Data!D221-Data!D220)/Data!D220","v":-1.1887072808320798E-2},{"$f":"(Data!E221-Data!E220)/Data!E220","v":2.624434389140284E-2},{"$f":"(Data!F221-Data!F220)/Data!F220","v":5.5408970976253344E-2},{"$f":"(Data!G221-Data!G220)/Data!G220","v":1.548540798094105E-2},{"$f":"(Data!H221-Data!H220)/Data!H220","v":-7.8602620087337288E-3},{"$f":"(Data!I221-Data!I220)/Data!I220","v":-2.1939136588818214E-2},{"$f":"(Data!J221-Data!J220)/Data!J220","v":1.4916096954630356E-2},{"$f":"(Data!K221-Data!K220)/Data!K220","v":-5.5066079295154231E-3},{"$f":"(Data!L221-Data!L220)/Data!L220","v":3.0018761726078824E-2},{"$f":"(Data!M221-Data!M220)/Data!M220","v":1.5561569688768392E-2}]
[{"$f":"(Data!B222-Data!B221)/Data!B221","v":1.0094637223974773E-2},{"$f":"(Data!C222-Data!C221)/Data!C221","v":6.0358890701468243E-2},{"$f":"(Data!D222-Data!D221)/Data!D221","v":2.030075187969918E-2},{"$f":"(Data!E222-Data!E221)/Data!E221","v":4.585537918871236E-2},{"$f":"(Data!F222-Data!F221)/Data!F221","v":0.12999999999999998},{"$f":"(Data!G222-Data!G221)/Data!G221","v":2.5219941348973693E-2},{"$f":"(Data!H222-Data!H221)/Data!H221","v":-3.6091549295774586E-2},{"$f":"(Data!I222-Data!I221)/Data!I221","v":-7.2358900144709837E-4},{"$f":"(Data!J222-Data!J221)/Data!J221","v":2.3882424984690568E-2},{"$f":"(Data!K222-Data!K221)/Data!K221","v":3.4330011074197149E-2},{"$f":"(Data!L222-Data!L221)/Data!L221","v":4.4171220400728579E-2},{"$f":"(Data!M222-Data!M221)/Data!M221","v":2.6648900732844795E-2}]
[{"$f":"(Data!B223-Data!B222)/Data!B222","v":1.4366021236727127E-2},{"$f":"(Data!C223-Data!C222)/Data!C222","v":3.5384615384615244E-2},{"$f":"(Data!D223-Data!D222)/Data!D222","v":5.8953574060427467E-3},{"$f":"(Data!E223-Data!E222)/Data!E222","v":-1.2647554806070745E-2},{"$f":"(Data!F223-Data!F222)/Data!F222","v":3.9823008849557556E-2},{"$f":"(Data!G223-Data!G222)/Data!G222","v":5.7208237986263713E-4},{"$f":"(Data!H223-Data!H222)/Data!H222","v":1.5525114155251258E-2},{"$f":"(Data!I223-Data!I222)/Data!I222","v":-5.7929036929761091E-2},{"$f":"(Data!J223-Data!J222)/Data!J222","v":2.4521531100478559E-2},{"$f":"(Data!K223-Data!K222)/Data!K222","v":-1.8736616702355418E-2},{"$f":"(Data!L223-Data!L222)/Data!L222","v":2.4422154382904512E-2},{"$f":"(Data!M223-Data!M222)/Data!M222","v":-1.2978585334198585E-2}]

{"sheet":"1D Vectors","index":4,"n_rows":16,"n_cols":13,"rows_kept":16,"cut":false,"hidden":false,"merged":[]}
[null,"SPASTT01USM661N","SPASTT01KRM661N","SPASTT01GBM661N","SPASTT01ITM661N","SPASTT01GRM661N","SPASTT01DEM661N","SPASTT01CNM661N","SPASTT01RUM661N","SPASTT01INM661N","SPASTT01NOM661N","SPASTT01DKM661N","SPASTT01NLM661N"]
["Means",{"$f":"SUM(Returns!A2:A222)/221","v":3.5540641043310213E-3},{"$f":"SUM(Returns!B2:B222)/221","v":7.8839929565769871E-3},{"$f":"SUM(Returns!C2:C222)/221","v":1.6536276192035035E-3},{"$f":"SUM(Returns!D2:D222)/221","v":4.553164592863637E-4},{"$f":"SUM(Returns!E2:E222)/221","v":-3.2085422939636633E-3},{"$f":"SUM(Returns!F2:F222)/221","v":3.4906950714307058E-3},{"$f":"SUM(Returns!G2:G222)/221","v":6.8392864453920236E-3},{"$f":"SUM(Returns!H2:H222)/221","v":2.074775009323572E-2},{"$f":"SUM(Returns!I2:I222)/221","v":1.1977687682480871E-2},{"$f":"SUM(Returns!J2:J222)/221","v":9.4713824244854559E-3},{"$f":"SUM(Returns!K2:K222)/221","v":8.0681358323274662E-3},{"$f":"SUM(Returns!L2:L222)/221","v":1.5487822050860348E-3}]
[null,1,1,1,1,1,1,1,1,1,1,1,1]
["STD",{"$f":"STDEV(Returns!A2:A222)","v":3.7643151360387164E-2},{"$f":"STDEV(Returns!B2:B222)","v":5.7304728721267323E-2},{"$f":"STDEV(Returns!C2:C222)","v":3.558867845942848E-2},{"$f":"STDEV(Returns!D2:D222)","v":5.1241000469048004E-2},{"$f":"STDEV(Returns!E2:E222)","v":7.6020230336989847E-2},{"$f":"STDEV(Returns!F2:F222)","v":4.9674087107128097E-2},{"$f":"STDEV(Returns!G2:G222)","v":6.8119999000501946E-2},{"$f":"STDEV(Returns!H2:H222)","v":8.9014410741211053E-2},{"$f":"STDEV(Returns!I2:I222)","v":5.9122505734050104E-2},{"$f":"STDEV(Returns!J2:J222)","v":5.0909355569592508E-2},{"$f":"STDEV(Returns!K2:K222)","v":4.5718521658394233E-2},{"$f":"STDEV(Returns!L2:L222)","v":4.6518297848420744E-2}]
["Sharpe",{"$f":"(SUM(Returns!A2:A222)/221)/_xlfn.VAR.P(Returns!A2:A222)","v":2.5195495388233131},{"$f":"(SUM(Returns!B2:B222)/221)/_xlfn.VAR.P(Returns!B2:B222)","v":2.4117645019029879},{"$f":"(SUM(Returns!C2:C222)/221)/_xlfn.VAR.P(Returns!C2:C222)","v":1.3115461821196133},{"$f":"(SUM(Returns!D2:D222)/221)/_xlfn.VAR.P(Returns!D2:D222)","v":0.17419983587698706},{"$f":"(SUM(Returns!E2:E222)/221)/_xlfn.VAR.P(Returns!E2:E222)","v":-0.55772357039862286},{"$f":"(SUM(Returns!F2:F222)/221)/_xlfn.VAR.P(Returns!F2:F222)","v":1.421090435839558},{"$f":"(SUM(Returns!G2:G222)/221)/_xlfn.VAR.P(Returns!G2:G222)","v":1.4805774154262488},{"$f":"(SUM(Returns!H2:H222)/221)/_xlfn.VAR.P(Returns!H2:H222)","v":2.6303888726248172},{"$f":"(SUM(Returns!I2:I222)/221)/_xlfn.VAR.P(Returns!I2:I222)","v":3.4422064449109961},{"$f":"(SUM(Returns!J2:J222)/221)/_xlfn.VAR.P(Returns!J2:J222)","v":3.6710285836909824},{"$f":"(SUM(Returns!K2:K222)/221)/_xlfn.VAR.P(Returns!K2:K222)","v":3.8775591963777787},{"$f":"(SUM(Returns!L2:L222)/221)/_xlfn.VAR.P(Returns!L2:L222)","v":0.7189725554177594}]
[]
["1*V(-1)",{"$f":"MMULT('1D Vectors'!B3:M3,'Var-Covar inverse'!B2:M13)","v":330.33224301066531},12.073092295247164,1027.322867468306,41.259962160702571,-38.951644829935844,-109.63475981385204,144.47921352558154,-24.275215675503013,59.038349102213395,-84.355567977493706,327.69696317625551,-628.21355832345762]
["A (prev*z)",{"$f":"MMULT(B7:M7,'1D Vectors Transposed'!C2:C13)","v":4.7926737454098518}]
[]
["Z*V(-1)",{"$f":"MMULT('1D Vectors'!B2:M2,'Var-Covar inverse'!B2:M13)","v":0.55492016521224208},0.72432341348520146,1.5747952465861763,-1.6550815844283127,-3.4641202316710644,3.132511559974287,0.36616272153720786,1.7229890726414447,3.96516745876675,6.9321958150578995,9.695071343460917,-18.756261235212897]
["B(prev*z)",{"$f":"MMULT( B10:M10,'1D Vectors Transposed'!C2:C13)","v":0.23215798283047739}]
[]
["1'*V(-1)",{"$f":"MMULT('1D Vectors'!B3:M3,'Var-Covar inverse'!B2:M13)","v":330.33224301066531},12.073092295247164,1027.322867468306,41.259962160702571,-38.951644829935844,-109.63475981385204,144.47921352558154,-24.275215675503013,59.038349102213395,-84.355567977493706,327.69696317625551,-628.21355832345762]
["C(prev*1)",{"$f":"MMULT( B13:M13,'1D Vectors Transposed'!B2:B13)","v":1056.7719441187296}]
[]
["D(BC-A^2)",{"$f":"B11*B14-(B8)^2","v":222.36832122850535}]

{"sheet":"1D Vectors Transposed","index":5,"n_rows":13,"n_cols":9,"rows_kept":13,"cut":false,"hidden":false,"merged":[]}
[null,null,"Means",null,"V(-1)*1","V(-1)*z",null,"g","h"]
["SPASTT01USM661N",1,{"$f":"SUM(Returns!A2:A222)/221","v":3.5540641043310213E-3},null,{"$f":"MMULT('Var-Covar inverse'!B2:M13,'1D Vectors Transposed'!B2:B13)","v":330.33224301066502},{"$f":"MMULT('Var-Covar inverse'!B2:M13,'1D Vectors Transposed'!C2:C13)","v":0.55492016521221366},null,{"$f":"(1/'1D Vectors'!$B$16)*('1D Vectors'!$B$11*E2-'1D Vectors'!$B$8*F2)","v":0.3329148481475433},{"$f":"(1/'1D Vectors'!$B$16)*('1D Vectors'!$B$14*F2-'1D Vectors'!$B$8*E2)","v":-4.4824307752600445}]
["SPASTT01KRM661N",1,{"$f":"SUM(Returns!B2:B222)/221","v":7.8839929565769871E-3},null,12.073092295247392,0.72432341348520435,null,{"$f":"(1/'1D Vectors'!$B$16)*('1D Vectors'!$B$11*E3-'1D Vectors'!$B$8*F3)","v":-3.0066380386904895E-3},{"$f":"(1/'1D Vectors'!$B$16)*('1D Vectors'!$B$14*F3-'1D Vectors'!$B$8*E3)","v":3.1820282019533765}]
["SPASTT01GBM661N",1,{"$f":"SUM(Returns!C2:C222)/221","v":1.6536276192035035E-3},null,1027.3228674683055,1.5747952465862101,null,{"$f":"(1/'1D Vectors'!$B$16)*('1D Vectors'!$B$11*E4-'1D Vectors'!$B$8*F4)","v":1.0386089327761125},{"$f":"(1/'1D Vectors'!$B$16)*('1D Vectors'!$B$14*F4-'1D Vectors'!$B$8*E4)","v":-14.657770867017025}]
["SPASTT01ITM661N",1,{"$f":"SUM(Returns!D2:D222)/221","v":4.553164592863637E-4},null,41.259962160702685,-1.6550815844283111,null,{"$f":"(1/'1D Vectors'!$B$16)*('1D Vectors'!$B$11*E5-'1D Vectors'!$B$8*F5)","v":7.8748157769726074E-2},{"$f":"(1/'1D Vectors'!$B$16)*('1D Vectors'!$B$14*F5-'1D Vectors'!$B$8*E5)","v":-8.7547961430850556}]
["SPASTT01GRM661N",1,{"$f":"SUM(Returns!E2:E222)/221","v":-3.2085422939636633E-3},null,-38.951644829935901,-3.4641202316710653,null,{"$f":"(1/'1D Vectors'!$B$16)*('1D Vectors'!$B$11*E6-'1D Vectors'!$B$8*F6)","v":3.3995232557688847E-2},{"$f":"(1/'1D Vectors'!$B$16)*('1D Vectors'!$B$14*F6-'1D Vectors'!$B$8*E6)","v":-15.62319006220814}]
["SPASTT01DEM661N",1,{"$f":"SUM(Returns!F2:F222)/221","v":3.4906950714307058E-3},null,-109.63475981385113,3.1325115599743003,null,{"$f":"(1/'1D Vectors'!$B$16)*('1D Vectors'!$B$11*E7-'1D Vectors'!$B$8*F7)","v":-0.18197596840058336},{"$f":"(1/'1D Vectors'!$B$16)*('1D Vectors'!$B$14*F7-'1D Vectors'!$B$8*E7)","v":17.249732088461194}]
["SPASTT01CNM661N",1,{"$f":"SUM(Returns!G2:G222)/221","v":6.8392864453920236E-3},null,144.47921352558149,0.36616272153720791,null,{"$f":"(1/'1D Vectors'!$B$16)*('1D Vectors'!$B$11*E8-'1D Vectors'!$B$8*F8)","v":0.14294798888331425},{"$f":"(1/'1D Vectors'!$B$16)*('1D Vectors'!$B$14*F8-'1D Vectors'!$B$8*E8)","v":-1.3738073869115368}]
["SPASTT01RUM661N",1,{"$f":"SUM(Returns!H2:H222)/221","v":2.074775009323572E-2},null,-24.275215675502913,1.7229890726414459,null,{"$f":"(1/'1D Vectors'!$B$16)*('1D Vectors'!$B$11*E9-'1D Vectors'!$B$8*F9)","v":-6.2479266467993982E-2},{"$f":"(1/'1D Vectors'!$B$16)*('1D Vectors'!$B$14*F9-'1D Vectors'!$B$8*E9)","v":8.7114463522533878}]
["SPASTT01INM661N",1,{"$f":"SUM(Returns!I2:I222)/221","v":1.1977687682480871E-2},null,59.038349102213118,3.9651674587667478,null,{"$f":"(1/'1D Vectors'!$B$16)*('1D Vectors'!$B$11*E10-'1D Vectors'!$B$8*F10)","v":-2.3823222252641978E-2},{"$f":"(1/'1D Vectors'!$B$16)*('1D Vectors'!$B$14*F10-'1D Vectors'!$B$8*E10)","v":17.571415554410638}]
["SPASTT01NOM661N",1,{"$f":"SUM(Returns!J2:J222)/221","v":9.4713824244854559E-3},null,-84.355567977494388,6.9321958150579039,null,{"$f":"(1/'1D Vectors'!$B$16)*('1D Vectors'!$B$11*E11-'1D Vectors'!$B$8*F11)","v":-0.23747794241238793},{"$f":"(1/'1D Vectors'!$B$16)*('1D Vectors'!$B$14*F11-'1D Vectors'!$B$8*E11)","v":34.7623201079616}]
["SPASTT01DKM661N",1,{"$f":"SUM(Returns!K2:K222)/221","v":8.0681358323274662E-3},null,327.69696317625562,9.6950713434609153,null,{"$f":"(1/'1D Vectors'!$B$16)*('1D Vectors'!$B$11*E12-'1D Vectors'!$B$8*F12)","v":0.13316713414660705},{"$f":"(1/'1D Vectors'!$B$16)*('1D Vectors'!$B$14*F12-'1D Vectors'!$B$8*E12)","v":39.011558445949888}]
["SPASTT01NLM661N",1,{"$f":"SUM(Returns!L2:L222)/221","v":1.5487822050860348E-3},null,-628.21355832345853,-18.756261235212921,null,{"$f":"(1/'1D Vectors'!$B$16)*('1D Vectors'!$B$11*E13-'1D Vectors'!$B$8*F13)","v":-0.25161925670869606},{"$f":"(1/'1D Vectors'!$B$16)*('1D Vectors'!$B$14*F13-'1D Vectors'!$B$8*E13)","v":-75.596505516508245}]

{"sheet":"Var-Covar matrix","index":6,"n_rows":13,"n_cols":13,"rows_kept":13,"cut":false,"hidden":false,"merged":[]}
[null,"SPASTT01USM661N","SPASTT01KRM661N","SPASTT01GBM661N","SPASTT01ITM661N","SPASTT01GRM661N","SPASTT01DEM661N","SPASTT01CNM661N","SPASTT01RUM661N","SPASTT01INM661N","SPASTT01NOM661N","SPASTT01DKM661N","SPASTT01NLM661N"]
["SPASTT01USM661N",{"$f":"_xlfn.COVARIANCE.P(Returns!A2:A222,Returns!A2:A222)","v":1.4105950486652673E-3},{"$f":"_xlfn.COVARIANCE.P(Returns!A2:A222,Returns!B2:B222)","v":1.3878579220641231E-3},{"$f":"_xlfn.COVARIANCE.P(Returns!A2:A222,Returns!C2:C222)","v":1.1677972416561336E-3},{"$f":"_xlfn.COVARIANCE.P(Returns!A2:A222,Returns!D2:D222)","v":1.4520326799590672E-3},{"$f":"_xlfn.COVARIANCE.P(Returns!A2:A222,Returns!E2:E222)","v":1.6535401375874312E-3},{"$f":"_xlfn.COVARIANCE.P(Returns!A2:A222,Returns!F2:F222)","v":1.5113254012618601E-3},{"$f":"_xlfn.COVARIANCE.P(Returns!A2:A222,Returns!G2:G222)","v":6.6372074725168189E-4},{"$f":"_xlfn.COVARIANCE.P(Returns!A2:A222,Returns!H2:H222)","v":1.6386337650839658E-3},{"$f":"_xlfn.COVARIANCE.P(Returns!A2:A222,Returns!I2:I222)","v":1.3569260018702586E-3},{"$f":"_xlfn.COVARIANCE.P(Returns!A2:A222,Returns!J2:J222)","v":1.5188033833030638E-3},{"$f":"_xlfn.COVARIANCE.P(Returns!A2:A222,Returns!K2:K222)","v":1.304285206943269E-3},{"$f":"_xlfn.COVARIANCE.P(Returns!A2:A222,Returns!L2:L222)","v":1.5086455606684427E-3}]
["SPASTT01KRM661N",{"$f":"_xlfn.COVARIANCE.P(Returns!B2:B222,Returns!A2:A222)","v":1.3878579220641231E-3},{"$f":"_xlfn.COVARIANCE.P(Returns!B2:B222,Returns!B2:B222)","v":3.2689729657917155E-3},{"$f":"_xlfn.COVARIANCE.P(Returns!B2:B222,Returns!C2:C222)","v":1.267114522860653E-3},{"$f":"_xlfn.COVARIANCE.P(Returns!B2:B222,Returns!D2:D222)","v":1.5567400363030572E-3},{"$f":"_xlfn.COVARIANCE.P(Returns!B2:B222,Returns!E2:E222)","v":1.7514052573921672E-3},{"$f":"_xlfn.COVARIANCE.P(Returns!B2:B222,Returns!F2:F222)","v":1.8351543037267372E-3},{"$f":"_xlfn.COVARIANCE.P(Returns!B2:B222,Returns!G2:G222)","v":8.8170686115593205E-4},{"$f":"_xlfn.COVARIANCE.P(Returns!B2:B222,Returns!H2:H222)","v":2.4387424773038399E-3},{"$f":"_xlfn.COVARIANCE.P(Returns!B2:B222,Returns!I2:I222)","v":1.9630166298019902E-3},{"$f":"_xlfn.COVARIANCE.P(Returns!B2:B222,Returns!J2:J222)","v":1.7679736727770996E-3},{"$f":"_xlfn.COVARIANCE.P(Returns!B2:B222,Returns!K2:K222)","v":1.4272738419495595E-3},{"$f":"_xlfn.COVARIANCE.P(Returns!B2:B222,Returns!L2:L222)","v":1.746422402009032E-3}]
["SPASTT01GBM661N",{"$f":"_xlfn.COVARIANCE.P(Returns!C2:C222,Returns!A2:A222)","v":1.1677972416561336E-3},{"$f":"_xlfn.COVARIANCE.P(Returns!C2:C222,Returns!B2:B222)","v":1.267114522860653E-3},{"$f":"_xlfn.COVARIANCE.P(Returns!C2:C222,Returns!C2:C222)","v":1.260823020757871E-3},{"$f":"_xlfn.COVARIANCE.P(Returns!C2:C222,Returns!D2:D222)","v":1.3764935127986307E-3},{"$f":"_xlfn.COVARIANCE.P(Returns!C2:C222,Returns!E2:E222)","v":1.3751614062706195E-3},{"$f":"_xlfn.COVARIANCE.P(Returns!C2:C222,Returns!F2:F222)","v":1.4142588513026278E-3},{"$f":"_xlfn.COVARIANCE.P(Returns!C2:C222,Returns!G2:G222)","v":4.6735043388806459E-4},{"$f":"_xlfn.COVARIANCE.P(Returns!C2:C222,Returns!H2:H222)","v":1.4160635994366344E-3},{"$f":"_xlfn.COVARIANCE.P(Returns!C2:C222,Returns!I2:I222)","v":1.1159675615170365E-3},{"$f":"_xlfn.COVARIANCE.P(Returns!C2:C222,Returns!J2:J222)","v":1.375139371995727E-3},{"$f":"_xlfn.COVARIANCE.P(Returns!C2:C222,Returns!K2:K222)","v":1.1733612250708211E-3},{"$f":"_xlfn.COVARIANCE.P(Returns!C2:C222,Returns!L2:L222)","v":1.4518104991273599E-3}]
["SPASTT01ITM661N",{"$f":"_xlfn.COVARIANCE.P(Returns!D2:D222,Returns!A2:A222)","v":1.4520326799590672E-3},{"$f":"_xlfn.COVARIANCE.P(Returns!D2:D222,Returns!B2:B222)","v":1.5567400363030572E-3},{"$f":"_xlfn.COVARIANCE.P(Returns!D2:D222,Returns!C2:C222)","v":1.3764935127986307E-3},{"$f":"_xlfn.COVARIANCE.P(Returns!D2:D222,Returns!D2:D222)","v":2.6137594045030567E-3},{"$f":"_xlfn.COVARIANCE.P(Returns!D2:D222,Returns!E2:E222)","v":2.4107629453176804E-3},{"$f":"_xlfn.COVARIANCE.P(Returns!D2:D222,Returns!F2:F222)","v":2.1851378513822392E-3},{"$f":"_xlfn.COVARIANCE.P(Returns!D2:D222,Returns!G2:G222)","v":8.1216032229479993E-4},{"$f":"_xlfn.COVARIANCE.P(Returns!D2:D222,Returns!H2:H222)","v":1.8815988885534402E-3},{"$f":"_xlfn.COVARIANCE.P(Returns!D2:D222,Returns!I2:I222)","v":1.6477077467789423E-3},{"$f":"_xlfn.COVARIANCE.P(Returns!D2:D222,Returns!J2:J222)","v":1.8858750607986729E-3},{"$f":"_xlfn.COVARIANCE.P(Returns!D2:D222,Returns!K2:K222)","v":1.7575569114294063E-3},{"$f":"_xlfn.COVARIANCE.P(Returns!D2:D222,Returns!L2:L222)","v":2.0259488261000981E-3}]
["SPASTT01GRM661N",{"$f":"_xlfn.COVARIANCE.P(Returns!E2:E222,Returns!A2:A222)","v":1.6535401375874312E-3},{"$f":"_xlfn.COVARIANCE.P(Returns!E2:E222,Returns!B2:B222)","v":1.7514052573921672E-3},{"$f":"_xlfn.COVARIANCE.P(Returns!E2:E222,Returns!C2:C222)","v":1.3751614062706195E-3},{"$f":"_xlfn.COVARIANCE.P(Returns!E2:E222,Returns!D2:D222)","v":2.4107629453176804E-3},{"$f":"_xlfn.COVARIANCE.P(Returns!E2:E222,Returns!E2:E222)","v":5.7529257579528453E-3},{"$f":"_xlfn.COVARIANCE.P(Returns!E2:E222,Returns!F2:F222)","v":2.1057613592418223E-3},{"$f":"_xlfn.COVARIANCE.P(Returns!E2:E222,Returns!G2:G222)","v":8.6911165984507625E-4},{"$f":"_xlfn.COVARIANCE.P(Returns!E2:E222,Returns!H2:H222)","v":2.2415303001548752E-3},{"$f":"_xlfn.COVARIANCE.P(Returns!E2:E222,Returns!I2:I222)","v":2.4632735034976483E-3},{"$f":"_xlfn.COVARIANCE.P(Returns!E2:E222,Returns!J2:J222)","v":2.2312170875039613E-3},{"$f":"_xlfn.COVARIANCE.P(Returns!E2:E222,Returns!K2:K222)","v":1.767017878554826E-3},{"$f":"_xlfn.COVARIANCE.P(Returns!E2:E222,Returns!L2:L222)","v":1.9611611616650558E-3}]
["SPASTT01DEM661N",{"$f":"_xlfn.COVARIANCE.P(Returns!F2:F222,Returns!A2:A222)","v":1.5113254012618601E-3},{"$f":"_xlfn.COVARIANCE.P(Returns!F2:F222,Returns!B2:B222)","v":1.8351543037267372E-3},{"$f":"_xlfn.COVARIANCE.P(Returns!F2:F222,Returns!C2:C222)","v":1.4142588513026278E-3},{"$f":"_xlfn.COVARIANCE.P(Returns!F2:F222,Returns!D2:D222)","v":2.1851378513822392E-3},{"$f":"_xlfn.COVARIANCE.P(Returns!F2:F222,Returns!E2:E222)","v":2.1057613592418223E-3},{"$f":"_xlfn.COVARIANCE.P(Returns!F2:F222,Returns!F2:F222)","v":2.4563497039992773E-3},{"$f":"_xlfn.COVARIANCE.P(Returns!F2:F222,Returns!G2:G222)","v":8.734141034677091E-4},{"$f":"_xlfn.COVARIANCE.P(Returns!F2:F222,Returns!H2:H222)","v":2.0669301278390434E-3},{"$f":"_xlfn.COVARIANCE.P(Returns!F2:F222,Returns!I2:I222)","v":1.7119491542956387E-3},{"$f":"_xlfn.COVARIANCE.P(Returns!F2:F222,Returns!J2:J222)","v":1.9450413062367322E-3},{"$f":"_xlfn.COVARIANCE.P(Returns!F2:F222,Returns!K2:K222)","v":1.8058096672298578E-3},{"$f":"_xlfn.COVARIANCE.P(Returns!F2:F222,Returns!L2:L222)","v":2.0978525606712138E-3}]
["SPASTT01CNM661N",{"$f":"_xlfn.COVARIANCE.P(Returns!G2:G222,Returns!A2:A222)","v":6.6372074725168189E-4},{"$f":"_xlfn.COVARIANCE.P(Returns!G2:G222,Returns!B2:B222)","v":8.8170686115593205E-4},{"$f":"_xlfn.COVARIANCE.P(Returns!G2:G222,Returns!C2:C222)","v":4.6735043388806459E-4},{"$f":"_xlfn.COVARIANCE.P(Returns!G2:G222,Returns!D2:D222)","v":8.1216032229479993E-4},{"$f":"_xlfn.COVARIANCE.P(Returns!G2:G222,Returns!E2:E222)","v":8.6911165984507625E-4},{"$f":"_xlfn.COVARIANCE.P(Returns!G2:G222,Returns!F2:F222)","v":8.734141034677091E-4},{"$f":"_xlfn.COVARIANCE.P(Returns!G2:G222,Returns!G2:G222)","v":4.6193372762092545E-3},{"$f":"_xlfn.COVARIANCE.P(Returns!G2:G222,Returns!H2:H222)","v":1.3724164669631567E-3},{"$f":"_xlfn.COVARIANCE.P(Returns!G2:G222,Returns!I2:I222)","v":1.0207471574605229E-3},{"$f":"_xlfn.COVARIANCE.P(Returns!G2:G222,Returns!J2:J222)","v":8.3305646563469626E-4},{"$f":"_xlfn.COVARIANCE.P(Returns!G2:G222,Returns!K2:K222)","v":6.5010843901361771E-4},{"$f":"_xlfn.COVARIANCE.P(Returns!G2:G222,Returns!L2:L222)","v":7.179473464734101E-4}]
["SPASTT01RUM661N",{"$f":"_xlfn.COVARIANCE.P(Returns!H2:H222,Returns!A2:A222)","v":1.6386337650839658E-3},{"$f":"_xlfn.COVARIANCE.P(Returns!H2:H222,Returns!B2:B222)","v":2.4387424773038399E-3},{"$f":"_xlfn.COVARIANCE.P(Returns!H2:H222,Returns!C2:C222)","v":1.4160635994366344E-3},{"$f":"_xlfn.COVARIANCE.P(Returns!H2:H222,Returns!D2:D222)","v":1.8815988885534402E-3},{"$f":"_xlfn.COVARIANCE.P(Returns!H2:H222,Returns!E2:E222)","v":2.2415303001548752E-3},{"$f":"_xlfn.COVARIANCE.P(Returns!H2:H222,Returns!F2:F222)","v":2.0669301278390434E-3},{"$f":"_xlfn.COVARIANCE.P(Returns!H2:H222,Returns!G2:G222)","v":1.3724164669631567E-3},{"$f":"_xlfn.COVARIANCE.P(Returns!H2:H222,Returns!H2:H222)","v":7.887712082864741E-3},{"$f":"_xlfn.COVARIANCE.P(Returns!H2:H222,Returns!I2:I222)","v":2.3785951399802811E-3},{"$f":"_xlfn.COVARIANCE.P(Returns!H2:H222,Returns!J2:J222)","v":2.6273288112469992E-3},{"$f":"_xlfn.COVARIANCE.P(Returns!H2:H222,Returns!K2:K222)","v":1.6812968402151278E-3},{"$f":"_xlfn.COVARIANCE.P(Returns!H2:H222,Returns!L2:L222)","v":2.0148743594436544E-3}]
["SPASTT01INM661N",{"$f":"_xlfn.COVARIANCE.P(Returns!I2:I222,Returns!A2:A222)","v":1.3569260018702586E-3},{"$f":"_xlfn.COVARIANCE.P(Returns!I2:I222,Returns!B2:B222)","v":1.9630166298019902E-3},{"$f":"_xlfn.COVARIANCE.P(Returns!I2:I222,Returns!C2:C222)","v":1.1159675615170365E-3},{"$f":"_xlfn.COVARIANCE.P(Returns!I2:I222,Returns!D2:D222)","v":1.6477077467789423E-3},{"$f":"_xlfn.COVARIANCE.P(Returns!I2:I222,Returns!E2:E222)","v":2.4632735034976483E-3},{"$f":"_xlfn.COVARIANCE.P(Returns!I2:I222,Returns!F2:F222)","v":1.7119491542956387E-3},{"$f":"_xlfn.COVARIANCE.P(Returns!I2:I222,Returns!G2:G222)","v":1.0207471574605229E-3},{"$f":"_xlfn.COVARIANCE.P(Returns!I2:I222,Returns!H2:H222)","v":2.3785951399802811E-3},{"$f":"_xlfn.COVARIANCE.P(Returns!I2:I222,Returns!I2:I222)","v":3.4796540748416893E-3},{"$f":"_xlfn.COVARIANCE.P(Returns!I2:I222,Returns!J2:J222)","v":1.7598141438773709E-3},{"$f":"_xlfn.COVARIANCE.P(Returns!I2:I222,Returns!K2:K222)","v":1.3621793540367427E-3},{"$f":"_xlfn.COVARIANCE.P(Returns!I2:I222,Returns!L2:L222)","v":1.585197466143038E-3}]
["SPASTT01NOM661N",{"$f":"_xlfn.COVARIANCE.P(Returns!J2:J222,Returns!A2:A222)","v":1.5188033833030638E-3},{"$f":"_xlfn.COVARIANCE.P(Returns!J2:J222,Returns!B2:B222)","v":1.7679736727770996E-3},{"$f":"_xlfn.COVARIANCE.P(Returns!J2:J222,Returns!C2:C222)","v":1.375139371995727E-3},{"$f":"_xlfn.COVARIANCE.P(Returns!J2:J222,Returns!D2:D222)","v":1.8858750607986729E-3},{"$f":"_xlfn.COVARIANCE.P(Returns!J2:J222,Returns!E2:E222)","v":2.2312170875039613E-3},{"$f":"_xlfn.COVARIANCE.P(Returns!J2:J222,Returns!F2:F222)","v":1.9450413062367322E-3},{"$f":"_xlfn.COVARIANCE.P(Returns!J2:J222,Returns!G2:G222)","v":8.3305646563469626E-4},{"$f":"_xlfn.COVARIANCE.P(Returns!J2:J222,Returns!H2:H222)","v":2.6273288112469992E-3},{"$f":"_xlfn.COVARIANCE.P(Returns!J2:J222,Returns!I2:I222)","v":1.7598141438773709E-3},{"$f":"_xlfn.COVARIANCE.P(Returns!J2:J222,Returns!J2:J222)","v":2.580035052454588E-3},{"$f":"_xlfn.COVARIANCE.P(Returns!J2:J222,Returns!K2:K222)","v":1.8180504222488516E-3},{"$f":"_xlfn.COVARIANCE.P(Returns!J2:J222,Returns!L2:L222)","v":1.9930011645881542E-3}]
["SPASTT01DKM661N",{"$f":"_xlfn.COVARIANCE.P(Returns!K2:K222,Returns!A2:A222)","v":1.304285206943269E-3},{"$f":"_xlfn.COVARIANCE.P(Returns!K2:K222,Returns!B2:B222)","v":1.4272738419495595E-3},{"$f":"_xlfn.COVARIANCE.P(Returns!K2:K222,Returns!C2:C222)","v":1.1733612250708211E-3},{"$f":"_xlfn.COVARIANCE.P(Returns!K2:K222,Returns!D2:D222)","v":1.7575569114294063E-3},{"$f":"_xlfn.COVARIANCE.P(Returns!K2:K222,Returns!E2:E222)","v":1.767017878554826E-3},{"$f":"_xlfn.COVARIANCE.P(Returns!K2:K222,Returns!F2:F222)","v":1.8058096672298578E-3},{"$f":"_xlfn.COVARIANCE.P(Returns!K2:K222,Returns!G2:G222)","v":6.5010843901361771E-4},{"$f":"_xlfn.COVARIANCE.P(Returns!K2:K222,Returns!H2:H222)","v":1.6812968402151278E-3},{"$f":"_xlfn.COVARIANCE.P(Returns!K2:K222,Returns!I2:I222)","v":1.3621793540367427E-3},{"$f":"_xlfn.COVARIANCE.P(Returns!K2:K222,Returns!J2:J222)","v":1.8180504222488516E-3},{"$f":"_xlfn.COVARIANCE.P(Returns!K2:K222,Returns!K2:K222)","v":2.0807253799927324E-3},{"$f":"_xlfn.COVARIANCE.P(Returns!K2:K222,Returns!L2:L222)","v":1.784787489835997E-3}]
["SPASTT01NLM661N",{"$f":"_xlfn.COVARIANCE.P(Returns!L2:L222,Returns!A2:A222)","v":1.5086455606684427E-3},{"$f":"_xlfn.COVARIANCE.P(Returns!L2:L222,Returns!B2:B222)","v":1.746422402009032E-3},{"$f":"_xlfn.COVARIANCE.P(Returns!L2:L222,Returns!C2:C222)","v":1.4518104991273599E-3},{"$f":"_xlfn.COVARIANCE.P(Returns!L2:L222,Returns!D2:D222)","v":2.0259488261000981E-3},{"$f":"_xlfn.COVARIANCE.P(Returns!L2:L222,Returns!E2:E222)","v":1.9611611616650558E-3},{"$f":"_xlfn.COVARIANCE.P(Returns!L2:L222,Returns!F2:F222)","v":2.0978525606712138E-3},{"$f":"_xlfn.COVARIANCE.P(Returns!L2:L222,Returns!G2:G222)","v":7.179473464734101E-4},{"$f":"_xlfn.COVARIANCE.P(Returns!L2:L222,Returns!H2:H222)","v":2.0148743594436544E-3},{"$f":"_xlfn.COVARIANCE.P(Returns!L2:L222,Returns!I2:I222)","v":1.585197466143038E-3},{"$f":"_xlfn.COVARIANCE.P(Returns!L2:L222,Returns!J2:J222)","v":1.9930011645881542E-3},{"$f":"_xlfn.COVARIANCE.P(Returns!L2:L222,Returns!K2:K222)","v":1.784787489835997E-3},{"$f":"_xlfn.COVARIANCE.P(Returns!L2:L222,Returns!L2:L222)","v":2.1541603965482574E-3}]

{"sheet":"Var-Covar inverse","index":7,"n_rows":13,"n_cols":13,"rows_kept":13,"cut":false,"hidden":false,"merged":[]}
[null,"SPASTT01USM661N","SPASTT01KRM661N","SPASTT01GBM661N","SPASTT01ITM661N","SPASTT01GRM661N","SPASTT01DEM661N","SPASTT01CNM661N","SPASTT01RUM661N","SPASTT01INM661N","SPASTT01NOM661N","SPASTT01DKM661N","SPASTT01NLM661N"]
["SPASTT01USM661N",{"$f":"MINVERSE('Var-Covar matrix'!B2:M13)","v":4352.4105585190564},-111.86263788978732,-2230.5304449499513,122.86426496269874,-171.23545858998241,-182.41009584802401,-102.88898518216936,-30.266090817266853,-227.85714411728094,-285.62294083489644,-353.32173368096079,-448.94704856077078]
["SPASTT01KRM661N",-111.86263788978718,662.97936601396975,-118.36022107395975,174.1445723901812,15.231407714354654,-224.24831310363277,-12.684966321916319,-53.8504140084437,-158.04502397829569,-11.369745823983054,42.931530247985869,-192.79246187122564]
["SPASTT01GBM661N",-2230.5304449499513,-118.36022107395985,4793.6467047912711,-173.69592871103953,66.681657292831886,165.01747842909592,83.317880985968031,22.286307819544483,112.70344099842013,-26.997776317686085,411.1574453124104,-2077.9036771085994]
["SPASTT01ITM661N",122.8642649626957,174.14457239018091,-173.69592871103768,1915.0977052886692,-241.36142437256493,-895.40515308909403,-29.716983299489556,3.9461358719190658,-24.640905202156151,105.24195398313741,-132.08232237755544,-783.13195328400172]
["SPASTT01GRM661N",-171.23545858998247,15.231407714354757,66.68165729283217,-241.36142437256501,337.17243333596281,12.147115308991753,11.534892189980569,13.221051574804722,-110.88854554900426,-140.55026758123907,16.526284482977349,152.56920936295077]
["SPASTT01DEM661N",-182.41009584802106,-224.24831310363254,165.01747842909509,-895.40515308909369,12.147115308991676,3070.1790505513627,-62.994366635042027,-25.063422138343572,-81.701375118650972,189.8428735578392,-253.00087625907392,-1821.9976754692821]
["SPASTT01CNM661N",-102.88898518216939,-12.684966321916317,83.317880985968003,-29.716983299489588,11.534892189980583,-62.994366635041906,242.63527158293721,-16.762614970982131,-28.544577973858328,-17.887988657457619,6.5380865623193136,71.933565245291675]
["SPASTT01RUM661N",-30.266090817266882,-53.850414008443686,22.286307819544856,3.9461358719190809,13.221051574804754,-25.063422138343398,-16.762614970982128,207.40424275481658,-38.197590479259162,-201.18025421942798,57.512311740027251,36.675121197107799]
["SPASTT01INM661N",-227.85714411728046,-158.04502397829577,112.70344099841911,-24.640905202156521,-110.88854554900419,-81.701375118651129,-28.544577973858328,-38.197590479259098,585.55296782953553,-65.179315659534609,33.491452045433832,62.344966306864805]
["SPASTT01NOM661N",-285.62294083489599,-11.369745823983115,-26.997776317688427,105.24195398313681,-140.55026758123927,189.8428735578386,-17.887988657457651,-201.18025421942804,-65.179315659534197,1832.7770210537894,-474.78403260360585,-988.6450948744266]
["SPASTT01DKM661N",-353.32173368095948,42.931530247985854,411.15744531240932,-132.0823223775557,16.526284482977708,-253.000876259074,6.5380865623193305,57.512311740027201,33.491452045433562,-474.78403260360574,1883.6129139245888,-910.88409621829123]
["SPASTT01NLM661N",-448.94704856077311,-192.79246187122547,-2077.9036771085971,-783.13195328400218,152.56920936295091,-1821.9976754692798,71.933565245291746,36.675121197108318,62.344966306863803,-988.64509487442922,-910.88409621829135,6272.5655869509246]

{"sheet":"Risk-return","index":8,"n_rows":18,"n_cols":501,"rows_kept":18,"cut":false,"hidden":false,"merged":[]}
[]
[]
["Ep",9.9999997473787516E-5,1.9999999494757503E-4,2.9999998514540493E-4,3.9999998989515007E-4,4.9999996554106474E-4,5.9999997029080987E-4,6.99999975040555E-4,7.9999997979030013E-4,8.9999998454004526E-4,9.9999993108212948E-4,1.0999998776242137E-3,1.1999998241662979E-3,1.2999997707083821E-3,1.3999997172504663E-3,1.4999996637925506E-3,1.5999996103346348E-3,1.699999556876719E-3,1.7999995034188032E-3,1.8999994499608874E-3,1.9999993965029716E-3,2.0999994594603777E-3,2.1999995224177837E-3,2.2999995853751898E-3,2.3999996483325958E-3,2.4999997112900019E-3,2.5999997742474079E-3,2.699999837204814E-3,2.79999990016222E-3,2.899999963119626E-3,3.0000000260770321E-3,3.1000000890344381E-3,3.2000001519918442E-3,3.3000002149492502E-3,3.4000002779066563E-3,3.5000003408640623E-3,3.6000004038214684E-3,3.7000004667788744E-3,3.8000005297362804E-3,3.9000005926936865E-3,4.0000006556510925E-3,4.1000004857778549E-3,4.2000003159046173E-3,4.3000001460313797E-3,4.3999999761581421E-3,4.4999998062849045E-3,4.5999996364116669E-3,4.6999994665384293E-3,4.7999992966651917E-3,4.899999126791954E-3,4.9999989569187164E-3,5.0999987870454788E-3,5.1999986171722412E-3,5.2999984472990036E-3,5.399998277425766E-3,5.4999981075525284E-3,5.5999979376792908E-3,5.6999977678060532E-3,5.7999975979328156E-3,5.8999974280595779E-3,5.9999972581863403E-3,6.0999970883131027E-3,6.1999969184398651E-3,6.2999967485666275E-3,6.3999965786933899E-3,6.4999964088201523E-3,6.5999962389469147E-3,6.6999960690736771E-3,6.7999958992004395E-3,6.8999957293272018E-3,6.9999955594539642E-3,7.0999953895807266E-3,7.199995219707489E-3,7.2999950498342514E-3,7.3999948799610138E-3,7.4999947100877762E-3,7.5999945402145386E-3,7.699994370341301E-3,7.7999942004680634E-3,7.8999940305948257E-3,7.9999938607215881E-3,8.0999936908483505E-3,8.1999935209751129E-3,8.2999933511018753E-3,8.3999931812286377E-3,8.4999930113554001E-3,8.5999928414821625E-3,8.6999926716089249E-3,8.7999925017356873E-3,8.8999923318624496E-3,8.999992161989212E-3,9.0999919921159744E-3,9.1999918222427368E-3,9.2999916523694992E-3,9.3999914824962616E-3,9.499991312623024E-3,9.5999911427497864E-3,9.6999909728765488E-3,9.7999908030033112E-3,9.8999906331300735E-3,9.9999904632568359E-3,1.0099990293383598E-2,1.0199990123510361E-2,1.0299989953637123E-2,1.0399989783763885E-2,1.0499989613890648E-2,1.059998944401741E-2,1.0699989274144173E-2,1.0799989104270935E-2,1.0899988934397697E-2,1.099998876452446E-2,1.1099988594651222E-2,1.1199988424777985E-2,1.1299988254904747E-2,1.1399988085031509E-2,1.1499987915158272E-2,1.1599987745285034E-2,1.1699987575411797E-2,1.1799987405538559E-2,1.1899987235665321E-2,1.1999987065792084E-2,1.2099986895918846E-2,1.2199986726045609E-2,1.2299986556172371E-2,1.2399986386299133E-2,1.2499986216425896E-2,1.2599986046552658E-2,1.269998587667942E-2,1.2799985706806183E-2,1.2899985536932945E-2,1.2999985367059708E-2,1.309998519718647E-2,1.3199985027313232E-2,1.3299984857439995E-2,1.3399984687566757E-2,1.349998451769352E-2,1.3599984347820282E-2,1.3699984177947044E-2,1.3799984008073807E-2,1.3899983838200569E-2,1.3999983668327332E-2,1.4099983498454094E-2,1.4199983328580856E-2,1.4299983158707619E-2,1.4399982988834381E-2,1.4499982818961143E-2,1.4599982649087906E-2,1.4699982479214668E-2,1.4799982309341431E-2,1.4899982139468193E-2,1.4999981969594955E-2,1.5099981799721718E-2,1.519998162984848E-2,1.5299981459975243E-2,1.5399981290102005E-2,1.5499981120228767E-2,1.559998095035553E-2,1.5699980780482292E-2,1.5799980610609055E-2,1.5899980440735817E-2,1.5999980270862579E-2,1.6099980100989342E-2,1.6199979931116104E-2,1.6299979761242867E-2,1.6399979591369629E-2,1.6499979421496391E-2,1.6599979251623154E-2,1.6699979081749916E-2,1.6799978911876678E-2,1.6899978742003441E-2,1.6999978572130203E-2,1.7099978402256966E-2,1.7199978232383728E-2,1.729997806251049E-2,1.7399977892637253E-2,1.7499977722764015E-2,1.7599977552890778E-2,1.769997738301754E-2,1.7799977213144302E-2,1.7899977043271065E-2,1.7999976873397827E-2,1.809997670352459E-2,1.8199976533651352E-2,1.8299976363778114E-2,1.8399976193904877E-2,1.8499976024031639E-2,1.8599975854158401E-2,1.8699975684285164E-2,1.8799975514411926E-2,1.8899975344538689E-2,1.8999975174665451E-2,1.9099975004792213E-2,1.9199974834918976E-2,1.9299974665045738E-2,1.9399974495172501E-2,1.9499974325299263E-2,1.9599974155426025E-2,1.9699973985552788E-2,1.979997381567955E-2,1.9899973645806313E-2,1.9999973475933075E-2,2.0099973306059837E-2,2.01999731361866E-2,2.0299972966313362E-2,2.0399972796440125E-2,2.0499972626566887E-2,2.0599972456693649E-2,2.0699972286820412E-2,2.0799972116947174E-2,2.0899971947073936E-2,2.0999971777200699E-2,2.1099971607327461E-2,2.1199971437454224E-2,2.1299971267580986E-2,2.1399971097707748E-2,2.1499970927834511E-2,2.1599970757961273E-2,2.1699970588088036E-2,2.1799970418214798E-2,2.189997024834156E-2,2.1999970078468323E-2,2.2099969908595085E-2,2.2199969738721848E-2,2.229996956884861E-2,2.2399969398975372E-2,2.2499969229102135E-2,2.2599969059228897E-2,2.2699968889355659E-2,2.2799968719482422E-2,2.2899968549609184E-2,2.2999968379735947E-2,2.3099968209862709E-2,2.3199968039989471E-2,2.3299967870116234E-2,2.3399967700242996E-2,2.3499967530369759E-2,2.3599967360496521E-2,2.3699967190623283E-2,2.3799967020750046E-2,2.3899966850876808E-2,2.3999966681003571E-2,2.4099966511130333E-2,2.4199966341257095E-2,2.4299966171383858E-2,2.439996600151062E-2,2.4499965831637383E-2,2.4599965661764145E-2,2.4699965491890907E-2,2.479996532201767E-2,2.4899965152144432E-2,2.4999964982271194E-2,2.5099964812397957E-2,2.5199964642524719E-2,2.5299964472651482E-2,2.5399964302778244E-2,2.5499964132905006E-2,2.5599963963031769E-2,2.5699963793158531E-2,2.5799963623285294E-2,2.5899963453412056E-2,2.5999963283538818E-2,2.6099963113665581E-2,2.6199962943792343E-2,2.6299962773919106E-2,2.6399962604045868E-2,2.649996243417263E-2,2.6599962264299393E-2,2.6699962094426155E-2,2.6799961924552917E-2,2.689996175467968E-2,2.6999961584806442E-2,2.7099961414933205E-2,2.7199961245059967E-2,2.7299961075186729E-2,2.7399960905313492E-2,2.7499960735440254E-2,2.7599960565567017E-2,2.7699960395693779E-2,2.7799960225820541E-2,2.7899960055947304E-2,2.7999959886074066E-2,2.8099959716200829E-2,2.8199959546327591E-2,2.8299959376454353E-2,2.8399959206581116E-2,2.8499959036707878E-2,2.8599958866834641E-2,2.8699958696961403E-2,2.8799958527088165E-2,2.8899958357214928E-2,2.899995818734169E-2,2.9099958017468452E-2,2.9199957847595215E-2,2.9299957677721977E-2,2.939995750784874E-2,2.9499957337975502E-2,2.9599957168102264E-2,2.9699956998229027E-2,2.9799956828355789E-2,2.9899956658482552E-2,2.9999956488609314E-2,3.0099956318736076E-2,3.0199956148862839E-2,3.0299955978989601E-2,3.0399955809116364E-2,3.0499955639243126E-2,3.0599955469369888E-2,3.0699955299496651E-2,3.0799955129623413E-2,3.0899954959750175E-2,3.0999954789876938E-2,3.10999546200037E-2,3.1199954450130463E-2,3.1299956142902374E-2,3.1399957835674286E-2,3.1499959528446198E-2,3.1599961221218109E-2,3.1699962913990021E-2,3.1799964606761932E-2,3.1899966299533844E-2,3.1999967992305756E-2,3.2099969685077667E-2,3.2199971377849579E-2,3.229997307062149E-2,3.2399974763393402E-2,3.2499976456165314E-2,3.2599978148937225E-2,3.2699979841709137E-2,3.2799981534481049E-2,3.289998322725296E-2,3.2999984920024872E-2,3.3099986612796783E-2,3.3199988305568695E-2,3.3299989998340607E-2,3.3399991691112518E-2,3.349999338388443E-2,3.3599995076656342E-2,3.3699996769428253E-2,3.3799998462200165E-2,3.3900000154972076E-2,3.4000001847743988E-2,3.41000035405159E-2,3.4200005233287811E-2,3.4300006926059723E-2,3.4400008618831635E-2,3.4500010311603546E-2,3.4600012004375458E-2,3.4700013697147369E-2,3.4800015389919281E-2,3.4900017082691193E-2,3.5000018775463104E-2,3.5100020468235016E-2,3.5200022161006927E-2,3.5300023853778839E-2,3.5400025546550751E-2,3.5500027239322662E-2,3.5600028932094574E-2,3.5700030624866486E-2,3.5800032317638397E-2,3.5900034010410309E-2,3.600003570318222E-2,3.6100037395954132E-2,3.6200039088726044E-2,3.6300040781497955E-2,3.6400042474269867E-2,3.6500044167041779E-2,3.660004585981369E-2,3.6700047552585602E-2,3.6800049245357513E-2,3.6900050938129425E-2,3.7000052630901337E-2,3.7100054323673248E-2,3.720005601644516E-2,3.7300057709217072E-2,3.7400059401988983E-2,3.7500061094760895E-2,3.7600062787532806E-2,3.7700064480304718E-2,3.780006617307663E-2,3.7900067865848541E-2,3.8000069558620453E-2,3.8100071251392365E-2,3.8200072944164276E-2,3.8300074636936188E-2,3.8400076329708099E-2,3.8500078022480011E-2,3.8600079715251923E-2,3.8700081408023834E-2,3.8800083100795746E-2,3.8900084793567657E-2,3.9000086486339569E-2,3.9100088179111481E-2,3.9200089871883392E-2,3.9300091564655304E-2,3.9400093257427216E-2,3.9500094950199127E-2,3.9600096642971039E-2,3.970009833574295E-2,3.9800100028514862E-2,3.9900101721286774E-2,4.0000103414058685E-2,4.0100105106830597E-2,4.0200106799602509E-2,4.030010849237442E-2,4.0400110185146332E-2,4.0500111877918243E-2,4.0600113570690155E-2,4.0700115263462067E-2,4.0800116956233978E-2,4.090011864900589E-2,4.1000120341777802E-2,4.1100122034549713E-2,4.1200123727321625E-2,4.1300125420093536E-2,4.1400127112865448E-2,4.150012880563736E-2,4.1600130498409271E-2,4.1700132191181183E-2,4.1800133883953094E-2,4.1900135576725006E-2,4.2000137269496918E-2,4.2100138962268829E-2,4.2200140655040741E-2,4.2300142347812653E-2,4.2400144040584564E-2,4.2500145733356476E-2,4.2600147426128387E-2,4.2700149118900299E-2,4.2800150811672211E-2,4.2900152504444122E-2,4.3000154197216034E-2,4.3100155889987946E-2,4.3200157582759857E-2,4.3300159275531769E-2,4.340016096830368E-2,4.3500162661075592E-2,4.3600164353847504E-2,4.3700166046619415E-2,4.3800167739391327E-2,4.3900169432163239E-2,4.400017112493515E-2,4.4100172817707062E-2,4.4200174510478973E-2,4.4300176203250885E-2,4.4400177896022797E-2,4.4500179588794708E-2,4.460018128156662E-2,4.4700182974338531E-2,4.4800184667110443E-2,4.4900186359882355E-2,4.5000188052654266E-2,4.5100189745426178E-2,4.520019143819809E-2,4.5300193130970001E-2,4.5400194823741913E-2,4.5500196516513824E-2,4.5600198209285736E-2,4.5700199902057648E-2,4.5800201594829559E-2,4.5900203287601471E-2,4.6000204980373383E-2,4.6100206673145294E-2,4.6200208365917206E-2,4.6300210058689117E-2,4.6400211751461029E-2,4.6500213444232941E-2,4.6600215137004852E-2,4.6700216829776764E-2,4.6800218522548676E-2,4.6900220215320587E-2,4.7000221908092499E-2,4.710022360086441E-2,4.7200225293636322E-2,4.7300226986408234E-2,4.7400228679180145E-2,4.7500230371952057E-2,4.7600232064723969E-2,4.770023375749588E-2,4.7800235450267792E-2,4.7900237143039703E-2,4.8000238835811615E-2,4.8100240528583527E-2,4.8200242221355438E-2,4.830024391412735E-2,4.8400245606899261E-2,4.8500247299671173E-2,4.8600248992443085E-2,4.8700250685214996E-2,4.8800252377986908E-2,4.890025407075882E-2,4.9000255763530731E-2,4.9100257456302643E-2,4.9200259149074554E-2,4.9300260841846466E-2,4.9400262534618378E-2,4.9500264227390289E-2,4.9600265920162201E-2,4.9700267612934113E-2,4.9800269305706024E-2,4.9900270998477936E-2]
["Variance",{"$f":"((1/'1D Vectors'!B16))*(('1D Vectors'!B14*'Risk-return'!B3^2-2*'1D Vectors'!B8*'Risk-return'!B3+'1D Vectors'!B11))","v":1.0397614846717588E-3},{"$f":"((1/'1D Vectors'!B16))*(('1D Vectors'!B14*'Risk-return'!C3^2-2*'1D Vectors'!B8*'Risk-return'!C3+'1D Vectors'!B11))","v":1.0355934828492638E-3},{"$f":"((1/'1D Vectors'!B16))*(('1D Vectors'!B14*'Risk-return'!D3^2-2*'1D Vectors'!B8*'Risk-return'!D3+'1D Vectors'!B11))","v":1.0315205283016097E-3},{"$f":"((1/'1D Vectors'!B16))*(('1D Vectors'!B14*'Risk-return'!E3^2-2*'1D Vectors'!B8*'Risk-return'!E3+'1D Vectors'!B11))","v":1.0275426201501302E-3},{"$f":"((1/'1D Vectors'!B16))*(('1D Vectors'!B14*'Risk-return'!F3^2-2*'1D Vectors'!B8*'Risk-return'!F3+'1D Vectors'!B11))","v":1.023659760110664E-3},{"$f":"((1/'1D Vectors'!B16))*(('1D Vectors'!B14*'Risk-return'!G3^2-2*'1D Vectors'!B8*'Risk-return'!G3+'1D Vectors'!B11))","v":1.0198719459230887E-3},{"$f":"((1/'1D Vectors'!B16))*(('1D Vectors'!B14*'Risk-return'!H3^2-2*'1D Vectors'!B8*'Risk-return'!H3+'1D Vectors'!B11))","v":1.0161791787312968E-3},{"$f":"((1/'1D Vectors'!B16))*(('1D Vectors'!B14*'Risk-return'!I3^2-2*'1D Vectors'!B8*'Risk-return'!I3+'1D Vectors'!B11))","v":1.0125814585352879E-3},{"$f":"((1/'1D Vectors'!B16))*(('1D Vectors'!B14*'Risk-return'!J3^2-2*'1D Vectors'!B8*'Risk-return'!J3+'1D Vectors'!B11))","v":1.0090787853350622E-3},{"$f":"((1/'1D Vectors'!B16))*(('1D Vectors'!B14*'Risk-return'!K3^2-2*'1D Vectors'!B8*'Risk-return'!K3+'1D Vectors'!B11))","v":1.005671161086457E-3},{"$f":"((1/'1D Vectors'!B16))*(('1D Vectors'!B14*'Risk-return'!L3^2-2*'1D Vectors'!B8*'Risk-return'!L3+'1D Vectors'!B11))","v":1.0023585837229858E-3},{"$f":"((1/'1D Vectors'!B16))*(('1D Vectors'!B14*'Risk-return'!M3^2-2*'1D Vectors'!B8*'Risk-return'!M3+'1D Vectors'!B11))","v":9.9914105324464876E-4},{"$f":"((1/'1D Vectors'!B16))*(('1D Vectors'!B14*'Risk-return'!N3^2-2*'1D Vectors'!B8*'Risk-return'!N3+'1D Vectors'!B11))","v":9.9601856965144558E-4},{"$f":"((1/'1D Vectors'!B16))*(('1D Vectors'!B14*'Risk-return'!O3^2-2*'1D Vectors'!B8*'Risk-return'!O3+'1D Vectors'!B11))","v":9.9299113294337629E-4},{"$f":"((1/'1D Vectors'!B16))*(('1D Vectors'!B14*'Risk-return'!P3^2-2*'1D Vectors'!B8*'Risk-return'!P3+'1D Vectors'!B11))","v":9.9005874312044131E-4},{"$f":"((1/'1D Vectors'!B16))*(('1D Vectors'!B14*'Risk-return'!Q3^2-2*'1D Vectors'!B8*'Risk-return'!Q3+'1D Vectors'!B11))","v":9.8722140018264021E-4},{"$f":"((1/'1D Vectors'!B16))*(('1D Vectors'!B14*'Risk-return'!R3^2-2*'1D Vectors'!B8*'Risk-return'!R3+'1D Vectors'!B11))","v":9.8447910412997322E-4},{"$f":"((1/'1D Vectors'!B16))*(('1D Vectors'!B14*'Risk-return'!S3^2-2*'1D Vectors'!B8*'Risk-return'!S3+'1D Vectors'!B11))","v":9.818318549624401E-4},{"$f":"((1/'1D Vectors'!B16))*(('1D Vectors'!B14*'Risk-return'!T3^2-2*'1D Vectors'!B8*'Risk-return'!T3+'1D Vectors'!B11))","v":9.7927965268004087E-4},{"$f":"((1/'1D Vectors'!B16))*(('1D Vectors'!B14*'Risk-return'!U3^2-2*'1D Vectors'!B8*'Risk-return'!U3+'1D Vectors'!B11))","v":9.7682249728277596E-4},{"$f":"((1/'1D Vectors'!B16))*(('1D Vectors'!B14*'Risk-return'!V3^2-2*'1D Vectors'!B8*'Risk-return'!V3+'1D Vectors'!B11))","v":9.7446038607611185E-4},{"$f":"((1/'1D Vectors'!B16))*(('1D Vectors'!B14*'Risk-return'!W3^2-2*'1D Vectors'!B8*'Risk-return'!W3+'1D Vectors'!B11))","v":9.7219332197588041E-4},{"$f":"((1/'1D Vectors'!B16))*(('1D Vectors'!B14*'Risk-return'!X3^2-2*'1D Vectors'!B8*'Risk-return'!X3+'1D Vectors'!B11))","v":9.7002130498208142E-4},{"$f":"((1/'1D Vectors'!B16))*(('1D Vectors'!B14*'Risk-return'!Y3^2-2*'1D Vectors'!B8*'Risk-return'!Y3+'1D Vectors'!B11))","v":9.6794433509471498E-4},{"$f":"((1/'1D Vectors'!B16))*(('1D Vectors'!B14*'Risk-return'!Z3^2-2*'1D Vectors'!B8*'Risk-return'!Z3+'1D Vectors'!B11))","v":9.659624123137811E-4},{"$f":"((1/'1D Vectors'!B16))*(('1D Vectors'!B14*'Risk-return'!AA3^2-2*'1D Vectors'!B8*'Risk-return'!AA3+'1D Vectors'!B11))","v":9.6407553663927978E-4},{"$f":"((1/'1D Vectors'!B16))*(('1D Vectors'!B14*'Risk-return'!AB3^2-2*'1D Vectors'!B8*'Risk-return'!AB3+'1D Vectors'!B11))","v":9.6228370807121091E-4},{"$f":"((1/'1D Vectors'!B16))*(('1D Vectors'!B14*'Risk-return'!AC3^2-2*'1D Vectors'!B8*'Risk-return'!AC3+'1D Vectors'!B11))","v":9.605869266095748E-4},{"$f":"((1/'1D Vectors'!B16))*(('1D Vectors'!B14*'Risk-return'!AD3^2-2*'1D Vectors'!B8*'Risk-return'!AD3+'1D Vectors'!B11))","v":9.5898519225437104E-4},{"$f":"((1/'1D Vectors'!B16))*(('1D Vectors'!B14*'Risk-return'!AE3^2-2*'1D Vectors'!B8*'Risk-return'!AE3+'1D Vectors'!B11))","v":9.5747850500559983E-4},{"$f":"((1/'1D Vectors'!B16))*(('1D Vectors'!B14*'Risk-return'!AF3^2-2*'1D Vectors'!B8*'Risk-return'!AF3+'1D Vectors'!B11))","v":9.5606686486326129E-4},{"$f":"((1/'1D Vectors'!B16))*(('1D Vectors'!B14*'Risk-return'!AG3^2-2*'1D Vectors'!B8*'Risk-return'!AG3+'1D Vectors'!B11))","v":9.5475027182735509E-4},{"$f":"((1/'1D Vectors'!B16))*(('1D Vectors'!B14*'Risk-return'!AH3^2-2*'1D Vectors'!B8*'Risk-return'!AH3+'1D Vectors'!B11))","v":9.5352872589788166E-4},{"$f":"((1/'1D Vectors'!B16))*(('1D Vectors'!B14*'Risk-return'!AI3^2-2*'1D Vectors'!B8*'Risk-return'!AI3+'1D Vectors'!B11))","v":9.5240222707484057E-4},{"$f":"((1/'1D Vectors'!B16))*(('1D Vectors'!B14*'Risk-return'!AJ3^2-2*'1D Vectors'!B8*'Risk-return'!AJ3+'1D Vectors'!B11))","v":9.5137077535823215E-4},{"$f":"((1/'1D Vectors'!B16))*(('1D Vectors'!B14*'Risk-return'!AK3^2-2*'1D Vectors'!B8*'Risk-return'!AK3+'1D Vectors'!B11))","v":9.5043437074805617E-4},{"$f":"((1/'1D Vectors'!B16))*(('1D Vectors'!B14*'Risk-return'!AL3^2-2*'1D Vectors'!B8*'Risk-return'!AL3+'1D Vectors'!B11))","v":9.4959301324431275E-4},{"$f":"((1/'1D Vectors'!B16))*(('1D Vectors'!B14*'Risk-return'!AM3^2-2*'1D Vectors'!B8*'Risk-return'!AM3+'1D Vectors'!B11))","v":9.4884670284700189E-4},{"$f":"((1/'1D Vectors'!B16))*(('1D Vectors'!B14*'Risk-return'!AN3^2-2*'1D Vectors'!B8*'Risk-return'!AN3+'1D Vectors'!B11))","v":9.4819543955612358E-4},{"$f":"((1/'1D Vectors'!B16))*(('1D Vectors'!B14*'Risk-return'!AO3^2-2*'1D Vectors'!B8*'Risk-return'!AO3+'1D Vectors'!B11))","v":9.4763922337167783E-4},{"$f":"((1/'1D Vectors'!B16))*(('1D Vectors'!B14*'Risk-return'!AP3^2-2*'1D Vectors'!B8*'Risk-return'!AP3+'1D Vectors'!B11))","v":9.4717805525675785E-4},{"$f":"((1/'1D Vectors'!B16))*(('1D Vectors'!B14*'Risk-return'!AQ3^2-2*'1D Vectors'!B8*'Risk-return'!AQ3+'1D Vectors'!B11))","v":9.4681193380567361E-4},{"$f":"((1/'1D Vectors'!B16))*(('1D Vectors'!B14*'Risk-return'!AR3^2-2*'1D Vectors'!B8*'Risk-return'!AR3+'1D Vectors'!B11))","v":9.4654085901842502E-4},{"$f":"((1/'1D Vectors'!B16))*(('1D Vectors'!B14*'Risk-return'!AS3^2-2*'1D Vectors'!B8*'Risk-return'!AS3+'1D Vectors'!B11))","v":9.4636483089501218E-4},{"$f":"((1/'1D Vectors'!B16))*(('1D Vectors'!B14*'Risk-return'!AT3^2-2*'1D Vectors'!B8*'Risk-return'!AT3+'1D Vectors'!B11))","v":9.4628384943543521E-4},{"$f":"((1/'1D Vectors'!B16))*(('1D Vectors'!B14*'Risk-return'!AU3^2-2*'1D Vectors'!B8*'Risk-return'!AU3+'1D Vectors'!B11))","v":9.4629791463969398E-4},{"$f":"((1/'1D Vectors'!B16))*(('1D Vectors'!B14*'Risk-return'!AV3^2-2*'1D Vectors'!B8*'Risk-return'!AV3+'1D Vectors'!B11))","v":9.464070265077885E-4},{"$f":"((1/'1D Vectors'!B16))*(('1D Vectors'!B14*'Risk-return'!AW3^2-2*'1D Vectors'!B8*'Risk-return'!AW3+'1D Vectors'!B11))","v":9.4661118503971877E-4},{"$f":"((1/'1D Vectors'!B16))*(('1D Vectors'!B14*'Risk-return'!AX3^2-2*'1D Vectors'!B8*'Risk-return'!AX3+'1D Vectors'!B11))","v":9.4691039023548469E-4},{"$f":"((1/'1D Vectors'!B16))*(('1D Vectors'!B14*'Risk-return'!AY3^2-2*'1D Vectors'!B8*'Risk-return'!AY3+'1D Vectors'!B11))","v":9.4730464209508646E-4},{"$f":"((1/'1D Vectors'!B16))*(('1D Vectors'!B14*'Risk-return'!AZ3^2-2*'1D Vectors'!B8*'Risk-return'!AZ3+'1D Vectors'!B11))","v":9.4779394061852399E-4},{"$f":"((1/'1D Vectors'!B16))*(('1D Vectors'!B14*'Risk-return'!BA3^2-2*'1D Vectors'!B8*'Risk-return'!BA3+'1D Vectors'!B11))","v":9.4837828580579726E-4},{"$f":"((1/'1D Vectors'!B16))*(('1D Vectors'!B14*'Risk-return'!BB3^2-2*'1D Vectors'!B8*'Risk-return'!BB3+'1D Vectors'!B11))","v":9.4905767765690629E-4},{"$f":"((1/'1D Vectors'!B16))*(('1D Vectors'!B14*'Risk-return'!BC3^2-2*'1D Vectors'!B8*'Risk-return'!BC3+'1D Vectors'!B11))","v":9.4983211617185107E-4},{"$f":"((1/'1D Vectors'!B16))*(('1D Vectors'!B14*'Risk-return'!BD3^2-2*'1D Vectors'!B8*'Risk-return'!BD3+'1D Vectors'!B11))","v":9.5070160135063159E-4},{"$f":"((1/'1D Vectors'!B16))*(('1D Vectors'!B14*'Risk-return'!BE3^2-2*'1D Vectors'!B8*'Risk-return'!BE3+'1D Vectors'!B11))","v":9.5166613319324776E-4},{"$f":"((1/'1D Vectors'!B16))*(('1D Vectors'!B14*'Risk-return'!BF3^2-2*'1D Vectors'!B8*'Risk-return'!BF3+'1D Vectors'!B11))","v":9.5272571169970001E-4},{"$f":"((1/'1D Vectors'!B16))*(('1D Vectors'!B14*'Risk-return'!BG3^2-2*'1D Vectors'!B8*'Risk-return'!BG3+'1D Vectors'!B11))","v":9.5388033686998768E-4},{"$f":"((1/'1D Vectors'!B16))*(('1D Vectors'!B14*'Risk-return'!BH3^2-2*'1D Vectors'!B8*'Risk-return'!BH3+'1D Vectors'!B11))","v":9.5513000870411132E-4},{"$f":"((1/'1D Vectors'!B16))*(('1D Vectors'!B14*'Risk-return'!BI3^2-2*'1D Vectors'!B8*'Risk-return'!BI3+'1D Vectors'!B11))","v":9.5647472720207061E-4},{"$f":"((1/'1D Vectors'!B16))*(('1D Vectors'!B14*'Risk-return'!BJ3^2-2*'1D Vectors'!B8*'Risk-return'!BJ3+'1D Vectors'!B11))","v":9.5791449236386564E-4},{"$f":"((1/'1D Vectors'!B16))*(('1D Vectors'!B14*'Risk-return'!BK3^2-2*'1D Vectors'!B8*'Risk-return'!BK3+'1D Vectors'!B11))","v":9.5944930418949642E-4},{"$f":"((1/'1D Vectors'!B16))*(('1D Vectors'!B14*'Risk-return'!BL3^2-2*'1D Vectors'!B8*'Risk-return'!BL3+'1D Vectors'!B11))","v":9.6107916267896307E-4},{"$f":"((1/'1D Vectors'!B16))*(('1D Vectors'!B14*'Risk-return'!BM3^2-2*'1D Vectors'!B8*'Risk-return'!BM3+'1D Vectors'!B11))","v":9.6280406783226535E-4},{"$f":"((1/'1D Vectors'!B16))*(('1D Vectors'!B14*'Risk-return'!BN3^2-2*'1D Vectors'!B8*'Risk-return'!BN3+'1D Vectors'!B11))","v":9.646240196494035E-4},{"$f":"((1/'1D Vectors'!B16))*(('1D Vectors'!B14*'Risk-return'!BO3^2-2*'1D Vectors'!B8*'Risk-return'!BO3+'1D Vectors'!B11))","v":9.6653901813037728E-4},{"$f":"((1/'1D Vectors'!B16))*(('1D Vectors'!B14*'Risk-return'!BP3^2-2*'1D Vectors'!B8*'Risk-return'!BP3+'1D Vectors'!B11))","v":9.6854906327518693E-4},{"$f":"((1/'1D Vectors'!B16))*(('1D Vectors'!B14*'Risk-return'!BQ3^2-2*'1D Vectors'!B8*'Risk-return'!BQ3+'1D Vectors'!B11))","v":9.7065415508383222E-4},{"$f":"((1/'1D Vectors'!B16))*(('1D Vectors'!B14*'Risk-return'!BR3^2-2*'1D Vectors'!B8*'Risk-return'!BR3+'1D Vectors'!B11))","v":9.7285429355631337E-4},{"$f":"((1/'1D Vectors'!B16))*(('1D Vectors'!B14*'Risk-return'!BS3^2-2*'1D Vectors'!B8*'Risk-return'!BS3+'1D Vectors'!B11))","v":9.7514947869263026E-4},{"$f":"((1/'1D Vectors'!B16))*(('1D Vectors'!B14*'Risk-return'!BT3^2-2*'1D Vectors'!B8*'Risk-return'!BT3+'1D Vectors'!B11))","v":9.7753971049278281E-4},{"$f":"((1/'1D Vectors'!B16))*(('1D Vectors'!B14*'Risk-return'!BU3^2-2*'1D Vectors'!B8*'Risk-return'!BU3+'1D Vectors'!B11))","v":9.8002498895677121E-4},{"$f":"((1/'1D Vectors'!B16))*(('1D Vectors'!B14*'Risk-return'!BV3^2-2*'1D Vectors'!B8*'Risk-return'!BV3+'1D Vectors'!B11))","v":9.8260531408459525E-4},{"$f":"((1/'1D Vectors'!B16))*(('1D Vectors'!B14*'Risk-return'!BW3^2-2*'1D Vectors'!B8*'Risk-return'!BW3+'1D Vectors'!B11))","v":9.8528068587625515E-4},{"$f":"((1/'1D Vectors'!B16))*(('1D Vectors'!B14*'Risk-return'!BX3^2-2*'1D Vectors'!B8*'Risk-return'!BX3+'1D Vectors'!B11))","v":9.8805110433175091E-4},{"$f":"((1/'1D Vectors'!B16))*(('1D Vectors'!B14*'Risk-return'!BY3^2-2*'1D Vectors'!B8*'Risk-return'!BY3+'1D Vectors'!B11))","v":9.9091656945108231E-4},{"$f":"((1/'1D Vectors'!B16))*(('1D Vectors'!B14*'Risk-return'!BZ3^2-2*'1D Vectors'!B8*'Risk-return'!BZ3+'1D Vectors'!B11))","v":9.9387708123424936E-4},{"$f":"((1/'1D Vectors'!B16))*(('1D Vectors'!B14*'Risk-return'!CA3^2-2*'1D Vectors'!B8*'Risk-return'!CA3+'1D Vectors'!B11))","v":9.9693263968125227E-4},{"$f":"((1/'1D Vectors'!B16))*(('1D Vectors'!B14*'Risk-return'!CB3^2-2*'1D Vectors'!B8*'Risk-return'!CB3+'1D Vectors'!B11))","v":1.000083244792091E-3},{"$f":"((1/'1D Vectors'!B16))*(('1D Vectors'!B14*'Risk-return'!CC3^2-2*'1D Vectors'!B8*'Risk-return'!CC3+'1D Vectors'!B11))","v":1.0033288965667652E-3},{"$f":"((1/'1D Vectors'!B16))*(('1D Vectors'!B14*'Risk-return'!CD3^2-2*'1D Vectors'!B8*'Risk-return'!CD3+'1D Vectors'!B11))","v":1.0066695950052755E-3},{"$f":"((1/'1D Vectors'!B16))*(('1D Vectors'!B14*'Risk-return'!CE3^2-2*'1D Vectors'!B8*'Risk-return'!CE3+'1D Vectors'!B11))","v":1.0101053401076214E-3},{"$f":"((1/'1D Vectors'!B16))*(('1D Vectors'!B14*'Risk-return'!CF3^2-2*'1D Vectors'!B8*'Risk-return'!CF3+'1D Vectors'!B11))","v":1.0136361318738032E-3},{"$f":"((1/'1D Vectors'!B16))*(('1D Vectors'!B14*'Risk-return'!CG3^2-2*'1D Vectors'!B8*'Risk-return'!CG3+'1D Vectors'!B11))","v":1.0172619703038206E-3},{"$f":"((1/'1D Vectors'!B16))*(('1D Vectors'!B14*'Risk-return'!CH3^2-2*'1D Vectors'!B8*'Risk-return'!CH3+'1D Vectors'!B11))","v":1.0209828553976736E-3},{"$f":"((1/'1D Vectors'!B16))*(('1D Vectors'!B14*'Risk-return'!CI3^2-2*'1D Vectors'!B8*'Risk-return'!CI3+'1D Vectors'!B11))","v":1.0247987871553628E-3},{"$f":"((1/'1D Vectors'!B16))*(('1D Vectors'!B14*'Risk-return'!CJ3^2-2*'1D Vectors'!B8*'Risk-return'!CJ3+'1D Vectors'!B11))","v":1.0287097655768873E-3},{"$f":"((1/'1D Vectors'!B16))*(('1D Vectors'!B14*'Risk-return'!CK3^2-2*'1D Vectors'!B8*'Risk-return'!CK3+'1D Vectors'!B11))","v":1.0327157906622477E-3},{"$f":"((1/'1D Vectors'!B16))*(('1D Vectors'!B14*'Risk-return'!CL3^2-2*'1D Vectors'!B8*'Risk-return'!CL3+'1D Vectors'!B11))","v":1.0368168624114442E-3},{"$f":"((1/'1D Vectors'!B16))*(('1D Vectors'!B14*'Risk-return'!CM3^2-2*'1D Vectors'!B8*'Risk-return'!CM3+'1D Vectors'!B11))","v":1.0410129808244761E-3},{"$f":"((1/'1D Vectors'!B16))*(('1D Vectors'!B14*'Risk-return'!CN3^2-2*'1D Vectors'!B8*'Risk-return'!CN3+'1D Vectors'!B11))","v":1.0453041459013437E-3},{"$f":"((1/'1D Vectors'!B16))*(('1D Vectors'!B14*'Risk-return'!CO3^2-2*'1D Vectors'!B8*'Risk-return'!CO3+'1D Vectors'!B11))","v":1.0496903576420471E-3},{"$f":"((1/'1D Vectors'!B16))*(('1D Vectors'!B14*'Risk-return'!CP3^2-2*'1D Vectors'!B8*'Risk-return'!CP3+'1D Vectors'!B11))","v":1.0541716160465864E-3},{"$f":"((1/'1D Vectors'!B16))*(('1D Vectors'!B14*'Risk-return'!CQ3^2-2*'1D Vectors'!B8*'Risk-return'!CQ3+'1D Vectors'!B11))","v":1.0587479211149613E-3},{"$f":"((1/'1D Vectors'!B16))*(('1D Vectors'!B14*'Risk-return'!CR3^2-2*'1D Vectors'!B8*'Risk-return'!CR3+'1D Vectors'!B11))","v":1.0634192728471721E-3},{"$f":"((1/'1D Vectors'!B16))*(('1D Vectors'!B14*'Risk-return'!CS3^2-2*'1D Vectors'!B8*'Risk-return'!CS3+'1D Vectors'!B11))","v":1.0681856712432187E-3},{"$f":"((1/'1D Vectors'!B16))*(('1D Vectors'!B14*'Risk-return'!CT3^2-2*'1D Vectors'!B8*'Risk-return'!CT3+'1D Vectors'!B11))","v":1.073047116303101E-3},{"$f":"((1/'1D Vectors'!B16))*(('1D Vectors'!B14*'Risk-return'!CU3^2-2*'1D Vectors'!B8*'Risk-return'!CU3+'1D Vectors'!B11))","v":1.0780036080268189E-3},{"$f":"((1/'1D Vectors'!B16))*(('1D Vectors'!B14*'Risk-return'!CV3^2-2*'1D Vectors'!B8*'Risk-return'!CV3+'1D Vectors'!B11))","v":1.0830551464143727E-3},{"$f":"((1/'1D Vectors'!B16))*(('1D Vectors'!B14*'Risk-return'!CW3^2-2*'1D Vectors'!B8*'Risk-return'!CW3+'1D Vectors'!B11))","v":1.0882017314657621E-3},{"$f":"((1/'1D Vectors'!B16))*(('1D Vectors'!B14*'Risk-return'!CX3^2-2*'1D Vectors'!B8*'Risk-return'!CX3+'1D Vectors'!B11))","v":1.0934433631809874E-3},{"$f":"((1/'1D Vectors'!B16))*(('1D Vectors'!B14*'Risk-return'!CY3^2-2*'1D Vectors'!B8*'Risk-return'!CY3+'1D Vectors'!B11))","v":1.0987800415600483E-3},{"$f":"((1/'1D Vectors'!B16))*(('1D Vectors'!B14*'Risk-return'!CZ3^2-2*'1D Vectors'!B8*'Risk-return'!CZ3+'1D Vectors'!B11))","v":1.1042117666029453E-3},{"$f":"((1/'1D Vectors'!B16))*(('1D Vectors'!B14*'Risk-return'!DA3^2-2*'1D Vectors'!B8*'Risk-return'!DA3+'1D Vectors'!B11))","v":1.1097385383096777E-3},{"$f":"((1/'1D Vectors'!B16))*(('1D Vectors'!B14*'Risk-return'!DB3^2-2*'1D Vectors'!B8*'Risk-return'!DB3+'1D Vectors'!B11))","v":1.115360356680246E-3},{"$f":"((1/'1D Vectors'!B16))*(('1D Vectors'!B14*'Risk-return'!DC3^2-2*'1D Vectors'!B8*'Risk-return'!DC3+'1D Vectors'!B11))","v":1.1210772217146502E-3},{"$f":"((1/'1D Vectors'!B16))*(('1D Vectors'!B14*'Risk-return'!DD3^2-2*'1D Vectors'!B8*'Risk-return'!DD3+'1D Vectors'!B11))","v":1.12688913341289E-3},{"$f":"((1/'1D Vectors'!B16))*(('1D Vectors'!B14*'Risk-return'!DE3^2-2*'1D Vectors'!B8*'Risk-return'!DE3+'1D Vectors'!B11))","v":1.1327960917749654E-3},{"$f":"((1/'1D Vectors'!B16))*(('1D Vectors'!B14*'Risk-return'!DF3^2-2*'1D Vectors'!B8*'Risk-return'!DF3+'1D Vectors'!B11))","v":1.1387980968008769E-3},{"$f":"((1/'1D Vectors'!B16))*(('1D Vectors'!B14*'Risk-return'!DG3^2-2*'1D Vectors'!B8*'Risk-return'!DG3+'1D Vectors'!B11))","v":1.1448951484906238E-3},{"$f":"((1/'1D Vectors'!B16))*(('1D Vectors'!B14*'Risk-return'!DH3^2-2*'1D Vectors'!B8*'Risk-return'!DH3+'1D Vectors'!B11))","v":1.1510872468442066E-3},{"$f":"((1/'1D Vectors'!B16))*(('1D Vectors'!B14*'Risk-return'!DI3^2-2*'1D Vectors'!B8*'Risk-return'!DI3+'1D Vectors'!B11))","v":1.1573743918616253E-3},{"$f":"((1/'1D Vectors'!B16))*(('1D Vectors'!B14*'Risk-return'!DJ3^2-2*'1D Vectors'!B8*'Risk-return'!DJ3+'1D Vectors'!B11))","v":1.1637565835428795E-3},{"$f":"((1/'1D Vectors'!B16))*(('1D Vectors'!B14*'Risk-return'!DK3^2-2*'1D Vectors'!B8*'Risk-return'!DK3+'1D Vectors'!B11))","v":1.1702338218879697E-3},{"$f":"((1/'1D Vectors'!B16))*(('1D Vectors'!B14*'Risk-return'!DL3^2-2*'1D Vectors'!B8*'Risk-return'!DL3+'1D Vectors'!B11))","v":1.1768061068968955E-3},{"$f":"((1/'1D Vectors'!B16))*(('1D Vectors'!B14*'Risk-return'!DM3^2-2*'1D Vectors'!B8*'Risk-return'!DM3+'1D Vectors'!B11))","v":1.1834734385696571E-3},{"$f":"((1/'1D Vectors'!B16))*(('1D Vectors'!B14*'Risk-return'!DN3^2-2*'1D Vectors'!B8*'Risk-return'!DN3+'1D Vectors'!B11))","v":1.1902358169062547E-3},{"$f":"((1/'1D Vectors'!B16))*(('1D Vectors'!B14*'Risk-return'!DO3^2-2*'1D Vectors'!B8*'Risk-return'!DO3+'1D Vectors'!B11))","v":1.1970932419066876E-3},{"$f":"((1/'1D Vectors'!B16))*(('1D Vectors'!B14*'Risk-return'!DP3^2-2*'1D Vectors'!B8*'Risk-return'!DP3+'1D Vectors'!B11))","v":1.2040457135709564E-3},{"$f":"((1/'1D Vectors'!B16))*(('1D Vectors'!B14*'Risk-return'!DQ3^2-2*'1D Vectors'!B8*'Risk-return'!DQ3+'1D Vectors'!B11))","v":1.211093231899061E-3},{"$f":"((1/'1D Vectors'!B16))*(('1D Vectors'!B14*'Risk-return'!DR3^2-2*'1D Vectors'!B8*'Risk-return'!DR3+'1D Vectors'!B11))","v":1.2182357968910016E-3},{"$f":"((1/'1D Vectors'!B16))*(('1D Vectors'!B14*'Risk-return'!DS3^2-2*'1D Vectors'!B8*'Risk-return'!DS3+'1D Vectors'!B11))","v":1.2254734085467775E-3},{"$f":"((1/'1D Vectors'!B16))*(('1D Vectors'!B14*'Risk-return'!DT3^2-2*'1D Vectors'!B8*'Risk-return'!DT3+'1D Vectors'!B11))","v":1.2328060668663893E-3},{"$f":"((1/'1D Vectors'!B16))*(('1D Vectors'!B14*'Risk-return'!DU3^2-2*'1D Vectors'!B8*'Risk-return'!DU3+'1D Vectors'!B11))","v":1.2402337718498372E-3},{"$f":"((1/'1D Vectors'!B16))*(('1D Vectors'!B14*'Risk-return'!DV3^2-2*'1D Vectors'!B8*'Risk-return'!DV3+'1D Vectors'!B11))","v":1.2477565234971203E-3},{"$f":"((1/'1D Vectors'!B16))*(('1D Vectors'!B14*'Risk-return'!DW3^2-2*'1D Vectors'!B8*'Risk-return'!DW3+'1D Vectors'!B11))","v":1.2553743218082396E-3},{"$f":"((1/'1D Vectors'!B16))*(('1D Vectors'!B14*'Risk-return'!DX3^2-2*'1D Vectors'!B8*'Risk-return'!DX3+'1D Vectors'!B11))","v":1.2630871667831947E-3},{"$f":"((1/'1D Vectors'!B16))*(('1D Vectors'!B14*'Risk-return'!DY3^2-2*'1D Vectors'!B8*'Risk-return'!DY3+'1D Vectors'!B11))","v":1.2708950584219851E-3},{"$f":"((1/'1D Vectors'!B16))*(('1D Vectors'!B14*'Risk-return'!DZ3^2-2*'1D Vectors'!B8*'Risk-return'!DZ3+'1D Vectors'!B11))","v":1.2787979967246116E-3},{"$f":"((1/'1D Vectors'!B16))*(('1D Vectors'!B14*'Risk-return'!EA3^2-2*'1D Vectors'!B8*'Risk-return'!EA3+'1D Vectors'!B11))","v":1.2867959816910738E-3},{"$f":"((1/'1D Vectors'!B16))*(('1D Vectors'!B14*'Risk-return'!EB3^2-2*'1D Vectors'!B8*'Risk-return'!EB3+'1D Vectors'!B11))","v":1.2948890133213714E-3},{"$f":"((1/'1D Vectors'!B16))*(('1D Vectors'!B14*'Risk-return'!EC3^2-2*'1D Vectors'!B8*'Risk-return'!EC3+'1D Vectors'!B11))","v":1.3030770916155055E-3},{"$f":"((1/'1D Vectors'!B16))*(('1D Vectors'!B14*'Risk-return'!ED3^2-2*'1D Vectors'!B8*'Risk-return'!ED3+'1D Vectors'!B11))","v":1.3113602165734748E-3},{"$f":"((1/'1D Vectors'!B16))*(('1D Vectors'!B14*'Risk-return'!EE3^2-2*'1D Vectors'!B8*'Risk-return'!EE3+'1D Vectors'!B11))","v":1.3197383881952799E-3},{"$f":"((1/'1D Vectors'!B16))*(('1D Vectors'!B14*'Risk-return'!EF3^2-2*'1D Vectors'!B8*'Risk-return'!EF3+'1D Vectors'!B11))","v":1.328211606480921E-3},{"$f":"((1/'1D Vectors'!B16))*(('1D Vectors'!B14*'Risk-return'!EG3^2-2*'1D Vectors'!B8*'Risk-return'!EG3+'1D Vectors'!B11))","v":1.3367798714303974E-3},{"$f":"((1/'1D Vectors'!B16))*(('1D Vectors'!B14*'Risk-return'!EH3^2-2*'1D Vectors'!B8*'Risk-return'!EH3+'1D Vectors'!B11))","v":1.3454431830437102E-3},{"$f":"((1/'1D Vectors'!B16))*(('1D Vectors'!B14*'Risk-return'!EI3^2-2*'1D Vectors'!B8*'Risk-return'!EI3+'1D Vectors'!B11))","v":1.3542015413208581E-3},{"$f":"((1/'1D Vectors'!B16))*(('1D Vectors'!B14*'Risk-return'!EJ3^2-2*'1D Vectors'!B8*'Risk-return'!EJ3+'1D Vectors'!B11))","v":1.3630549462618421E-3},{"$f":"((1/'1D Vectors'!B16))*(('1D Vectors'!B14*'Risk-return'!EK3^2-2*'1D Vectors'!B8*'Risk-return'!EK3+'1D Vectors'!B11))","v":1.372003397866662E-3},{"$f":"((1/'1D Vectors'!B16))*(('1D Vectors'!B14*'Risk-return'!EL3^2-2*'1D Vectors'!B8*'Risk-return'!EL3+'1D Vectors'!B11))","v":1.3810468961353174E-3},{"$f":"((1/'1D Vectors'!B16))*(('1D Vectors'!B14*'Risk-return'!EM3^2-2*'1D Vectors'!B8*'Risk-return'!EM3+'1D Vectors'!B11))","v":1.3901854410678087E-3},{"$f":"((1/'1D Vectors'!B16))*(('1D Vectors'!B14*'Risk-return'!EN3^2-2*'1D Vectors'!B8*'Risk-return'!EN3+'1D Vectors'!B11))","v":1.3994190326641356E-3},{"$f":"((1/'1D Vectors'!B16))*(('1D Vectors'!B14*'Risk-return'!EO3^2-2*'1D Vectors'!B8*'Risk-return'!EO3+'1D Vectors'!B11))","v":1.4087476709242984E-3},{"$f":"((1/'1D Vectors'!B16))*(('1D Vectors'!B14*'Risk-return'!EP3^2-2*'1D Vectors'!B8*'Risk-return'!EP3+'1D Vectors'!B11))","v":1.418171355848297E-3},{"$f":"((1/'1D Vectors'!B16))*(('1D Vectors'!B14*'Risk-return'!EQ3^2-2*'1D Vectors'!B8*'Risk-return'!EQ3+'1D Vectors'!B11))","v":1.4276900874361309E-3},{"$f":"((1/'1D Vectors'!B16))*(('1D Vectors'!B14*'Risk-return'!ER3^2-2*'1D Vectors'!B8*'Risk-return'!ER3+'1D Vectors'!B11))","v":1.437303865687801E-3},{"$f":"((1/'1D Vectors'!B16))*(('1D Vectors'!B14*'Risk-return'!ES3^2-2*'1D Vectors'!B8*'Risk-return'!ES3+'1D Vectors'!B11))","v":1.4470126906033069E-3},{"$f":"((1/'1D Vectors'!B16))*(('1D Vectors'!B14*'Risk-return'!ET3^2-2*'1D Vectors'!B8*'Risk-return'!ET3+'1D Vectors'!B11))","v":1.4568165621826486E-3},{"$f":"((1/'1D Vectors'!B16))*(('1D Vectors'!B14*'Risk-return'!EU3^2-2*'1D Vectors'!B8*'Risk-return'!EU3+'1D Vectors'!B11))","v":1.4667154804258256E-3},{"$f":"((1/'1D Vectors'!B16))*(('1D Vectors'!B14*'Risk-return'!EV3^2-2*'1D Vectors'!B8*'Risk-return'!EV3+'1D Vectors'!B11))","v":1.4767094453328388E-3},{"$f":"((1/'1D Vectors'!B16))*(('1D Vectors'!B14*'Risk-return'!EW3^2-2*'1D Vectors'!B8*'Risk-return'!EW3+'1D Vectors'!B11))","v":1.4867984569036873E-3},{"$f":"((1/'1D Vectors'!B16))*(('1D Vectors'!B14*'Risk-return'!EX3^2-2*'1D Vectors'!B8*'Risk-return'!EX3+'1D Vectors'!B11))","v":1.4969825151383718E-3},{"$f":"((1/'1D Vectors'!B16))*(('1D Vectors'!B14*'Risk-return'!EY3^2-2*'1D Vectors'!B8*'Risk-return'!EY3+'1D Vectors'!B11))","v":1.5072616200368925E-3},{"$f":"((1/'1D Vectors'!B16))*(('1D Vectors'!B14*'Risk-return'!EZ3^2-2*'1D Vectors'!B8*'Risk-return'!EZ3+'1D Vectors'!B11))","v":1.5176357715992485E-3},{"$f":"((1/'1D Vectors'!B16))*(('1D Vectors'!B14*'Risk-return'!FA3^2-2*'1D Vectors'!B8*'Risk-return'!FA3+'1D Vectors'!B11))","v":1.52810496982544E-3},{"$f":"((1/'1D Vectors'!B16))*(('1D Vectors'!B14*'Risk-return'!FB3^2-2*'1D Vectors'!B8*'Risk-return'!FB3+'1D Vectors'!B11))","v":1.5386692147154677E-3},{"$f":"((1/'1D Vectors'!B16))*(('1D Vectors'!B14*'Risk-return'!FC3^2-2*'1D Vectors'!B8*'Risk-return'!FC3+'1D Vectors'!B11))","v":1.5493285062693309E-3},{"$f":"((1/'1D Vectors'!B16))*(('1D Vectors'!B14*'Risk-return'!FD3^2-2*'1D Vectors'!B8*'Risk-return'!FD3+'1D Vectors'!B11))","v":1.56008284448703E-3},{"$f":"((1/'1D Vectors'!B16))*(('1D Vectors'!B14*'Risk-return'!FE3^2-2*'1D Vectors'!B8*'Risk-return'!FE3+'1D Vectors'!B11))","v":1.5709322293685649E-3},{"$f":"((1/'1D Vectors'!B16))*(('1D Vectors'!B14*'Risk-return'!FF3^2-2*'1D Vectors'!B8*'Risk-return'!FF3+'1D Vectors'!B11))","v":1.5818766609139354E-3},{"$f":"((1/'1D Vectors'!B16))*(('1D Vectors'!B14*'Risk-return'!FG3^2-2*'1D Vectors'!B8*'Risk-return'!FG3+'1D Vectors'!B11))","v":1.5929161391231416E-3},{"$f":"((1/'1D Vectors'!B16))*(('1D Vectors'!B14*'Risk-return'!FH3^2-2*'1D Vectors'!B8*'Risk-return'!FH3+'1D Vectors'!B11))","v":1.6040506639961841E-3},{"$f":"((1/'1D Vectors'!B16))*(('1D Vectors'!B14*'Risk-return'!FI3^2-2*'1D Vectors'!B8*'Risk-return'!FI3+'1D Vectors'!B11))","v":1.6152802355330618E-3},{"$f":"((1/'1D Vectors'!B16))*(('1D Vectors'!B14*'Risk-return'!FJ3^2-2*'1D Vectors'!B8*'Risk-return'!FJ3+'1D Vectors'!B11))","v":1.6266048537337753E-3},{"$f":"((1/'1D Vectors'!B16))*(('1D Vectors'!B14*'Risk-return'!FK3^2-2*'1D Vectors'!B8*'Risk-return'!FK3+'1D Vectors'!B11))","v":1.6380245185983245E-3},{"$f":"((1/'1D Vectors'!B16))*(('1D Vectors'!B14*'Risk-return'!FL3^2-2*'1D Vectors'!B8*'Risk-return'!FL3+'1D Vectors'!B11))","v":1.64953923012671E-3},{"$f":"((1/'1D Vectors'!B16))*(('1D Vectors'!B14*'Risk-return'!FM3^2-2*'1D Vectors'!B8*'Risk-return'!FM3+'1D Vectors'!B11))","v":1.6611489883189309E-3},{"$f":"((1/'1D Vectors'!B16))*(('1D Vectors'!B14*'Risk-return'!FN3^2-2*'1D Vectors'!B8*'Risk-return'!FN3+'1D Vectors'!B11))","v":1.6728537931749872E-3},{"$f":"((1/'1D Vectors'!B16))*(('1D Vectors'!B14*'Risk-return'!FO3^2-2*'1D Vectors'!B8*'Risk-return'!FO3+'1D Vectors'!B11))","v":1.6846536446948797E-3},{"$f":"((1/'1D Vectors'!B16))*(('1D Vectors'!B14*'Risk-return'!FP3^2-2*'1D Vectors'!B8*'Risk-return'!FP3+'1D Vectors'!B11))","v":1.6965485428786079E-3},{"$f":"((1/'1D Vectors'!B16))*(('1D Vectors'!B14*'Risk-return'!FQ3^2-2*'1D Vectors'!B8*'Risk-return'!FQ3+'1D Vectors'!B11))","v":1.7085384877261716E-3},{"$f":"((1/'1D Vectors'!B16))*(('1D Vectors'!B14*'Risk-return'!FR3^2-2*'1D Vectors'!B8*'Risk-return'!FR3+'1D Vectors'!B11))","v":1.7206234792375712E-3},{"$f":"((1/'1D Vectors'!B16))*(('1D Vectors'!B14*'Risk-return'!FS3^2-2*'1D Vectors'!B8*'Risk-return'!FS3+'1D Vectors'!B11))","v":1.7328035174128066E-3},{"$f":"((1/'1D Vectors'!B16))*(('1D Vectors'!B14*'Risk-return'!FT3^2-2*'1D Vectors'!B8*'Risk-return'!FT3+'1D Vectors'!B11))","v":1.7450786022518779E-3},{"$f":"((1/'1D Vectors'!B16))*(('1D Vectors'!B14*'Risk-return'!FU3^2-2*'1D Vectors'!B8*'Risk-return'!FU3+'1D Vectors'!B11))","v":1.7574487337547848E-3},{"$f":"((1/'1D Vectors'!B16))*(('1D Vectors'!B14*'Risk-return'!FV3^2-2*'1D Vectors'!B8*'Risk-return'!FV3+'1D Vectors'!B11))","v":1.7699139119215274E-3},{"$f":"((1/'1D Vectors'!B16))*(('1D Vectors'!B14*'Risk-return'!FW3^2-2*'1D Vectors'!B8*'Risk-return'!FW3+'1D Vectors'!B11))","v":1.7824741367521058E-3},{"$f":"((1/'1D Vectors'!B16))*(('1D Vectors'!B14*'Risk-return'!FX3^2-2*'1D Vectors'!B8*'Risk-return'!FX3+'1D Vectors'!B11))","v":1.7951294082465198E-3},{"$f":"((1/'1D Vectors'!B16))*(('1D Vectors'!B14*'Risk-return'!FY3^2-2*'1D Vectors'!B8*'Risk-return'!FY3+'1D Vectors'!B11))","v":1.80787972640477E-3},{"$f":"((1/'1D Vectors'!B16))*(('1D Vectors'!B14*'Risk-return'!FZ3^2-2*'1D Vectors'!B8*'Risk-return'!FZ3+'1D Vectors'!B11))","v":1.8207250912268557E-3},{"$f":"((1/'1D Vectors'!B16))*(('1D Vectors'!B14*'Risk-return'!GA3^2-2*'1D Vectors'!B8*'Risk-return'!GA3+'1D Vectors'!B11))","v":1.833665502712777E-3},{"$f":"((1/'1D Vectors'!B16))*(('1D Vectors'!B14*'Risk-return'!GB3^2-2*'1D Vectors'!B8*'Risk-return'!GB3+'1D Vectors'!B11))","v":1.8467009608625342E-3},{"$f":"((1/'1D Vectors'!B16))*(('1D Vectors'!B14*'Risk-return'!GC3^2-2*'1D Vectors'!B8*'Risk-return'!GC3+'1D Vectors'!B11))","v":1.8598314656761272E-3},{"$f":"((1/'1D Vectors'!B16))*(('1D Vectors'!B14*'Risk-return'!GD3^2-2*'1D Vectors'!B8*'Risk-return'!GD3+'1D Vectors'!B11))","v":1.8730570171535559E-3},{"$f":"((1/'1D Vectors'!B16))*(('1D Vectors'!B14*'Risk-return'!GE3^2-2*'1D Vectors'!B8*'Risk-return'!GE3+'1D Vectors'!B11))","v":1.8863776152948204E-3},{"$f":"((1/'1D Vectors'!B16))*(('1D Vectors'!B14*'Risk-return'!GF3^2-2*'1D Vectors'!B8*'Risk-return'!GF3+'1D Vectors'!B11))","v":1.8997932600999204E-3},{"$f":"((1/'1D Vectors'!B16))*(('1D Vectors'!B14*'Risk-return'!GG3^2-2*'1D Vectors'!B8*'Risk-return'!GG3+'1D Vectors'!B11))","v":1.9133039515688566E-3},{"$f":"((1/'1D Vectors'!B16))*(('1D Vectors'!B14*'Risk-return'!GH3^2-2*'1D Vectors'!B8*'Risk-return'!GH3+'1D Vectors'!B11))","v":1.9269096897016284E-3},{"$f":"((1/'1D Vectors'!B16))*(('1D Vectors'!B14*'Risk-return'!GI3^2-2*'1D Vectors'!B8*'Risk-return'!GI3+'1D Vectors'!B11))","v":1.9406104744982356E-3},{"$f":"((1/'1D Vectors'!B16))*(('1D Vectors'!B14*'Risk-return'!GJ3^2-2*'1D Vectors'!B8*'Risk-return'!GJ3+'1D Vectors'!B11))","v":1.9544063059586791E-3},{"$f":"((1/'1D Vectors'!B16))*(('1D Vectors'!B14*'Risk-return'!GK3^2-2*'1D Vectors'!B8*'Risk-return'!GK3+'1D Vectors'!B11))","v":1.968297184082958E-3},{"$f":"((1/'1D Vectors'!B16))*(('1D Vectors'!B14*'Risk-return'!GL3^2-2*'1D Vectors'!B8*'Risk-return'!GL3+'1D Vectors'!B11))","v":1.9822831088710728E-3},{"$f":"((1/'1D Vectors'!B16))*(('1D Vectors'!B14*'Risk-return'!GM3^2-2*'1D Vectors'!B8*'Risk-return'!GM3+'1D Vectors'!B11))","v":1.996364080323023E-3},{"$f":"((1/'1D Vectors'!B16))*(('1D Vectors'!B14*'Risk-return'!GN3^2-2*'1D Vectors'!B8*'Risk-return'!GN3+'1D Vectors'!B11))","v":2.0105400984388095E-3},{"$f":"((1/'1D Vectors'!B16))*(('1D Vectors'!B14*'Risk-return'!GO3^2-2*'1D Vectors'!B8*'Risk-return'!GO3+'1D Vectors'!B11))","v":2.0248111632184315E-3},{"$f":"((1/'1D Vectors'!B16))*(('1D Vectors'!B14*'Risk-return'!GP3^2-2*'1D Vectors'!B8*'Risk-return'!GP3+'1D Vectors'!B11))","v":2.0391772746618892E-3},{"$f":"((1/'1D Vectors'!B16))*(('1D Vectors'!B14*'Risk-return'!GQ3^2-2*'1D Vectors'!B8*'Risk-return'!GQ3+'1D Vectors'!B11))","v":2.0536384327691829E-3},{"$f":"((1/'1D Vectors'!B16))*(('1D Vectors'!B14*'Risk-return'!GR3^2-2*'1D Vectors'!B8*'Risk-return'!GR3+'1D Vectors'!B11))","v":2.068194637540312E-3},{"$f":"((1/'1D Vectors'!B16))*(('1D Vectors'!B14*'Risk-return'!GS3^2-2*'1D Vectors'!B8*'Risk-return'!GS3+'1D Vectors'!B11))","v":2.0828458889752769E-3},{"$f":"((1/'1D Vectors'!B16))*(('1D Vectors'!B14*'Risk-return'!GT3^2-2*'1D Vectors'!B8*'Risk-return'!GT3+'1D Vectors'!B11))","v":2.0975921870740777E-3},{"$f":"((1/'1D Vectors'!B16))*(('1D Vectors'!B14*'Risk-return'!GU3^2-2*'1D Vectors'!B8*'Risk-return'!GU3+'1D Vectors'!B11))","v":2.1124335318367139E-3},{"$f":"((1/'1D Vectors'!B16))*(('1D Vectors'!B14*'Risk-return'!GV3^2-2*'1D Vectors'!B8*'Risk-return'!GV3+'1D Vectors'!B11))","v":2.1273699232631864E-3},{"$f":"((1/'1D Vectors'!B16))*(('1D Vectors'!B14*'Risk-return'!GW3^2-2*'1D Vectors'!B8*'Risk-return'!GW3+'1D Vectors'!B11))","v":2.1424013613534948E-3},{"$f":"((1/'1D Vectors'!B16))*(('1D Vectors'!B14*'Risk-return'!GX3^2-2*'1D Vectors'!B8*'Risk-return'!GX3+'1D Vectors'!B11))","v":2.1575278461076386E-3},{"$f":"((1/'1D Vectors'!B16))*(('1D Vectors'!B14*'Risk-return'!GY3^2-2*'1D Vectors'!B8*'Risk-return'!GY3+'1D Vectors'!B11))","v":2.1727493775256178E-3},{"$f":"((1/'1D Vectors'!B16))*(('1D Vectors'!B14*'Risk-return'!GZ3^2-2*'1D Vectors'!B8*'Risk-return'!GZ3+'1D Vectors'!B11))","v":2.1880659556074334E-3},{"$f":"((1/'1D Vectors'!B16))*(('1D Vectors'!B14*'Risk-return'!HA3^2-2*'1D Vectors'!B8*'Risk-return'!HA3+'1D Vectors'!B11))","v":2.2034775803530843E-3},{"$f":"((1/'1D Vectors'!B16))*(('1D Vectors'!B14*'Risk-return'!HB3^2-2*'1D Vectors'!B8*'Risk-return'!HB3+'1D Vectors'!B11))","v":2.2189842517625711E-3},{"$f":"((1/'1D Vectors'!B16))*(('1D Vectors'!B14*'Risk-return'!HC3^2-2*'1D Vectors'!B8*'Risk-return'!HC3+'1D Vectors'!B11))","v":2.2345859698358938E-3},{"$f":"((1/'1D Vectors'!B16))*(('1D Vectors'!B14*'Risk-return'!HD3^2-2*'1D Vectors'!B8*'Risk-return'!HD3+'1D Vectors'!B11))","v":2.2502827345730518E-3},{"$f":"((1/'1D Vectors'!B16))*(('1D Vectors'!B14*'Risk-return'!HE3^2-2*'1D Vectors'!B8*'Risk-return'!HE3+'1D Vectors'!B11))","v":2.2660745459740462E-3},{"$f":"((1/'1D Vectors'!B16))*(('1D Vectors'!B14*'Risk-return'!HF3^2-2*'1D Vectors'!B8*'Risk-return'!HF3+'1D Vectors'!B11))","v":2.281961404038876E-3},{"$f":"((1/'1D Vectors'!B16))*(('1D Vectors'!B14*'Risk-return'!HG3^2-2*'1D Vectors'!B8*'Risk-return'!HG3+'1D Vectors'!B11))","v":2.2979433087675417E-3},{"$f":"((1/'1D Vectors'!B16))*(('1D Vectors'!B14*'Risk-return'!HH3^2-2*'1D Vectors'!B8*'Risk-return'!HH3+'1D Vectors'!B11))","v":2.3140202601600428E-3},{"$f":"((1/'1D Vectors'!B16))*(('1D Vectors'!B14*'Risk-return'!HI3^2-2*'1D Vectors'!B8*'Risk-return'!HI3+'1D Vectors'!B11))","v":2.3301922582163797E-3},{"$f":"((1/'1D Vectors'!B16))*(('1D Vectors'!B14*'Risk-return'!HJ3^2-2*'1D Vectors'!B8*'Risk-return'!HJ3+'1D Vectors'!B11))","v":2.346459302936553E-3},{"$f":"((1/'1D Vectors'!B16))*(('1D Vectors'!B14*'Risk-return'!HK3^2-2*'1D Vectors'!B8*'Risk-return'!HK3+'1D Vectors'!B11))","v":2.3628213943205616E-3},{"$f":"((1/'1D Vectors'!B16))*(('1D Vectors'!B14*'Risk-return'!HL3^2-2*'1D Vectors'!B8*'Risk-return'!HL3+'1D Vectors'!B11))","v":2.3792785323684057E-3},{"$f":"((1/'1D Vectors'!B16))*(('1D Vectors'!B14*'Risk-return'!HM3^2-2*'1D Vectors'!B8*'Risk-return'!HM3+'1D Vectors'!B11))","v":2.3958307170800857E-3},{"$f":"((1/'1D Vectors'!B16))*(('1D Vectors'!B14*'Risk-return'!HN3^2-2*'1D Vectors'!B8*'Risk-return'!HN3+'1D Vectors'!B11))","v":2.4124779484556019E-3},{"$f":"((1/'1D Vectors'!B16))*(('1D Vectors'!B14*'Risk-return'!HO3^2-2*'1D Vectors'!B8*'Risk-return'!HO3+'1D Vectors'!B11))","v":2.4292202264949536E-3},{"$f":"((1/'1D Vectors'!B16))*(('1D Vectors'!B14*'Risk-return'!HP3^2-2*'1D Vectors'!B8*'Risk-return'!HP3+'1D Vectors'!B11))","v":2.4460575511981411E-3},{"$f":"((1/'1D Vectors'!B16))*(('1D Vectors'!B14*'Risk-return'!HQ3^2-2*'1D Vectors'!B8*'Risk-return'!HQ3+'1D Vectors'!B11))","v":2.4629899225651645E-3},{"$f":"((1/'1D Vectors'!B16))*(('1D Vectors'!B14*'Risk-return'!HR3^2-2*'1D Vectors'!B8*'Risk-return'!HR3+'1D Vectors'!B11))","v":2.4800173405960233E-3},{"$f":"((1/'1D Vectors'!B16))*(('1D Vectors'!B14*'Risk-return'!HS3^2-2*'1D Vectors'!B8*'Risk-return'!HS3+'1D Vectors'!B11))","v":2.4971398052907176E-3},{"$f":"((1/'1D Vectors'!B16))*(('1D Vectors'!B14*'Risk-return'!HT3^2-2*'1D Vectors'!B8*'Risk-return'!HT3+'1D Vectors'!B11))","v":2.5143573166492481E-3},{"$f":"((1/'1D Vectors'!B16))*(('1D Vectors'!B14*'Risk-return'!HU3^2-2*'1D Vectors'!B8*'Risk-return'!HU3+'1D Vectors'!B11))","v":2.5316698746716149E-3},{"$f":"((1/'1D Vectors'!B16))*(('1D Vectors'!B14*'Risk-return'!HV3^2-2*'1D Vectors'!B8*'Risk-return'!HV3+'1D Vectors'!B11))","v":2.5490774793578159E-3},{"$f":"((1/'1D Vectors'!B16))*(('1D Vectors'!B14*'Risk-return'!HW3^2-2*'1D Vectors'!B8*'Risk-return'!HW3+'1D Vectors'!B11))","v":2.566580130707854E-3},{"$f":"((1/'1D Vectors'!B16))*(('1D Vectors'!B14*'Risk-return'!HX3^2-2*'1D Vectors'!B8*'Risk-return'!HX3+'1D Vectors'!B11))","v":2.5841778287217275E-3},{"$f":"((1/'1D Vectors'!B16))*(('1D Vectors'!B14*'Risk-return'!HY3^2-2*'1D Vectors'!B8*'Risk-return'!HY3+'1D Vectors'!B11))","v":2.6018705733994369E-3},{"$f":"((1/'1D Vectors'!B16))*(('1D Vectors'!B14*'Risk-return'!HZ3^2-2*'1D Vectors'!B8*'Risk-return'!HZ3+'1D Vectors'!B11))","v":2.6196583647409817E-3},{"$f":"((1/'1D Vectors'!B16))*(('1D Vectors'!B14*'Risk-return'!IA3^2-2*'1D Vectors'!B8*'Risk-return'!IA3+'1D Vectors'!B11))","v":2.637541202746362E-3},{"$f":"((1/'1D Vectors'!B16))*(('1D Vectors'!B14*'Risk-return'!IB3^2-2*'1D Vectors'!B8*'Risk-return'!IB3+'1D Vectors'!B11))","v":2.6555190874155781E-3},{"$f":"((1/'1D Vectors'!B16))*(('1D Vectors'!B14*'Risk-return'!IC3^2-2*'1D Vectors'!B8*'Risk-return'!IC3+'1D Vectors'!B11))","v":2.6735920187486309E-3},{"$f":"((1/'1D Vectors'!B16))*(('1D Vectors'!B14*'Risk-return'!ID3^2-2*'1D Vectors'!B8*'Risk-return'!ID3+'1D Vectors'!B11))","v":2.6917599967455192E-3},{"$f":"((1/'1D Vectors'!B16))*(('1D Vectors'!B14*'Risk-return'!IE3^2-2*'1D Vectors'!B8*'Risk-return'!IE3+'1D Vectors'!B11))","v":2.7100230214062429E-3},{"$f":"((1/'1D Vectors'!B16))*(('1D Vectors'!B14*'Risk-return'!IF3^2-2*'1D Vectors'!B8*'Risk-return'!IF3+'1D Vectors'!B11))","v":2.7283810927308024E-3},{"$f":"((1/'1D Vectors'!B16))*(('1D Vectors'!B14*'Risk-return'!IG3^2-2*'1D Vectors'!B8*'Risk-return'!IG3+'1D Vectors'!B11))","v":2.7468342107191969E-3},{"$f":"((1/'1D Vectors'!B16))*(('1D Vectors'!B14*'Risk-return'!IH3^2-2*'1D Vectors'!B8*'Risk-return'!IH3+'1D Vectors'!B11))","v":2.7653823753714282E-3},{"$f":"((1/'1D Vectors'!B16))*(('1D Vectors'!B14*'Risk-return'!II3^2-2*'1D Vectors'!B8*'Risk-return'!II3+'1D Vectors'!B11))","v":2.7840255866874953E-3},{"$f":"((1/'1D Vectors'!B16))*(('1D Vectors'!B14*'Risk-return'!IJ3^2-2*'1D Vectors'!B8*'Risk-return'!IJ3+'1D Vectors'!B11))","v":2.8027638446673974E-3},{"$f":"((1/'1D Vectors'!B16))*(('1D Vectors'!B14*'Risk-return'!IK3^2-2*'1D Vectors'!B8*'Risk-return'!IK3+'1D Vectors'!B11))","v":2.8215971493111363E-3},{"$f":"((1/'1D Vectors'!B16))*(('1D Vectors'!B14*'Risk-return'!IL3^2-2*'1D Vectors'!B8*'Risk-return'!IL3+'1D Vectors'!B11))","v":2.8405255006187101E-3},{"$f":"((1/'1D Vectors'!B16))*(('1D Vectors'!B14*'Risk-return'!IM3^2-2*'1D Vectors'!B8*'Risk-return'!IM3+'1D Vectors'!B11))","v":2.8595488985901194E-3},{"$f":"((1/'1D Vectors'!B16))*(('1D Vectors'!B14*'Risk-return'!IN3^2-2*'1D Vectors'!B8*'Risk-return'!IN3+'1D Vectors'!B11))","v":2.8786673432253649E-3},{"$f":"((1/'1D Vectors'!B16))*(('1D Vectors'!B14*'Risk-return'!IO3^2-2*'1D Vectors'!B8*'Risk-return'!IO3+'1D Vectors'!B11))","v":2.8978808345244463E-3},{"$f":"((1/'1D Vectors'!B16))*(('1D Vectors'!B14*'Risk-return'!IP3^2-2*'1D Vectors'!B8*'Risk-return'!IP3+'1D Vectors'!B11))","v":2.9171893724873627E-3},{"$f":"((1/'1D Vectors'!B16))*(('1D Vectors'!B14*'Risk-return'!IQ3^2-2*'1D Vectors'!B8*'Risk-return'!IQ3+'1D Vectors'!B11))","v":2.9365929571141167E-3},{"$f":"((1/'1D Vectors'!B16))*(('1D Vectors'!B14*'Risk-return'!IR3^2-2*'1D Vectors'!B8*'Risk-return'!IR3+'1D Vectors'!B11))","v":2.9560915884047048E-3},{"$f":"((1/'1D Vectors'!B16))*(('1D Vectors'!B14*'Risk-return'!IS3^2-2*'1D Vectors'!B8*'Risk-return'!IS3+'1D Vectors'!B11))","v":2.9756852663591292E-3},{"$f":"((1/'1D Vectors'!B16))*(('1D Vectors'!B14*'Risk-return'!IT3^2-2*'1D Vectors'!B8*'Risk-return'!IT3+'1D Vectors'!B11))","v":2.9953739909773891E-3},{"$f":"((1/'1D Vectors'!B16))*(('1D Vectors'!B14*'Risk-return'!IU3^2-2*'1D Vectors'!B8*'Risk-return'!IU3+'1D Vectors'!B11))","v":3.0151577622594848E-3},{"$f":"((1/'1D Vectors'!B16))*(('1D Vectors'!B14*'Risk-return'!IV3^2-2*'1D Vectors'!B8*'Risk-return'!IV3+'1D Vectors'!B11))","v":3.0350365802054159E-3},{"$f":"((1/'1D Vectors'!B16))*(('1D Vectors'!B14*'Risk-return'!IW3^2-2*'1D Vectors'!B8*'Risk-return'!IW3+'1D Vectors'!B11))","v":3.0550104448151842E-3},{"$f":"((1/'1D Vectors'!B16))*(('1D Vectors'!B14*'Risk-return'!IX3^2-2*'1D Vectors'!B8*'Risk-return'!IX3+'1D Vectors'!B11))","v":3.0750793560887866E-3},{"$f":"((1/'1D Vectors'!B16))*(('1D Vectors'!B14*'Risk-return'!IY3^2-2*'1D Vectors'!B8*'Risk-return'!IY3+'1D Vectors'!B11))","v":3.0952433140262257E-3},{"$f":"((1/'1D Vectors'!B16))*(('1D Vectors'!B14*'Risk-return'!IZ3^2-2*'1D Vectors'!B8*'Risk-return'!IZ3+'1D Vectors'!B11))","v":3.1155023186275003E-3},{"$f":"((1/'1D Vectors'!B16))*(('1D Vectors'!B14*'Risk-return'!JA3^2-2*'1D Vectors'!B8*'Risk-return'!JA3+'1D Vectors'!B11))","v":3.1358563698926103E-3},{"$f":"((1/'1D Vectors'!B16))*(('1D Vectors'!B14*'Risk-return'!JB3^2-2*'1D Vectors'!B8*'Risk-return'!JB3+'1D Vectors'!B11))","v":3.1563054678215565E-3},{"$f":"((1/'1D Vectors'!B16))*(('1D Vectors'!B14*'Risk-return'!JC3^2-2*'1D Vectors'!B8*'Risk-return'!JC3+'1D Vectors'!B11))","v":3.1768496124143382E-3},{"$f":"((1/'1D Vectors'!B16))*(('1D Vectors'!B14*'Risk-return'!JD3^2-2*'1D Vectors'!B8*'Risk-return'!JD3+'1D Vectors'!B11))","v":3.1974888036709558E-3},{"$f":"((1/'1D Vectors'!B16))*(('1D Vectors'!B14*'Risk-return'!JE3^2-2*'1D Vectors'!B8*'Risk-return'!JE3+'1D Vectors'!B11))","v":3.2182230415914097E-3},{"$f":"((1/'1D Vectors'!B16))*(('1D Vectors'!B14*'Risk-return'!JF3^2-2*'1D Vectors'!B8*'Risk-return'!JF3+'1D Vectors'!B11))","v":3.2390523261756989E-3},{"$f":"((1/'1D Vectors'!B16))*(('1D Vectors'!B14*'Risk-return'!JG3^2-2*'1D Vectors'!B8*'Risk-return'!JG3+'1D Vectors'!B11))","v":3.2599766574238232E-3},{"$f":"((1/'1D Vectors'!B16))*(('1D Vectors'!B14*'Risk-return'!JH3^2-2*'1D Vectors'!B8*'Risk-return'!JH3+'1D Vectors'!B11))","v":3.2809960353357842E-3},{"$f":"((1/'1D Vectors'!B16))*(('1D Vectors'!B14*'Risk-return'!JI3^2-2*'1D Vectors'!B8*'Risk-return'!JI3+'1D Vectors'!B11))","v":3.3021104599115802E-3},{"$f":"((1/'1D Vectors'!B16))*(('1D Vectors'!B14*'Risk-return'!JJ3^2-2*'1D Vectors'!B8*'Risk-return'!JJ3+'1D Vectors'!B11))","v":3.3233199311512121E-3},{"$f":"((1/'1D Vectors'!B16))*(('1D Vectors'!B14*'Risk-return'!JK3^2-2*'1D Vectors'!B8*'Risk-return'!JK3+'1D Vectors'!B11))","v":3.3446244490546802E-3},{"$f":"((1/'1D Vectors'!B16))*(('1D Vectors'!B14*'Risk-return'!JL3^2-2*'1D Vectors'!B8*'Risk-return'!JL3+'1D Vectors'!B11))","v":3.3660240136219833E-3},{"$f":"((1/'1D Vectors'!B16))*(('1D Vectors'!B14*'Risk-return'!JM3^2-2*'1D Vectors'!B8*'Risk-return'!JM3+'1D Vectors'!B11))","v":3.3875186248531236E-3},{"$f":"((1/'1D Vectors'!B16))*(('1D Vectors'!B14*'Risk-return'!JN3^2-2*'1D Vectors'!B8*'Risk-return'!JN3+'1D Vectors'!B11))","v":3.4091082827480985E-3},{"$f":"((1/'1D Vectors'!B16))*(('1D Vectors'!B14*'Risk-return'!JO3^2-2*'1D Vectors'!B8*'Risk-return'!JO3+'1D Vectors'!B11))","v":3.4307929873069096E-3},{"$f":"((1/'1D Vectors'!B16))*(('1D Vectors'!B14*'Risk-return'!JP3^2-2*'1D Vectors'!B8*'Risk-return'!JP3+'1D Vectors'!B11))","v":3.4525727385295562E-3},{"$f":"((1/'1D Vectors'!B16))*(('1D Vectors'!B14*'Risk-return'!JQ3^2-2*'1D Vectors'!B8*'Risk-return'!JQ3+'1D Vectors'!B11))","v":3.4744475364160386E-3},{"$f":"((1/'1D Vectors'!B16))*(('1D Vectors'!B14*'Risk-return'!JR3^2-2*'1D Vectors'!B8*'Risk-return'!JR3+'1D Vectors'!B11))","v":3.4964173809663565E-3},{"$f":"((1/'1D Vectors'!B16))*(('1D Vectors'!B14*'Risk-return'!JS3^2-2*'1D Vectors'!B8*'Risk-return'!JS3+'1D Vectors'!B11))","v":3.5184822721805111E-3},{"$f":"((1/'1D Vectors'!B16))*(('1D Vectors'!B14*'Risk-return'!JT3^2-2*'1D Vectors'!B8*'Risk-return'!JT3+'1D Vectors'!B11))","v":3.5406422100585002E-3},{"$f":"((1/'1D Vectors'!B16))*(('1D Vectors'!B14*'Risk-return'!JU3^2-2*'1D Vectors'!B8*'Risk-return'!JU3+'1D Vectors'!B11))","v":3.5628971946003256E-3},{"$f":"((1/'1D Vectors'!B16))*(('1D Vectors'!B14*'Risk-return'!JV3^2-2*'1D Vectors'!B8*'Risk-return'!JV3+'1D Vectors'!B11))","v":3.5852472258059869E-3},{"$f":"((1/'1D Vectors'!B16))*(('1D Vectors'!B14*'Risk-return'!JW3^2-2*'1D Vectors'!B8*'Risk-return'!JW3+'1D Vectors'!B11))","v":3.6076923036754836E-3},{"$f":"((1/'1D Vectors'!B16))*(('1D Vectors'!B14*'Risk-return'!JX3^2-2*'1D Vectors'!B8*'Risk-return'!JX3+'1D Vectors'!B11))","v":3.6302324282088167E-3},{"$f":"((1/'1D Vectors'!B16))*(('1D Vectors'!B14*'Risk-return'!JY3^2-2*'1D Vectors'!B8*'Risk-return'!JY3+'1D Vectors'!B11))","v":3.6528675994059847E-3},{"$f":"((1/'1D Vectors'!B16))*(('1D Vectors'!B14*'Risk-return'!JZ3^2-2*'1D Vectors'!B8*'Risk-return'!JZ3+'1D Vectors'!B11))","v":3.675597817266989E-3},{"$f":"((1/'1D Vectors'!B16))*(('1D Vectors'!B14*'Risk-return'!KA3^2-2*'1D Vectors'!B8*'Risk-return'!KA3+'1D Vectors'!B11))","v":3.6984230817918295E-3},{"$f":"((1/'1D Vectors'!B16))*(('1D Vectors'!B14*'Risk-return'!KB3^2-2*'1D Vectors'!B8*'Risk-return'!KB3+'1D Vectors'!B11))","v":3.7213433929805047E-3},{"$f":"((1/'1D Vectors'!B16))*(('1D Vectors'!B14*'Risk-return'!KC3^2-2*'1D Vectors'!B8*'Risk-return'!KC3+'1D Vectors'!B11))","v":3.7443587508330161E-3},{"$f":"((1/'1D Vectors'!B16))*(('1D Vectors'!B14*'Risk-return'!KD3^2-2*'1D Vectors'!B8*'Risk-return'!KD3+'1D Vectors'!B11))","v":3.7674691553493639E-3},{"$f":"((1/'1D Vectors'!B16))*(('1D Vectors'!B14*'Risk-return'!KE3^2-2*'1D Vectors'!B8*'Risk-return'!KE3+'1D Vectors'!B11))","v":3.7906746065295462E-3},{"$f":"((1/'1D Vectors'!B16))*(('1D Vectors'!B14*'Risk-return'!KF3^2-2*'1D Vectors'!B8*'Risk-return'!KF3+'1D Vectors'!B11))","v":3.8139751043735652E-3},{"$f":"((1/'1D Vectors'!B16))*(('1D Vectors'!B14*'Risk-return'!KG3^2-2*'1D Vectors'!B8*'Risk-return'!KG3+'1D Vectors'!B11))","v":3.8373706488814196E-3},{"$f":"((1/'1D Vectors'!B16))*(('1D Vectors'!B14*'Risk-return'!KH3^2-2*'1D Vectors'!B8*'Risk-return'!KH3+'1D Vectors'!B11))","v":3.8608612400531099E-3},{"$f":"((1/'1D Vectors'!B16))*(('1D Vectors'!B14*'Risk-return'!KI3^2-2*'1D Vectors'!B8*'Risk-return'!KI3+'1D Vectors'!B11))","v":3.8844468778886361E-3},{"$f":"((1/'1D Vectors'!B16))*(('1D Vectors'!B14*'Risk-return'!KJ3^2-2*'1D Vectors'!B8*'Risk-return'!KJ3+'1D Vectors'!B11))","v":3.9081275623879981E-3},{"$f":"((1/'1D Vectors'!B16))*(('1D Vectors'!B14*'Risk-return'!KK3^2-2*'1D Vectors'!B8*'Risk-return'!KK3+'1D Vectors'!B11))","v":3.9319032935511951E-3},{"$f":"((1/'1D Vectors'!B16))*(('1D Vectors'!B14*'Risk-return'!KL3^2-2*'1D Vectors'!B8*'Risk-return'!KL3+'1D Vectors'!B11))","v":3.9557740713782284E-3},{"$f":"((1/'1D Vectors'!B16))*(('1D Vectors'!B14*'Risk-return'!KM3^2-2*'1D Vectors'!B8*'Risk-return'!KM3+'1D Vectors'!B11))","v":3.979739895869098E-3},{"$f":"((1/'1D Vectors'!B16))*(('1D Vectors'!B14*'Risk-return'!KN3^2-2*'1D Vectors'!B8*'Risk-return'!KN3+'1D Vectors'!B11))","v":4.0038007670238022E-3},{"$f":"((1/'1D Vectors'!B16))*(('1D Vectors'!B14*'Risk-return'!KO3^2-2*'1D Vectors'!B8*'Risk-return'!KO3+'1D Vectors'!B11))","v":4.0279566848423435E-3},{"$f":"((1/'1D Vectors'!B16))*(('1D Vectors'!B14*'Risk-return'!KP3^2-2*'1D Vectors'!B8*'Risk-return'!KP3+'1D Vectors'!B11))","v":4.0522076493247194E-3},{"$f":"((1/'1D Vectors'!B16))*(('1D Vectors'!B14*'Risk-return'!KQ3^2-2*'1D Vectors'!B8*'Risk-return'!KQ3+'1D Vectors'!B11))","v":4.0765536604709315E-3},{"$f":"((1/'1D Vectors'!B16))*(('1D Vectors'!B14*'Risk-return'!KR3^2-2*'1D Vectors'!B8*'Risk-return'!KR3+'1D Vectors'!B11))","v":4.1009947182809791E-3},{"$f":"((1/'1D Vectors'!B16))*(('1D Vectors'!B14*'Risk-return'!KS3^2-2*'1D Vectors'!B8*'Risk-return'!KS3+'1D Vectors'!B11))","v":4.1255308227548622E-3},{"$f":"((1/'1D Vectors'!B16))*(('1D Vectors'!B14*'Risk-return'!KT3^2-2*'1D Vectors'!B8*'Risk-return'!KT3+'1D Vectors'!B11))","v":4.1501619738925823E-3},{"$f":"((1/'1D Vectors'!B16))*(('1D Vectors'!B14*'Risk-return'!KU3^2-2*'1D Vectors'!B8*'Risk-return'!KU3+'1D Vectors'!B11))","v":4.1748881716941371E-3},{"$f":"((1/'1D Vectors'!B16))*(('1D Vectors'!B14*'Risk-return'!KV3^2-2*'1D Vectors'!B8*'Risk-return'!KV3+'1D Vectors'!B11))","v":4.1997094161595281E-3},{"$f":"((1/'1D Vectors'!B16))*(('1D Vectors'!B14*'Risk-return'!KW3^2-2*'1D Vectors'!B8*'Risk-return'!KW3+'1D Vectors'!B11))","v":4.2246257072887546E-3},{"$f":"((1/'1D Vectors'!B16))*(('1D Vectors'!B14*'Risk-return'!KX3^2-2*'1D Vectors'!B8*'Risk-return'!KX3+'1D Vectors'!B11))","v":4.2496370450818173E-3},{"$f":"((1/'1D Vectors'!B16))*(('1D Vectors'!B14*'Risk-return'!KY3^2-2*'1D Vectors'!B8*'Risk-return'!KY3+'1D Vectors'!B11))","v":4.2747434295387155E-3},{"$f":"((1/'1D Vectors'!B16))*(('1D Vectors'!B14*'Risk-return'!KZ3^2-2*'1D Vectors'!B8*'Risk-return'!KZ3+'1D Vectors'!B11))","v":4.2999448606594491E-3},{"$f":"((1/'1D Vectors'!B16))*(('1D Vectors'!B14*'Risk-return'!LA3^2-2*'1D Vectors'!B8*'Risk-return'!LA3+'1D Vectors'!B11))","v":4.325241338444019E-3},{"$f":"((1/'1D Vectors'!B16))*(('1D Vectors'!B14*'Risk-return'!LB3^2-2*'1D Vectors'!B8*'Risk-return'!LB3+'1D Vectors'!B11))","v":4.3506333367324341E-3},{"$f":"((1/'1D Vectors'!B16))*(('1D Vectors'!B14*'Risk-return'!LC3^2-2*'1D Vectors'!B8*'Risk-return'!LC3+'1D Vectors'!B11))","v":4.3761203852254902E-3},{"$f":"((1/'1D Vectors'!B16))*(('1D Vectors'!B14*'Risk-return'!LD3^2-2*'1D Vectors'!B8*'Risk-return'!LD3+'1D Vectors'!B11))","v":4.401702483923184E-3},{"$f":"((1/'1D Vectors'!B16))*(('1D Vectors'!B14*'Risk-return'!LE3^2-2*'1D Vectors'!B8*'Risk-return'!LE3+'1D Vectors'!B11))","v":4.4273796328255163E-3},{"$f":"((1/'1D Vectors'!B16))*(('1D Vectors'!B14*'Risk-return'!LF3^2-2*'1D Vectors'!B8*'Risk-return'!LF3+'1D Vectors'!B11))","v":4.4531518319324889E-3},{"$f":"((1/'1D Vectors'!B16))*(('1D Vectors'!B14*'Risk-return'!LG3^2-2*'1D Vectors'!B8*'Risk-return'!LG3+'1D Vectors'!B11))","v":4.479019081244099E-3},{"$f":"((1/'1D Vectors'!B16))*(('1D Vectors'!B14*'Risk-return'!LH3^2-2*'1D Vectors'!B8*'Risk-return'!LH3+'1D Vectors'!B11))","v":4.5049813807603485E-3},{"$f":"((1/'1D Vectors'!B16))*(('1D Vectors'!B14*'Risk-return'!LI3^2-2*'1D Vectors'!B8*'Risk-return'!LI3+'1D Vectors'!B11))","v":4.5310387304812374E-3},{"$f":"((1/'1D Vectors'!B16))*(('1D Vectors'!B14*'Risk-return'!LJ3^2-2*'1D Vectors'!B8*'Risk-return'!LJ3+'1D Vectors'!B11))","v":4.5571911304067639E-3},{"$f":"((1/'1D Vectors'!B16))*(('1D Vectors'!B14*'Risk-return'!LK3^2-2*'1D Vectors'!B8*'Risk-return'!LK3+'1D Vectors'!B11))","v":4.5834385805369315E-3},{"$f":"((1/'1D Vectors'!B16))*(('1D Vectors'!B14*'Risk-return'!LL3^2-2*'1D Vectors'!B8*'Risk-return'!LL3+'1D Vectors'!B11))","v":4.6097810808717367E-3},{"$f":"((1/'1D Vectors'!B16))*(('1D Vectors'!B14*'Risk-return'!LM3^2-2*'1D Vectors'!B8*'Risk-return'!LM3+'1D Vectors'!B11))","v":4.6362186314111804E-3},{"$f":"((1/'1D Vectors'!B16))*(('1D Vectors'!B14*'Risk-return'!LN3^2-2*'1D Vectors'!B8*'Risk-return'!LN3+'1D Vectors'!B11))","v":4.6627512321552635E-3},{"$f":"((1/'1D Vectors'!B16))*(('1D Vectors'!B14*'Risk-return'!LO3^2-2*'1D Vectors'!B8*'Risk-return'!LO3+'1D Vectors'!B11))","v":4.6893788831039859E-3},{"$f":"((1/'1D Vectors'!B16))*(('1D Vectors'!B14*'Risk-return'!LP3^2-2*'1D Vectors'!B8*'Risk-return'!LP3+'1D Vectors'!B11))","v":4.7161015842573468E-3},{"$f":"((1/'1D Vectors'!B16))*(('1D Vectors'!B14*'Risk-return'!LQ3^2-2*'1D Vectors'!B8*'Risk-return'!LQ3+'1D Vectors'!B11))","v":4.7429193356153462E-3},{"$f":"((1/'1D Vectors'!B16))*(('1D Vectors'!B14*'Risk-return'!LR3^2-2*'1D Vectors'!B8*'Risk-return'!LR3+'1D Vectors'!B11))","v":4.7698321371779841E-3},{"$f":"((1/'1D Vectors'!B16))*(('1D Vectors'!B14*'Risk-return'!LS3^2-2*'1D Vectors'!B8*'Risk-return'!LS3+'1D Vectors'!B11))","v":4.7968399889452623E-3},{"$f":"((1/'1D Vectors'!B16))*(('1D Vectors'!B14*'Risk-return'!LT3^2-2*'1D Vectors'!B8*'Risk-return'!LT3+'1D Vectors'!B11))","v":4.823942890917178E-3},{"$f":"((1/'1D Vectors'!B16))*(('1D Vectors'!B14*'Risk-return'!LU3^2-2*'1D Vectors'!B8*'Risk-return'!LU3+'1D Vectors'!B11))","v":4.8511408430937332E-3},{"$f":"((1/'1D Vectors'!B16))*(('1D Vectors'!B14*'Risk-return'!LV3^2-2*'1D Vectors'!B8*'Risk-return'!LV3+'1D Vectors'!B11))","v":4.8784338454749276E-3},{"$f":"((1/'1D Vectors'!B16))*(('1D Vectors'!B14*'Risk-return'!LW3^2-2*'1D Vectors'!B8*'Risk-return'!LW3+'1D Vectors'!B11))","v":4.9058218980607606E-3},{"$f":"((1/'1D Vectors'!B16))*(('1D Vectors'!B14*'Risk-return'!LX3^2-2*'1D Vectors'!B8*'Risk-return'!LX3+'1D Vectors'!B11))","v":4.9333050008512312E-3},{"$f":"((1/'1D Vectors'!B16))*(('1D Vectors'!B14*'Risk-return'!LY3^2-2*'1D Vectors'!B8*'Risk-return'!LY3+'1D Vectors'!B11))","v":4.9608831538463438E-3},{"$f":"((1/'1D Vectors'!B16))*(('1D Vectors'!B14*'Risk-return'!LZ3^2-2*'1D Vectors'!B8*'Risk-return'!LZ3+'1D Vectors'!B11))","v":4.9885563570460931E-3},{"$f":"((1/'1D Vectors'!B16))*(('1D Vectors'!B14*'Risk-return'!MA3^2-2*'1D Vectors'!B8*'Risk-return'!MA3+'1D Vectors'!B11))","v":5.0163246104504818E-3},{"$f":"((1/'1D Vectors'!B16))*(('1D Vectors'!B14*'Risk-return'!MB3^2-2*'1D Vectors'!B8*'Risk-return'!MB3+'1D Vectors'!B11))","v":5.044187914059509E-3},{"$f":"((1/'1D Vectors'!B16))*(('1D Vectors'!B14*'Risk-return'!MC3^2-2*'1D Vectors'!B8*'Risk-return'!MC3+'1D Vectors'!B11))","v":5.0721462678731755E-3},{"$f":"((1/'1D Vectors'!B16))*(('1D Vectors'!B14*'Risk-return'!MD3^2-2*'1D Vectors'!B8*'Risk-return'!MD3+'1D Vectors'!B11))","v":5.1001996718914797E-3},{"$f":"((1/'1D Vectors'!B16))*(('1D Vectors'!B14*'Risk-return'!ME3^2-2*'1D Vectors'!B8*'Risk-return'!ME3+'1D Vectors'!B11))","v":5.1283481261144258E-3},{"$f":"((1/'1D Vectors'!B16))*(('1D Vectors'!B14*'Risk-return'!MF3^2-2*'1D Vectors'!B8*'Risk-return'!MF3+'1D Vectors'!B11))","v":5.1565916305420087E-3},{"$f":"((1/'1D Vectors'!B16))*(('1D Vectors'!B14*'Risk-return'!MG3^2-2*'1D Vectors'!B8*'Risk-return'!MG3+'1D Vectors'!B11))","v":5.1849301851742292E-3},{"$f":"((1/'1D Vectors'!B16))*(('1D Vectors'!B14*'Risk-return'!MH3^2-2*'1D Vectors'!B8*'Risk-return'!MH3+'1D Vectors'!B11))","v":5.2133637900110908E-3},{"$f":"((1/'1D Vectors'!B16))*(('1D Vectors'!B14*'Risk-return'!MI3^2-2*'1D Vectors'!B8*'Risk-return'!MI3+'1D Vectors'!B11))","v":5.24189244505259E-3},{"$f":"((1/'1D Vectors'!B16))*(('1D Vectors'!B14*'Risk-return'!MJ3^2-2*'1D Vectors'!B8*'Risk-return'!MJ3+'1D Vectors'!B11))","v":5.2705161502987295E-3},{"$f":"((1/'1D Vectors'!B16))*(('1D Vectors'!B14*'Risk-return'!MK3^2-2*'1D Vectors'!B8*'Risk-return'!MK3+'1D Vectors'!B11))","v":5.2992349057495057E-3},{"$f":"((1/'1D Vectors'!B16))*(('1D Vectors'!B14*'Risk-return'!ML3^2-2*'1D Vectors'!B8*'Risk-return'!ML3+'1D Vectors'!B11))","v":5.3280487114049221E-3},{"$f":"((1/'1D Vectors'!B16))*(('1D Vectors'!B14*'Risk-return'!MM3^2-2*'1D Vectors'!B8*'Risk-return'!MM3+'1D Vectors'!B11))","v":5.3569575672649779E-3},{"$f":"((1/'1D Vectors'!B16))*(('1D Vectors'!B14*'Risk-return'!MN3^2-2*'1D Vectors'!B8*'Risk-return'!MN3+'1D Vectors'!B11))","v":5.3859614733296731E-3},{"$f":"((1/'1D Vectors'!B16))*(('1D Vectors'!B14*'Risk-return'!MO3^2-2*'1D Vectors'!B8*'Risk-return'!MO3+'1D Vectors'!B11))","v":5.4150604295990059E-3},{"$f":"((1/'1D Vectors'!B16))*(('1D Vectors'!B14*'Risk-return'!MP3^2-2*'1D Vectors'!B8*'Risk-return'!MP3+'1D Vectors'!B11))","v":5.4442544360729771E-3},{"$f":"((1/'1D Vectors'!B16))*(('1D Vectors'!B14*'Risk-return'!MQ3^2-2*'1D Vectors'!B8*'Risk-return'!MQ3+'1D Vectors'!B11))","v":5.4735434927515886E-3},{"$f":"((1/'1D Vectors'!B16))*(('1D Vectors'!B14*'Risk-return'!MR3^2-2*'1D Vectors'!B8*'Risk-return'!MR3+'1D Vectors'!B11))","v":5.5029275996348378E-3},{"$f":"((1/'1D Vectors'!B16))*(('1D Vectors'!B14*'Risk-return'!MS3^2-2*'1D Vectors'!B8*'Risk-return'!MS3+'1D Vectors'!B11))","v":5.5324067567227263E-3},{"$f":"((1/'1D Vectors'!B16))*(('1D Vectors'!B14*'Risk-return'!MT3^2-2*'1D Vectors'!B8*'Risk-return'!MT3+'1D Vectors'!B11))","v":5.5619809640152541E-3},{"$f":"((1/'1D Vectors'!B16))*(('1D Vectors'!B14*'Risk-return'!MU3^2-2*'1D Vectors'!B8*'Risk-return'!MU3+'1D Vectors'!B11))","v":5.5916502215124205E-3},{"$f":"((1/'1D Vectors'!B16))*(('1D Vectors'!B14*'Risk-return'!MV3^2-2*'1D Vectors'!B8*'Risk-return'!MV3+'1D Vectors'!B11))","v":5.6214145292142262E-3},{"$f":"((1/'1D Vectors'!B16))*(('1D Vectors'!B14*'Risk-return'!MW3^2-2*'1D Vectors'!B8*'Risk-return'!MW3+'1D Vectors'!B11))","v":5.6512738871206704E-3},{"$f":"((1/'1D Vectors'!B16))*(('1D Vectors'!B14*'Risk-return'!MX3^2-2*'1D Vectors'!B8*'Risk-return'!MX3+'1D Vectors'!B11))","v":5.6812282952317531E-3},{"$f":"((1/'1D Vectors'!B16))*(('1D Vectors'!B14*'Risk-return'!MY3^2-2*'1D Vectors'!B8*'Risk-return'!MY3+'1D Vectors'!B11))","v":5.711277753547476E-3},{"$f":"((1/'1D Vectors'!B16))*(('1D Vectors'!B14*'Risk-return'!MZ3^2-2*'1D Vectors'!B8*'Risk-return'!MZ3+'1D Vectors'!B11))","v":5.7414222620678365E-3},{"$f":"((1/'1D Vectors'!B16))*(('1D Vectors'!B14*'Risk-return'!NA3^2-2*'1D Vectors'!B8*'Risk-return'!NA3+'1D Vectors'!B11))","v":5.7716618207928356E-3},{"$f":"((1/'1D Vectors'!B16))*(('1D Vectors'!B14*'Risk-return'!NB3^2-2*'1D Vectors'!B8*'Risk-return'!NB3+'1D Vectors'!B11))","v":5.8019964297224749E-3},{"$f":"((1/'1D Vectors'!B16))*(('1D Vectors'!B14*'Risk-return'!NC3^2-2*'1D Vectors'!B8*'Risk-return'!NC3+'1D Vectors'!B11))","v":5.8324260888567517E-3},{"$f":"((1/'1D Vectors'!B16))*(('1D Vectors'!B14*'Risk-return'!ND3^2-2*'1D Vectors'!B8*'Risk-return'!ND3+'1D Vectors'!B11))","v":5.862950798195668E-3},{"$f":"((1/'1D Vectors'!B16))*(('1D Vectors'!B14*'Risk-return'!NE3^2-2*'1D Vectors'!B8*'Risk-return'!NE3+'1D Vectors'!B11))","v":5.8935705577392245E-3},{"$f":"((1/'1D Vectors'!B16))*(('1D Vectors'!B14*'Risk-return'!NF3^2-2*'1D Vectors'!B8*'Risk-return'!NF3+'1D Vectors'!B11))","v":5.9242853674874186E-3},{"$f":"((1/'1D Vectors'!B16))*(('1D Vectors'!B14*'Risk-return'!NG3^2-2*'1D Vectors'!B8*'Risk-return'!NG3+'1D Vectors'!B11))","v":5.9550952274402521E-3},{"$f":"((1/'1D Vectors'!B16))*(('1D Vectors'!B14*'Risk-return'!NH3^2-2*'1D Vectors'!B8*'Risk-return'!NH3+'1D Vectors'!B11))","v":5.986000137597724E-3},{"$f":"((1/'1D Vectors'!B16))*(('1D Vectors'!B14*'Risk-return'!NI3^2-2*'1D Vectors'!B8*'Risk-return'!NI3+'1D Vectors'!B11))","v":6.0170000979598345E-3},{"$f":"((1/'1D Vectors'!B16))*(('1D Vectors'!B14*'Risk-return'!NJ3^2-2*'1D Vectors'!B8*'Risk-return'!NJ3+'1D Vectors'!B11))","v":6.0480951085265851E-3},{"$f":"((1/'1D Vectors'!B16))*(('1D Vectors'!B14*'Risk-return'!NK3^2-2*'1D Vectors'!B8*'Risk-return'!NK3+'1D Vectors'!B11))","v":6.0792851692979726E-3},{"$f":"((1/'1D Vectors'!B16))*(('1D Vectors'!B14*'Risk-return'!NL3^2-2*'1D Vectors'!B8*'Risk-return'!NL3+'1D Vectors'!B11))","v":6.1105702802740011E-3},{"$f":"((1/'1D Vectors'!B16))*(('1D Vectors'!B14*'Risk-return'!NM3^2-2*'1D Vectors'!B8*'Risk-return'!NM3+'1D Vectors'!B11))","v":6.1419504414546673E-3},{"$f":"((1/'1D Vectors'!B16))*(('1D Vectors'!B14*'Risk-return'!NN3^2-2*'1D Vectors'!B8*'Risk-return'!NN3+'1D Vectors'!B11))","v":6.1734256528399728E-3},{"$f":"((1/'1D Vectors'!B16))*(('1D Vectors'!B14*'Risk-return'!NO3^2-2*'1D Vectors'!B8*'Risk-return'!NO3+'1D Vectors'!B11))","v":6.2049959144299177E-3},{"$f":"((1/'1D Vectors'!B16))*(('1D Vectors'!B14*'Risk-return'!NP3^2-2*'1D Vectors'!B8*'Risk-return'!NP3+'1D Vectors'!B11))","v":6.2366612262245002E-3},{"$f":"((1/'1D Vectors'!B16))*(('1D Vectors'!B14*'Risk-return'!NQ3^2-2*'1D Vectors'!B8*'Risk-return'!NQ3+'1D Vectors'!B11))","v":6.2684215882237229E-3},{"$f":"((1/'1D Vectors'!B16))*(('1D Vectors'!B14*'Risk-return'!NR3^2-2*'1D Vectors'!B8*'Risk-return'!NR3+'1D Vectors'!B11))","v":6.3002770004275824E-3},{"$f":"((1/'1D Vectors'!B16))*(('1D Vectors'!B14*'Risk-return'!NS3^2-2*'1D Vectors'!B8*'Risk-return'!NS3+'1D Vectors'!B11))","v":6.332227462836083E-3},{"$f":"((1/'1D Vectors'!B16))*(('1D Vectors'!B14*'Risk-return'!NT3^2-2*'1D Vectors'!B8*'Risk-return'!NT3+'1D Vectors'!B11))","v":6.3642729754492221E-3},{"$f":"((1/'1D Vectors'!B16))*(('1D Vectors'!B14*'Risk-return'!NU3^2-2*'1D Vectors'!B8*'Risk-return'!NU3+'1D Vectors'!B11))","v":6.3964135382669996E-3},{"$f":"((1/'1D Vectors'!B16))*(('1D Vectors'!B14*'Risk-return'!NV3^2-2*'1D Vectors'!B8*'Risk-return'!NV3+'1D Vectors'!B11))","v":6.4286491512894166E-3},{"$f":"((1/'1D Vectors'!B16))*(('1D Vectors'!B14*'Risk-return'!NW3^2-2*'1D Vectors'!B8*'Risk-return'!NW3+'1D Vectors'!B11))","v":6.4609798145164711E-3},{"$f":"((1/'1D Vectors'!B16))*(('1D Vectors'!B14*'Risk-return'!NX3^2-2*'1D Vectors'!B8*'Risk-return'!NX3+'1D Vectors'!B11))","v":6.4934055279481668E-3},{"$f":"((1/'1D Vectors'!B16))*(('1D Vectors'!B14*'Risk-return'!NY3^2-2*'1D Vectors'!B8*'Risk-return'!NY3+'1D Vectors'!B11))","v":6.5259262915844992E-3},{"$f":"((1/'1D Vectors'!B16))*(('1D Vectors'!B14*'Risk-return'!NZ3^2-2*'1D Vectors'!B8*'Risk-return'!NZ3+'1D Vectors'!B11))","v":6.5585421054254718E-3},{"$f":"((1/'1D Vectors'!B16))*(('1D Vectors'!B14*'Risk-return'!OA3^2-2*'1D Vectors'!B8*'Risk-return'!OA3+'1D Vectors'!B11))","v":6.5912529694710821E-3},{"$f":"((1/'1D Vectors'!B16))*(('1D Vectors'!B14*'Risk-return'!OB3^2-2*'1D Vectors'!B8*'Risk-return'!OB3+'1D Vectors'!B11))","v":6.6240588837213317E-3},{"$f":"((1/'1D Vectors'!B16))*(('1D Vectors'!B14*'Risk-return'!OC3^2-2*'1D Vectors'!B8*'Risk-return'!OC3+'1D Vectors'!B11))","v":6.6569598481762216E-3},{"$f":"((1/'1D Vectors'!B16))*(('1D Vectors'!B14*'Risk-return'!OD3^2-2*'1D Vectors'!B8*'Risk-return'!OD3+'1D Vectors'!B11))","v":6.6899558628357482E-3},{"$f":"((1/'1D Vectors'!B16))*(('1D Vectors'!B14*'Risk-return'!OE3^2-2*'1D Vectors'!B8*'Risk-return'!OE3+'1D Vectors'!B11))","v":6.723046927699915E-3},{"$f":"((1/'1D Vectors'!B16))*(('1D Vectors'!B14*'Risk-return'!OF3^2-2*'1D Vectors'!B8*'Risk-return'!OF3+'1D Vectors'!B11))","v":6.7562330427687204E-3},{"$f":"((1/'1D Vectors'!B16))*(('1D Vectors'!B14*'Risk-return'!OG3^2-2*'1D Vectors'!B8*'Risk-return'!OG3+'1D Vectors'!B11))","v":6.7895142080421659E-3},{"$f":"((1/'1D Vectors'!B16))*(('1D Vectors'!B14*'Risk-return'!OH3^2-2*'1D Vectors'!B8*'Risk-return'!OH3+'1D Vectors'!B11))","v":6.8228904235202482E-3},{"$f":"((1/'1D Vectors'!B16))*(('1D Vectors'!B14*'Risk-return'!OI3^2-2*'1D Vectors'!B8*'Risk-return'!OI3+'1D Vectors'!B11))","v":6.8563616892029708E-3},{"$f":"((1/'1D Vectors'!B16))*(('1D Vectors'!B14*'Risk-return'!OJ3^2-2*'1D Vectors'!B8*'Risk-return'!OJ3+'1D Vectors'!B11))","v":6.8899280050903318E-3},{"$f":"((1/'1D Vectors'!B16))*(('1D Vectors'!B14*'Risk-return'!OK3^2-2*'1D Vectors'!B8*'Risk-return'!OK3+'1D Vectors'!B11))","v":6.9235893711823314E-3},{"$f":"((1/'1D Vectors'!B16))*(('1D Vectors'!B14*'Risk-return'!OL3^2-2*'1D Vectors'!B8*'Risk-return'!OL3+'1D Vectors'!B11))","v":6.9573457874789702E-3},{"$f":"((1/'1D Vectors'!B16))*(('1D Vectors'!B14*'Risk-return'!OM3^2-2*'1D Vectors'!B8*'Risk-return'!OM3+'1D Vectors'!B11))","v":6.9911972539802476E-3},{"$f":"((1/'1D Vectors'!B16))*(('1D Vectors'!B14*'Risk-return'!ON3^2-2*'1D Vectors'!B8*'Risk-return'!ON3+'1D Vectors'!B11))","v":7.0251437706861652E-3},{"$f":"((1/'1D Vectors'!B16))*(('1D Vectors'!B14*'Risk-return'!OO3^2-2*'1D Vectors'!B8*'Risk-return'!OO3+'1D Vectors'!B11))","v":7.0591853375967205E-3},{"$f":"((1/'1D Vectors'!B16))*(('1D Vectors'!B14*'Risk-return'!OP3^2-2*'1D Vectors'!B8*'Risk-return'!OP3+'1D Vectors'!B11))","v":7.0933219547119142E-3},{"$f":"((1/'1D Vectors'!B16))*(('1D Vectors'!B14*'Risk-return'!OQ3^2-2*'1D Vectors'!B8*'Risk-return'!OQ3+'1D Vectors'!B11))","v":7.1275536220317482E-3},{"$f":"((1/'1D Vectors'!B16))*(('1D Vectors'!B14*'Risk-return'!OR3^2-2*'1D Vectors'!B8*'Risk-return'!OR3+'1D Vectors'!B11))","v":7.1618803395562198E-3},{"$f":"((1/'1D Vectors'!B16))*(('1D Vectors'!B14*'Risk-return'!OS3^2-2*'1D Vectors'!B8*'Risk-return'!OS3+'1D Vectors'!B11))","v":7.1963021072853316E-3},{"$f":"((1/'1D Vectors'!B16))*(('1D Vectors'!B14*'Risk-return'!OT3^2-2*'1D Vectors'!B8*'Risk-return'!OT3+'1D Vectors'!B11))","v":7.230818925219081E-3},{"$f":"((1/'1D Vectors'!B16))*(('1D Vectors'!B14*'Risk-return'!OU3^2-2*'1D Vectors'!B8*'Risk-return'!OU3+'1D Vectors'!B11))","v":7.2654307933574707E-3},{"$f":"((1/'1D Vectors'!B16))*(('1D Vectors'!B14*'Risk-return'!OV3^2-2*'1D Vectors'!B8*'Risk-return'!OV3+'1D Vectors'!B11))","v":7.300137711700498E-3},{"$f":"((1/'1D Vectors'!B16))*(('1D Vectors'!B14*'Risk-return'!OW3^2-2*'1D Vectors'!B8*'Risk-return'!OW3+'1D Vectors'!B11))","v":7.3349396802481646E-3},{"$f":"((1/'1D Vectors'!B16))*(('1D Vectors'!B14*'Risk-return'!OX3^2-2*'1D Vectors'!B8*'Risk-return'!OX3+'1D Vectors'!B11))","v":7.3698366990004698E-3},{"$f":"((1/'1D Vectors'!B16))*(('1D Vectors'!B14*'Risk-return'!OY3^2-2*'1D Vectors'!B8*'Risk-return'!OY3+'1D Vectors'!B11))","v":7.4048287679574134E-3},{"$f":"((1/'1D Vectors'!B16))*(('1D Vectors'!B14*'Risk-return'!OZ3^2-2*'1D Vectors'!B8*'Risk-return'!OZ3+'1D Vectors'!B11))","v":7.4399158871189981E-3},{"$f":"((1/'1D Vectors'!B16))*(('1D Vectors'!B14*'Risk-return'!PA3^2-2*'1D Vectors'!B8*'Risk-return'!PA3+'1D Vectors'!B11))","v":7.4750980564852196E-3},{"$f":"((1/'1D Vectors'!B16))*(('1D Vectors'!B14*'Risk-return'!PB3^2-2*'1D Vectors'!B8*'Risk-return'!PB3+'1D Vectors'!B11))","v":7.5103752760560805E-3},{"$f":"((1/'1D Vectors'!B16))*(('1D Vectors'!B14*'Risk-return'!PC3^2-2*'1D Vectors'!B8*'Risk-return'!PC3+'1D Vectors'!B11))","v":7.5457475458315815E-3},{"$f":"((1/'1D Vectors'!B16))*(('1D Vectors'!B14*'Risk-return'!PD3^2-2*'1D Vectors'!B8*'Risk-return'!PD3+'1D Vectors'!B11))","v":7.5812148658117202E-3},{"$f":"((1/'1D Vectors'!B16))*(('1D Vectors'!B14*'Risk-return'!PE3^2-2*'1D Vectors'!B8*'Risk-return'!PE3+'1D Vectors'!B11))","v":7.6167772359964983E-3},{"$f":"((1/'1D Vectors'!B16))*(('1D Vectors'!B14*'Risk-return'!PF3^2-2*'1D Vectors'!B8*'Risk-return'!PF3+'1D Vectors'!B11))","v":7.652434656385914E-3},{"$f":"((1/'1D Vectors'!B16))*(('1D Vectors'!B14*'Risk-return'!PG3^2-2*'1D Vectors'!B8*'Risk-return'!PG3+'1D Vectors'!B11))","v":7.6881871269799708E-3},{"$f":"((1/'1D Vectors'!B16))*(('1D Vectors'!B14*'Risk-return'!PH3^2-2*'1D Vectors'!B8*'Risk-return'!PH3+'1D Vectors'!B11))","v":7.7240346477786643E-3},{"$f":"((1/'1D Vectors'!B16))*(('1D Vectors'!B14*'Risk-return'!PI3^2-2*'1D Vectors'!B8*'Risk-return'!PI3+'1D Vectors'!B11))","v":7.7599772187819972E-3},{"$f":"((1/'1D Vectors'!B16))*(('1D Vectors'!B14*'Risk-return'!PJ3^2-2*'1D Vectors'!B8*'Risk-return'!PJ3+'1D Vectors'!B11))","v":7.7960148399899695E-3},{"$f":"((1/'1D Vectors'!B16))*(('1D Vectors'!B14*'Risk-return'!PK3^2-2*'1D Vectors'!B8*'Risk-return'!PK3+'1D Vectors'!B11))","v":7.8321475114025811E-3},{"$f":"((1/'1D Vectors'!B16))*(('1D Vectors'!B14*'Risk-return'!PL3^2-2*'1D Vectors'!B8*'Risk-return'!PL3+'1D Vectors'!B11))","v":7.8683752330198312E-3},{"$f":"((1/'1D Vectors'!B16))*(('1D Vectors'!B14*'Risk-return'!PM3^2-2*'1D Vectors'!B8*'Risk-return'!PM3+'1D Vectors'!B11))","v":7.9046980048417207E-3},{"$f":"((1/'1D Vectors'!B16))*(('1D Vectors'!B14*'Risk-return'!PN3^2-2*'1D Vectors'!B8*'Risk-return'!PN3+'1D Vectors'!B11))","v":7.9411158268682478E-3},{"$f":"((1/'1D Vectors'!B16))*(('1D Vectors'!B14*'Risk-return'!PO3^2-2*'1D Vectors'!B8*'Risk-return'!PO3+'1D Vectors'!B11))","v":7.9776286990994143E-3},{"$f":"((1/'1D Vectors'!B16))*(('1D Vectors'!B14*'Risk-return'!PP3^2-2*'1D Vectors'!B8*'Risk-return'!PP3+'1D Vectors'!B11))","v":8.0142366215352201E-3},{"$f":"((1/'1D Vectors'!B16))*(('1D Vectors'!B14*'Risk-return'!PQ3^2-2*'1D Vectors'!B8*'Risk-return'!PQ3+'1D Vectors'!B11))","v":8.0509395941756653E-3},{"$f":"((1/'1D Vectors'!B16))*(('1D Vectors'!B14*'Risk-return'!PR3^2-2*'1D Vectors'!B8*'Risk-return'!PR3+'1D Vectors'!B11))","v":8.0877376170207481E-3},{"$f":"((1/'1D Vectors'!B16))*(('1D Vectors'!B14*'Risk-return'!PS3^2-2*'1D Vectors'!B8*'Risk-return'!PS3+'1D Vectors'!B11))","v":8.124630690070472E-3},{"$f":"((1/'1D Vectors'!B16))*(('1D Vectors'!B14*'Risk-return'!PT3^2-2*'1D Vectors'!B8*'Risk-return'!PT3+'1D Vectors'!B11))","v":8.1616188133248318E-3},{"$f":"((1/'1D Vectors'!B16))*(('1D Vectors'!B14*'Risk-return'!PU3^2-2*'1D Vectors'!B8*'Risk-return'!PU3+'1D Vectors'!B11))","v":8.1987019867838327E-3},{"$f":"((1/'1D Vectors'!B16))*(('1D Vectors'!B14*'Risk-return'!PV3^2-2*'1D Vectors'!B8*'Risk-return'!PV3+'1D Vectors'!B11))","v":8.2358802104474712E-3},{"$f":"((1/'1D Vectors'!B16))*(('1D Vectors'!B14*'Risk-return'!PW3^2-2*'1D Vectors'!B8*'Risk-return'!PW3+'1D Vectors'!B11))","v":8.2731534843157491E-3},{"$f":"((1/'1D Vectors'!B16))*(('1D Vectors'!B14*'Risk-return'!PX3^2-2*'1D Vectors'!B8*'Risk-return'!PX3+'1D Vectors'!B11))","v":8.3105218083886663E-3},{"$f":"((1/'1D Vectors'!B16))*(('1D Vectors'!B14*'Risk-return'!PY3^2-2*'1D Vectors'!B8*'Risk-return'!PY3+'1D Vectors'!B11))","v":8.3479851826662212E-3},{"$f":"((1/'1D Vectors'!B16))*(('1D Vectors'!B14*'Risk-return'!PZ3^2-2*'1D Vectors'!B8*'Risk-return'!PZ3+'1D Vectors'!B11))","v":8.3855436071484154E-3},{"$f":"((1/'1D Vectors'!B16))*(('1D Vectors'!B14*'Risk-return'!QA3^2-2*'1D Vectors'!B8*'Risk-return'!QA3+'1D Vectors'!B11))","v":8.423197081835249E-3},{"$f":"((1/'1D Vectors'!B16))*(('1D Vectors'!B14*'Risk-return'!QB3^2-2*'1D Vectors'!B8*'Risk-return'!QB3+'1D Vectors'!B11))","v":8.4609456067267219E-3},{"$f":"((1/'1D Vectors'!B16))*(('1D Vectors'!B14*'Risk-return'!QC3^2-2*'1D Vectors'!B8*'Risk-return'!QC3+'1D Vectors'!B11))","v":8.4987891818228325E-3},{"$f":"((1/'1D Vectors'!B16))*(('1D Vectors'!B14*'Risk-return'!QD3^2-2*'1D Vectors'!B8*'Risk-return'!QD3+'1D Vectors'!B11))","v":8.5367278071235824E-3},{"$f":"((1/'1D Vectors'!B16))*(('1D Vectors'!B14*'Risk-return'!QE3^2-2*'1D Vectors'!B8*'Risk-return'!QE3+'1D Vectors'!B11))","v":8.5747614826289717E-3},{"$f":"((1/'1D Vectors'!B16))*(('1D Vectors'!B14*'Risk-return'!QF3^2-2*'1D Vectors'!B8*'Risk-return'!QF3+'1D Vectors'!B11))","v":8.6128902083390003E-3},{"$f":"((1/'1D Vectors'!B16))*(('1D Vectors'!B14*'Risk-return'!QG3^2-2*'1D Vectors'!B8*'Risk-return'!QG3+'1D Vectors'!B11))","v":8.6511139842536684E-3},{"$f":"((1/'1D Vectors'!B16))*(('1D Vectors'!B14*'Risk-return'!QH3^2-2*'1D Vectors'!B8*'Risk-return'!QH3+'1D Vectors'!B11))","v":8.6894328103729723E-3},{"$f":"((1/'1D Vectors'!B16))*(('1D Vectors'!B14*'Risk-return'!QI3^2-2*'1D Vectors'!B8*'Risk-return'!QI3+'1D Vectors'!B11))","v":8.7278466866969173E-3},{"$f":"((1/'1D Vectors'!B16))*(('1D Vectors'!B14*'Risk-return'!QJ3^2-2*'1D Vectors'!B8*'Risk-return'!QJ3+'1D Vectors'!B11))","v":8.7663556132254999E-3},{"$f":"((1/'1D Vectors'!B16))*(('1D Vectors'!B14*'Risk-return'!QK3^2-2*'1D Vectors'!B8*'Risk-return'!QK3+'1D Vectors'!B11))","v":8.8049595899587236E-3},{"$f":"((1/'1D Vectors'!B16))*(('1D Vectors'!B14*'Risk-return'!QL3^2-2*'1D Vectors'!B8*'Risk-return'!QL3+'1D Vectors'!B11))","v":8.8436586168965832E-3},{"$f":"((1/'1D Vectors'!B16))*(('1D Vectors'!B14*'Risk-return'!QM3^2-2*'1D Vectors'!B8*'Risk-return'!QM3+'1D Vectors'!B11))","v":8.8824526940390839E-3},{"$f":"((1/'1D Vectors'!B16))*(('1D Vectors'!B14*'Risk-return'!QN3^2-2*'1D Vectors'!B8*'Risk-return'!QN3+'1D Vectors'!B11))","v":8.921341821386224E-3},{"$f":"((1/'1D Vectors'!B16))*(('1D Vectors'!B14*'Risk-return'!QO3^2-2*'1D Vectors'!B8*'Risk-return'!QO3+'1D Vectors'!B11))","v":8.9603259989380016E-3},{"$f":"((1/'1D Vectors'!B16))*(('1D Vectors'!B14*'Risk-return'!QP3^2-2*'1D Vectors'!B8*'Risk-return'!QP3+'1D Vectors'!B11))","v":8.9994052266944187E-3},{"$f":"((1/'1D Vectors'!B16))*(('1D Vectors'!B14*'Risk-return'!QQ3^2-2*'1D Vectors'!B8*'Risk-return'!QQ3+'1D Vectors'!B11))","v":9.0385795046554734E-3},{"$f":"((1/'1D Vectors'!B16))*(('1D Vectors'!B14*'Risk-return'!QR3^2-2*'1D Vectors'!B8*'Risk-return'!QR3+'1D Vectors'!B11))","v":9.0778488328211674E-3},{"$f":"((1/'1D Vectors'!B16))*(('1D Vectors'!B14*'Risk-return'!QS3^2-2*'1D Vectors'!B8*'Risk-return'!QS3+'1D Vectors'!B11))","v":9.1172132111915025E-3},{"$f":"((1/'1D Vectors'!B16))*(('1D Vectors'!B14*'Risk-return'!QT3^2-2*'1D Vectors'!B8*'Risk-return'!QT3+'1D Vectors'!B11))","v":9.1566726397664753E-3},{"$f":"((1/'1D Vectors'!B16))*(('1D Vectors'!B14*'Risk-return'!QU3^2-2*'1D Vectors'!B8*'Risk-return'!QU3+'1D Vectors'!B11))","v":9.1962271185460857E-3},{"$f":"((1/'1D Vectors'!B16))*(('1D Vectors'!B14*'Risk-return'!QV3^2-2*'1D Vectors'!B8*'Risk-return'!QV3+'1D Vectors'!B11))","v":9.2358766475303371E-3},{"$f":"((1/'1D Vectors'!B16))*(('1D Vectors'!B14*'Risk-return'!QW3^2-2*'1D Vectors'!B8*'Risk-return'!QW3+'1D Vectors'!B11))","v":9.2756212267192245E-3},{"$f":"((1/'1D Vectors'!B16))*(('1D Vectors'!B14*'Risk-return'!QX3^2-2*'1D Vectors'!B8*'Risk-return'!QX3+'1D Vectors'!B11))","v":9.3154608561127512E-3},{"$f":"((1/'1D Vectors'!B16))*(('1D Vectors'!B14*'Risk-return'!QY3^2-2*'1D Vectors'!B8*'Risk-return'!QY3+'1D Vectors'!B11))","v":9.3553955357109208E-3},{"$f":"((1/'1D Vectors'!B16))*(('1D Vectors'!B14*'Risk-return'!QZ3^2-2*'1D Vectors'!B8*'Risk-return'!QZ3+'1D Vectors'!B11))","v":9.3954252655137262E-3},{"$f":"((1/'1D Vectors'!B16))*(('1D Vectors'!B14*'Risk-return'!RA3^2-2*'1D Vectors'!B8*'Risk-return'!RA3+'1D Vectors'!B11))","v":9.435550045521171E-3},{"$f":"((1/'1D Vectors'!B16))*(('1D Vectors'!B14*'Risk-return'!RB3^2-2*'1D Vectors'!B8*'Risk-return'!RB3+'1D Vectors'!B11))","v":9.4757698757332552E-3},{"$f":"((1/'1D Vectors'!B16))*(('1D Vectors'!B14*'Risk-return'!RC3^2-2*'1D Vectors'!B8*'Risk-return'!RC3+'1D Vectors'!B11))","v":9.516084756149977E-3},{"$f":"((1/'1D Vectors'!B16))*(('1D Vectors'!B14*'Risk-return'!RD3^2-2*'1D Vectors'!B8*'Risk-return'!RD3+'1D Vectors'!B11))","v":9.5564946867713382E-3},{"$f":"((1/'1D Vectors'!B16))*(('1D Vectors'!B14*'Risk-return'!RE3^2-2*'1D Vectors'!B8*'Risk-return'!RE3+'1D Vectors'!B11))","v":9.5969996675973369E-3},{"$f":"((1/'1D Vectors'!B16))*(('1D Vectors'!B14*'Risk-return'!RF3^2-2*'1D Vectors'!B8*'Risk-return'!RF3+'1D Vectors'!B11))","v":9.6375996986279768E-3},{"$f":"((1/'1D Vectors'!B16))*(('1D Vectors'!B14*'Risk-return'!RG3^2-2*'1D Vectors'!B8*'Risk-return'!RG3+'1D Vectors'!B11))","v":9.6782947798632561E-3},{"$f":"((1/'1D Vectors'!B16))*(('1D Vectors'!B14*'Risk-return'!RH3^2-2*'1D Vectors'!B8*'Risk-return'!RH3+'1D Vectors'!B11))","v":9.7190849113031729E-3},{"$f":"((1/'1D Vectors'!B16))*(('1D Vectors'!B14*'Risk-return'!RI3^2-2*'1D Vectors'!B8*'Risk-return'!RI3+'1D Vectors'!B11))","v":9.7599700929477274E-3},{"$f":"((1/'1D Vectors'!B16))*(('1D Vectors'!B14*'Risk-return'!RJ3^2-2*'1D Vectors'!B8*'Risk-return'!RJ3+'1D Vectors'!B11))","v":9.8009503247969212E-3},{"$f":"((1/'1D Vectors'!B16))*(('1D Vectors'!B14*'Risk-return'!RK3^2-2*'1D Vectors'!B8*'Risk-return'!RK3+'1D Vectors'!B11))","v":9.8420256068507579E-3},{"$f":"((1/'1D Vectors'!B16))*(('1D Vectors'!B14*'Risk-return'!RL3^2-2*'1D Vectors'!B8*'Risk-return'!RL3+'1D Vectors'!B11))","v":9.8831959391092288E-3},{"$f":"((1/'1D Vectors'!B16))*(('1D Vectors'!B14*'Risk-return'!RM3^2-2*'1D Vectors'!B8*'Risk-return'!RM3+'1D Vectors'!B11))","v":9.9244613215723407E-3},{"$f":"((1/'1D Vectors'!B16))*(('1D Vectors'!B14*'Risk-return'!RN3^2-2*'1D Vectors'!B8*'Risk-return'!RN3+'1D Vectors'!B11))","v":9.9658217542400885E-3},{"$f":"((1/'1D Vectors'!B16))*(('1D Vectors'!B14*'Risk-return'!RO3^2-2*'1D Vectors'!B8*'Risk-return'!RO3+'1D Vectors'!B11))","v":1.0007277237112479E-2},{"$f":"((1/'1D Vectors'!B16))*(('1D Vectors'!B14*'Risk-return'!RP3^2-2*'1D Vectors'!B8*'Risk-return'!RP3+'1D Vectors'!B11))","v":1.0048827770189506E-2},{"$f":"((1/'1D Vectors'!B16))*(('1D Vectors'!B14*'Risk-return'!RQ3^2-2*'1D Vectors'!B8*'Risk-return'!RQ3+'1D Vectors'!B11))","v":1.0090473353471175E-2},{"$f":"((1/'1D Vectors'!B16))*(('1D Vectors'!B14*'Risk-return'!RR3^2-2*'1D Vectors'!B8*'Risk-return'!RR3+'1D Vectors'!B11))","v":1.013221398695748E-2},{"$f":"((1/'1D Vectors'!B16))*(('1D Vectors'!B14*'Risk-return'!RS3^2-2*'1D Vectors'!B8*'Risk-return'!RS3+'1D Vectors'!B11))","v":1.0174049670648425E-2},{"$f":"((1/'1D Vectors'!B16))*(('1D Vectors'!B14*'Risk-return'!RT3^2-2*'1D Vectors'!B8*'Risk-return'!RT3+'1D Vectors'!B11))","v":1.0215980404544007E-2},{"$f":"((1/'1D Vectors'!B16))*(('1D Vectors'!B14*'Risk-return'!RU3^2-2*'1D Vectors'!B8*'Risk-return'!RU3+'1D Vectors'!B11))","v":1.0258006188644229E-2},{"$f":"((1/'1D Vectors'!B16))*(('1D Vectors'!B14*'Risk-return'!RV3^2-2*'1D Vectors'!B8*'Risk-return'!RV3+'1D Vectors'!B11))","v":1.0300127022949093E-2},{"$f":"((1/'1D Vectors'!B16))*(('1D Vectors'!B14*'Risk-return'!RW3^2-2*'1D Vectors'!B8*'Risk-return'!RW3+'1D Vectors'!B11))","v":1.0342342907458594E-2},{"$f":"((1/'1D Vectors'!B16))*(('1D Vectors'!B14*'Risk-return'!RX3^2-2*'1D Vectors'!B8*'Risk-return'!RX3+'1D Vectors'!B11))","v":1.0384653842172731E-2},{"$f":"((1/'1D Vectors'!B16))*(('1D Vectors'!B14*'Risk-return'!RY3^2-2*'1D Vectors'!B8*'Risk-return'!RY3+'1D Vectors'!B11))","v":1.0427059827091511E-2},{"$f":"((1/'1D Vectors'!B16))*(('1D Vectors'!B14*'Risk-return'!RZ3^2-2*'1D Vectors'!B8*'Risk-return'!RZ3+'1D Vectors'!B11))","v":1.0469560862214929E-2},{"$f":"((1/'1D Vectors'!B16))*(('1D Vectors'!B14*'Risk-return'!SA3^2-2*'1D Vectors'!B8*'Risk-return'!SA3+'1D Vectors'!B11))","v":1.0512156947542983E-2},{"$f":"((1/'1D Vectors'!B16))*(('1D Vectors'!B14*'Risk-return'!SB3^2-2*'1D Vectors'!B8*'Risk-return'!SB3+'1D Vectors'!B11))","v":1.0554848083075679E-2},{"$f":"((1/'1D Vectors'!B16))*(('1D Vectors'!B14*'Risk-return'!SC3^2-2*'1D Vectors'!B8*'Risk-return'!SC3+'1D Vectors'!B11))","v":1.059763426881301E-2},{"$f":"((1/'1D Vectors'!B16))*(('1D Vectors'!B14*'Risk-return'!SD3^2-2*'1D Vectors'!B8*'Risk-return'!SD3+'1D Vectors'!B11))","v":1.0640515504754982E-2},{"$f":"((1/'1D Vectors'!B16))*(('1D Vectors'!B14*'Risk-return'!SE3^2-2*'1D Vectors'!B8*'Risk-return'!SE3+'1D Vectors'!B11))","v":1.0683491790901596E-2},{"$f":"((1/'1D Vectors'!B16))*(('1D Vectors'!B14*'Risk-return'!SF3^2-2*'1D Vectors'!B8*'Risk-return'!SF3+'1D Vectors'!B11))","v":1.0726563127252847E-2},{"$f":"((1/'1D Vectors'!B16))*(('1D Vectors'!B14*'Risk-return'!SG3^2-2*'1D Vectors'!B8*'Risk-return'!SG3+'1D Vectors'!B11))","v":1.0440245334762059E-3}]
[]
["Weights"]
["SPASTT01USM661N",{"$f":"'1D Vectors Transposed'!H2+'1D Vectors Transposed'!I2*'Risk-return'!B3","v":0.33246660508134085},{"$f":"'1D Vectors Transposed'!H2+'1D Vectors Transposed'!I2*'Risk-return'!C3","v":0.33201836201513846},{"$f":"'1D Vectors Transposed'!H2+'1D Vectors Transposed'!I2*'Risk-return'!D3","v":0.33157011898154998},{"$f":"'1D Vectors Transposed'!H2+'1D Vectors Transposed'!I2*'Risk-return'!E3","v":0.33112187588273356},{"$f":"'1D Vectors Transposed'!H2+'1D Vectors Transposed'!I2*'Risk-return'!F3","v":0.33067363291437307},{"$f":"'1D Vectors Transposed'!H2+'1D Vectors Transposed'!I2*'Risk-return'!G3","v":0.33022538981555666},{"$f":"'1D Vectors Transposed'!H2+'1D Vectors Transposed'!I2*'Risk-return'!H3","v":0.32977714671674024},{"$f":"'1D Vectors Transposed'!H2+'1D Vectors Transposed'!I2*'Risk-return'!I3","v":0.32932890361792383},{"$f":"'1D Vectors Transposed'!H2+'1D Vectors Transposed'!I2*'Risk-return'!J3","v":0.32888066051910742},{"$f":"'1D Vectors Transposed'!H2+'1D Vectors Transposed'!I2*'Risk-return'!K3","v":0.32843241768120285},{"$f":"'1D Vectors Transposed'!H2+'1D Vectors Transposed'!I2*'Risk-return'!L3","v":0.32798417484329823},{"$f":"'1D Vectors Transposed'!H2+'1D Vectors Transposed'!I2*'Risk-return'!M3","v":0.32753593200539366},{"$f":"'1D Vectors Transposed'!H2+'1D Vectors Transposed'!I2*'Risk-return'!N3","v":0.32708768916748904},{"$f":"'1D Vectors Transposed'!H2+'1D Vectors Transposed'!I2*'Risk-return'!O3","v":0.32663944632958447},{"$f":"'1D Vectors Transposed'!H2+'1D Vectors Transposed'!I2*'Risk-return'!P3","v":0.32619120349167985},{"$f":"'1D Vectors Transposed'!H2+'1D Vectors Transposed'!I2*'Risk-return'!Q3","v":0.32574296065377523},{"$f":"'1D Vectors Transposed'!H2+'1D Vectors Transposed'!I2*'Risk-return'!R3","v":0.32529471781587066},{"$f":"'1D Vectors Transposed'!H2+'1D Vectors Transposed'!I2*'Risk-return'!S3","v":0.32484647497796604},{"$f":"'1D Vectors Transposed'!H2+'1D Vectors Transposed'!I2*'Risk-return'!T3","v":0.32439823214006147},{"$f":"'1D Vectors Transposed'!H2+'1D Vectors Transposed'!I2*'Risk-return'!U3","v":0.32394998930215685},{"$f":"'1D Vectors Transposed'!H2+'1D Vectors Transposed'!I2*'Risk-return'!V3","v":0.32350174594242864},{"$f":"'1D Vectors Transposed'!H2+'1D Vectors Transposed'!I2*'Risk-return'!W3","v":0.32305350258270044},{"$f":"'1D Vectors Transposed'!H2+'1D Vectors Transposed'!I2*'Risk-return'!X3","v":0.32260525922297223},{"$f":"'1D Vectors Transposed'!H2+'1D Vectors Transposed'!I2*'Risk-return'!Y3","v":0.32215701586324397},{"$f":"'1D Vectors Transposed'!H2+'1D Vectors Transposed'!I2*'Risk-return'!Z3","v":0.32170877250351576},{"$f":"'1D Vectors Transposed'!H2+'1D Vectors Transposed'!I2*'Risk-return'!AA3","v":0.32126052914378755},{"$f":"'1D Vectors Transposed'!H2+'1D Vectors Transposed'!I2*'Risk-return'!AB3","v":0.32081228578405935},{"$f":"'1D Vectors Transposed'!H2+'1D Vectors Transposed'!I2*'Risk-return'!AC3","v":0.32036404242433109},{"$f":"'1D Vectors Transposed'!H2+'1D Vectors Transposed'!I2*'Risk-return'!AD3","v":0.31991579906460288},{"$f":"'1D Vectors Transposed'!H2+'1D Vectors Transposed'!I2*'Risk-return'!AE3","v":0.31946755570487467},{"$f":"'1D Vectors Transposed'!H2+'1D Vectors Transposed'!I2*'Risk-return'!AF3","v":0.31901931234514647},{"$f":"'1D Vectors Transposed'!H2+'1D Vectors Transposed'!I2*'Risk-return'!AG3","v":0.31857106898541826},{"$f":"'1D Vectors Transposed'!H2+'1D Vectors Transposed'!I2*'Risk-return'!AH3","v":0.31812282562569},{"$f":"'1D Vectors Transposed'!H2+'1D Vectors Transposed'!I2*'Risk-return'!AI3","v":0.31767458226596179},{"$f":"'1D Vectors Transposed'!H2+'1D Vectors Transposed'!I2*'Risk-return'!AJ3","v":0.31722633890623358},{"$f":"'1D Vectors Transposed'!H2+'1D Vectors Transposed'!I2*'Risk-return'!AK3","v":0.31677809554650538},{"$f":"'1D Vectors Transposed'!H2+'1D Vectors Transposed'!I2*'Risk-return'!AL3","v":0.31632985218677712},{"$f":"'1D Vectors Transposed'!H2+'1D Vectors Transposed'!I2*'Risk-return'!AM3","v":0.31588160882704891},{"$f":"'1D Vectors Transposed'!H2+'1D Vectors Transposed'!I2*'Risk-return'!AN3","v":0.3154333654673207},{"$f":"'1D Vectors Transposed'!H2+'1D Vectors Transposed'!I2*'Risk-return'!AO3","v":0.3149851221075925},{"$f":"'1D Vectors Transposed'!H2+'1D Vectors Transposed'!I2*'Risk-return'!AP3","v":0.31453687979151151},{"$f":"'1D Vectors Transposed'!H2+'1D Vectors Transposed'!I2*'Risk-return'!AQ3","v":0.31408863747543053},{"$f":"'1D Vectors Transposed'!H2+'1D Vectors Transposed'!I2*'Risk-return'!AR3","v":0.31364039515934955},{"$f":"'1D Vectors Transposed'!H2+'1D Vectors Transposed'!I2*'Risk-return'!AS3","v":0.31319215284326857},{"$f":"'1D Vectors Transposed'!H2+'1D Vectors Transposed'!I2*'Risk-return'!AT3","v":0.31274391052718759},{"$f":"'1D Vectors Transposed'!H2+'1D Vectors Transposed'!I2*'Risk-return'!AU3","v":0.3122956682111066},{"$f":"'1D Vectors Transposed'!H2+'1D Vectors Transposed'!I2*'Risk-return'!AV3","v":0.31184742589502568},{"$f":"'1D Vectors Transposed'!H2+'1D Vectors Transposed'!I2*'Risk-return'!AW3","v":0.31139918357894469},{"$f":"'1D Vectors Transposed'!H2+'1D Vectors Transposed'!I2*'Risk-return'!AX3","v":0.31095094126286371},{"$f":"'1D Vectors Transposed'!H2+'1D Vectors Transposed'!I2*'Risk-return'!AY3","v":0.31050269894678273},{"$f":"'1D Vectors Transposed'!H2+'1D Vectors Transposed'!I2*'Risk-return'!AZ3","v":0.31005445663070175},{"$f":"'1D Vectors Transposed'!H2+'1D Vectors Transposed'!I2*'Risk-return'!BA3","v":0.30960621431462076},{"$f":"'1D Vectors Transposed'!H2+'1D Vectors Transposed'!I2*'Risk-return'!BB3","v":0.30915797199853978},{"$f":"'1D Vectors Transposed'!H2+'1D Vectors Transposed'!I2*'Risk-return'!BC3","v":0.3087097296824588},{"$f":"'1D Vectors Transposed'!H2+'1D Vectors Transposed'!I2*'Risk-return'!BD3","v":0.30826148736637782},{"$f":"'1D Vectors Transposed'!H2+'1D Vectors Transposed'!I2*'Risk-return'!BE3","v":0.30781324505029684},{"$f":"'1D Vectors Transposed'!H2+'1D Vectors Transposed'!I2*'Risk-return'!BF3","v":0.30736500273421591},{"$f":"'1D Vectors Transposed'!H2+'1D Vectors Transposed'!I2*'Risk-return'!BG3","v":0.30691676041813493},{"$f":"'1D Vectors Transposed'!H2+'1D Vectors Transposed'!I2*'Risk-return'!BH3","v":0.30646851810205394},{"$f":"'1D Vectors Transposed'!H2+'1D Vectors Transposed'!I2*'Risk-return'!BI3","v":0.30602027578597296},{"$f":"'1D Vectors Transposed'!H2+'1D Vectors Transposed'!I2*'Risk-return'!BJ3","v":0.30557203346989198},{"$f":"'1D Vectors Transposed'!H2+'1D Vectors Transposed'!I2*'Risk-return'!BK3","v":0.305123791153811},{"$f":"'1D Vectors Transposed'!H2+'1D Vectors Transposed'!I2*'Risk-return'!BL3","v":0.30467554883773001},{"$f":"'1D Vectors Transposed'!H2+'1D Vectors Transposed'!I2*'Risk-return'!BM3","v":0.30422730652164903},{"$f":"'1D Vectors Transposed'!H2+'1D Vectors Transposed'!I2*'Risk-return'!BN3","v":0.30377906420556805},{"$f":"'1D Vectors Transposed'!H2+'1D Vectors Transposed'!I2*'Risk-return'!BO3","v":0.30333082188948712},{"$f":"'1D Vectors Transposed'!H2+'1D Vectors Transposed'!I2*'Risk-return'!BP3","v":0.30288257957340614},{"$f":"'1D Vectors Transposed'!H2+'1D Vectors Transposed'!I2*'Risk-return'!BQ3","v":0.30243433725732516},{"$f":"'1D Vectors Transposed'!H2+'1D Vectors Transposed'!I2*'Risk-return'!BR3","v":0.30198609494124418},{"$f":"'1D Vectors Transposed'!H2+'1D Vectors Transposed'!I2*'Risk-return'!BS3","v":0.30153785262516319},{"$f":"'1D Vectors Transposed'!H2+'1D Vectors Transposed'!I2*'Risk-return'!BT3","v":0.30108961030908221},{"$f":"'1D Vectors Transposed'!H2+'1D Vectors Transposed'!I2*'Risk-return'!BU3","v":0.30064136799300123},{"$f":"'1D Vectors Transposed'!H2+'1D Vectors Transposed'!I2*'Risk-return'!BV3","v":0.30019312567692025},{"$f":"'1D Vectors Transposed'!H2+'1D Vectors Transposed'!I2*'Risk-return'!BW3","v":0.29974488336083926},{"$f":"'1D Vectors Transposed'!H2+'1D Vectors Transposed'!I2*'Risk-return'!BX3","v":0.29929664104475828},{"$f":"'1D Vectors Transposed'!H2+'1D Vectors Transposed'!I2*'Risk-return'!BY3","v":0.29884839872867736},{"$f":"'1D Vectors Transposed'!H2+'1D Vectors Transposed'!I2*'Risk-return'!BZ3","v":0.29840015641259637},{"$f":"'1D Vectors Transposed'!H2+'1D Vectors Transposed'!I2*'Risk-return'!CA3","v":0.29795191409651539},{"$f":"'1D Vectors Transposed'!H2+'1D Vectors Transposed'!I2*'Risk-return'!CB3","v":0.29750367178043441},{"$f":"'1D Vectors Transposed'!H2+'1D Vectors Transposed'!I2*'Risk-return'!CC3","v":0.29705542946435343},{"$f":"'1D Vectors Transposed'!H2+'1D Vectors Transposed'!I2*'Risk-return'!CD3","v":0.29660718714827244},{"$f":"'1D Vectors Transposed'!H2+'1D Vectors Transposed'!I2*'Risk-return'!CE3","v":0.29615894483219146},{"$f":"'1D Vectors Transposed'!H2+'1D Vectors Transposed'!I2*'Risk-return'!CF3","v":0.29571070251611048},{"$f":"'1D Vectors Transposed'!H2+'1D Vectors Transposed'!I2*'Risk-return'!CG3","v":0.29526246020002955},{"$f":"'1D Vectors Transposed'!H2+'1D Vectors Transposed'!I2*'Risk-return'!CH3","v":0.29481421788394857},{"$f":"'1D Vectors Transposed'!H2+'1D Vectors Transposed'!I2*'Risk-return'!CI3","v":0.29436597556786759},{"$f":"'1D Vectors Transposed'!H2+'1D Vectors Transposed'!I2*'Risk-return'!CJ3","v":0.29391773325178661},{"$f":"'1D Vectors Transposed'!H2+'1D Vectors Transposed'!I2*'Risk-return'!CK3","v":0.29346949093570562},{"$f":"'1D Vectors Transposed'!H2+'1D Vectors Transposed'!I2*'Risk-return'!CL3","v":0.29302124861962464},{"$f":"'1D Vectors Transposed'!H2+'1D Vectors Transposed'!I2*'Risk-return'!CM3","v":0.29257300630354366},{"$f":"'1D Vectors Transposed'!H2+'1D Vectors Transposed'!I2*'Risk-return'!CN3","v":0.29212476398746268},{"$f":"'1D Vectors Transposed'!H2+'1D Vectors Transposed'!I2*'Risk-return'!CO3","v":0.29167652167138169},{"$f":"'1D Vectors Transposed'!H2+'1D Vectors Transposed'!I2*'Risk-return'!CP3","v":0.29122827935530071},{"$f":"'1D Vectors Transposed'!H2+'1D Vectors Transposed'!I2*'Risk-return'!CQ3","v":0.29078003703921979},{"$f":"'1D Vectors Transposed'!H2+'1D Vectors Transposed'!I2*'Risk-return'!CR3","v":0.2903317947231388},{"$f":"'1D Vectors Transposed'!H2+'1D Vectors Transposed'!I2*'Risk-return'!CS3","v":0.28988355240705782},{"$f":"'1D Vectors Transposed'!H2+'1D Vectors Transposed'!I2*'Risk-return'!CT3","v":0.28943531009097684},{"$f":"'1D Vectors Transposed'!H2+'1D Vectors Transposed'!I2*'Risk-return'!CU3","v":0.28898706777489586},{"$f":"'1D Vectors Transposed'!H2+'1D Vectors Transposed'!I2*'Risk-return'!CV3","v":0.28853882545881487},{"$f":"'1D Vectors Transposed'!H2+'1D Vectors Transposed'!I2*'Risk-return'!CW3","v":0.28809058314273389},{"$f":"'1D Vectors Transposed'!H2+'1D Vectors Transposed'!I2*'Risk-return'!CX3","v":0.28764234082665291},{"$f":"'1D Vectors Transposed'!H2+'1D Vectors Transposed'!I2*'Risk-return'!CY3","v":0.28719409851057198},{"$f":"'1D Vectors Transposed'!H2+'1D Vectors Transposed'!I2*'Risk-return'!CZ3","v":0.286745856194491},{"$f":"'1D Vectors Transposed'!H2+'1D Vectors Transposed'!I2*'Risk-return'!DA3","v":0.28629761387841002},{"$f":"'1D Vectors Transposed'!H2+'1D Vectors Transposed'!I2*'Risk-return'!DB3","v":0.28584937156232904},{"$f":"'1D Vectors Transposed'!H2+'1D Vectors Transposed'!I2*'Risk-return'!DC3","v":0.28540112924624805},{"$f":"'1D Vectors Transposed'!H2+'1D Vectors Transposed'!I2*'Risk-return'!DD3","v":0.28495288693016707},{"$f":"'1D Vectors Transposed'!H2+'1D Vectors Transposed'!I2*'Risk-return'!DE3","v":0.28450464461408609},{"$f":"'1D Vectors Transposed'!H2+'1D Vectors Transposed'!I2*'Risk-return'!DF3","v":0.28405640229800511},{"$f":"'1D Vectors Transposed'!H2+'1D Vectors Transposed'!I2*'Risk-return'!DG3","v":0.28360815998192412},{"$f":"'1D Vectors Transposed'!H2+'1D Vectors Transposed'!I2*'Risk-return'!DH3","v":0.28315991766584314},{"$f":"'1D Vectors Transposed'!H2+'1D Vectors Transposed'!I2*'Risk-return'!DI3","v":0.28271167534976216},{"$f":"'1D Vectors Transposed'!H2+'1D Vectors Transposed'!I2*'Risk-return'!DJ3","v":0.28226343303368123},{"$f":"'1D Vectors Transposed'!H2+'1D Vectors Transposed'!I2*'Risk-return'!DK3","v":0.28181519071760025},{"$f":"'1D Vectors Transposed'!H2+'1D Vectors Transposed'!I2*'Risk-return'!DL3","v":0.28136694840151927},{"$f":"'1D Vectors Transposed'!H2+'1D Vectors Transposed'!I2*'Risk-return'!DM3","v":0.28091870608543829},{"$f":"'1D Vectors Transposed'!H2+'1D Vectors Transposed'!I2*'Risk-return'!DN3","v":0.2804704637693573},{"$f":"'1D Vectors Transposed'!H2+'1D Vectors Transposed'!I2*'Risk-return'!DO3","v":0.28002222145327632},{"$f":"'1D Vectors Transposed'!H2+'1D Vectors Transposed'!I2*'Risk-return'!DP3","v":0.27957397913719534},{"$f":"'1D Vectors Transposed'!H2+'1D Vectors Transposed'!I2*'Risk-return'!DQ3","v":0.27912573682111436},{"$f":"'1D Vectors Transposed'!H2+'1D Vectors Transposed'!I2*'Risk-return'!DR3","v":0.27867749450503343},{"$f":"'1D Vectors Transposed'!H2+'1D Vectors Transposed'!I2*'Risk-return'!DS3","v":0.27822925218895245},{"$f":"'1D Vectors Transposed'!H2+'1D Vectors Transposed'!I2*'Risk-return'!DT3","v":0.27778100987287146},{"$f":"'1D Vectors Transposed'!H2+'1D Vectors Transposed'!I2*'Risk-return'!DU3","v":0.27733276755679048},{"$f":"'1D Vectors Transposed'!H2+'1D Vectors Transposed'!I2*'Risk-return'!DV3","v":0.2768845252407095},{"$f":"'1D Vectors Transposed'!H2+'1D Vectors Transposed'!I2*'Risk-return'!DW3","v":0.27643628292462852},{"$f":"'1D Vectors Transposed'!H2+'1D Vectors Transposed'!I2*'Risk-return'!DX3","v":0.27598804060854754},{"$f":"'1D Vectors Transposed'!H2+'1D Vectors Transposed'!I2*'Risk-return'!DY3","v":0.27553979829246655},{"$f":"'1D Vectors Transposed'!H2+'1D Vectors Transposed'!I2*'Risk-return'!DZ3","v":0.27509155597638557},{"$f":"'1D Vectors Transposed'!H2+'1D Vectors Transposed'!I2*'Risk-return'!EA3","v":0.27464331366030459},{"$f":"'1D Vectors Transposed'!H2+'1D Vectors Transposed'!I2*'Risk-return'!EB3","v":0.27419507134422366},{"$f":"'1D Vectors Transposed'!H2+'1D Vectors Transposed'!I2*'Risk-return'!EC3","v":0.27374682902814268},{"$f":"'1D Vectors Transposed'!H2+'1D Vectors Transposed'!I2*'Risk-return'!ED3","v":0.2732985867120617},{"$f":"'1D Vectors Transposed'!H2+'1D Vectors Transposed'!I2*'Risk-return'!EE3","v":0.27285034439598072},{"$f":"'1D Vectors Transposed'!H2+'1D Vectors Transposed'!I2*'Risk-return'!EF3","v":0.27240210207989973},{"$f":"'1D Vectors Transposed'!H2+'1D Vectors Transposed'!I2*'Risk-return'!EG3","v":0.27195385976381875},{"$f":"'1D Vectors Transposed'!H2+'1D Vectors Transposed'!I2*'Risk-return'!EH3","v":0.27150561744773777},{"$f":"'1D Vectors Transposed'!H2+'1D Vectors Transposed'!I2*'Risk-return'!EI3","v":0.27105737513165679},{"$f":"'1D Vectors Transposed'!H2+'1D Vectors Transposed'!I2*'Risk-return'!EJ3","v":0.27060913281557586},{"$f":"'1D Vectors Transposed'!H2+'1D Vectors Transposed'!I2*'Risk-return'!EK3","v":0.27016089049949488},{"$f":"'1D Vectors Transposed'!H2+'1D Vectors Transposed'!I2*'Risk-return'!EL3","v":0.26971264818341389},{"$f":"'1D Vectors Transposed'!H2+'1D Vectors Transposed'!I2*'Risk-return'!EM3","v":0.26926440586733291},{"$f":"'1D Vectors Transposed'!H2+'1D Vectors Transposed'!I2*'Risk-return'!EN3","v":0.26881616355125193},{"$f":"'1D Vectors Transposed'!H2+'1D Vectors Transposed'!I2*'Risk-return'!EO3","v":0.26836792123517095},{"$f":"'1D Vectors Transposed'!H2+'1D Vectors Transposed'!I2*'Risk-return'!EP3","v":0.26791967891908997},{"$f":"'1D Vectors Transposed'!H2+'1D Vectors Transposed'!I2*'Risk-return'!EQ3","v":0.26747143660300898},{"$f":"'1D Vectors Transposed'!H2+'1D Vectors Transposed'!I2*'Risk-return'!ER3","v":0.267023194286928},{"$f":"'1D Vectors Transposed'!H2+'1D Vectors Transposed'!I2*'Risk-return'!ES3","v":0.26657495197084702},{"$f":"'1D Vectors Transposed'!H2+'1D Vectors Transposed'!I2*'Risk-return'!ET3","v":0.26612670965476604},{"$f":"'1D Vectors Transposed'!H2+'1D Vectors Transposed'!I2*'Risk-return'!EU3","v":0.26567846733868511},{"$f":"'1D Vectors Transposed'!H2+'1D Vectors Transposed'!I2*'Risk-return'!EV3","v":0.26523022502260413},{"$f":"'1D Vectors Transposed'!H2+'1D Vectors Transposed'!I2*'Risk-return'!EW3","v":0.26478198270652314},{"$f":"'1D Vectors Transposed'!H2+'1D Vectors Transposed'!I2*'Risk-return'!EX3","v":0.26433374039044216},{"$f":"'1D Vectors Transposed'!H2+'1D Vectors Transposed'!I2*'Risk-return'!EY3","v":0.26388549807436118},{"$f":"'1D Vectors Transposed'!H2+'1D Vectors Transposed'!I2*'Risk-return'!EZ3","v":0.2634372557582802},{"$f":"'1D Vectors Transposed'!H2+'1D Vectors Transposed'!I2*'Risk-return'!FA3","v":0.26298901344219922},{"$f":"'1D Vectors Transposed'!H2+'1D Vectors Transposed'!I2*'Risk-return'!FB3","v":0.26254077112611829},{"$f":"'1D Vectors Transposed'!H2+'1D Vectors Transposed'!I2*'Risk-return'!FC3","v":0.26209252881003731},{"$f":"'1D Vectors Transposed'!H2+'1D Vectors Transposed'!I2*'Risk-return'!FD3","v":0.26164428649395632},{"$f":"'1D Vectors Transposed'!H2+'1D Vectors Transposed'!I2*'Risk-return'!FE3","v":0.26119604417787534},{"$f":"'1D Vectors Transposed'!H2+'1D Vectors Transposed'!I2*'Risk-return'!FF3","v":0.26074780186179436},{"$f":"'1D Vectors Transposed'!H2+'1D Vectors Transposed'!I2*'Risk-return'!FG3","v":0.26029955954571338},{"$f":"'1D Vectors Transposed'!H2+'1D Vectors Transposed'!I2*'Risk-return'!FH3","v":0.25985131722963239},{"$f":"'1D Vectors Transposed'!H2+'1D Vectors Transposed'!I2*'Risk-return'!FI3","v":0.25940307491355141},{"$f":"'1D Vectors Transposed'!H2+'1D Vectors Transposed'!I2*'Risk-return'!FJ3","v":0.25895483259747043},{"$f":"'1D Vectors Transposed'!H2+'1D Vectors Transposed'!I2*'Risk-return'!FK3","v":0.25850659028138945},{"$f":"'1D Vectors Transposed'!H2+'1D Vectors Transposed'!I2*'Risk-return'!FL3","v":0.25805834796530847},{"$f":"'1D Vectors Transposed'!H2+'1D Vectors Transposed'!I2*'Risk-return'!FM3","v":0.25761010564922748},{"$f":"'1D Vectors Transposed'!H2+'1D Vectors Transposed'!I2*'Risk-return'!FN3","v":0.25716186333314656},{"$f":"'1D Vectors Transposed'!H2+'1D Vectors Transposed'!I2*'Risk-return'!FO3","v":0.25671362101706557},{"$f":"'1D Vectors Transposed'!H2+'1D Vectors Transposed'!I2*'Risk-return'!FP3","v":0.25626537870098459},{"$f":"'1D Vectors Transposed'!H2+'1D Vectors Transposed'!I2*'Risk-return'!FQ3","v":0.25581713638490361},{"$f":"'1D Vectors Transposed'!H2+'1D Vectors Transposed'!I2*'Risk-return'!FR3","v":0.25536889406882263},{"$f":"'1D Vectors Transposed'!H2+'1D Vectors Transposed'!I2*'Risk-return'!FS3","v":0.25492065175274164},{"$f":"'1D Vectors Transposed'!H2+'1D Vectors Transposed'!I2*'Risk-return'!FT3","v":0.25447240943666066},{"$f":"'1D Vectors Transposed'!H2+'1D Vectors Transposed'!I2*'Risk-return'!FU3","v":0.25402416712057974},{"$f":"'1D Vectors Transposed'!H2+'1D Vectors Transposed'!I2*'Risk-return'!FV3","v":0.25357592480449875},{"$f":"'1D Vectors Transposed'!H2+'1D Vectors Transposed'!I2*'Risk-return'!FW3","v":0.25312768248841777},{"$f":"'1D Vectors Transposed'!H2+'1D Vectors Transposed'!I2*'Risk-return'!FX3","v":0.25267944017233679},{"$f":"'1D Vectors Transposed'!H2+'1D Vectors Transposed'!I2*'Risk-return'!FY3","v":0.25223119785625581},{"$f":"'1D Vectors Transposed'!H2+'1D Vectors Transposed'!I2*'Risk-return'!FZ3","v":0.25178295554017482},{"$f":"'1D Vectors Transposed'!H2+'1D Vectors Transposed'!I2*'Risk-return'!GA3","v":0.25133471322409384},{"$f":"'1D Vectors Transposed'!H2+'1D Vectors Transposed'!I2*'Risk-return'!GB3","v":0.25088647090801286},{"$f":"'1D Vectors Transposed'!H2+'1D Vectors Transposed'!I2*'Risk-return'!GC3","v":0.25043822859193188},{"$f":"'1D Vectors Transposed'!H2+'1D Vectors Transposed'!I2*'Risk-return'!GD3","v":0.24998998627585092},{"$f":"'1D Vectors Transposed'!H2+'1D Vectors Transposed'!I2*'Risk-return'!GE3","v":0.24954174395976994},{"$f":"'1D Vectors Transposed'!H2+'1D Vectors Transposed'!I2*'Risk-return'!GF3","v":0.24909350164368899},{"$f":"'1D Vectors Transposed'!H2+'1D Vectors Transposed'!I2*'Risk-return'!GG3","v":0.248645259327608},{"$f":"'1D Vectors Transposed'!H2+'1D Vectors Transposed'!I2*'Risk-return'!GH3","v":0.24819701701152702},{"$f":"'1D Vectors Transposed'!H2+'1D Vectors Transposed'!I2*'Risk-return'!GI3","v":0.24774877469544604},{"$f":"'1D Vectors Transposed'!H2+'1D Vectors Transposed'!I2*'Risk-return'!GJ3","v":0.24730053237936506},{"$f":"'1D Vectors Transposed'!H2+'1D Vectors Transposed'!I2*'Risk-return'!GK3","v":0.24685229006328407},{"$f":"'1D Vectors Transposed'!H2+'1D Vectors Transposed'!I2*'Risk-return'!GL3","v":0.24640404774720309},{"$f":"'1D Vectors Transposed'!H2+'1D Vectors Transposed'!I2*'Risk-return'!GM3","v":0.24595580543112214},{"$f":"'1D Vectors Transposed'!H2+'1D Vectors Transposed'!I2*'Risk-return'!GN3","v":0.24550756311504116},{"$f":"'1D Vectors Transposed'!H2+'1D Vectors Transposed'!I2*'Risk-return'!GO3","v":0.2450593207989602},{"$f":"'1D Vectors Transposed'!H2+'1D Vectors Transposed'!I2*'Risk-return'!GP3","v":0.24461107848287922},{"$f":"'1D Vectors Transposed'!H2+'1D Vectors Transposed'!I2*'Risk-return'!GQ3","v":0.24416283616679824},{"$f":"'1D Vectors Transposed'!H2+'1D Vectors Transposed'!I2*'Risk-return'!GR3","v":0.24371459385071725},{"$f":"'1D Vectors Transposed'!H2+'1D Vectors Transposed'!I2*'Risk-return'!GS3","v":0.24326635153463627},{"$f":"'1D Vectors Transposed'!H2+'1D Vectors Transposed'!I2*'Risk-return'!GT3","v":0.24281810921855529},{"$f":"'1D Vectors Transposed'!H2+'1D Vectors Transposed'!I2*'Risk-return'!GU3","v":0.24236986690247431},{"$f":"'1D Vectors Transposed'!H2+'1D Vectors Transposed'!I2*'Risk-return'!GV3","v":0.24192162458639335},{"$f":"'1D Vectors Transposed'!H2+'1D Vectors Transposed'!I2*'Risk-return'!GW3","v":0.24147338227031237},{"$f":"'1D Vectors Transposed'!H2+'1D Vectors Transposed'!I2*'Risk-return'!GX3","v":0.24102513995423139},{"$f":"'1D Vectors Transposed'!H2+'1D Vectors Transposed'!I2*'Risk-return'!GY3","v":0.24057689763815043},{"$f":"'1D Vectors Transposed'!H2+'1D Vectors Transposed'!I2*'Risk-return'!GZ3","v":0.24012865532206945},{"$f":"'1D Vectors Transposed'!H2+'1D Vectors Transposed'!I2*'Risk-return'!HA3","v":0.23968041300598847},{"$f":"'1D Vectors Transposed'!H2+'1D Vectors Transposed'!I2*'Risk-return'!HB3","v":0.23923217068990749},{"$f":"'1D Vectors Transposed'!H2+'1D Vectors Transposed'!I2*'Risk-return'!HC3","v":0.2387839283738265},{"$f":"'1D Vectors Transposed'!H2+'1D Vectors Transposed'!I2*'Risk-return'!HD3","v":0.23833568605774552},{"$f":"'1D Vectors Transposed'!H2+'1D Vectors Transposed'!I2*'Risk-return'!HE3","v":0.23788744374166457},{"$f":"'1D Vectors Transposed'!H2+'1D Vectors Transposed'!I2*'Risk-return'!HF3","v":0.23743920142558358},{"$f":"'1D Vectors Transposed'!H2+'1D Vectors Transposed'!I2*'Risk-return'!HG3","v":0.2369909591095026},{"$f":"'1D Vectors Transposed'!H2+'1D Vectors Transposed'!I2*'Risk-return'!HH3","v":0.23654271679342165},{"$f":"'1D Vectors Transposed'!H2+'1D Vectors Transposed'!I2*'Risk-return'!HI3","v":0.23609447447734067},{"$f":"'1D Vectors Transposed'!H2+'1D Vectors Transposed'!I2*'Risk-return'!HJ3","v":0.23564623216125968},{"$f":"'1D Vectors Transposed'!H2+'1D Vectors Transposed'!I2*'Risk-return'!HK3","v":0.2351979898451787},{"$f":"'1D Vectors Transposed'!H2+'1D Vectors Transposed'!I2*'Risk-return'!HL3","v":0.23474974752909772},{"$f":"'1D Vectors Transposed'!H2+'1D Vectors Transposed'!I2*'Risk-return'!HM3","v":0.23430150521301674},{"$f":"'1D Vectors Transposed'!H2+'1D Vectors Transposed'!I2*'Risk-return'!HN3","v":0.23385326289693575},{"$f":"'1D Vectors Transposed'!H2+'1D Vectors Transposed'!I2*'Risk-return'!HO3","v":0.2334050205808548},{"$f":"'1D Vectors Transposed'!H2+'1D Vectors Transposed'!I2*'Risk-return'!HP3","v":0.23295677826477382},{"$f":"'1D Vectors Transposed'!H2+'1D Vectors Transposed'!I2*'Risk-return'!HQ3","v":0.23250853594869286},{"$f":"'1D Vectors Transposed'!H2+'1D Vectors Transposed'!I2*'Risk-return'!HR3","v":0.23206029363261188},{"$f":"'1D Vectors Transposed'!H2+'1D Vectors Transposed'!I2*'Risk-return'!HS3","v":0.2316120513165309},{"$f":"'1D Vectors Transposed'!H2+'1D Vectors Transposed'!I2*'Risk-return'!HT3","v":0.23116380900044992},{"$f":"'1D Vectors Transposed'!H2+'1D Vectors Transposed'!I2*'Risk-return'!HU3","v":0.23071556668436893},{"$f":"'1D Vectors Transposed'!H2+'1D Vectors Transposed'!I2*'Risk-return'!HV3","v":0.23026732436828795},{"$f":"'1D Vectors Transposed'!H2+'1D Vectors Transposed'!I2*'Risk-return'!HW3","v":0.22981908205220697},{"$f":"'1D Vectors Transposed'!H2+'1D Vectors Transposed'!I2*'Risk-return'!HX3","v":0.22937083973612601},{"$f":"'1D Vectors Transposed'!H2+'1D Vectors Transposed'!I2*'Risk-return'!HY3","v":0.22892259742004503},{"$f":"'1D Vectors Transposed'!H2+'1D Vectors Transposed'!I2*'Risk-return'!HZ3","v":0.22847435510396408},{"$f":"'1D Vectors Transposed'!H2+'1D Vectors Transposed'!I2*'Risk-return'!IA3","v":0.2280261127878831},{"$f":"'1D Vectors Transposed'!H2+'1D Vectors Transposed'!I2*'Risk-return'!IB3","v":0.22757787047180211},{"$f":"'1D Vectors Transposed'!H2+'1D Vectors Transposed'!I2*'Risk-return'!IC3","v":0.22712962815572113},{"$f":"'1D Vectors Transposed'!H2+'1D Vectors Transposed'!I2*'Risk-return'!ID3","v":0.22668138583964015},{"$f":"'1D Vectors Transposed'!H2+'1D Vectors Transposed'!I2*'Risk-return'!IE3","v":0.22623314352355917},{"$f":"'1D Vectors Transposed'!H2+'1D Vectors Transposed'!I2*'Risk-return'!IF3","v":0.22578490120747818},{"$f":"'1D Vectors Transposed'!H2+'1D Vectors Transposed'!I2*'Risk-return'!IG3","v":0.22533665889139723},{"$f":"'1D Vectors Transposed'!H2+'1D Vectors Transposed'!I2*'Risk-return'!IH3","v":0.22488841657531625},{"$f":"'1D Vectors Transposed'!H2+'1D Vectors Transposed'!I2*'Risk-return'!II3","v":0.22444017425923529},{"$f":"'1D Vectors Transposed'!H2+'1D Vectors Transposed'!I2*'Risk-return'!IJ3","v":0.22399193194315431},{"$f":"'1D Vectors Transposed'!H2+'1D Vectors Transposed'!I2*'Risk-return'!IK3","v":0.22354368962707333},{"$f":"'1D Vectors Transposed'!H2+'1D Vectors Transposed'!I2*'Risk-return'!IL3","v":0.22309544731099235},{"$f":"'1D Vectors Transposed'!H2+'1D Vectors Transposed'!I2*'Risk-return'!IM3","v":0.22264720499491136},{"$f":"'1D Vectors Transposed'!H2+'1D Vectors Transposed'!I2*'Risk-return'!IN3","v":0.22219896267883038},{"$f":"'1D Vectors Transposed'!H2+'1D Vectors Transposed'!I2*'Risk-return'!IO3","v":0.2217507203627494},{"$f":"'1D Vectors Transposed'!H2+'1D Vectors Transposed'!I2*'Risk-return'!IP3","v":0.22130247804666844},{"$f":"'1D Vectors Transposed'!H2+'1D Vectors Transposed'!I2*'Risk-return'!IQ3","v":0.22085423573058746},{"$f":"'1D Vectors Transposed'!H2+'1D Vectors Transposed'!I2*'Risk-return'!IR3","v":0.22040599341450648},{"$f":"'1D Vectors Transposed'!H2+'1D Vectors Transposed'!I2*'Risk-return'!IS3","v":0.21995775109842552},{"$f":"'1D Vectors Transposed'!H2+'1D Vectors Transposed'!I2*'Risk-return'!IT3","v":0.21950950878234454},{"$f":"'1D Vectors Transposed'!H2+'1D Vectors Transposed'!I2*'Risk-return'!IU3","v":0.21906126646626356},{"$f":"'1D Vectors Transposed'!H2+'1D Vectors Transposed'!I2*'Risk-return'!IV3","v":0.21861302415018258},{"$f":"'1D Vectors Transposed'!H2+'1D Vectors Transposed'!I2*'Risk-return'!IW3","v":0.2181647818341016},{"$f":"'1D Vectors Transposed'!H2+'1D Vectors Transposed'!I2*'Risk-return'!IX3","v":0.21771653951802061},{"$f":"'1D Vectors Transposed'!H2+'1D Vectors Transposed'!I2*'Risk-return'!IY3","v":0.21726829720193963},{"$f":"'1D Vectors Transposed'!H2+'1D Vectors Transposed'!I2*'Risk-return'!IZ3","v":0.21682005488585868},{"$f":"'1D Vectors Transposed'!H2+'1D Vectors Transposed'!I2*'Risk-return'!JA3","v":0.21637181256977769},{"$f":"'1D Vectors Transposed'!H2+'1D Vectors Transposed'!I2*'Risk-return'!JB3","v":0.21592357025369674},{"$f":"'1D Vectors Transposed'!H2+'1D Vectors Transposed'!I2*'Risk-return'!JC3","v":0.21547532793761576},{"$f":"'1D Vectors Transposed'!H2+'1D Vectors Transposed'!I2*'Risk-return'!JD3","v":0.21502708562153477},{"$f":"'1D Vectors Transposed'!H2+'1D Vectors Transposed'!I2*'Risk-return'!JE3","v":0.21457884330545379},{"$f":"'1D Vectors Transposed'!H2+'1D Vectors Transposed'!I2*'Risk-return'!JF3","v":0.21413060098937281},{"$f":"'1D Vectors Transposed'!H2+'1D Vectors Transposed'!I2*'Risk-return'!JG3","v":0.21368235867329183},{"$f":"'1D Vectors Transposed'!H2+'1D Vectors Transposed'!I2*'Risk-return'!JH3","v":0.21323411635721085},{"$f":"'1D Vectors Transposed'!H2+'1D Vectors Transposed'!I2*'Risk-return'!JI3","v":0.21278587404112989},{"$f":"'1D Vectors Transposed'!H2+'1D Vectors Transposed'!I2*'Risk-return'!JJ3","v":0.21233763172504891},{"$f":"'1D Vectors Transposed'!H2+'1D Vectors Transposed'!I2*'Risk-return'!JK3","v":0.21188938940896795},{"$f":"'1D Vectors Transposed'!H2+'1D Vectors Transposed'!I2*'Risk-return'!JL3","v":0.21144114709288697},{"$f":"'1D Vectors Transposed'!H2+'1D Vectors Transposed'!I2*'Risk-return'!JM3","v":0.21099290477680599},{"$f":"'1D Vectors Transposed'!H2+'1D Vectors Transposed'!I2*'Risk-return'!JN3","v":0.21054466246072501},{"$f":"'1D Vectors Transposed'!H2+'1D Vectors Transposed'!I2*'Risk-return'!JO3","v":0.21009642014464402},{"$f":"'1D Vectors Transposed'!H2+'1D Vectors Transposed'!I2*'Risk-return'!JP3","v":0.20964817782856304},{"$f":"'1D Vectors Transposed'!H2+'1D Vectors Transposed'!I2*'Risk-return'!JQ3","v":0.20919993551248206},{"$f":"'1D Vectors Transposed'!H2+'1D Vectors Transposed'!I2*'Risk-return'!JR3","v":0.20875169319640111},{"$f":"'1D Vectors Transposed'!H2+'1D Vectors Transposed'!I2*'Risk-return'!JS3","v":0.20830345088032012},{"$f":"'1D Vectors Transposed'!H2+'1D Vectors Transposed'!I2*'Risk-return'!JT3","v":0.20785520856423914},{"$f":"'1D Vectors Transposed'!H2+'1D Vectors Transposed'!I2*'Risk-return'!JU3","v":0.20740696624815816},{"$f":"'1D Vectors Transposed'!H2+'1D Vectors Transposed'!I2*'Risk-return'!JV3","v":0.2069587239320772},{"$f":"'1D Vectors Transposed'!H2+'1D Vectors Transposed'!I2*'Risk-return'!JW3","v":0.20651048161599622},{"$f":"'1D Vectors Transposed'!H2+'1D Vectors Transposed'!I2*'Risk-return'!JX3","v":0.20606223929991524},{"$f":"'1D Vectors Transposed'!H2+'1D Vectors Transposed'!I2*'Risk-return'!JY3","v":0.20561399698383426},{"$f":"'1D Vectors Transposed'!H2+'1D Vectors Transposed'!I2*'Risk-return'!JZ3","v":0.2051657546677533},{"$f":"'1D Vectors Transposed'!H2+'1D Vectors Transposed'!I2*'Risk-return'!KA3","v":0.20471751235167232},{"$f":"'1D Vectors Transposed'!H2+'1D Vectors Transposed'!I2*'Risk-return'!KB3","v":0.20426927003559134},{"$f":"'1D Vectors Transposed'!H2+'1D Vectors Transposed'!I2*'Risk-return'!KC3","v":0.20382102771951036},{"$f":"'1D Vectors Transposed'!H2+'1D Vectors Transposed'!I2*'Risk-return'!KD3","v":0.20337278540342937},{"$f":"'1D Vectors Transposed'!H2+'1D Vectors Transposed'!I2*'Risk-return'!KE3","v":0.20292454308734842},{"$f":"'1D Vectors Transposed'!H2+'1D Vectors Transposed'!I2*'Risk-return'!KF3","v":0.20247630077126744},{"$f":"'1D Vectors Transposed'!H2+'1D Vectors Transposed'!I2*'Risk-return'!KG3","v":0.20202805845518645},{"$f":"'1D Vectors Transposed'!H2+'1D Vectors Transposed'!I2*'Risk-return'!KH3","v":0.20157981613910547},{"$f":"'1D Vectors Transposed'!H2+'1D Vectors Transposed'!I2*'Risk-return'!KI3","v":0.20113157382302452},{"$f":"'1D Vectors Transposed'!H2+'1D Vectors Transposed'!I2*'Risk-return'!KJ3","v":0.20068333150694354},{"$f":"'1D Vectors Transposed'!H2+'1D Vectors Transposed'!I2*'Risk-return'!KK3","v":0.20023508919086255},{"$f":"'1D Vectors Transposed'!H2+'1D Vectors Transposed'!I2*'Risk-return'!KL3","v":0.19978684687478157},{"$f":"'1D Vectors Transposed'!H2+'1D Vectors Transposed'!I2*'Risk-return'!KM3","v":0.19933860455870059},{"$f":"'1D Vectors Transposed'!H2+'1D Vectors Transposed'!I2*'Risk-return'!KN3","v":0.19889036224261963},{"$f":"'1D Vectors Transposed'!H2+'1D Vectors Transposed'!I2*'Risk-return'!KO3","v":0.19844211992653865},{"$f":"'1D Vectors Transposed'!H2+'1D Vectors Transposed'!I2*'Risk-return'!KP3","v":0.19799387761045767},{"$f":"'1D Vectors Transposed'!H2+'1D Vectors Transposed'!I2*'Risk-return'!KQ3","v":0.19754563529437669},{"$f":"'1D Vectors Transposed'!H2+'1D Vectors Transposed'!I2*'Risk-return'!KR3","v":0.1970973929782957},{"$f":"'1D Vectors Transposed'!H2+'1D Vectors Transposed'!I2*'Risk-return'!KS3","v":0.19664915066221475},{"$f":"'1D Vectors Transposed'!H2+'1D Vectors Transposed'!I2*'Risk-return'!KT3","v":0.19620090834613377},{"$f":"'1D Vectors Transposed'!H2+'1D Vectors Transposed'!I2*'Risk-return'!KU3","v":0.19575266603005279},{"$f":"'1D Vectors Transposed'!H2+'1D Vectors Transposed'!I2*'Risk-return'!KV3","v":0.1953044237139718},{"$f":"'1D Vectors Transposed'!H2+'1D Vectors Transposed'!I2*'Risk-return'!KW3","v":0.19485618139789085},{"$f":"'1D Vectors Transposed'!H2+'1D Vectors Transposed'!I2*'Risk-return'!KX3","v":0.19440793908180987},{"$f":"'1D Vectors Transposed'!H2+'1D Vectors Transposed'!I2*'Risk-return'!KY3","v":0.19395969676572888},{"$f":"'1D Vectors Transposed'!H2+'1D Vectors Transposed'!I2*'Risk-return'!KZ3","v":0.1935114544496479},{"$f":"'1D Vectors Transposed'!H2+'1D Vectors Transposed'!I2*'Risk-return'!LA3","v":0.19306321213356692},{"$f":"'1D Vectors Transposed'!H2+'1D Vectors Transposed'!I2*'Risk-return'!LB3","v":0.192614961468308},{"$f":"'1D Vectors Transposed'!H2+'1D Vectors Transposed'!I2*'Risk-return'!LC3","v":0.19216671080304909},{"$f":"'1D Vectors Transposed'!H2+'1D Vectors Transposed'!I2*'Risk-return'!LD3","v":0.19171846013779018},{"$f":"'1D Vectors Transposed'!H2+'1D Vectors Transposed'!I2*'Risk-return'!LE3","v":0.19127020947253126},{"$f":"'1D Vectors Transposed'!H2+'1D Vectors Transposed'!I2*'Risk-return'!LF3","v":0.19082195880727235},{"$f":"'1D Vectors Transposed'!H2+'1D Vectors Transposed'!I2*'Risk-return'!LG3","v":0.19037370814201343},{"$f":"'1D Vectors Transposed'!H2+'1D Vectors Transposed'!I2*'Risk-return'!LH3","v":0.18992545747675452},{"$f":"'1D Vectors Transposed'!H2+'1D Vectors Transposed'!I2*'Risk-return'!LI3","v":0.1894772068114956},{"$f":"'1D Vectors Transposed'!H2+'1D Vectors Transposed'!I2*'Risk-return'!LJ3","v":0.18902895614623669},{"$f":"'1D Vectors Transposed'!H2+'1D Vectors Transposed'!I2*'Risk-return'!LK3","v":0.18858070548097777},{"$f":"'1D Vectors Transposed'!H2+'1D Vectors Transposed'!I2*'Risk-return'!LL3","v":0.18813245481571886},{"$f":"'1D Vectors Transposed'!H2+'1D Vectors Transposed'!I2*'Risk-return'!LM3","v":0.18768420415045994},{"$f":"'1D Vectors Transposed'!H2+'1D Vectors Transposed'!I2*'Risk-return'!LN3","v":0.187235953485201},{"$f":"'1D Vectors Transposed'!H2+'1D Vectors Transposed'!I2*'Risk-return'!LO3","v":0.18678770281994209},{"$f":"'1D Vectors Transposed'!H2+'1D Vectors Transposed'!I2*'Risk-return'!LP3","v":0.18633945215468317},{"$f":"'1D Vectors Transposed'!H2+'1D Vectors Transposed'!I2*'Risk-return'!LQ3","v":0.18589120148942426},{"$f":"'1D Vectors Transposed'!H2+'1D Vectors Transposed'!I2*'Risk-return'!LR3","v":0.18544295082416534},{"$f":"'1D Vectors Transposed'!H2+'1D Vectors Transposed'!I2*'Risk-return'!LS3","v":0.18499470015890643},{"$f":"'1D Vectors Transposed'!H2+'1D Vectors Transposed'!I2*'Risk-return'!LT3","v":0.18454644949364751},{"$f":"'1D Vectors Transposed'!H2+'1D Vectors Transposed'!I2*'Risk-return'!LU3","v":0.1840981988283886},{"$f":"'1D Vectors Transposed'!H2+'1D Vectors Transposed'!I2*'Risk-return'!LV3","v":0.18364994816312968},{"$f":"'1D Vectors Transposed'!H2+'1D Vectors Transposed'!I2*'Risk-return'!LW3","v":0.18320169749787077},{"$f":"'1D Vectors Transposed'!H2+'1D Vectors Transposed'!I2*'Risk-return'!LX3","v":0.18275344683261185},{"$f":"'1D Vectors Transposed'!H2+'1D Vectors Transposed'!I2*'Risk-return'!LY3","v":0.18230519616735294},{"$f":"'1D Vectors Transposed'!H2+'1D Vectors Transposed'!I2*'Risk-return'!LZ3","v":0.18185694550209403},{"$f":"'1D Vectors Transposed'!H2+'1D Vectors Transposed'!I2*'Risk-return'!MA3","v":0.18140869483683511},{"$f":"'1D Vectors Transposed'!H2+'1D Vectors Transposed'!I2*'Risk-return'!MB3","v":0.1809604441715762},{"$f":"'1D Vectors Transposed'!H2+'1D Vectors Transposed'!I2*'Risk-return'!MC3","v":0.18051219350631725},{"$f":"'1D Vectors Transposed'!H2+'1D Vectors Transposed'!I2*'Risk-return'!MD3","v":0.18006394284105834},{"$f":"'1D Vectors Transposed'!H2+'1D Vectors Transposed'!I2*'Risk-return'!ME3","v":0.17961569217579942},{"$f":"'1D Vectors Transposed'!H2+'1D Vectors Transposed'!I2*'Risk-return'!MF3","v":0.17916744151054051},{"$f":"'1D Vectors Transposed'!H2+'1D Vectors Transposed'!I2*'Risk-return'!MG3","v":0.17871919084528159},{"$f":"'1D Vectors Transposed'!H2+'1D Vectors Transposed'!I2*'Risk-return'!MH3","v":0.17827094018002268},{"$f":"'1D Vectors Transposed'!H2+'1D Vectors Transposed'!I2*'Risk-return'!MI3","v":0.17782268951476377},{"$f":"'1D Vectors Transposed'!H2+'1D Vectors Transposed'!I2*'Risk-return'!MJ3","v":0.17737443884950485},{"$f":"'1D Vectors Transposed'!H2+'1D Vectors Transposed'!I2*'Risk-return'!MK3","v":0.17692618818424594},{"$f":"'1D Vectors Transposed'!H2+'1D Vectors Transposed'!I2*'Risk-return'!ML3","v":0.17647793751898702},{"$f":"'1D Vectors Transposed'!H2+'1D Vectors Transposed'!I2*'Risk-return'!MM3","v":0.17602968685372811},{"$f":"'1D Vectors Transposed'!H2+'1D Vectors Transposed'!I2*'Risk-return'!MN3","v":0.17558143618846919},{"$f":"'1D Vectors Transposed'!H2+'1D Vectors Transposed'!I2*'Risk-return'!MO3","v":0.17513318552321028},{"$f":"'1D Vectors Transposed'!H2+'1D Vectors Transposed'!I2*'Risk-return'!MP3","v":0.17468493485795136},{"$f":"'1D Vectors Transposed'!H2+'1D Vectors Transposed'!I2*'Risk-return'!MQ3","v":0.17423668419269242},{"$f":"'1D Vectors Transposed'!H2+'1D Vectors Transposed'!I2*'Risk-return'!MR3","v":0.17378843352743351},{"$f":"'1D Vectors Transposed'!H2+'1D Vectors Transposed'!I2*'Risk-return'!MS3","v":0.17334018286217459},{"$f":"'1D Vectors Transposed'!H2+'1D Vectors Transposed'!I2*'Risk-return'!MT3","v":0.17289193219691568},{"$f":"'1D Vectors Transposed'!H2+'1D Vectors Transposed'!I2*'Risk-return'!MU3","v":0.17244368153165676},{"$f":"'1D Vectors Transposed'!H2+'1D Vectors Transposed'!I2*'Risk-return'!MV3","v":0.17199543086639785},{"$f":"'1D Vectors Transposed'!H2+'1D Vectors Transposed'!I2*'Risk-return'!MW3","v":0.17154718020113893},{"$f":"'1D Vectors Transposed'!H2+'1D Vectors Transposed'!I2*'Risk-return'!MX3","v":0.17109892953588002},{"$f":"'1D Vectors Transposed'!H2+'1D Vectors Transposed'!I2*'Risk-return'!MY3","v":0.1706506788706211},{"$f":"'1D Vectors Transposed'!H2+'1D Vectors Transposed'!I2*'Risk-return'!MZ3","v":0.17020242820536219},{"$f":"'1D Vectors Transposed'!H2+'1D Vectors Transposed'!I2*'Risk-return'!NA3","v":0.16975417754010327},{"$f":"'1D Vectors Transposed'!H2+'1D Vectors Transposed'!I2*'Risk-return'!NB3","v":0.16930592687484436},{"$f":"'1D Vectors Transposed'!H2+'1D Vectors Transposed'!I2*'Risk-return'!NC3","v":0.16885767620958544},{"$f":"'1D Vectors Transposed'!H2+'1D Vectors Transposed'!I2*'Risk-return'!ND3","v":0.16840942554432653},{"$f":"'1D Vectors Transposed'!H2+'1D Vectors Transposed'!I2*'Risk-return'!NE3","v":0.16796117487906759},{"$f":"'1D Vectors Transposed'!H2+'1D Vectors Transposed'!I2*'Risk-return'!NF3","v":0.16751292421380867},{"$f":"'1D Vectors Transposed'!H2+'1D Vectors Transposed'!I2*'Risk-return'!NG3","v":0.16706467354854976},{"$f":"'1D Vectors Transposed'!H2+'1D Vectors Transposed'!I2*'Risk-return'!NH3","v":0.16661642288329084},{"$f":"'1D Vectors Transposed'!H2+'1D Vectors Transposed'!I2*'Risk-return'!NI3","v":0.16616817221803193},{"$f":"'1D Vectors Transposed'!H2+'1D Vectors Transposed'!I2*'Risk-return'!NJ3","v":0.16571992155277301},{"$f":"'1D Vectors Transposed'!H2+'1D Vectors Transposed'!I2*'Risk-return'!NK3","v":0.1652716708875141},{"$f":"'1D Vectors Transposed'!H2+'1D Vectors Transposed'!I2*'Risk-return'!NL3","v":0.16482342022225518},{"$f":"'1D Vectors Transposed'!H2+'1D Vectors Transposed'!I2*'Risk-return'!NM3","v":0.16437516955699627},{"$f":"'1D Vectors Transposed'!H2+'1D Vectors Transposed'!I2*'Risk-return'!NN3","v":0.16392691889173736},{"$f":"'1D Vectors Transposed'!H2+'1D Vectors Transposed'!I2*'Risk-return'!NO3","v":0.16347866822647844},{"$f":"'1D Vectors Transposed'!H2+'1D Vectors Transposed'!I2*'Risk-return'!NP3","v":0.16303041756121953},{"$f":"'1D Vectors Transposed'!H2+'1D Vectors Transposed'!I2*'Risk-return'!NQ3","v":0.16258216689596061},{"$f":"'1D Vectors Transposed'!H2+'1D Vectors Transposed'!I2*'Risk-return'!NR3","v":0.1621339162307017},{"$f":"'1D Vectors Transposed'!H2+'1D Vectors Transposed'!I2*'Risk-return'!NS3","v":0.16168566556544278},{"$f":"'1D Vectors Transposed'!H2+'1D Vectors Transposed'!I2*'Risk-return'!NT3","v":0.16123741490018384},{"$f":"'1D Vectors Transposed'!H2+'1D Vectors Transposed'!I2*'Risk-return'!NU3","v":0.16078916423492493},{"$f":"'1D Vectors Transposed'!H2+'1D Vectors Transposed'!I2*'Risk-return'!NV3","v":0.16034091356966601},{"$f":"'1D Vectors Transposed'!H2+'1D Vectors Transposed'!I2*'Risk-return'!NW3","v":0.1598926629044071},{"$f":"'1D Vectors Transposed'!H2+'1D Vectors Transposed'!I2*'Risk-return'!NX3","v":0.15944441223914818},{"$f":"'1D Vectors Transposed'!H2+'1D Vectors Transposed'!I2*'Risk-return'!NY3","v":0.15899616157388927},{"$f":"'1D Vectors Transposed'!H2+'1D Vectors Transposed'!I2*'Risk-return'!NZ3","v":0.15854791090863035},{"$f":"'1D Vectors Transposed'!H2+'1D Vectors Transposed'!I2*'Risk-return'!OA3","v":0.15809966024337144},{"$f":"'1D Vectors Transposed'!H2+'1D Vectors Transposed'!I2*'Risk-return'!OB3","v":0.15765140957811252},{"$f":"'1D Vectors Transposed'!H2+'1D Vectors Transposed'!I2*'Risk-return'!OC3","v":0.15720315891285361},{"$f":"'1D Vectors Transposed'!H2+'1D Vectors Transposed'!I2*'Risk-return'!OD3","v":0.15675490824759469},{"$f":"'1D Vectors Transposed'!H2+'1D Vectors Transposed'!I2*'Risk-return'!OE3","v":0.15630665758233578},{"$f":"'1D Vectors Transposed'!H2+'1D Vectors Transposed'!I2*'Risk-return'!OF3","v":0.15585840691707686},{"$f":"'1D Vectors Transposed'!H2+'1D Vectors Transposed'!I2*'Risk-return'!OG3","v":0.15541015625181795},{"$f":"'1D Vectors Transposed'!H2+'1D Vectors Transposed'!I2*'Risk-return'!OH3","v":0.15496190558655901},{"$f":"'1D Vectors Transposed'!H2+'1D Vectors Transposed'!I2*'Risk-return'!OI3","v":0.15451365492130009},{"$f":"'1D Vectors Transposed'!H2+'1D Vectors Transposed'!I2*'Risk-return'!OJ3","v":0.15406540425604118},{"$f":"'1D Vectors Transposed'!H2+'1D Vectors Transposed'!I2*'Risk-return'!OK3","v":0.15361715359078226},{"$f":"'1D Vectors Transposed'!H2+'1D Vectors Transposed'!I2*'Risk-return'!OL3","v":0.15316890292552335},{"$f":"'1D Vectors Transposed'!H2+'1D Vectors Transposed'!I2*'Risk-return'!OM3","v":0.15272065226026443},{"$f":"'1D Vectors Transposed'!H2+'1D Vectors Transposed'!I2*'Risk-return'!ON3","v":0.15227240159500552},{"$f":"'1D Vectors Transposed'!H2+'1D Vectors Transposed'!I2*'Risk-return'!OO3","v":0.1518241509297466},{"$f":"'1D Vectors Transposed'!H2+'1D Vectors Transposed'!I2*'Risk-return'!OP3","v":0.15137590026448769},{"$f":"'1D Vectors Transposed'!H2+'1D Vectors Transposed'!I2*'Risk-return'!OQ3","v":0.15092764959922877},{"$f":"'1D Vectors Transposed'!H2+'1D Vectors Transposed'!I2*'Risk-return'!OR3","v":0.15047939893396986},{"$f":"'1D Vectors Transposed'!H2+'1D Vectors Transposed'!I2*'Risk-return'!OS3","v":0.15003114826871095},{"$f":"'1D Vectors Transposed'!H2+'1D Vectors Transposed'!I2*'Risk-return'!OT3","v":0.14958289760345203},{"$f":"'1D Vectors Transposed'!H2+'1D Vectors Transposed'!I2*'Risk-return'!OU3","v":0.14913464693819312},{"$f":"'1D Vectors Transposed'!H2+'1D Vectors Transposed'!I2*'Risk-return'!OV3","v":0.14868639627293417},{"$f":"'1D Vectors Transposed'!H2+'1D Vectors Transposed'!I2*'Risk-return'!OW3","v":0.14823814560767526},{"$f":"'1D Vectors Transposed'!H2+'1D Vectors Transposed'!I2*'Risk-return'!OX3","v":0.14778989494241634},{"$f":"'1D Vectors Transposed'!H2+'1D Vectors Transposed'!I2*'Risk-return'!OY3","v":0.14734164427715743},{"$f":"'1D Vectors Transposed'!H2+'1D Vectors Transposed'!I2*'Risk-return'!OZ3","v":0.14689339361189852},{"$f":"'1D Vectors Transposed'!H2+'1D Vectors Transposed'!I2*'Risk-return'!PA3","v":0.1464451429466396},{"$f":"'1D Vectors Transposed'!H2+'1D Vectors Transposed'!I2*'Risk-return'!PB3","v":0.14599689228138069},{"$f":"'1D Vectors Transposed'!H2+'1D Vectors Transposed'!I2*'Risk-return'!PC3","v":0.14554864161612177},{"$f":"'1D Vectors Transposed'!H2+'1D Vectors Transposed'!I2*'Risk-return'!PD3","v":0.14510039095086286},{"$f":"'1D Vectors Transposed'!H2+'1D Vectors Transposed'!I2*'Risk-return'!PE3","v":0.14465214028560394},{"$f":"'1D Vectors Transposed'!H2+'1D Vectors Transposed'!I2*'Risk-return'!PF3","v":0.14420388962034503},{"$f":"'1D Vectors Transposed'!H2+'1D Vectors Transposed'!I2*'Risk-return'!PG3","v":0.14375563895508611},{"$f":"'1D Vectors Transposed'!H2+'1D Vectors Transposed'!I2*'Risk-return'!PH3","v":0.1433073882898272},{"$f":"'1D Vectors Transposed'!H2+'1D Vectors Transposed'!I2*'Risk-return'!PI3","v":0.14285913762456828},{"$f":"'1D Vectors Transposed'!H2+'1D Vectors Transposed'!I2*'Risk-return'!PJ3","v":0.14241088695930937},{"$f":"'1D Vectors Transposed'!H2+'1D Vectors Transposed'!I2*'Risk-return'!PK3","v":0.14196263629405043},{"$f":"'1D Vectors Transposed'!H2+'1D Vectors Transposed'!I2*'Risk-return'!PL3","v":0.14151438562879151},{"$f":"'1D Vectors Transposed'!H2+'1D Vectors Transposed'!I2*'Risk-return'!PM3","v":0.1410661349635326},{"$f":"'1D Vectors Transposed'!H2+'1D Vectors Transposed'!I2*'Risk-return'!PN3","v":0.14061788429827368},{"$f":"'1D Vectors Transposed'!H2+'1D Vectors Transposed'!I2*'Risk-return'!PO3","v":0.14016963363301477},{"$f":"'1D Vectors Transposed'!H2+'1D Vectors Transposed'!I2*'Risk-return'!PP3","v":0.13972138296775585},{"$f":"'1D Vectors Transposed'!H2+'1D Vectors Transposed'!I2*'Risk-return'!PQ3","v":0.13927313230249694},{"$f":"'1D Vectors Transposed'!H2+'1D Vectors Transposed'!I2*'Risk-return'!PR3","v":0.13882488163723802},{"$f":"'1D Vectors Transposed'!H2+'1D Vectors Transposed'!I2*'Risk-return'!PS3","v":0.13837663097197911},{"$f":"'1D Vectors Transposed'!H2+'1D Vectors Transposed'!I2*'Risk-return'!PT3","v":0.13792838030672019},{"$f":"'1D Vectors Transposed'!H2+'1D Vectors Transposed'!I2*'Risk-return'!PU3","v":0.13748012964146128},{"$f":"'1D Vectors Transposed'!H2+'1D Vectors Transposed'!I2*'Risk-return'!PV3","v":0.13703187897620236},{"$f":"'1D Vectors Transposed'!H2+'1D Vectors Transposed'!I2*'Risk-return'!PW3","v":0.13658362831094345},{"$f":"'1D Vectors Transposed'!H2+'1D Vectors Transposed'!I2*'Risk-return'!PX3","v":0.13613537764568454},{"$f":"'1D Vectors Transposed'!H2+'1D Vectors Transposed'!I2*'Risk-return'!PY3","v":0.13568712698042559},{"$f":"'1D Vectors Transposed'!H2+'1D Vectors Transposed'!I2*'Risk-return'!PZ3","v":0.13523887631516668},{"$f":"'1D Vectors Transposed'!H2+'1D Vectors Transposed'!I2*'Risk-return'!QA3","v":0.13479062564990776},{"$f":"'1D Vectors Transposed'!H2+'1D Vectors Transposed'!I2*'Risk-return'!QB3","v":0.13434237498464885},{"$f":"'1D Vectors Transposed'!H2+'1D Vectors Transposed'!I2*'Risk-return'!QC3","v":0.13389412431938993},{"$f":"'1D Vectors Transposed'!H2+'1D Vectors Transposed'!I2*'Risk-return'!QD3","v":0.13344587365413102},{"$f":"'1D Vectors Transposed'!H2+'1D Vectors Transposed'!I2*'Risk-return'!QE3","v":0.13299762298887211},{"$f":"'1D Vectors Transposed'!H2+'1D Vectors Transposed'!I2*'Risk-return'!QF3","v":0.13254937232361319},{"$f":"'1D Vectors Transposed'!H2+'1D Vectors Transposed'!I2*'Risk-return'!QG3","v":0.13210112165835428},{"$f":"'1D Vectors Transposed'!H2+'1D Vectors Transposed'!I2*'Risk-return'!QH3","v":0.13165287099309536},{"$f":"'1D Vectors Transposed'!H2+'1D Vectors Transposed'!I2*'Risk-return'!QI3","v":0.13120462032783645},{"$f":"'1D Vectors Transposed'!H2+'1D Vectors Transposed'!I2*'Risk-return'!QJ3","v":0.13075636966257753},{"$f":"'1D Vectors Transposed'!H2+'1D Vectors Transposed'!I2*'Risk-return'!QK3","v":0.13030811899731862},{"$f":"'1D Vectors Transposed'!H2+'1D Vectors Transposed'!I2*'Risk-return'!QL3","v":0.1298598683320597},{"$f":"'1D Vectors Transposed'!H2+'1D Vectors Transposed'!I2*'Risk-return'!QM3","v":0.12941161766680076},{"$f":"'1D Vectors Transposed'!H2+'1D Vectors Transposed'!I2*'Risk-return'!QN3","v":0.12896336700154185},{"$f":"'1D Vectors Transposed'!H2+'1D Vectors Transposed'!I2*'Risk-return'!QO3","v":0.12851511633628293},{"$f":"'1D Vectors Transposed'!H2+'1D Vectors Transposed'!I2*'Risk-return'!QP3","v":0.12806686567102402},{"$f":"'1D Vectors Transposed'!H2+'1D Vectors Transposed'!I2*'Risk-return'!QQ3","v":0.1276186150057651},{"$f":"'1D Vectors Transposed'!H2+'1D Vectors Transposed'!I2*'Risk-return'!QR3","v":0.12717036434050619},{"$f":"'1D Vectors Transposed'!H2+'1D Vectors Transposed'!I2*'Risk-return'!QS3","v":0.12672211367524727},{"$f":"'1D Vectors Transposed'!H2+'1D Vectors Transposed'!I2*'Risk-return'!QT3","v":0.12627386300998836},{"$f":"'1D Vectors Transposed'!H2+'1D Vectors Transposed'!I2*'Risk-return'!QU3","v":0.12582561234472944},{"$f":"'1D Vectors Transposed'!H2+'1D Vectors Transposed'!I2*'Risk-return'!QV3","v":0.12537736167947053},{"$f":"'1D Vectors Transposed'!H2+'1D Vectors Transposed'!I2*'Risk-return'!QW3","v":0.12492911101421161},{"$f":"'1D Vectors Transposed'!H2+'1D Vectors Transposed'!I2*'Risk-return'!QX3","v":0.1244808603489527},{"$f":"'1D Vectors Transposed'!H2+'1D Vectors Transposed'!I2*'Risk-return'!QY3","v":0.12403260968369378},{"$f":"'1D Vectors Transposed'!H2+'1D Vectors Transposed'!I2*'Risk-return'!QZ3","v":0.12358435901843487},{"$f":"'1D Vectors Transposed'!H2+'1D Vectors Transposed'!I2*'Risk-return'!RA3","v":0.12313610835317595},{"$f":"'1D Vectors Transposed'!H2+'1D Vectors Transposed'!I2*'Risk-return'!RB3","v":0.12268785768791701},{"$f":"'1D Vectors Transposed'!H2+'1D Vectors Transposed'!I2*'Risk-return'!RC3","v":0.1222396070226581},{"$f":"'1D Vectors Transposed'!H2+'1D Vectors Transposed'!I2*'Risk-return'!RD3","v":0.12179135635739918},{"$f":"'1D Vectors Transposed'!H2+'1D Vectors Transposed'!I2*'Risk-return'!RE3","v":0.12134310569214027},{"$f":"'1D Vectors Transposed'!H2+'1D Vectors Transposed'!I2*'Risk-return'!RF3","v":0.12089485502688135},{"$f":"'1D Vectors Transposed'!H2+'1D Vectors Transposed'!I2*'Risk-return'!RG3","v":0.12044660436162244},{"$f":"'1D Vectors Transposed'!H2+'1D Vectors Transposed'!I2*'Risk-return'!RH3","v":0.11999835369636352},{"$f":"'1D Vectors Transposed'!H2+'1D Vectors Transposed'!I2*'Risk-return'!RI3","v":0.11955010303110461},{"$f":"'1D Vectors Transposed'!H2+'1D Vectors Transposed'!I2*'Risk-return'!RJ3","v":0.1191018523658457},{"$f":"'1D Vectors Transposed'!H2+'1D Vectors Transposed'!I2*'Risk-return'!RK3","v":0.11865360170058678},{"$f":"'1D Vectors Transposed'!H2+'1D Vectors Transposed'!I2*'Risk-return'!RL3","v":0.11820535103532787},{"$f":"'1D Vectors Transposed'!H2+'1D Vectors Transposed'!I2*'Risk-return'!RM3","v":0.11775710037006895},{"$f":"'1D Vectors Transposed'!H2+'1D Vectors Transposed'!I2*'Risk-return'!RN3","v":0.11730884970481004},{"$f":"'1D Vectors Transposed'!H2+'1D Vectors Transposed'!I2*'Risk-return'!RO3","v":0.11686059903955112},{"$f":"'1D Vectors Transposed'!H2+'1D Vectors Transposed'!I2*'Risk-return'!RP3","v":0.11641234837429218},{"$f":"'1D Vectors Transposed'!H2+'1D Vectors Transposed'!I2*'Risk-return'!RQ3","v":0.11596409770903326},{"$f":"'1D Vectors Transposed'!H2+'1D Vectors Transposed'!I2*'Risk-return'!RR3","v":0.11551584704377435},{"$f":"'1D Vectors Transposed'!H2+'1D Vectors Transposed'!I2*'Risk-return'!RS3","v":0.11506759637851544},{"$f":"'1D Vectors Transposed'!H2+'1D Vectors Transposed'!I2*'Risk-return'!RT3","v":0.11461934571325652},{"$f":"'1D Vectors Transposed'!H2+'1D Vectors Transposed'!I2*'Risk-return'!RU3","v":0.11417109504799761},{"$f":"'1D Vectors Transposed'!H2+'1D Vectors Transposed'!I2*'Risk-return'!RV3","v":0.11372284438273869},{"$f":"'1D Vectors Transposed'!H2+'1D Vectors Transposed'!I2*'Risk-return'!RW3","v":0.11327459371747978},{"$f":"'1D Vectors Transposed'!H2+'1D Vectors Transposed'!I2*'Risk-return'!RX3","v":0.11282634305222086},{"$f":"'1D Vectors Transposed'!H2+'1D Vectors Transposed'!I2*'Risk-return'!RY3","v":0.11237809238696195},{"$f":"'1D Vectors Transposed'!H2+'1D Vectors Transposed'!I2*'Risk-return'!RZ3","v":0.11192984172170303},{"$f":"'1D Vectors Transposed'!H2+'1D Vectors Transposed'!I2*'Risk-return'!SA3","v":0.11148159105644412},{"$f":"'1D Vectors Transposed'!H2+'1D Vectors Transposed'!I2*'Risk-return'!SB3","v":0.1110333403911852},{"$f":"'1D Vectors Transposed'!H2+'1D Vectors Transposed'!I2*'Risk-return'!SC3","v":0.11058508972592629},{"$f":"'1D Vectors Transposed'!H2+'1D Vectors Transposed'!I2*'Risk-return'!SD3","v":0.11013683906066735},{"$f":"'1D Vectors Transposed'!H2+'1D Vectors Transposed'!I2*'Risk-return'!SE3","v":0.10968858839540843},{"$f":"'1D Vectors Transposed'!H2+'1D Vectors Transposed'!I2*'Risk-return'!SF3","v":0.10924033773014952},{"$f":"'1D Vectors Transposed'!H2+'1D Vectors Transposed'!I2*'Risk-return'!SG3","v":0.3329148481475433}]
["SPASTT01KRM661N",{"$f":"'1D Vectors Transposed'!H3+'1D Vectors Transposed'!I3*'Risk-return'!B3","v":-2.6884352265336311E-3},{"$f":"'1D Vectors Transposed'!H3+'1D Vectors Transposed'!I3*'Risk-return'!C3","v":-2.3702324143767728E-3},{"$f":"'1D Vectors Transposed'!H3+'1D Vectors Transposed'!I3*'Risk-return'!D3","v":-2.052029625372217E-3},{"$f":"'1D Vectors Transposed'!H3+'1D Vectors Transposed'!I3*'Risk-return'!E3","v":-1.7338267900630564E-3},{"$f":"'1D Vectors Transposed'!H3+'1D Vectors Transposed'!I3*'Risk-return'!F3","v":-1.4156240473631051E-3},{"$f":"'1D Vectors Transposed'!H3+'1D Vectors Transposed'!I3*'Risk-return'!G3","v":-1.0974212120539444E-3},{"$f":"'1D Vectors Transposed'!H3+'1D Vectors Transposed'!I3*'Risk-return'!H3","v":-7.7921837674478373E-4},{"$f":"'1D Vectors Transposed'!H3+'1D Vectors Transposed'!I3*'Risk-return'!I3","v":-4.6101554143562328E-4},{"$f":"'1D Vectors Transposed'!H3+'1D Vectors Transposed'!I3*'Risk-return'!J3","v":-1.428127061264624E-4},{"$f":"'1D Vectors Transposed'!H3+'1D Vectors Transposed'!I3*'Risk-return'!K3","v":1.7538994396427933E-4},{"$f":"'1D Vectors Transposed'!H3+'1D Vectors Transposed'!I3*'Risk-return'!L3","v":4.9359259405502148E-4},{"$f":"'1D Vectors Transposed'!H3+'1D Vectors Transposed'!I3*'Risk-return'!M3","v":8.1179524414576364E-4},{"$f":"'1D Vectors Transposed'!H3+'1D Vectors Transposed'!I3*'Risk-return'!N3","v":1.1299978942365054E-3},{"$f":"'1D Vectors Transposed'!H3+'1D Vectors Transposed'!I3*'Risk-return'!O3","v":1.448200544327248E-3},{"$f":"'1D Vectors Transposed'!H3+'1D Vectors Transposed'!I3*'Risk-return'!P3","v":1.7664031944179897E-3},{"$f":"'1D Vectors Transposed'!H3+'1D Vectors Transposed'!I3*'Risk-return'!Q3","v":2.0846058445087314E-3},{"$f":"'1D Vectors Transposed'!H3+'1D Vectors Transposed'!I3*'Risk-return'!R3","v":2.402808494599474E-3},{"$f":"'1D Vectors Transposed'!H3+'1D Vectors Transposed'!I3*'Risk-return'!S3","v":2.7210111446902157E-3},{"$f":"'1D Vectors Transposed'!H3+'1D Vectors Transposed'!I3*'Risk-return'!T3","v":3.0392137947809574E-3},{"$f":"'1D Vectors Transposed'!H3+'1D Vectors Transposed'!I3*'Risk-return'!U3","v":3.3574164448717E-3},{"$f":"'1D Vectors Transposed'!H3+'1D Vectors Transposed'!I3*'Risk-return'!V3","v":3.6756194653992792E-3},{"$f":"'1D Vectors Transposed'!H3+'1D Vectors Transposed'!I3*'Risk-return'!W3","v":3.9938224859268588E-3},{"$f":"'1D Vectors Transposed'!H3+'1D Vectors Transposed'!I3*'Risk-return'!X3","v":4.312025506454438E-3},{"$f":"'1D Vectors Transposed'!H3+'1D Vectors Transposed'!I3*'Risk-return'!Y3","v":4.6302285269820172E-3},{"$f":"'1D Vectors Transposed'!H3+'1D Vectors Transposed'!I3*'Risk-return'!Z3","v":4.9484315475095964E-3},{"$f":"'1D Vectors Transposed'!H3+'1D Vectors Transposed'!I3*'Risk-return'!AA3","v":5.2666345680371755E-3},{"$f":"'1D Vectors Transposed'!H3+'1D Vectors Transposed'!I3*'Risk-return'!AB3","v":5.5848375885647547E-3},{"$f":"'1D Vectors Transposed'!H3+'1D Vectors Transposed'!I3*'Risk-return'!AC3","v":5.9030406090923339E-3},{"$f":"'1D Vectors Transposed'!H3+'1D Vectors Transposed'!I3*'Risk-return'!AD3","v":6.2212436296199131E-3},{"$f":"'1D Vectors Transposed'!H3+'1D Vectors Transposed'!I3*'Risk-return'!AE3","v":6.5394466501474922E-3},{"$f":"'1D Vectors Transposed'!H3+'1D Vectors Transposed'!I3*'Risk-return'!AF3","v":6.8576496706750714E-3},{"$f":"'1D Vectors Transposed'!H3+'1D Vectors Transposed'!I3*'Risk-return'!AG3","v":7.1758526912026506E-3},{"$f":"'1D Vectors Transposed'!H3+'1D Vectors Transposed'!I3*'Risk-return'!AH3","v":7.4940557117302298E-3},{"$f":"'1D Vectors Transposed'!H3+'1D Vectors Transposed'!I3*'Risk-return'!AI3","v":7.812258732257809E-3},{"$f":"'1D Vectors Transposed'!H3+'1D Vectors Transposed'!I3*'Risk-return'!AJ3","v":8.1304617527853881E-3},{"$f":"'1D Vectors Transposed'!H3+'1D Vectors Transposed'!I3*'Risk-return'!AK3","v":8.4486647733129673E-3},{"$f":"'1D Vectors Transposed'!H3+'1D Vectors Transposed'!I3*'Risk-return'!AL3","v":8.7668677938405465E-3},{"$f":"'1D Vectors Transposed'!H3+'1D Vectors Transposed'!I3*'Risk-return'!AM3","v":9.0850708143681257E-3},{"$f":"'1D Vectors Transposed'!H3+'1D Vectors Transposed'!I3*'Risk-return'!AN3","v":9.4032738348957048E-3},{"$f":"'1D Vectors Transposed'!H3+'1D Vectors Transposed'!I3*'Risk-return'!AO3","v":9.721476855423284E-3},{"$f":"'1D Vectors Transposed'!H3+'1D Vectors Transposed'!I3*'Risk-return'!AP3","v":1.0039679135077188E-2},{"$f":"'1D Vectors Transposed'!H3+'1D Vectors Transposed'!I3*'Risk-return'!AQ3","v":1.0357881414731094E-2},{"$f":"'1D Vectors Transposed'!H3+'1D Vectors Transposed'!I3*'Risk-return'!AR3","v":1.0676083694384999E-2},{"$f":"'1D Vectors Transposed'!H3+'1D Vectors Transposed'!I3*'Risk-return'!AS3","v":1.0994285974038903E-2},{"$f":"'1D Vectors Transposed'!H3+'1D Vectors Transposed'!I3*'Risk-return'!AT3","v":1.1312488253692809E-2},{"$f":"'1D Vectors Transposed'!H3+'1D Vectors Transposed'!I3*'Risk-return'!AU3","v":1.1630690533346713E-2},{"$f":"'1D Vectors Transposed'!H3+'1D Vectors Transposed'!I3*'Risk-return'!AV3","v":1.1948892813000617E-2},{"$f":"'1D Vectors Transposed'!H3+'1D Vectors Transposed'!I3*'Risk-return'!AW3","v":1.2267095092654523E-2},{"$f":"'1D Vectors Transposed'!H3+'1D Vectors Transposed'!I3*'Risk-return'!AX3","v":1.2585297372308428E-2},{"$f":"'1D Vectors Transposed'!H3+'1D Vectors Transposed'!I3*'Risk-return'!AY3","v":1.2903499651962332E-2},{"$f":"'1D Vectors Transposed'!H3+'1D Vectors Transposed'!I3*'Risk-return'!AZ3","v":1.3221701931616236E-2},{"$f":"'1D Vectors Transposed'!H3+'1D Vectors Transposed'!I3*'Risk-return'!BA3","v":1.353990421127014E-2},{"$f":"'1D Vectors Transposed'!H3+'1D Vectors Transposed'!I3*'Risk-return'!BB3","v":1.3858106490924048E-2},{"$f":"'1D Vectors Transposed'!H3+'1D Vectors Transposed'!I3*'Risk-return'!BC3","v":1.4176308770577952E-2},{"$f":"'1D Vectors Transposed'!H3+'1D Vectors Transposed'!I3*'Risk-return'!BD3","v":1.4494511050231857E-2},{"$f":"'1D Vectors Transposed'!H3+'1D Vectors Transposed'!I3*'Risk-return'!BE3","v":1.4812713329885761E-2},{"$f":"'1D Vectors Transposed'!H3+'1D Vectors Transposed'!I3*'Risk-return'!BF3","v":1.5130915609539665E-2},{"$f":"'1D Vectors Transposed'!H3+'1D Vectors Transposed'!I3*'Risk-return'!BG3","v":1.544911788919357E-2},{"$f":"'1D Vectors Transposed'!H3+'1D Vectors Transposed'!I3*'Risk-return'!BH3","v":1.5767320168847476E-2},{"$f":"'1D Vectors Transposed'!H3+'1D Vectors Transposed'!I3*'Risk-return'!BI3","v":1.608552244850138E-2},{"$f":"'1D Vectors Transposed'!H3+'1D Vectors Transposed'!I3*'Risk-return'!BJ3","v":1.6403724728155284E-2},{"$f":"'1D Vectors Transposed'!H3+'1D Vectors Transposed'!I3*'Risk-return'!BK3","v":1.6721927007809188E-2},{"$f":"'1D Vectors Transposed'!H3+'1D Vectors Transposed'!I3*'Risk-return'!BL3","v":1.7040129287463093E-2},{"$f":"'1D Vectors Transposed'!H3+'1D Vectors Transposed'!I3*'Risk-return'!BM3","v":1.7358331567116997E-2},{"$f":"'1D Vectors Transposed'!H3+'1D Vectors Transposed'!I3*'Risk-return'!BN3","v":1.7676533846770905E-2},{"$f":"'1D Vectors Transposed'!H3+'1D Vectors Transposed'!I3*'Risk-return'!BO3","v":1.7994736126424809E-2},{"$f":"'1D Vectors Transposed'!H3+'1D Vectors Transposed'!I3*'Risk-return'!BP3","v":1.8312938406078713E-2},{"$f":"'1D Vectors Transposed'!H3+'1D Vectors Transposed'!I3*'Risk-return'!BQ3","v":1.8631140685732617E-2},{"$f":"'1D Vectors Transposed'!H3+'1D Vectors Transposed'!I3*'Risk-return'!BR3","v":1.8949342965386522E-2},{"$f":"'1D Vectors Transposed'!H3+'1D Vectors Transposed'!I3*'Risk-return'!BS3","v":1.9267545245040426E-2},{"$f":"'1D Vectors Transposed'!H3+'1D Vectors Transposed'!I3*'Risk-return'!BT3","v":1.9585747524694334E-2},{"$f":"'1D Vectors Transposed'!H3+'1D Vectors Transposed'!I3*'Risk-return'!BU3","v":1.9903949804348238E-2},{"$f":"'1D Vectors Transposed'!H3+'1D Vectors Transposed'!I3*'Risk-return'!BV3","v":2.0222152084002142E-2},{"$f":"'1D Vectors Transposed'!H3+'1D Vectors Transposed'!I3*'Risk-return'!BW3","v":2.0540354363656046E-2},{"$f":"'1D Vectors Transposed'!H3+'1D Vectors Transposed'!I3*'Risk-return'!BX3","v":2.0858556643309951E-2},{"$f":"'1D Vectors Transposed'!H3+'1D Vectors Transposed'!I3*'Risk-return'!BY3","v":2.1176758922963855E-2},{"$f":"'1D Vectors Transposed'!H3+'1D Vectors Transposed'!I3*'Risk-return'!BZ3","v":2.1494961202617759E-2},{"$f":"'1D Vectors Transposed'!H3+'1D Vectors Transposed'!I3*'Risk-return'!CA3","v":2.1813163482271667E-2},{"$f":"'1D Vectors Transposed'!H3+'1D Vectors Transposed'!I3*'Risk-return'!CB3","v":2.2131365761925571E-2},{"$f":"'1D Vectors Transposed'!H3+'1D Vectors Transposed'!I3*'Risk-return'!CC3","v":2.2449568041579476E-2},{"$f":"'1D Vectors Transposed'!H3+'1D Vectors Transposed'!I3*'Risk-return'!CD3","v":2.276777032123338E-2},{"$f":"'1D Vectors Transposed'!H3+'1D Vectors Transposed'!I3*'Risk-return'!CE3","v":2.3085972600887284E-2},{"$f":"'1D Vectors Transposed'!H3+'1D Vectors Transposed'!I3*'Risk-return'!CF3","v":2.3404174880541188E-2},{"$f":"'1D Vectors Transposed'!H3+'1D Vectors Transposed'!I3*'Risk-return'!CG3","v":2.3722377160195096E-2},{"$f":"'1D Vectors Transposed'!H3+'1D Vectors Transposed'!I3*'Risk-return'!CH3","v":2.4040579439849E-2},{"$f":"'1D Vectors Transposed'!H3+'1D Vectors Transposed'!I3*'Risk-return'!CI3","v":2.4358781719502905E-2},{"$f":"'1D Vectors Transposed'!H3+'1D Vectors Transposed'!I3*'Risk-return'!CJ3","v":2.4676983999156809E-2},{"$f":"'1D Vectors Transposed'!H3+'1D Vectors Transposed'!I3*'Risk-return'!CK3","v":2.4995186278810713E-2},{"$f":"'1D Vectors Transposed'!H3+'1D Vectors Transposed'!I3*'Risk-return'!CL3","v":2.5313388558464617E-2},{"$f":"'1D Vectors Transposed'!H3+'1D Vectors Transposed'!I3*'Risk-return'!CM3","v":2.5631590838118525E-2},{"$f":"'1D Vectors Transposed'!H3+'1D Vectors Transposed'!I3*'Risk-return'!CN3","v":2.5949793117772429E-2},{"$f":"'1D Vectors Transposed'!H3+'1D Vectors Transposed'!I3*'Risk-return'!CO3","v":2.6267995397426334E-2},{"$f":"'1D Vectors Transposed'!H3+'1D Vectors Transposed'!I3*'Risk-return'!CP3","v":2.6586197677080238E-2},{"$f":"'1D Vectors Transposed'!H3+'1D Vectors Transposed'!I3*'Risk-return'!CQ3","v":2.6904399956734142E-2},{"$f":"'1D Vectors Transposed'!H3+'1D Vectors Transposed'!I3*'Risk-return'!CR3","v":2.7222602236388047E-2},{"$f":"'1D Vectors Transposed'!H3+'1D Vectors Transposed'!I3*'Risk-return'!CS3","v":2.7540804516041954E-2},{"$f":"'1D Vectors Transposed'!H3+'1D Vectors Transposed'!I3*'Risk-return'!CT3","v":2.7859006795695859E-2},{"$f":"'1D Vectors Transposed'!H3+'1D Vectors Transposed'!I3*'Risk-return'!CU3","v":2.8177209075349763E-2},{"$f":"'1D Vectors Transposed'!H3+'1D Vectors Transposed'!I3*'Risk-return'!CV3","v":2.8495411355003667E-2},{"$f":"'1D Vectors Transposed'!H3+'1D Vectors Transposed'!I3*'Risk-return'!CW3","v":2.8813613634657575E-2},{"$f":"'1D Vectors Transposed'!H3+'1D Vectors Transposed'!I3*'Risk-return'!CX3","v":2.9131815914311476E-2},{"$f":"'1D Vectors Transposed'!H3+'1D Vectors Transposed'!I3*'Risk-return'!CY3","v":2.9450018193965383E-2},{"$f":"'1D Vectors Transposed'!H3+'1D Vectors Transposed'!I3*'Risk-return'!CZ3","v":2.9768220473619284E-2},{"$f":"'1D Vectors Transposed'!H3+'1D Vectors Transposed'!I3*'Risk-return'!DA3","v":3.0086422753273192E-2},{"$f":"'1D Vectors Transposed'!H3+'1D Vectors Transposed'!I3*'Risk-return'!DB3","v":3.0404625032927093E-2},{"$f":"'1D Vectors Transposed'!H3+'1D Vectors Transposed'!I3*'Risk-return'!DC3","v":3.0722827312581E-2},{"$f":"'1D Vectors Transposed'!H3+'1D Vectors Transposed'!I3*'Risk-return'!DD3","v":3.1041029592234908E-2},{"$f":"'1D Vectors Transposed'!H3+'1D Vectors Transposed'!I3*'Risk-return'!DE3","v":3.1359231871888812E-2},{"$f":"'1D Vectors Transposed'!H3+'1D Vectors Transposed'!I3*'Risk-return'!DF3","v":3.167743415154272E-2},{"$f":"'1D Vectors Transposed'!H3+'1D Vectors Transposed'!I3*'Risk-return'!DG3","v":3.1995636431196621E-2},{"$f":"'1D Vectors Transposed'!H3+'1D Vectors Transposed'!I3*'Risk-return'!DH3","v":3.2313838710850529E-2},{"$f":"'1D Vectors Transposed'!H3+'1D Vectors Transposed'!I3*'Risk-return'!DI3","v":3.2632040990504436E-2},{"$f":"'1D Vectors Transposed'!H3+'1D Vectors Transposed'!I3*'Risk-return'!DJ3","v":3.2950243270158337E-2},{"$f":"'1D Vectors Transposed'!H3+'1D Vectors Transposed'!I3*'Risk-return'!DK3","v":3.3268445549812245E-2},{"$f":"'1D Vectors Transposed'!H3+'1D Vectors Transposed'!I3*'Risk-return'!DL3","v":3.3586647829466146E-2},{"$f":"'1D Vectors Transposed'!H3+'1D Vectors Transposed'!I3*'Risk-return'!DM3","v":3.3904850109120054E-2},{"$f":"'1D Vectors Transposed'!H3+'1D Vectors Transposed'!I3*'Risk-return'!DN3","v":3.4223052388773954E-2},{"$f":"'1D Vectors Transposed'!H3+'1D Vectors Transposed'!I3*'Risk-return'!DO3","v":3.4541254668427862E-2},{"$f":"'1D Vectors Transposed'!H3+'1D Vectors Transposed'!I3*'Risk-return'!DP3","v":3.485945694808177E-2},{"$f":"'1D Vectors Transposed'!H3+'1D Vectors Transposed'!I3*'Risk-return'!DQ3","v":3.5177659227735671E-2},{"$f":"'1D Vectors Transposed'!H3+'1D Vectors Transposed'!I3*'Risk-return'!DR3","v":3.5495861507389578E-2},{"$f":"'1D Vectors Transposed'!H3+'1D Vectors Transposed'!I3*'Risk-return'!DS3","v":3.5814063787043479E-2},{"$f":"'1D Vectors Transposed'!H3+'1D Vectors Transposed'!I3*'Risk-return'!DT3","v":3.6132266066697387E-2},{"$f":"'1D Vectors Transposed'!H3+'1D Vectors Transposed'!I3*'Risk-return'!DU3","v":3.6450468346351288E-2},{"$f":"'1D Vectors Transposed'!H3+'1D Vectors Transposed'!I3*'Risk-return'!DV3","v":3.6768670626005195E-2},{"$f":"'1D Vectors Transposed'!H3+'1D Vectors Transposed'!I3*'Risk-return'!DW3","v":3.7086872905659103E-2},{"$f":"'1D Vectors Transposed'!H3+'1D Vectors Transposed'!I3*'Risk-return'!DX3","v":3.7405075185313004E-2},{"$f":"'1D Vectors Transposed'!H3+'1D Vectors Transposed'!I3*'Risk-return'!DY3","v":3.7723277464966912E-2},{"$f":"'1D Vectors Transposed'!H3+'1D Vectors Transposed'!I3*'Risk-return'!DZ3","v":3.8041479744620812E-2},{"$f":"'1D Vectors Transposed'!H3+'1D Vectors Transposed'!I3*'Risk-return'!EA3","v":3.835968202427472E-2},{"$f":"'1D Vectors Transposed'!H3+'1D Vectors Transposed'!I3*'Risk-return'!EB3","v":3.8677884303928628E-2},{"$f":"'1D Vectors Transposed'!H3+'1D Vectors Transposed'!I3*'Risk-return'!EC3","v":3.8996086583582529E-2},{"$f":"'1D Vectors Transposed'!H3+'1D Vectors Transposed'!I3*'Risk-return'!ED3","v":3.9314288863236437E-2},{"$f":"'1D Vectors Transposed'!H3+'1D Vectors Transposed'!I3*'Risk-return'!EE3","v":3.9632491142890337E-2},{"$f":"'1D Vectors Transposed'!H3+'1D Vectors Transposed'!I3*'Risk-return'!EF3","v":3.9950693422544245E-2},{"$f":"'1D Vectors Transposed'!H3+'1D Vectors Transposed'!I3*'Risk-return'!EG3","v":4.0268895702198146E-2},{"$f":"'1D Vectors Transposed'!H3+'1D Vectors Transposed'!I3*'Risk-return'!EH3","v":4.0587097981852054E-2},{"$f":"'1D Vectors Transposed'!H3+'1D Vectors Transposed'!I3*'Risk-return'!EI3","v":4.0905300261505961E-2},{"$f":"'1D Vectors Transposed'!H3+'1D Vectors Transposed'!I3*'Risk-return'!EJ3","v":4.1223502541159862E-2},{"$f":"'1D Vectors Transposed'!H3+'1D Vectors Transposed'!I3*'Risk-return'!EK3","v":4.154170482081377E-2},{"$f":"'1D Vectors Transposed'!H3+'1D Vectors Transposed'!I3*'Risk-return'!EL3","v":4.1859907100467671E-2},{"$f":"'1D Vectors Transposed'!H3+'1D Vectors Transposed'!I3*'Risk-return'!EM3","v":4.2178109380121578E-2},{"$f":"'1D Vectors Transposed'!H3+'1D Vectors Transposed'!I3*'Risk-return'!EN3","v":4.2496311659775486E-2},{"$f":"'1D Vectors Transposed'!H3+'1D Vectors Transposed'!I3*'Risk-return'!EO3","v":4.2814513939429387E-2},{"$f":"'1D Vectors Transposed'!H3+'1D Vectors Transposed'!I3*'Risk-return'!EP3","v":4.3132716219083295E-2},{"$f":"'1D Vectors Transposed'!H3+'1D Vectors Transposed'!I3*'Risk-return'!EQ3","v":4.3450918498737195E-2},{"$f":"'1D Vectors Transposed'!H3+'1D Vectors Transposed'!I3*'Risk-return'!ER3","v":4.3769120778391103E-2},{"$f":"'1D Vectors Transposed'!H3+'1D Vectors Transposed'!I3*'Risk-return'!ES3","v":4.4087323058045004E-2},{"$f":"'1D Vectors Transposed'!H3+'1D Vectors Transposed'!I3*'Risk-return'!ET3","v":4.4405525337698912E-2},{"$f":"'1D Vectors Transposed'!H3+'1D Vectors Transposed'!I3*'Risk-return'!EU3","v":4.4723727617352819E-2},{"$f":"'1D Vectors Transposed'!H3+'1D Vectors Transposed'!I3*'Risk-return'!EV3","v":4.504192989700672E-2},{"$f":"'1D Vectors Transposed'!H3+'1D Vectors Transposed'!I3*'Risk-return'!EW3","v":4.5360132176660628E-2},{"$f":"'1D Vectors Transposed'!H3+'1D Vectors Transposed'!I3*'Risk-return'!EX3","v":4.5678334456314529E-2},{"$f":"'1D Vectors Transposed'!H3+'1D Vectors Transposed'!I3*'Risk-return'!EY3","v":4.5996536735968437E-2},{"$f":"'1D Vectors Transposed'!H3+'1D Vectors Transposed'!I3*'Risk-return'!EZ3","v":4.6314739015622337E-2},{"$f":"'1D Vectors Transposed'!H3+'1D Vectors Transposed'!I3*'Risk-return'!FA3","v":4.6632941295276245E-2},{"$f":"'1D Vectors Transposed'!H3+'1D Vectors Transposed'!I3*'Risk-return'!FB3","v":4.6951143574930153E-2},{"$f":"'1D Vectors Transposed'!H3+'1D Vectors Transposed'!I3*'Risk-return'!FC3","v":4.7269345854584054E-2},{"$f":"'1D Vectors Transposed'!H3+'1D Vectors Transposed'!I3*'Risk-return'!FD3","v":4.7587548134237961E-2},{"$f":"'1D Vectors Transposed'!H3+'1D Vectors Transposed'!I3*'Risk-return'!FE3","v":4.7905750413891862E-2},{"$f":"'1D Vectors Transposed'!H3+'1D Vectors Transposed'!I3*'Risk-return'!FF3","v":4.822395269354577E-2},{"$f":"'1D Vectors Transposed'!H3+'1D Vectors Transposed'!I3*'Risk-return'!FG3","v":4.8542154973199678E-2},{"$f":"'1D Vectors Transposed'!H3+'1D Vectors Transposed'!I3*'Risk-return'!FH3","v":4.8860357252853578E-2},{"$f":"'1D Vectors Transposed'!H3+'1D Vectors Transposed'!I3*'Risk-return'!FI3","v":4.9178559532507486E-2},{"$f":"'1D Vectors Transposed'!H3+'1D Vectors Transposed'!I3*'Risk-return'!FJ3","v":4.9496761812161387E-2},{"$f":"'1D Vectors Transposed'!H3+'1D Vectors Transposed'!I3*'Risk-return'!FK3","v":4.9814964091815295E-2},{"$f":"'1D Vectors Transposed'!H3+'1D Vectors Transposed'!I3*'Risk-return'!FL3","v":5.0133166371469196E-2},{"$f":"'1D Vectors Transposed'!H3+'1D Vectors Transposed'!I3*'Risk-return'!FM3","v":5.0451368651123103E-2},{"$f":"'1D Vectors Transposed'!H3+'1D Vectors Transposed'!I3*'Risk-return'!FN3","v":5.0769570930777011E-2},{"$f":"'1D Vectors Transposed'!H3+'1D Vectors Transposed'!I3*'Risk-return'!FO3","v":5.1087773210430912E-2},{"$f":"'1D Vectors Transposed'!H3+'1D Vectors Transposed'!I3*'Risk-return'!FP3","v":5.140597549008482E-2},{"$f":"'1D Vectors Transposed'!H3+'1D Vectors Transposed'!I3*'Risk-return'!FQ3","v":5.172417776973872E-2},{"$f":"'1D Vectors Transposed'!H3+'1D Vectors Transposed'!I3*'Risk-return'!FR3","v":5.2042380049392628E-2},{"$f":"'1D Vectors Transposed'!H3+'1D Vectors Transposed'!I3*'Risk-return'!FS3","v":5.2360582329046529E-2},{"$f":"'1D Vectors Transposed'!H3+'1D Vectors Transposed'!I3*'Risk-return'!FT3","v":5.2678784608700437E-2},{"$f":"'1D Vectors Transposed'!H3+'1D Vectors Transposed'!I3*'Risk-return'!FU3","v":5.2996986888354344E-2},{"$f":"'1D Vectors Transposed'!H3+'1D Vectors Transposed'!I3*'Risk-return'!FV3","v":5.3315189168008245E-2},{"$f":"'1D Vectors Transposed'!H3+'1D Vectors Transposed'!I3*'Risk-return'!FW3","v":5.3633391447662153E-2},{"$f":"'1D Vectors Transposed'!H3+'1D Vectors Transposed'!I3*'Risk-return'!FX3","v":5.3951593727316054E-2},{"$f":"'1D Vectors Transposed'!H3+'1D Vectors Transposed'!I3*'Risk-return'!FY3","v":5.4269796006969961E-2},{"$f":"'1D Vectors Transposed'!H3+'1D Vectors Transposed'!I3*'Risk-return'!FZ3","v":5.4587998286623869E-2},{"$f":"'1D Vectors Transposed'!H3+'1D Vectors Transposed'!I3*'Risk-return'!GA3","v":5.490620056627777E-2},{"$f":"'1D Vectors Transposed'!H3+'1D Vectors Transposed'!I3*'Risk-return'!GB3","v":5.5224402845931678E-2},{"$f":"'1D Vectors Transposed'!H3+'1D Vectors Transposed'!I3*'Risk-return'!GC3","v":5.5542605125585578E-2},{"$f":"'1D Vectors Transposed'!H3+'1D Vectors Transposed'!I3*'Risk-return'!GD3","v":5.5860807405239486E-2},{"$f":"'1D Vectors Transposed'!H3+'1D Vectors Transposed'!I3*'Risk-return'!GE3","v":5.6179009684893387E-2},{"$f":"'1D Vectors Transposed'!H3+'1D Vectors Transposed'!I3*'Risk-return'!GF3","v":5.6497211964547295E-2},{"$f":"'1D Vectors Transposed'!H3+'1D Vectors Transposed'!I3*'Risk-return'!GG3","v":5.6815414244201203E-2},{"$f":"'1D Vectors Transposed'!H3+'1D Vectors Transposed'!I3*'Risk-return'!GH3","v":5.7133616523855103E-2},{"$f":"'1D Vectors Transposed'!H3+'1D Vectors Transposed'!I3*'Risk-return'!GI3","v":5.7451818803509011E-2},{"$f":"'1D Vectors Transposed'!H3+'1D Vectors Transposed'!I3*'Risk-return'!GJ3","v":5.7770021083162912E-2},{"$f":"'1D Vectors Transposed'!H3+'1D Vectors Transposed'!I3*'Risk-return'!GK3","v":5.808822336281682E-2},{"$f":"'1D Vectors Transposed'!H3+'1D Vectors Transposed'!I3*'Risk-return'!GL3","v":5.840642564247072E-2},{"$f":"'1D Vectors Transposed'!H3+'1D Vectors Transposed'!I3*'Risk-return'!GM3","v":5.8724627922124628E-2},{"$f":"'1D Vectors Transposed'!H3+'1D Vectors Transposed'!I3*'Risk-return'!GN3","v":5.9042830201778536E-2},{"$f":"'1D Vectors Transposed'!H3+'1D Vectors Transposed'!I3*'Risk-return'!GO3","v":5.9361032481432437E-2},{"$f":"'1D Vectors Transposed'!H3+'1D Vectors Transposed'!I3*'Risk-return'!GP3","v":5.9679234761086344E-2},{"$f":"'1D Vectors Transposed'!H3+'1D Vectors Transposed'!I3*'Risk-return'!GQ3","v":5.9997437040740245E-2},{"$f":"'1D Vectors Transposed'!H3+'1D Vectors Transposed'!I3*'Risk-return'!GR3","v":6.0315639320394146E-2},{"$f":"'1D Vectors Transposed'!H3+'1D Vectors Transposed'!I3*'Risk-return'!GS3","v":6.0633841600048061E-2},{"$f":"'1D Vectors Transposed'!H3+'1D Vectors Transposed'!I3*'Risk-return'!GT3","v":6.0952043879701961E-2},{"$f":"'1D Vectors Transposed'!H3+'1D Vectors Transposed'!I3*'Risk-return'!GU3","v":6.1270246159355862E-2},{"$f":"'1D Vectors Transposed'!H3+'1D Vectors Transposed'!I3*'Risk-return'!GV3","v":6.1588448439009777E-2},{"$f":"'1D Vectors Transposed'!H3+'1D Vectors Transposed'!I3*'Risk-return'!GW3","v":6.1906650718663678E-2},{"$f":"'1D Vectors Transposed'!H3+'1D Vectors Transposed'!I3*'Risk-return'!GX3","v":6.2224852998317579E-2},{"$f":"'1D Vectors Transposed'!H3+'1D Vectors Transposed'!I3*'Risk-return'!GY3","v":6.2543055277971493E-2},{"$f":"'1D Vectors Transposed'!H3+'1D Vectors Transposed'!I3*'Risk-return'!GZ3","v":6.2861257557625394E-2},{"$f":"'1D Vectors Transposed'!H3+'1D Vectors Transposed'!I3*'Risk-return'!HA3","v":6.3179459837279295E-2},{"$f":"'1D Vectors Transposed'!H3+'1D Vectors Transposed'!I3*'Risk-return'!HB3","v":6.3497662116933196E-2},{"$f":"'1D Vectors Transposed'!H3+'1D Vectors Transposed'!I3*'Risk-return'!HC3","v":6.381586439658711E-2},{"$f":"'1D Vectors Transposed'!H3+'1D Vectors Transposed'!I3*'Risk-return'!HD3","v":6.4134066676241011E-2},{"$f":"'1D Vectors Transposed'!H3+'1D Vectors Transposed'!I3*'Risk-return'!HE3","v":6.4452268955894912E-2},{"$f":"'1D Vectors Transposed'!H3+'1D Vectors Transposed'!I3*'Risk-return'!HF3","v":6.4770471235548827E-2},{"$f":"'1D Vectors Transposed'!H3+'1D Vectors Transposed'!I3*'Risk-return'!HG3","v":6.5088673515202727E-2},{"$f":"'1D Vectors Transposed'!H3+'1D Vectors Transposed'!I3*'Risk-return'!HH3","v":6.5406875794856628E-2},{"$f":"'1D Vectors Transposed'!H3+'1D Vectors Transposed'!I3*'Risk-return'!HI3","v":6.5725078074510529E-2},{"$f":"'1D Vectors Transposed'!H3+'1D Vectors Transposed'!I3*'Risk-return'!HJ3","v":6.6043280354164444E-2},{"$f":"'1D Vectors Transposed'!H3+'1D Vectors Transposed'!I3*'Risk-return'!HK3","v":6.6361482633818344E-2},{"$f":"'1D Vectors Transposed'!H3+'1D Vectors Transposed'!I3*'Risk-return'!HL3","v":6.6679684913472245E-2},{"$f":"'1D Vectors Transposed'!H3+'1D Vectors Transposed'!I3*'Risk-return'!HM3","v":6.699788719312616E-2},{"$f":"'1D Vectors Transposed'!H3+'1D Vectors Transposed'!I3*'Risk-return'!HN3","v":6.7316089472780061E-2},{"$f":"'1D Vectors Transposed'!H3+'1D Vectors Transposed'!I3*'Risk-return'!HO3","v":6.7634291752433962E-2},{"$f":"'1D Vectors Transposed'!H3+'1D Vectors Transposed'!I3*'Risk-return'!HP3","v":6.7952494032087862E-2},{"$f":"'1D Vectors Transposed'!H3+'1D Vectors Transposed'!I3*'Risk-return'!HQ3","v":6.8270696311741777E-2},{"$f":"'1D Vectors Transposed'!H3+'1D Vectors Transposed'!I3*'Risk-return'!HR3","v":6.8588898591395678E-2},{"$f":"'1D Vectors Transposed'!H3+'1D Vectors Transposed'!I3*'Risk-return'!HS3","v":6.8907100871049579E-2},{"$f":"'1D Vectors Transposed'!H3+'1D Vectors Transposed'!I3*'Risk-return'!HT3","v":6.9225303150703493E-2},{"$f":"'1D Vectors Transposed'!H3+'1D Vectors Transposed'!I3*'Risk-return'!HU3","v":6.9543505430357394E-2},{"$f":"'1D Vectors Transposed'!H3+'1D Vectors Transposed'!I3*'Risk-return'!HV3","v":6.9861707710011295E-2},{"$f":"'1D Vectors Transposed'!H3+'1D Vectors Transposed'!I3*'Risk-return'!HW3","v":7.0179909989665196E-2},{"$f":"'1D Vectors Transposed'!H3+'1D Vectors Transposed'!I3*'Risk-return'!HX3","v":7.049811226931911E-2},{"$f":"'1D Vectors Transposed'!H3+'1D Vectors Transposed'!I3*'Risk-return'!HY3","v":7.0816314548973011E-2},{"$f":"'1D Vectors Transposed'!H3+'1D Vectors Transposed'!I3*'Risk-return'!HZ3","v":7.1134516828626912E-2},{"$f":"'1D Vectors Transposed'!H3+'1D Vectors Transposed'!I3*'Risk-return'!IA3","v":7.1452719108280827E-2},{"$f":"'1D Vectors Transposed'!H3+'1D Vectors Transposed'!I3*'Risk-return'!IB3","v":7.1770921387934727E-2},{"$f":"'1D Vectors Transposed'!H3+'1D Vectors Transposed'!I3*'Risk-return'!IC3","v":7.2089123667588628E-2},{"$f":"'1D Vectors Transposed'!H3+'1D Vectors Transposed'!I3*'Risk-return'!ID3","v":7.2407325947242543E-2},{"$f":"'1D Vectors Transposed'!H3+'1D Vectors Transposed'!I3*'Risk-return'!IE3","v":7.2725528226896444E-2},{"$f":"'1D Vectors Transposed'!H3+'1D Vectors Transposed'!I3*'Risk-return'!IF3","v":7.3043730506550344E-2},{"$f":"'1D Vectors Transposed'!H3+'1D Vectors Transposed'!I3*'Risk-return'!IG3","v":7.3361932786204245E-2},{"$f":"'1D Vectors Transposed'!H3+'1D Vectors Transposed'!I3*'Risk-return'!IH3","v":7.368013506585816E-2},{"$f":"'1D Vectors Transposed'!H3+'1D Vectors Transposed'!I3*'Risk-return'!II3","v":7.3998337345512061E-2},{"$f":"'1D Vectors Transposed'!H3+'1D Vectors Transposed'!I3*'Risk-return'!IJ3","v":7.4316539625165962E-2},{"$f":"'1D Vectors Transposed'!H3+'1D Vectors Transposed'!I3*'Risk-return'!IK3","v":7.4634741904819876E-2},{"$f":"'1D Vectors Transposed'!H3+'1D Vectors Transposed'!I3*'Risk-return'!IL3","v":7.4952944184473777E-2},{"$f":"'1D Vectors Transposed'!H3+'1D Vectors Transposed'!I3*'Risk-return'!IM3","v":7.5271146464127678E-2},{"$f":"'1D Vectors Transposed'!H3+'1D Vectors Transposed'!I3*'Risk-return'!IN3","v":7.5589348743781579E-2},{"$f":"'1D Vectors Transposed'!H3+'1D Vectors Transposed'!I3*'Risk-return'!IO3","v":7.5907551023435493E-2},{"$f":"'1D Vectors Transposed'!H3+'1D Vectors Transposed'!I3*'Risk-return'!IP3","v":7.6225753303089394E-2},{"$f":"'1D Vectors Transposed'!H3+'1D Vectors Transposed'!I3*'Risk-return'!IQ3","v":7.6543955582743295E-2},{"$f":"'1D Vectors Transposed'!H3+'1D Vectors Transposed'!I3*'Risk-return'!IR3","v":7.686215786239721E-2},{"$f":"'1D Vectors Transposed'!H3+'1D Vectors Transposed'!I3*'Risk-return'!IS3","v":7.718036014205111E-2},{"$f":"'1D Vectors Transposed'!H3+'1D Vectors Transposed'!I3*'Risk-return'!IT3","v":7.7498562421705011E-2},{"$f":"'1D Vectors Transposed'!H3+'1D Vectors Transposed'!I3*'Risk-return'!IU3","v":7.7816764701358912E-2},{"$f":"'1D Vectors Transposed'!H3+'1D Vectors Transposed'!I3*'Risk-return'!IV3","v":7.8134966981012827E-2},{"$f":"'1D Vectors Transposed'!H3+'1D Vectors Transposed'!I3*'Risk-return'!IW3","v":7.8453169260666727E-2},{"$f":"'1D Vectors Transposed'!H3+'1D Vectors Transposed'!I3*'Risk-return'!IX3","v":7.8771371540320628E-2},{"$f":"'1D Vectors Transposed'!H3+'1D Vectors Transposed'!I3*'Risk-return'!IY3","v":7.9089573819974543E-2},{"$f":"'1D Vectors Transposed'!H3+'1D Vectors Transposed'!I3*'Risk-return'!IZ3","v":7.9407776099628444E-2},{"$f":"'1D Vectors Transposed'!H3+'1D Vectors Transposed'!I3*'Risk-return'!JA3","v":7.9725978379282345E-2},{"$f":"'1D Vectors Transposed'!H3+'1D Vectors Transposed'!I3*'Risk-return'!JB3","v":8.0044180658936245E-2},{"$f":"'1D Vectors Transposed'!H3+'1D Vectors Transposed'!I3*'Risk-return'!JC3","v":8.036238293859016E-2},{"$f":"'1D Vectors Transposed'!H3+'1D Vectors Transposed'!I3*'Risk-return'!JD3","v":8.0680585218244061E-2},{"$f":"'1D Vectors Transposed'!H3+'1D Vectors Transposed'!I3*'Risk-return'!JE3","v":8.0998787497897962E-2},{"$f":"'1D Vectors Transposed'!H3+'1D Vectors Transposed'!I3*'Risk-return'!JF3","v":8.1316989777551876E-2},{"$f":"'1D Vectors Transposed'!H3+'1D Vectors Transposed'!I3*'Risk-return'!JG3","v":8.1635192057205777E-2},{"$f":"'1D Vectors Transposed'!H3+'1D Vectors Transposed'!I3*'Risk-return'!JH3","v":8.1953394336859678E-2},{"$f":"'1D Vectors Transposed'!H3+'1D Vectors Transposed'!I3*'Risk-return'!JI3","v":8.2271596616513579E-2},{"$f":"'1D Vectors Transposed'!H3+'1D Vectors Transposed'!I3*'Risk-return'!JJ3","v":8.2589798896167493E-2},{"$f":"'1D Vectors Transposed'!H3+'1D Vectors Transposed'!I3*'Risk-return'!JK3","v":8.2908001175821394E-2},{"$f":"'1D Vectors Transposed'!H3+'1D Vectors Transposed'!I3*'Risk-return'!JL3","v":8.3226203455475295E-2},{"$f":"'1D Vectors Transposed'!H3+'1D Vectors Transposed'!I3*'Risk-return'!JM3","v":8.354440573512921E-2},{"$f":"'1D Vectors Transposed'!H3+'1D Vectors Transposed'!I3*'Risk-return'!JN3","v":8.386260801478311E-2},{"$f":"'1D Vectors Transposed'!H3+'1D Vectors Transposed'!I3*'Risk-return'!JO3","v":8.4180810294437011E-2},{"$f":"'1D Vectors Transposed'!H3+'1D Vectors Transposed'!I3*'Risk-return'!JP3","v":8.4499012574090926E-2},{"$f":"'1D Vectors Transposed'!H3+'1D Vectors Transposed'!I3*'Risk-return'!JQ3","v":8.4817214853744827E-2},{"$f":"'1D Vectors Transposed'!H3+'1D Vectors Transposed'!I3*'Risk-return'!JR3","v":8.5135417133398728E-2},{"$f":"'1D Vectors Transposed'!H3+'1D Vectors Transposed'!I3*'Risk-return'!JS3","v":8.5453619413052628E-2},{"$f":"'1D Vectors Transposed'!H3+'1D Vectors Transposed'!I3*'Risk-return'!JT3","v":8.5771821692706543E-2},{"$f":"'1D Vectors Transposed'!H3+'1D Vectors Transposed'!I3*'Risk-return'!JU3","v":8.6090023972360444E-2},{"$f":"'1D Vectors Transposed'!H3+'1D Vectors Transposed'!I3*'Risk-return'!JV3","v":8.6408226252014345E-2},{"$f":"'1D Vectors Transposed'!H3+'1D Vectors Transposed'!I3*'Risk-return'!JW3","v":8.6726428531668259E-2},{"$f":"'1D Vectors Transposed'!H3+'1D Vectors Transposed'!I3*'Risk-return'!JX3","v":8.704463081132216E-2},{"$f":"'1D Vectors Transposed'!H3+'1D Vectors Transposed'!I3*'Risk-return'!JY3","v":8.7362833090976061E-2},{"$f":"'1D Vectors Transposed'!H3+'1D Vectors Transposed'!I3*'Risk-return'!JZ3","v":8.7681035370629962E-2},{"$f":"'1D Vectors Transposed'!H3+'1D Vectors Transposed'!I3*'Risk-return'!KA3","v":8.7999237650283876E-2},{"$f":"'1D Vectors Transposed'!H3+'1D Vectors Transposed'!I3*'Risk-return'!KB3","v":8.8317439929937777E-2},{"$f":"'1D Vectors Transposed'!H3+'1D Vectors Transposed'!I3*'Risk-return'!KC3","v":8.8635642209591678E-2},{"$f":"'1D Vectors Transposed'!H3+'1D Vectors Transposed'!I3*'Risk-return'!KD3","v":8.8953844489245593E-2},{"$f":"'1D Vectors Transposed'!H3+'1D Vectors Transposed'!I3*'Risk-return'!KE3","v":8.9272046768899493E-2},{"$f":"'1D Vectors Transposed'!H3+'1D Vectors Transposed'!I3*'Risk-return'!KF3","v":8.9590249048553394E-2},{"$f":"'1D Vectors Transposed'!H3+'1D Vectors Transposed'!I3*'Risk-return'!KG3","v":8.9908451328207295E-2},{"$f":"'1D Vectors Transposed'!H3+'1D Vectors Transposed'!I3*'Risk-return'!KH3","v":9.022665360786121E-2},{"$f":"'1D Vectors Transposed'!H3+'1D Vectors Transposed'!I3*'Risk-return'!KI3","v":9.054485588751511E-2},{"$f":"'1D Vectors Transposed'!H3+'1D Vectors Transposed'!I3*'Risk-return'!KJ3","v":9.0863058167169011E-2},{"$f":"'1D Vectors Transposed'!H3+'1D Vectors Transposed'!I3*'Risk-return'!KK3","v":9.1181260446822926E-2},{"$f":"'1D Vectors Transposed'!H3+'1D Vectors Transposed'!I3*'Risk-return'!KL3","v":9.1499462726476827E-2},{"$f":"'1D Vectors Transposed'!H3+'1D Vectors Transposed'!I3*'Risk-return'!KM3","v":9.1817665006130728E-2},{"$f":"'1D Vectors Transposed'!H3+'1D Vectors Transposed'!I3*'Risk-return'!KN3","v":9.2135867285784628E-2},{"$f":"'1D Vectors Transposed'!H3+'1D Vectors Transposed'!I3*'Risk-return'!KO3","v":9.2454069565438543E-2},{"$f":"'1D Vectors Transposed'!H3+'1D Vectors Transposed'!I3*'Risk-return'!KP3","v":9.2772271845092444E-2},{"$f":"'1D Vectors Transposed'!H3+'1D Vectors Transposed'!I3*'Risk-return'!KQ3","v":9.3090474124746345E-2},{"$f":"'1D Vectors Transposed'!H3+'1D Vectors Transposed'!I3*'Risk-return'!KR3","v":9.3408676404400259E-2},{"$f":"'1D Vectors Transposed'!H3+'1D Vectors Transposed'!I3*'Risk-return'!KS3","v":9.372687868405416E-2},{"$f":"'1D Vectors Transposed'!H3+'1D Vectors Transposed'!I3*'Risk-return'!KT3","v":9.4045080963708061E-2},{"$f":"'1D Vectors Transposed'!H3+'1D Vectors Transposed'!I3*'Risk-return'!KU3","v":9.4363283243361976E-2},{"$f":"'1D Vectors Transposed'!H3+'1D Vectors Transposed'!I3*'Risk-return'!KV3","v":9.4681485523015876E-2},{"$f":"'1D Vectors Transposed'!H3+'1D Vectors Transposed'!I3*'Risk-return'!KW3","v":9.4999687802669777E-2},{"$f":"'1D Vectors Transposed'!H3+'1D Vectors Transposed'!I3*'Risk-return'!KX3","v":9.5317890082323678E-2},{"$f":"'1D Vectors Transposed'!H3+'1D Vectors Transposed'!I3*'Risk-return'!KY3","v":9.5636092361977593E-2},{"$f":"'1D Vectors Transposed'!H3+'1D Vectors Transposed'!I3*'Risk-return'!KZ3","v":9.5954294641631493E-2},{"$f":"'1D Vectors Transposed'!H3+'1D Vectors Transposed'!I3*'Risk-return'!LA3","v":9.6272496921285394E-2},{"$f":"'1D Vectors Transposed'!H3+'1D Vectors Transposed'!I3*'Risk-return'!LB3","v":9.6590705127928694E-2},{"$f":"'1D Vectors Transposed'!H3+'1D Vectors Transposed'!I3*'Risk-return'!LC3","v":9.6908913334571994E-2},{"$f":"'1D Vectors Transposed'!H3+'1D Vectors Transposed'!I3*'Risk-return'!LD3","v":9.7227121541215294E-2},{"$f":"'1D Vectors Transposed'!H3+'1D Vectors Transposed'!I3*'Risk-return'!LE3","v":9.7545329747858595E-2},{"$f":"'1D Vectors Transposed'!H3+'1D Vectors Transposed'!I3*'Risk-return'!LF3","v":9.7863537954501895E-2},{"$f":"'1D Vectors Transposed'!H3+'1D Vectors Transposed'!I3*'Risk-return'!LG3","v":9.8181746161145195E-2},{"$f":"'1D Vectors Transposed'!H3+'1D Vectors Transposed'!I3*'Risk-return'!LH3","v":9.8499954367788495E-2},{"$f":"'1D Vectors Transposed'!H3+'1D Vectors Transposed'!I3*'Risk-return'!LI3","v":9.8818162574431795E-2},{"$f":"'1D Vectors Transposed'!H3+'1D Vectors Transposed'!I3*'Risk-return'!LJ3","v":9.9136370781075095E-2},{"$f":"'1D Vectors Transposed'!H3+'1D Vectors Transposed'!I3*'Risk-return'!LK3","v":9.9454578987718395E-2},{"$f":"'1D Vectors Transposed'!H3+'1D Vectors Transposed'!I3*'Risk-return'!LL3","v":9.9772787194361695E-2},{"$f":"'1D Vectors Transposed'!H3+'1D Vectors Transposed'!I3*'Risk-return'!LM3","v":0.100090995401005},{"$f":"'1D Vectors Transposed'!H3+'1D Vectors Transposed'!I3*'Risk-return'!LN3","v":0.1004092036076483},{"$f":"'1D Vectors Transposed'!H3+'1D Vectors Transposed'!I3*'Risk-return'!LO3","v":0.1007274118142916},{"$f":"'1D Vectors Transposed'!H3+'1D Vectors Transposed'!I3*'Risk-return'!LP3","v":0.1010456200209349},{"$f":"'1D Vectors Transposed'!H3+'1D Vectors Transposed'!I3*'Risk-return'!LQ3","v":0.1013638282275782},{"$f":"'1D Vectors Transposed'!H3+'1D Vectors Transposed'!I3*'Risk-return'!LR3","v":0.1016820364342215},{"$f":"'1D Vectors Transposed'!H3+'1D Vectors Transposed'!I3*'Risk-return'!LS3","v":0.1020002446408648},{"$f":"'1D Vectors Transposed'!H3+'1D Vectors Transposed'!I3*'Risk-return'!LT3","v":0.1023184528475081},{"$f":"'1D Vectors Transposed'!H3+'1D Vectors Transposed'!I3*'Risk-return'!LU3","v":0.1026366610541514},{"$f":"'1D Vectors Transposed'!H3+'1D Vectors Transposed'!I3*'Risk-return'!LV3","v":0.1029548692607947},{"$f":"'1D Vectors Transposed'!H3+'1D Vectors Transposed'!I3*'Risk-return'!LW3","v":0.103273077467438},{"$f":"'1D Vectors Transposed'!H3+'1D Vectors Transposed'!I3*'Risk-return'!LX3","v":0.1035912856740813},{"$f":"'1D Vectors Transposed'!H3+'1D Vectors Transposed'!I3*'Risk-return'!LY3","v":0.1039094938807246},{"$f":"'1D Vectors Transposed'!H3+'1D Vectors Transposed'!I3*'Risk-return'!LZ3","v":0.1042277020873679},{"$f":"'1D Vectors Transposed'!H3+'1D Vectors Transposed'!I3*'Risk-return'!MA3","v":0.1045459102940112},{"$f":"'1D Vectors Transposed'!H3+'1D Vectors Transposed'!I3*'Risk-return'!MB3","v":0.1048641185006545},{"$f":"'1D Vectors Transposed'!H3+'1D Vectors Transposed'!I3*'Risk-return'!MC3","v":0.1051823267072978},{"$f":"'1D Vectors Transposed'!H3+'1D Vectors Transposed'!I3*'Risk-return'!MD3","v":0.1055005349139411},{"$f":"'1D Vectors Transposed'!H3+'1D Vectors Transposed'!I3*'Risk-return'!ME3","v":0.1058187431205844},{"$f":"'1D Vectors Transposed'!H3+'1D Vectors Transposed'!I3*'Risk-return'!MF3","v":0.1061369513272277},{"$f":"'1D Vectors Transposed'!H3+'1D Vectors Transposed'!I3*'Risk-return'!MG3","v":0.106455159533871},{"$f":"'1D Vectors Transposed'!H3+'1D Vectors Transposed'!I3*'Risk-return'!MH3","v":0.1067733677405143},{"$f":"'1D Vectors Transposed'!H3+'1D Vectors Transposed'!I3*'Risk-return'!MI3","v":0.1070915759471576},{"$f":"'1D Vectors Transposed'!H3+'1D Vectors Transposed'!I3*'Risk-return'!MJ3","v":0.1074097841538009},{"$f":"'1D Vectors Transposed'!H3+'1D Vectors Transposed'!I3*'Risk-return'!MK3","v":0.1077279923604442},{"$f":"'1D Vectors Transposed'!H3+'1D Vectors Transposed'!I3*'Risk-return'!ML3","v":0.1080462005670875},{"$f":"'1D Vectors Transposed'!H3+'1D Vectors Transposed'!I3*'Risk-return'!MM3","v":0.1083644087737308},{"$f":"'1D Vectors Transposed'!H3+'1D Vectors Transposed'!I3*'Risk-return'!MN3","v":0.1086826169803741},{"$f":"'1D Vectors Transposed'!H3+'1D Vectors Transposed'!I3*'Risk-return'!MO3","v":0.1090008251870174},{"$f":"'1D Vectors Transposed'!H3+'1D Vectors Transposed'!I3*'Risk-return'!MP3","v":0.1093190333936607},{"$f":"'1D Vectors Transposed'!H3+'1D Vectors Transposed'!I3*'Risk-return'!MQ3","v":0.109637241600304},{"$f":"'1D Vectors Transposed'!H3+'1D Vectors Transposed'!I3*'Risk-return'!MR3","v":0.1099554498069473},{"$f":"'1D Vectors Transposed'!H3+'1D Vectors Transposed'!I3*'Risk-return'!MS3","v":0.1102736580135906},{"$f":"'1D Vectors Transposed'!H3+'1D Vectors Transposed'!I3*'Risk-return'!MT3","v":0.1105918662202339},{"$f":"'1D Vectors Transposed'!H3+'1D Vectors Transposed'!I3*'Risk-return'!MU3","v":0.1109100744268772},{"$f":"'1D Vectors Transposed'!H3+'1D Vectors Transposed'!I3*'Risk-return'!MV3","v":0.1112282826335205},{"$f":"'1D Vectors Transposed'!H3+'1D Vectors Transposed'!I3*'Risk-return'!MW3","v":0.1115464908401638},{"$f":"'1D Vectors Transposed'!H3+'1D Vectors Transposed'!I3*'Risk-return'!MX3","v":0.1118646990468071},{"$f":"'1D Vectors Transposed'!H3+'1D Vectors Transposed'!I3*'Risk-return'!MY3","v":0.1121829072534504},{"$f":"'1D Vectors Transposed'!H3+'1D Vectors Transposed'!I3*'Risk-return'!MZ3","v":0.1125011154600937},{"$f":"'1D Vectors Transposed'!H3+'1D Vectors Transposed'!I3*'Risk-return'!NA3","v":0.112819323666737},{"$f":"'1D Vectors Transposed'!H3+'1D Vectors Transposed'!I3*'Risk-return'!NB3","v":0.1131375318733803},{"$f":"'1D Vectors Transposed'!H3+'1D Vectors Transposed'!I3*'Risk-return'!NC3","v":0.1134557400800236},{"$f":"'1D Vectors Transposed'!H3+'1D Vectors Transposed'!I3*'Risk-return'!ND3","v":0.1137739482866669},{"$f":"'1D Vectors Transposed'!H3+'1D Vectors Transposed'!I3*'Risk-return'!NE3","v":0.1140921564933102},{"$f":"'1D Vectors Transposed'!H3+'1D Vectors Transposed'!I3*'Risk-return'!NF3","v":0.1144103646999535},{"$f":"'1D Vectors Transposed'!H3+'1D Vectors Transposed'!I3*'Risk-return'!NG3","v":0.1147285729065968},{"$f":"'1D Vectors Transposed'!H3+'1D Vectors Transposed'!I3*'Risk-return'!NH3","v":0.1150467811132401},{"$f":"'1D Vectors Transposed'!H3+'1D Vectors Transposed'!I3*'Risk-return'!NI3","v":0.1153649893198834},{"$f":"'1D Vectors Transposed'!H3+'1D Vectors Transposed'!I3*'Risk-return'!NJ3","v":0.1156831975265267},{"$f":"'1D Vectors Transposed'!H3+'1D Vectors Transposed'!I3*'Risk-return'!NK3","v":0.11600140573317},{"$f":"'1D Vectors Transposed'!H3+'1D Vectors Transposed'!I3*'Risk-return'!NL3","v":0.11631961393981329},{"$f":"'1D Vectors Transposed'!H3+'1D Vectors Transposed'!I3*'Risk-return'!NM3","v":0.11663782214645659},{"$f":"'1D Vectors Transposed'!H3+'1D Vectors Transposed'!I3*'Risk-return'!NN3","v":0.11695603035309989},{"$f":"'1D Vectors Transposed'!H3+'1D Vectors Transposed'!I3*'Risk-return'!NO3","v":0.11727423855974319},{"$f":"'1D Vectors Transposed'!H3+'1D Vectors Transposed'!I3*'Risk-return'!NP3","v":0.11759244676638649},{"$f":"'1D Vectors Transposed'!H3+'1D Vectors Transposed'!I3*'Risk-return'!NQ3","v":0.11791065497302979},{"$f":"'1D Vectors Transposed'!H3+'1D Vectors Transposed'!I3*'Risk-return'!NR3","v":0.11822886317967309},{"$f":"'1D Vectors Transposed'!H3+'1D Vectors Transposed'!I3*'Risk-return'!NS3","v":0.11854707138631639},{"$f":"'1D Vectors Transposed'!H3+'1D Vectors Transposed'!I3*'Risk-return'!NT3","v":0.11886527959295969},{"$f":"'1D Vectors Transposed'!H3+'1D Vectors Transposed'!I3*'Risk-return'!NU3","v":0.11918348779960299},{"$f":"'1D Vectors Transposed'!H3+'1D Vectors Transposed'!I3*'Risk-return'!NV3","v":0.11950169600624629},{"$f":"'1D Vectors Transposed'!H3+'1D Vectors Transposed'!I3*'Risk-return'!NW3","v":0.11981990421288959},{"$f":"'1D Vectors Transposed'!H3+'1D Vectors Transposed'!I3*'Risk-return'!NX3","v":0.12013811241953289},{"$f":"'1D Vectors Transposed'!H3+'1D Vectors Transposed'!I3*'Risk-return'!NY3","v":0.12045632062617619},{"$f":"'1D Vectors Transposed'!H3+'1D Vectors Transposed'!I3*'Risk-return'!NZ3","v":0.12077452883281949},{"$f":"'1D Vectors Transposed'!H3+'1D Vectors Transposed'!I3*'Risk-return'!OA3","v":0.12109273703946279},{"$f":"'1D Vectors Transposed'!H3+'1D Vectors Transposed'!I3*'Risk-return'!OB3","v":0.12141094524610609},{"$f":"'1D Vectors Transposed'!H3+'1D Vectors Transposed'!I3*'Risk-return'!OC3","v":0.12172915345274939},{"$f":"'1D Vectors Transposed'!H3+'1D Vectors Transposed'!I3*'Risk-return'!OD3","v":0.12204736165939269},{"$f":"'1D Vectors Transposed'!H3+'1D Vectors Transposed'!I3*'Risk-return'!OE3","v":0.12236556986603599},{"$f":"'1D Vectors Transposed'!H3+'1D Vectors Transposed'!I3*'Risk-return'!OF3","v":0.12268377807267929},{"$f":"'1D Vectors Transposed'!H3+'1D Vectors Transposed'!I3*'Risk-return'!OG3","v":0.12300198627932259},{"$f":"'1D Vectors Transposed'!H3+'1D Vectors Transposed'!I3*'Risk-return'!OH3","v":0.12332019448596589},{"$f":"'1D Vectors Transposed'!H3+'1D Vectors Transposed'!I3*'Risk-return'!OI3","v":0.12363840269260919},{"$f":"'1D Vectors Transposed'!H3+'1D Vectors Transposed'!I3*'Risk-return'!OJ3","v":0.12395661089925249},{"$f":"'1D Vectors Transposed'!H3+'1D Vectors Transposed'!I3*'Risk-return'!OK3","v":0.12427481910589579},{"$f":"'1D Vectors Transposed'!H3+'1D Vectors Transposed'!I3*'Risk-return'!OL3","v":0.12459302731253909},{"$f":"'1D Vectors Transposed'!H3+'1D Vectors Transposed'!I3*'Risk-return'!OM3","v":0.12491123551918239},{"$f":"'1D Vectors Transposed'!H3+'1D Vectors Transposed'!I3*'Risk-return'!ON3","v":0.12522944372582567},{"$f":"'1D Vectors Transposed'!H3+'1D Vectors Transposed'!I3*'Risk-return'!OO3","v":0.12554765193246897},{"$f":"'1D Vectors Transposed'!H3+'1D Vectors Transposed'!I3*'Risk-return'!OP3","v":0.12586586013911227},{"$f":"'1D Vectors Transposed'!H3+'1D Vectors Transposed'!I3*'Risk-return'!OQ3","v":0.12618406834575557},{"$f":"'1D Vectors Transposed'!H3+'1D Vectors Transposed'!I3*'Risk-return'!OR3","v":0.12650227655239887},{"$f":"'1D Vectors Transposed'!H3+'1D Vectors Transposed'!I3*'Risk-return'!OS3","v":0.12682048475904217},{"$f":"'1D Vectors Transposed'!H3+'1D Vectors Transposed'!I3*'Risk-return'!OT3","v":0.12713869296568547},{"$f":"'1D Vectors Transposed'!H3+'1D Vectors Transposed'!I3*'Risk-return'!OU3","v":0.12745690117232877},{"$f":"'1D Vectors Transposed'!H3+'1D Vectors Transposed'!I3*'Risk-return'!OV3","v":0.12777510937897207},{"$f":"'1D Vectors Transposed'!H3+'1D Vectors Transposed'!I3*'Risk-return'!OW3","v":0.12809331758561537},{"$f":"'1D Vectors Transposed'!H3+'1D Vectors Transposed'!I3*'Risk-return'!OX3","v":0.12841152579225867},{"$f":"'1D Vectors Transposed'!H3+'1D Vectors Transposed'!I3*'Risk-return'!OY3","v":0.12872973399890197},{"$f":"'1D Vectors Transposed'!H3+'1D Vectors Transposed'!I3*'Risk-return'!OZ3","v":0.12904794220554527},{"$f":"'1D Vectors Transposed'!H3+'1D Vectors Transposed'!I3*'Risk-return'!PA3","v":0.12936615041218857},{"$f":"'1D Vectors Transposed'!H3+'1D Vectors Transposed'!I3*'Risk-return'!PB3","v":0.12968435861883187},{"$f":"'1D Vectors Transposed'!H3+'1D Vectors Transposed'!I3*'Risk-return'!PC3","v":0.13000256682547517},{"$f":"'1D Vectors Transposed'!H3+'1D Vectors Transposed'!I3*'Risk-return'!PD3","v":0.13032077503211847},{"$f":"'1D Vectors Transposed'!H3+'1D Vectors Transposed'!I3*'Risk-return'!PE3","v":0.13063898323876177},{"$f":"'1D Vectors Transposed'!H3+'1D Vectors Transposed'!I3*'Risk-return'!PF3","v":0.13095719144540507},{"$f":"'1D Vectors Transposed'!H3+'1D Vectors Transposed'!I3*'Risk-return'!PG3","v":0.13127539965204837},{"$f":"'1D Vectors Transposed'!H3+'1D Vectors Transposed'!I3*'Risk-return'!PH3","v":0.13159360785869167},{"$f":"'1D Vectors Transposed'!H3+'1D Vectors Transposed'!I3*'Risk-return'!PI3","v":0.13191181606533497},{"$f":"'1D Vectors Transposed'!H3+'1D Vectors Transposed'!I3*'Risk-return'!PJ3","v":0.13223002427197827},{"$f":"'1D Vectors Transposed'!H3+'1D Vectors Transposed'!I3*'Risk-return'!PK3","v":0.13254823247862157},{"$f":"'1D Vectors Transposed'!H3+'1D Vectors Transposed'!I3*'Risk-return'!PL3","v":0.13286644068526487},{"$f":"'1D Vectors Transposed'!H3+'1D Vectors Transposed'!I3*'Risk-return'!PM3","v":0.13318464889190818},{"$f":"'1D Vectors Transposed'!H3+'1D Vectors Transposed'!I3*'Risk-return'!PN3","v":0.13350285709855148},{"$f":"'1D Vectors Transposed'!H3+'1D Vectors Transposed'!I3*'Risk-return'!PO3","v":0.13382106530519478},{"$f":"'1D Vectors Transposed'!H3+'1D Vectors Transposed'!I3*'Risk-return'!PP3","v":0.13413927351183808},{"$f":"'1D Vectors Transposed'!H3+'1D Vectors Transposed'!I3*'Risk-return'!PQ3","v":0.13445748171848138},{"$f":"'1D Vectors Transposed'!H3+'1D Vectors Transposed'!I3*'Risk-return'!PR3","v":0.13477568992512468},{"$f":"'1D Vectors Transposed'!H3+'1D Vectors Transposed'!I3*'Risk-return'!PS3","v":0.13509389813176798},{"$f":"'1D Vectors Transposed'!H3+'1D Vectors Transposed'!I3*'Risk-return'!PT3","v":0.13541210633841128},{"$f":"'1D Vectors Transposed'!H3+'1D Vectors Transposed'!I3*'Risk-return'!PU3","v":0.13573031454505458},{"$f":"'1D Vectors Transposed'!H3+'1D Vectors Transposed'!I3*'Risk-return'!PV3","v":0.13604852275169788},{"$f":"'1D Vectors Transposed'!H3+'1D Vectors Transposed'!I3*'Risk-return'!PW3","v":0.13636673095834118},{"$f":"'1D Vectors Transposed'!H3+'1D Vectors Transposed'!I3*'Risk-return'!PX3","v":0.13668493916498448},{"$f":"'1D Vectors Transposed'!H3+'1D Vectors Transposed'!I3*'Risk-return'!PY3","v":0.13700314737162778},{"$f":"'1D Vectors Transposed'!H3+'1D Vectors Transposed'!I3*'Risk-return'!PZ3","v":0.13732135557827108},{"$f":"'1D Vectors Transposed'!H3+'1D Vectors Transposed'!I3*'Risk-return'!QA3","v":0.13763956378491438},{"$f":"'1D Vectors Transposed'!H3+'1D Vectors Transposed'!I3*'Risk-return'!QB3","v":0.13795777199155768},{"$f":"'1D Vectors Transposed'!H3+'1D Vectors Transposed'!I3*'Risk-return'!QC3","v":0.13827598019820098},{"$f":"'1D Vectors Transposed'!H3+'1D Vectors Transposed'!I3*'Risk-return'!QD3","v":0.13859418840484428},{"$f":"'1D Vectors Transposed'!H3+'1D Vectors Transposed'!I3*'Risk-return'!QE3","v":0.13891239661148758},{"$f":"'1D Vectors Transposed'!H3+'1D Vectors Transposed'!I3*'Risk-return'!QF3","v":0.13923060481813088},{"$f":"'1D Vectors Transposed'!H3+'1D Vectors Transposed'!I3*'Risk-return'!QG3","v":0.13954881302477418},{"$f":"'1D Vectors Transposed'!H3+'1D Vectors Transposed'!I3*'Risk-return'!QH3","v":0.13986702123141748},{"$f":"'1D Vectors Transposed'!H3+'1D Vectors Transposed'!I3*'Risk-return'!QI3","v":0.14018522943806078},{"$f":"'1D Vectors Transposed'!H3+'1D Vectors Transposed'!I3*'Risk-return'!QJ3","v":0.14050343764470408},{"$f":"'1D Vectors Transposed'!H3+'1D Vectors Transposed'!I3*'Risk-return'!QK3","v":0.14082164585134738},{"$f":"'1D Vectors Transposed'!H3+'1D Vectors Transposed'!I3*'Risk-return'!QL3","v":0.14113985405799068},{"$f":"'1D Vectors Transposed'!H3+'1D Vectors Transposed'!I3*'Risk-return'!QM3","v":0.14145806226463398},{"$f":"'1D Vectors Transposed'!H3+'1D Vectors Transposed'!I3*'Risk-return'!QN3","v":0.14177627047127728},{"$f":"'1D Vectors Transposed'!H3+'1D Vectors Transposed'!I3*'Risk-return'!QO3","v":0.14209447867792058},{"$f":"'1D Vectors Transposed'!H3+'1D Vectors Transposed'!I3*'Risk-return'!QP3","v":0.14241268688456388},{"$f":"'1D Vectors Transposed'!H3+'1D Vectors Transposed'!I3*'Risk-return'!QQ3","v":0.14273089509120718},{"$f":"'1D Vectors Transposed'!H3+'1D Vectors Transposed'!I3*'Risk-return'!QR3","v":0.14304910329785048},{"$f":"'1D Vectors Transposed'!H3+'1D Vectors Transposed'!I3*'Risk-return'!QS3","v":0.14336731150449378},{"$f":"'1D Vectors Transposed'!H3+'1D Vectors Transposed'!I3*'Risk-return'!QT3","v":0.14368551971113708},{"$f":"'1D Vectors Transposed'!H3+'1D Vectors Transposed'!I3*'Risk-return'!QU3","v":0.14400372791778038},{"$f":"'1D Vectors Transposed'!H3+'1D Vectors Transposed'!I3*'Risk-return'!QV3","v":0.14432193612442368},{"$f":"'1D Vectors Transposed'!H3+'1D Vectors Transposed'!I3*'Risk-return'!QW3","v":0.14464014433106698},{"$f":"'1D Vectors Transposed'!H3+'1D Vectors Transposed'!I3*'Risk-return'!QX3","v":0.14495835253771028},{"$f":"'1D Vectors Transposed'!H3+'1D Vectors Transposed'!I3*'Risk-return'!QY3","v":0.14527656074435358},{"$f":"'1D Vectors Transposed'!H3+'1D Vectors Transposed'!I3*'Risk-return'!QZ3","v":0.14559476895099688},{"$f":"'1D Vectors Transposed'!H3+'1D Vectors Transposed'!I3*'Risk-return'!RA3","v":0.14591297715764018},{"$f":"'1D Vectors Transposed'!H3+'1D Vectors Transposed'!I3*'Risk-return'!RB3","v":0.14623118536428348},{"$f":"'1D Vectors Transposed'!H3+'1D Vectors Transposed'!I3*'Risk-return'!RC3","v":0.14654939357092678},{"$f":"'1D Vectors Transposed'!H3+'1D Vectors Transposed'!I3*'Risk-return'!RD3","v":0.14686760177757008},{"$f":"'1D Vectors Transposed'!H3+'1D Vectors Transposed'!I3*'Risk-return'!RE3","v":0.14718580998421338},{"$f":"'1D Vectors Transposed'!H3+'1D Vectors Transposed'!I3*'Risk-return'!RF3","v":0.14750401819085668},{"$f":"'1D Vectors Transposed'!H3+'1D Vectors Transposed'!I3*'Risk-return'!RG3","v":0.14782222639749998},{"$f":"'1D Vectors Transposed'!H3+'1D Vectors Transposed'!I3*'Risk-return'!RH3","v":0.14814043460414328},{"$f":"'1D Vectors Transposed'!H3+'1D Vectors Transposed'!I3*'Risk-return'!RI3","v":0.14845864281078658},{"$f":"'1D Vectors Transposed'!H3+'1D Vectors Transposed'!I3*'Risk-return'!RJ3","v":0.14877685101742988},{"$f":"'1D Vectors Transposed'!H3+'1D Vectors Transposed'!I3*'Risk-return'!RK3","v":0.14909505922407318},{"$f":"'1D Vectors Transposed'!H3+'1D Vectors Transposed'!I3*'Risk-return'!RL3","v":0.14941326743071648},{"$f":"'1D Vectors Transposed'!H3+'1D Vectors Transposed'!I3*'Risk-return'!RM3","v":0.14973147563735978},{"$f":"'1D Vectors Transposed'!H3+'1D Vectors Transposed'!I3*'Risk-return'!RN3","v":0.15004968384400308},{"$f":"'1D Vectors Transposed'!H3+'1D Vectors Transposed'!I3*'Risk-return'!RO3","v":0.15036789205064638},{"$f":"'1D Vectors Transposed'!H3+'1D Vectors Transposed'!I3*'Risk-return'!RP3","v":0.15068610025728968},{"$f":"'1D Vectors Transposed'!H3+'1D Vectors Transposed'!I3*'Risk-return'!RQ3","v":0.15100430846393298},{"$f":"'1D Vectors Transposed'!H3+'1D Vectors Transposed'!I3*'Risk-return'!RR3","v":0.15132251667057628},{"$f":"'1D Vectors Transposed'!H3+'1D Vectors Transposed'!I3*'Risk-return'!RS3","v":0.15164072487721958},{"$f":"'1D Vectors Transposed'!H3+'1D Vectors Transposed'!I3*'Risk-return'!RT3","v":0.15195893308386288},{"$f":"'1D Vectors Transposed'!H3+'1D Vectors Transposed'!I3*'Risk-return'!RU3","v":0.15227714129050618},{"$f":"'1D Vectors Transposed'!H3+'1D Vectors Transposed'!I3*'Risk-return'!RV3","v":0.15259534949714948},{"$f":"'1D Vectors Transposed'!H3+'1D Vectors Transposed'!I3*'Risk-return'!RW3","v":0.15291355770379278},{"$f":"'1D Vectors Transposed'!H3+'1D Vectors Transposed'!I3*'Risk-return'!RX3","v":0.15323176591043608},{"$f":"'1D Vectors Transposed'!H3+'1D Vectors Transposed'!I3*'Risk-return'!RY3","v":0.15354997411707938},{"$f":"'1D Vectors Transposed'!H3+'1D Vectors Transposed'!I3*'Risk-return'!RZ3","v":0.15386818232372268},{"$f":"'1D Vectors Transposed'!H3+'1D Vectors Transposed'!I3*'Risk-return'!SA3","v":0.15418639053036598},{"$f":"'1D Vectors Transposed'!H3+'1D Vectors Transposed'!I3*'Risk-return'!SB3","v":0.15450459873700928},{"$f":"'1D Vectors Transposed'!H3+'1D Vectors Transposed'!I3*'Risk-return'!SC3","v":0.15482280694365258},{"$f":"'1D Vectors Transposed'!H3+'1D Vectors Transposed'!I3*'Risk-return'!SD3","v":0.15514101515029588},{"$f":"'1D Vectors Transposed'!H3+'1D Vectors Transposed'!I3*'Risk-return'!SE3","v":0.15545922335693918},{"$f":"'1D Vectors Transposed'!H3+'1D Vectors Transposed'!I3*'Risk-return'!SF3","v":0.15577743156358248},{"$f":"'1D Vectors Transposed'!H3+'1D Vectors Transposed'!I3*'Risk-return'!SG3","v":-3.0066380386904895E-3}]
["SPASTT01GBM661N",{"$f":"'1D Vectors Transposed'!H4+'1D Vectors Transposed'!I4*'Risk-return'!B3","v":1.0371431557264394},{"$f":"'1D Vectors Transposed'!H4+'1D Vectors Transposed'!I4*'Risk-return'!C3","v":1.0356773786767663},{"$f":"'1D Vectors Transposed'!H4+'1D Vectors Transposed'!I4*'Risk-return'!D3","v":1.0342116017337426},{"$f":"'1D Vectors Transposed'!H4+'1D Vectors Transposed'!I4*'Risk-return'!E3","v":1.0327458245774204},{"$f":"'1D Vectors Transposed'!H4+'1D Vectors Transposed'!I4*'Risk-return'!F3","v":1.0312800478476951},{"$f":"'1D Vectors Transposed'!H4+'1D Vectors Transposed'!I4*'Risk-return'!G3","v":1.0298142706913729},{"$f":"'1D Vectors Transposed'!H4+'1D Vectors Transposed'!I4*'Risk-return'!H3","v":1.0283484935350504},{"$f":"'1D Vectors Transposed'!H4+'1D Vectors Transposed'!I4*'Risk-return'!I3","v":1.026882716378728},{"$f":"'1D Vectors Transposed'!H4+'1D Vectors Transposed'!I4*'Risk-return'!J3","v":1.0254169392224057},{"$f":"'1D Vectors Transposed'!H4+'1D Vectors Transposed'!I4*'Risk-return'!K3","v":1.0239511629192779},{"$f":"'1D Vectors Transposed'!H4+'1D Vectors Transposed'!I4*'Risk-return'!L3","v":1.0224853866161501},{"$f":"'1D Vectors Transposed'!H4+'1D Vectors Transposed'!I4*'Risk-return'!M3","v":1.0210196103130222},{"$f":"'1D Vectors Transposed'!H4+'1D Vectors Transposed'!I4*'Risk-return'!N3","v":1.0195538340098944},{"$f":"'1D Vectors Transposed'!H4+'1D Vectors Transposed'!I4*'Risk-return'!O3","v":1.0180880577067666},{"$f":"'1D Vectors Transposed'!H4+'1D Vectors Transposed'!I4*'Risk-return'!P3","v":1.0166222814036388},{"$f":"'1D Vectors Transposed'!H4+'1D Vectors Transposed'!I4*'Risk-return'!Q3","v":1.0151565051005109},{"$f":"'1D Vectors Transposed'!H4+'1D Vectors Transposed'!I4*'Risk-return'!R3","v":1.0136907287973831},{"$f":"'1D Vectors Transposed'!H4+'1D Vectors Transposed'!I4*'Risk-return'!S3","v":1.0122249524942553},{"$f":"'1D Vectors Transposed'!H4+'1D Vectors Transposed'!I4*'Risk-return'!T3","v":1.0107591761911274},{"$f":"'1D Vectors Transposed'!H4+'1D Vectors Transposed'!I4*'Risk-return'!U3","v":1.0092933998879996},{"$f":"'1D Vectors Transposed'!H4+'1D Vectors Transposed'!I4*'Risk-return'!V3","v":1.0078276218784827},{"$f":"'1D Vectors Transposed'!H4+'1D Vectors Transposed'!I4*'Risk-return'!W3","v":1.0063618438689659},{"$f":"'1D Vectors Transposed'!H4+'1D Vectors Transposed'!I4*'Risk-return'!X3","v":1.0048960658594488},{"$f":"'1D Vectors Transposed'!H4+'1D Vectors Transposed'!I4*'Risk-return'!Y3","v":1.0034302878499319},{"$f":"'1D Vectors Transposed'!H4+'1D Vectors Transposed'!I4*'Risk-return'!Z3","v":1.0019645098404151},{"$f":"'1D Vectors Transposed'!H4+'1D Vectors Transposed'!I4*'Risk-return'!AA3","v":1.000498731830898},{"$f":"'1D Vectors Transposed'!H4+'1D Vectors Transposed'!I4*'Risk-return'!AB3","v":0.99903295382138113},{"$f":"'1D Vectors Transposed'!H4+'1D Vectors Transposed'!I4*'Risk-return'!AC3","v":0.99756717581186416},{"$f":"'1D Vectors Transposed'!H4+'1D Vectors Transposed'!I4*'Risk-return'!AD3","v":0.9961013978023473},{"$f":"'1D Vectors Transposed'!H4+'1D Vectors Transposed'!I4*'Risk-return'!AE3","v":0.99463561979283033},{"$f":"'1D Vectors Transposed'!H4+'1D Vectors Transposed'!I4*'Risk-return'!AF3","v":0.99316984178331336},{"$f":"'1D Vectors Transposed'!H4+'1D Vectors Transposed'!I4*'Risk-return'!AG3","v":0.99170406377379638},{"$f":"'1D Vectors Transposed'!H4+'1D Vectors Transposed'!I4*'Risk-return'!AH3","v":0.99023828576427952},{"$f":"'1D Vectors Transposed'!H4+'1D Vectors Transposed'!I4*'Risk-return'!AI3","v":0.98877250775476255},{"$f":"'1D Vectors Transposed'!H4+'1D Vectors Transposed'!I4*'Risk-return'!AJ3","v":0.98730672974524558},{"$f":"'1D Vectors Transposed'!H4+'1D Vectors Transposed'!I4*'Risk-return'!AK3","v":0.98584095173572872},{"$f":"'1D Vectors Transposed'!H4+'1D Vectors Transposed'!I4*'Risk-return'!AL3","v":0.98437517372621175},{"$f":"'1D Vectors Transposed'!H4+'1D Vectors Transposed'!I4*'Risk-return'!AM3","v":0.98290939571669478},{"$f":"'1D Vectors Transposed'!H4+'1D Vectors Transposed'!I4*'Risk-return'!AN3","v":0.98144361770717792},{"$f":"'1D Vectors Transposed'!H4+'1D Vectors Transposed'!I4*'Risk-return'!AO3","v":0.97997783969766095},{"$f":"'1D Vectors Transposed'!H4+'1D Vectors Transposed'!I4*'Risk-return'!AP3","v":0.97851206510092226},{"$f":"'1D Vectors Transposed'!H4+'1D Vectors Transposed'!I4*'Risk-return'!AQ3","v":0.97704629050418357},{"$f":"'1D Vectors Transposed'!H4+'1D Vectors Transposed'!I4*'Risk-return'!AR3","v":0.97558051590744488},{"$f":"'1D Vectors Transposed'!H4+'1D Vectors Transposed'!I4*'Risk-return'!AS3","v":0.97411474131070608},{"$f":"'1D Vectors Transposed'!H4+'1D Vectors Transposed'!I4*'Risk-return'!AT3","v":0.97264896671396739},{"$f":"'1D Vectors Transposed'!H4+'1D Vectors Transposed'!I4*'Risk-return'!AU3","v":0.9711831921172287},{"$f":"'1D Vectors Transposed'!H4+'1D Vectors Transposed'!I4*'Risk-return'!AV3","v":0.96971741752049001},{"$f":"'1D Vectors Transposed'!H4+'1D Vectors Transposed'!I4*'Risk-return'!AW3","v":0.96825164292375132},{"$f":"'1D Vectors Transposed'!H4+'1D Vectors Transposed'!I4*'Risk-return'!AX3","v":0.96678586832701263},{"$f":"'1D Vectors Transposed'!H4+'1D Vectors Transposed'!I4*'Risk-return'!AY3","v":0.96532009373027383},{"$f":"'1D Vectors Transposed'!H4+'1D Vectors Transposed'!I4*'Risk-return'!AZ3","v":0.96385431913353514},{"$f":"'1D Vectors Transposed'!H4+'1D Vectors Transposed'!I4*'Risk-return'!BA3","v":0.96238854453679645},{"$f":"'1D Vectors Transposed'!H4+'1D Vectors Transposed'!I4*'Risk-return'!BB3","v":0.96092276994005776},{"$f":"'1D Vectors Transposed'!H4+'1D Vectors Transposed'!I4*'Risk-return'!BC3","v":0.95945699534331907},{"$f":"'1D Vectors Transposed'!H4+'1D Vectors Transposed'!I4*'Risk-return'!BD3","v":0.95799122074658039},{"$f":"'1D Vectors Transposed'!H4+'1D Vectors Transposed'!I4*'Risk-return'!BE3","v":0.95652544614984158},{"$f":"'1D Vectors Transposed'!H4+'1D Vectors Transposed'!I4*'Risk-return'!BF3","v":0.9550596715531029},{"$f":"'1D Vectors Transposed'!H4+'1D Vectors Transposed'!I4*'Risk-return'!BG3","v":0.95359389695636421},{"$f":"'1D Vectors Transposed'!H4+'1D Vectors Transposed'!I4*'Risk-return'!BH3","v":0.95212812235962552},{"$f":"'1D Vectors Transposed'!H4+'1D Vectors Transposed'!I4*'Risk-return'!BI3","v":0.95066234776288683},{"$f":"'1D Vectors Transposed'!H4+'1D Vectors Transposed'!I4*'Risk-return'!BJ3","v":0.94919657316614803},{"$f":"'1D Vectors Transposed'!H4+'1D Vectors Transposed'!I4*'Risk-return'!BK3","v":0.94773079856940934},{"$f":"'1D Vectors Transposed'!H4+'1D Vectors Transposed'!I4*'Risk-return'!BL3","v":0.94626502397267065},{"$f":"'1D Vectors Transposed'!H4+'1D Vectors Transposed'!I4*'Risk-return'!BM3","v":0.94479924937593196},{"$f":"'1D Vectors Transposed'!H4+'1D Vectors Transposed'!I4*'Risk-return'!BN3","v":0.94333347477919327},{"$f":"'1D Vectors Transposed'!H4+'1D Vectors Transposed'!I4*'Risk-return'!BO3","v":0.94186770018245447},{"$f":"'1D Vectors Transposed'!H4+'1D Vectors Transposed'!I4*'Risk-return'!BP3","v":0.94040192558571578},{"$f":"'1D Vectors Transposed'!H4+'1D Vectors Transposed'!I4*'Risk-return'!BQ3","v":0.93893615098897709},{"$f":"'1D Vectors Transposed'!H4+'1D Vectors Transposed'!I4*'Risk-return'!BR3","v":0.9374703763922384},{"$f":"'1D Vectors Transposed'!H4+'1D Vectors Transposed'!I4*'Risk-return'!BS3","v":0.93600460179549971},{"$f":"'1D Vectors Transposed'!H4+'1D Vectors Transposed'!I4*'Risk-return'!BT3","v":0.93453882719876102},{"$f":"'1D Vectors Transposed'!H4+'1D Vectors Transposed'!I4*'Risk-return'!BU3","v":0.93307305260202233},{"$f":"'1D Vectors Transposed'!H4+'1D Vectors Transposed'!I4*'Risk-return'!BV3","v":0.93160727800528353},{"$f":"'1D Vectors Transposed'!H4+'1D Vectors Transposed'!I4*'Risk-return'!BW3","v":0.93014150340854485},{"$f":"'1D Vectors Transposed'!H4+'1D Vectors Transposed'!I4*'Risk-return'!BX3","v":0.92867572881180616},{"$f":"'1D Vectors Transposed'!H4+'1D Vectors Transposed'!I4*'Risk-return'!BY3","v":0.92720995421506747},{"$f":"'1D Vectors Transposed'!H4+'1D Vectors Transposed'!I4*'Risk-return'!BZ3","v":0.92574417961832878},{"$f":"'1D Vectors Transposed'!H4+'1D Vectors Transposed'!I4*'Risk-return'!CA3","v":0.92427840502158998},{"$f":"'1D Vectors Transposed'!H4+'1D Vectors Transposed'!I4*'Risk-return'!CB3","v":0.92281263042485129},{"$f":"'1D Vectors Transposed'!H4+'1D Vectors Transposed'!I4*'Risk-return'!CC3","v":0.9213468558281126},{"$f":"'1D Vectors Transposed'!H4+'1D Vectors Transposed'!I4*'Risk-return'!CD3","v":0.91988108123137391},{"$f":"'1D Vectors Transposed'!H4+'1D Vectors Transposed'!I4*'Risk-return'!CE3","v":0.91841530663463522},{"$f":"'1D Vectors Transposed'!H4+'1D Vectors Transposed'!I4*'Risk-return'!CF3","v":0.91694953203789642},{"$f":"'1D Vectors Transposed'!H4+'1D Vectors Transposed'!I4*'Risk-return'!CG3","v":0.91548375744115773},{"$f":"'1D Vectors Transposed'!H4+'1D Vectors Transposed'!I4*'Risk-return'!CH3","v":0.91401798284441904},{"$f":"'1D Vectors Transposed'!H4+'1D Vectors Transposed'!I4*'Risk-return'!CI3","v":0.91255220824768035},{"$f":"'1D Vectors Transposed'!H4+'1D Vectors Transposed'!I4*'Risk-return'!CJ3","v":0.91108643365094166},{"$f":"'1D Vectors Transposed'!H4+'1D Vectors Transposed'!I4*'Risk-return'!CK3","v":0.90962065905420286},{"$f":"'1D Vectors Transposed'!H4+'1D Vectors Transposed'!I4*'Risk-return'!CL3","v":0.90815488445746428},{"$f":"'1D Vectors Transposed'!H4+'1D Vectors Transposed'!I4*'Risk-return'!CM3","v":0.90668910986072548},{"$f":"'1D Vectors Transposed'!H4+'1D Vectors Transposed'!I4*'Risk-return'!CN3","v":0.90522333526398679},{"$f":"'1D Vectors Transposed'!H4+'1D Vectors Transposed'!I4*'Risk-return'!CO3","v":0.90375756066724811},{"$f":"'1D Vectors Transposed'!H4+'1D Vectors Transposed'!I4*'Risk-return'!CP3","v":0.90229178607050942},{"$f":"'1D Vectors Transposed'!H4+'1D Vectors Transposed'!I4*'Risk-return'!CQ3","v":0.90082601147377073},{"$f":"'1D Vectors Transposed'!H4+'1D Vectors Transposed'!I4*'Risk-return'!CR3","v":0.89936023687703193},{"$f":"'1D Vectors Transposed'!H4+'1D Vectors Transposed'!I4*'Risk-return'!CS3","v":0.89789446228029324},{"$f":"'1D Vectors Transposed'!H4+'1D Vectors Transposed'!I4*'Risk-return'!CT3","v":0.89642868768355455},{"$f":"'1D Vectors Transposed'!H4+'1D Vectors Transposed'!I4*'Risk-return'!CU3","v":0.89496291308681586},{"$f":"'1D Vectors Transposed'!H4+'1D Vectors Transposed'!I4*'Risk-return'!CV3","v":0.89349713849007717},{"$f":"'1D Vectors Transposed'!H4+'1D Vectors Transposed'!I4*'Risk-return'!CW3","v":0.89203136389333837},{"$f":"'1D Vectors Transposed'!H4+'1D Vectors Transposed'!I4*'Risk-return'!CX3","v":0.89056558929659968},{"$f":"'1D Vectors Transposed'!H4+'1D Vectors Transposed'!I4*'Risk-return'!CY3","v":0.88909981469986099},{"$f":"'1D Vectors Transposed'!H4+'1D Vectors Transposed'!I4*'Risk-return'!CZ3","v":0.8876340401031223},{"$f":"'1D Vectors Transposed'!H4+'1D Vectors Transposed'!I4*'Risk-return'!DA3","v":0.88616826550638361},{"$f":"'1D Vectors Transposed'!H4+'1D Vectors Transposed'!I4*'Risk-return'!DB3","v":0.88470249090964481},{"$f":"'1D Vectors Transposed'!H4+'1D Vectors Transposed'!I4*'Risk-return'!DC3","v":0.88323671631290612},{"$f":"'1D Vectors Transposed'!H4+'1D Vectors Transposed'!I4*'Risk-return'!DD3","v":0.88177094171616743},{"$f":"'1D Vectors Transposed'!H4+'1D Vectors Transposed'!I4*'Risk-return'!DE3","v":0.88030516711942874},{"$f":"'1D Vectors Transposed'!H4+'1D Vectors Transposed'!I4*'Risk-return'!DF3","v":0.87883939252269005},{"$f":"'1D Vectors Transposed'!H4+'1D Vectors Transposed'!I4*'Risk-return'!DG3","v":0.87737361792595137},{"$f":"'1D Vectors Transposed'!H4+'1D Vectors Transposed'!I4*'Risk-return'!DH3","v":0.87590784332921268},{"$f":"'1D Vectors Transposed'!H4+'1D Vectors Transposed'!I4*'Risk-return'!DI3","v":0.87444206873247388},{"$f":"'1D Vectors Transposed'!H4+'1D Vectors Transposed'!I4*'Risk-return'!DJ3","v":0.87297629413573519},{"$f":"'1D Vectors Transposed'!H4+'1D Vectors Transposed'!I4*'Risk-return'!DK3","v":0.8715105195389965},{"$f":"'1D Vectors Transposed'!H4+'1D Vectors Transposed'!I4*'Risk-return'!DL3","v":0.87004474494225781},{"$f":"'1D Vectors Transposed'!H4+'1D Vectors Transposed'!I4*'Risk-return'!DM3","v":0.86857897034551912},{"$f":"'1D Vectors Transposed'!H4+'1D Vectors Transposed'!I4*'Risk-return'!DN3","v":0.86711319574878032},{"$f":"'1D Vectors Transposed'!H4+'1D Vectors Transposed'!I4*'Risk-return'!DO3","v":0.86564742115204163},{"$f":"'1D Vectors Transposed'!H4+'1D Vectors Transposed'!I4*'Risk-return'!DP3","v":0.86418164655530294},{"$f":"'1D Vectors Transposed'!H4+'1D Vectors Transposed'!I4*'Risk-return'!DQ3","v":0.86271587195856425},{"$f":"'1D Vectors Transposed'!H4+'1D Vectors Transposed'!I4*'Risk-return'!DR3","v":0.86125009736182556},{"$f":"'1D Vectors Transposed'!H4+'1D Vectors Transposed'!I4*'Risk-return'!DS3","v":0.85978432276508676},{"$f":"'1D Vectors Transposed'!H4+'1D Vectors Transposed'!I4*'Risk-return'!DT3","v":0.85831854816834807},{"$f":"'1D Vectors Transposed'!H4+'1D Vectors Transposed'!I4*'Risk-return'!DU3","v":0.85685277357160938},{"$f":"'1D Vectors Transposed'!H4+'1D Vectors Transposed'!I4*'Risk-return'!DV3","v":0.85538699897487069},{"$f":"'1D Vectors Transposed'!H4+'1D Vectors Transposed'!I4*'Risk-return'!DW3","v":0.853921224378132},{"$f":"'1D Vectors Transposed'!H4+'1D Vectors Transposed'!I4*'Risk-return'!DX3","v":0.8524554497813932},{"$f":"'1D Vectors Transposed'!H4+'1D Vectors Transposed'!I4*'Risk-return'!DY3","v":0.85098967518465463},{"$f":"'1D Vectors Transposed'!H4+'1D Vectors Transposed'!I4*'Risk-return'!DZ3","v":0.84952390058791583},{"$f":"'1D Vectors Transposed'!H4+'1D Vectors Transposed'!I4*'Risk-return'!EA3","v":0.84805812599117714},{"$f":"'1D Vectors Transposed'!H4+'1D Vectors Transposed'!I4*'Risk-return'!EB3","v":0.84659235139443845},{"$f":"'1D Vectors Transposed'!H4+'1D Vectors Transposed'!I4*'Risk-return'!EC3","v":0.84512657679769976},{"$f":"'1D Vectors Transposed'!H4+'1D Vectors Transposed'!I4*'Risk-return'!ED3","v":0.84366080220096107},{"$f":"'1D Vectors Transposed'!H4+'1D Vectors Transposed'!I4*'Risk-return'!EE3","v":0.84219502760422227},{"$f":"'1D Vectors Transposed'!H4+'1D Vectors Transposed'!I4*'Risk-return'!EF3","v":0.84072925300748358},{"$f":"'1D Vectors Transposed'!H4+'1D Vectors Transposed'!I4*'Risk-return'!EG3","v":0.83926347841074489},{"$f":"'1D Vectors Transposed'!H4+'1D Vectors Transposed'!I4*'Risk-return'!EH3","v":0.8377977038140062},{"$f":"'1D Vectors Transposed'!H4+'1D Vectors Transposed'!I4*'Risk-return'!EI3","v":0.83633192921726751},{"$f":"'1D Vectors Transposed'!H4+'1D Vectors Transposed'!I4*'Risk-return'!EJ3","v":0.83486615462052871},{"$f":"'1D Vectors Transposed'!H4+'1D Vectors Transposed'!I4*'Risk-return'!EK3","v":0.83340038002379002},{"$f":"'1D Vectors Transposed'!H4+'1D Vectors Transposed'!I4*'Risk-return'!EL3","v":0.83193460542705133},{"$f":"'1D Vectors Transposed'!H4+'1D Vectors Transposed'!I4*'Risk-return'!EM3","v":0.83046883083031264},{"$f":"'1D Vectors Transposed'!H4+'1D Vectors Transposed'!I4*'Risk-return'!EN3","v":0.82900305623357395},{"$f":"'1D Vectors Transposed'!H4+'1D Vectors Transposed'!I4*'Risk-return'!EO3","v":0.82753728163683515},{"$f":"'1D Vectors Transposed'!H4+'1D Vectors Transposed'!I4*'Risk-return'!EP3","v":0.82607150704009658},{"$f":"'1D Vectors Transposed'!H4+'1D Vectors Transposed'!I4*'Risk-return'!EQ3","v":0.82460573244335778},{"$f":"'1D Vectors Transposed'!H4+'1D Vectors Transposed'!I4*'Risk-return'!ER3","v":0.82313995784661909},{"$f":"'1D Vectors Transposed'!H4+'1D Vectors Transposed'!I4*'Risk-return'!ES3","v":0.8216741832498804},{"$f":"'1D Vectors Transposed'!H4+'1D Vectors Transposed'!I4*'Risk-return'!ET3","v":0.82020840865314171},{"$f":"'1D Vectors Transposed'!H4+'1D Vectors Transposed'!I4*'Risk-return'!EU3","v":0.81874263405640302},{"$f":"'1D Vectors Transposed'!H4+'1D Vectors Transposed'!I4*'Risk-return'!EV3","v":0.81727685945966422},{"$f":"'1D Vectors Transposed'!H4+'1D Vectors Transposed'!I4*'Risk-return'!EW3","v":0.81581108486292553},{"$f":"'1D Vectors Transposed'!H4+'1D Vectors Transposed'!I4*'Risk-return'!EX3","v":0.81434531026618684},{"$f":"'1D Vectors Transposed'!H4+'1D Vectors Transposed'!I4*'Risk-return'!EY3","v":0.81287953566944815},{"$f":"'1D Vectors Transposed'!H4+'1D Vectors Transposed'!I4*'Risk-return'!EZ3","v":0.81141376107270946},{"$f":"'1D Vectors Transposed'!H4+'1D Vectors Transposed'!I4*'Risk-return'!FA3","v":0.80994798647597066},{"$f":"'1D Vectors Transposed'!H4+'1D Vectors Transposed'!I4*'Risk-return'!FB3","v":0.80848221187923197},{"$f":"'1D Vectors Transposed'!H4+'1D Vectors Transposed'!I4*'Risk-return'!FC3","v":0.80701643728249328},{"$f":"'1D Vectors Transposed'!H4+'1D Vectors Transposed'!I4*'Risk-return'!FD3","v":0.80555066268575459},{"$f":"'1D Vectors Transposed'!H4+'1D Vectors Transposed'!I4*'Risk-return'!FE3","v":0.8040848880890159},{"$f":"'1D Vectors Transposed'!H4+'1D Vectors Transposed'!I4*'Risk-return'!FF3","v":0.8026191134922771},{"$f":"'1D Vectors Transposed'!H4+'1D Vectors Transposed'!I4*'Risk-return'!FG3","v":0.80115333889553841},{"$f":"'1D Vectors Transposed'!H4+'1D Vectors Transposed'!I4*'Risk-return'!FH3","v":0.79968756429879972},{"$f":"'1D Vectors Transposed'!H4+'1D Vectors Transposed'!I4*'Risk-return'!FI3","v":0.79822178970206104},{"$f":"'1D Vectors Transposed'!H4+'1D Vectors Transposed'!I4*'Risk-return'!FJ3","v":0.79675601510532235},{"$f":"'1D Vectors Transposed'!H4+'1D Vectors Transposed'!I4*'Risk-return'!FK3","v":0.79529024050858366},{"$f":"'1D Vectors Transposed'!H4+'1D Vectors Transposed'!I4*'Risk-return'!FL3","v":0.79382446591184497},{"$f":"'1D Vectors Transposed'!H4+'1D Vectors Transposed'!I4*'Risk-return'!FM3","v":0.79235869131510617},{"$f":"'1D Vectors Transposed'!H4+'1D Vectors Transposed'!I4*'Risk-return'!FN3","v":0.79089291671836748},{"$f":"'1D Vectors Transposed'!H4+'1D Vectors Transposed'!I4*'Risk-return'!FO3","v":0.78942714212162879},{"$f":"'1D Vectors Transposed'!H4+'1D Vectors Transposed'!I4*'Risk-return'!FP3","v":0.78796136752488999},{"$f":"'1D Vectors Transposed'!H4+'1D Vectors Transposed'!I4*'Risk-return'!FQ3","v":0.78649559292815141},{"$f":"'1D Vectors Transposed'!H4+'1D Vectors Transposed'!I4*'Risk-return'!FR3","v":0.78502981833141261},{"$f":"'1D Vectors Transposed'!H4+'1D Vectors Transposed'!I4*'Risk-return'!FS3","v":0.78356404373467392},{"$f":"'1D Vectors Transposed'!H4+'1D Vectors Transposed'!I4*'Risk-return'!FT3","v":0.78209826913793523},{"$f":"'1D Vectors Transposed'!H4+'1D Vectors Transposed'!I4*'Risk-return'!FU3","v":0.78063249454119654},{"$f":"'1D Vectors Transposed'!H4+'1D Vectors Transposed'!I4*'Risk-return'!FV3","v":0.77916671994445785},{"$f":"'1D Vectors Transposed'!H4+'1D Vectors Transposed'!I4*'Risk-return'!FW3","v":0.77770094534771905},{"$f":"'1D Vectors Transposed'!H4+'1D Vectors Transposed'!I4*'Risk-return'!FX3","v":0.77623517075098047},{"$f":"'1D Vectors Transposed'!H4+'1D Vectors Transposed'!I4*'Risk-return'!FY3","v":0.77476939615424167},{"$f":"'1D Vectors Transposed'!H4+'1D Vectors Transposed'!I4*'Risk-return'!FZ3","v":0.77330362155750298},{"$f":"'1D Vectors Transposed'!H4+'1D Vectors Transposed'!I4*'Risk-return'!GA3","v":0.7718378469607643},{"$f":"'1D Vectors Transposed'!H4+'1D Vectors Transposed'!I4*'Risk-return'!GB3","v":0.7703720723640255},{"$f":"'1D Vectors Transposed'!H4+'1D Vectors Transposed'!I4*'Risk-return'!GC3","v":0.76890629776728692},{"$f":"'1D Vectors Transposed'!H4+'1D Vectors Transposed'!I4*'Risk-return'!GD3","v":0.76744052317054812},{"$f":"'1D Vectors Transposed'!H4+'1D Vectors Transposed'!I4*'Risk-return'!GE3","v":0.76597474857380943},{"$f":"'1D Vectors Transposed'!H4+'1D Vectors Transposed'!I4*'Risk-return'!GF3","v":0.76450897397707074},{"$f":"'1D Vectors Transposed'!H4+'1D Vectors Transposed'!I4*'Risk-return'!GG3","v":0.76304319938033194},{"$f":"'1D Vectors Transposed'!H4+'1D Vectors Transposed'!I4*'Risk-return'!GH3","v":0.76157742478359336},{"$f":"'1D Vectors Transposed'!H4+'1D Vectors Transposed'!I4*'Risk-return'!GI3","v":0.76011165018685456},{"$f":"'1D Vectors Transposed'!H4+'1D Vectors Transposed'!I4*'Risk-return'!GJ3","v":0.75864587559011587},{"$f":"'1D Vectors Transposed'!H4+'1D Vectors Transposed'!I4*'Risk-return'!GK3","v":0.75718010099337718},{"$f":"'1D Vectors Transposed'!H4+'1D Vectors Transposed'!I4*'Risk-return'!GL3","v":0.75571432639663849},{"$f":"'1D Vectors Transposed'!H4+'1D Vectors Transposed'!I4*'Risk-return'!GM3","v":0.7542485517998998},{"$f":"'1D Vectors Transposed'!H4+'1D Vectors Transposed'!I4*'Risk-return'!GN3","v":0.752782777203161},{"$f":"'1D Vectors Transposed'!H4+'1D Vectors Transposed'!I4*'Risk-return'!GO3","v":0.75131700260642242},{"$f":"'1D Vectors Transposed'!H4+'1D Vectors Transposed'!I4*'Risk-return'!GP3","v":0.74985122800968362},{"$f":"'1D Vectors Transposed'!H4+'1D Vectors Transposed'!I4*'Risk-return'!GQ3","v":0.74838545341294493},{"$f":"'1D Vectors Transposed'!H4+'1D Vectors Transposed'!I4*'Risk-return'!GR3","v":0.74691967881620625},{"$f":"'1D Vectors Transposed'!H4+'1D Vectors Transposed'!I4*'Risk-return'!GS3","v":0.74545390421946744},{"$f":"'1D Vectors Transposed'!H4+'1D Vectors Transposed'!I4*'Risk-return'!GT3","v":0.74398812962272887},{"$f":"'1D Vectors Transposed'!H4+'1D Vectors Transposed'!I4*'Risk-return'!GU3","v":0.74252235502599007},{"$f":"'1D Vectors Transposed'!H4+'1D Vectors Transposed'!I4*'Risk-return'!GV3","v":0.74105658042925138},{"$f":"'1D Vectors Transposed'!H4+'1D Vectors Transposed'!I4*'Risk-return'!GW3","v":0.73959080583251269},{"$f":"'1D Vectors Transposed'!H4+'1D Vectors Transposed'!I4*'Risk-return'!GX3","v":0.73812503123577389},{"$f":"'1D Vectors Transposed'!H4+'1D Vectors Transposed'!I4*'Risk-return'!GY3","v":0.73665925663903531},{"$f":"'1D Vectors Transposed'!H4+'1D Vectors Transposed'!I4*'Risk-return'!GZ3","v":0.73519348204229651},{"$f":"'1D Vectors Transposed'!H4+'1D Vectors Transposed'!I4*'Risk-return'!HA3","v":0.73372770744555782},{"$f":"'1D Vectors Transposed'!H4+'1D Vectors Transposed'!I4*'Risk-return'!HB3","v":0.73226193284881913},{"$f":"'1D Vectors Transposed'!H4+'1D Vectors Transposed'!I4*'Risk-return'!HC3","v":0.73079615825208044},{"$f":"'1D Vectors Transposed'!H4+'1D Vectors Transposed'!I4*'Risk-return'!HD3","v":0.72933038365534175},{"$f":"'1D Vectors Transposed'!H4+'1D Vectors Transposed'!I4*'Risk-return'!HE3","v":0.72786460905860295},{"$f":"'1D Vectors Transposed'!H4+'1D Vectors Transposed'!I4*'Risk-return'!HF3","v":0.72639883446186426},{"$f":"'1D Vectors Transposed'!H4+'1D Vectors Transposed'!I4*'Risk-return'!HG3","v":0.72493305986512557},{"$f":"'1D Vectors Transposed'!H4+'1D Vectors Transposed'!I4*'Risk-return'!HH3","v":0.72346728526838688},{"$f":"'1D Vectors Transposed'!H4+'1D Vectors Transposed'!I4*'Risk-return'!HI3","v":0.72200151067164819},{"$f":"'1D Vectors Transposed'!H4+'1D Vectors Transposed'!I4*'Risk-return'!HJ3","v":0.72053573607490939},{"$f":"'1D Vectors Transposed'!H4+'1D Vectors Transposed'!I4*'Risk-return'!HK3","v":0.71906996147817082},{"$f":"'1D Vectors Transposed'!H4+'1D Vectors Transposed'!I4*'Risk-return'!HL3","v":0.71760418688143202},{"$f":"'1D Vectors Transposed'!H4+'1D Vectors Transposed'!I4*'Risk-return'!HM3","v":0.71613841228469333},{"$f":"'1D Vectors Transposed'!H4+'1D Vectors Transposed'!I4*'Risk-return'!HN3","v":0.71467263768795464},{"$f":"'1D Vectors Transposed'!H4+'1D Vectors Transposed'!I4*'Risk-return'!HO3","v":0.71320686309121584},{"$f":"'1D Vectors Transposed'!H4+'1D Vectors Transposed'!I4*'Risk-return'!HP3","v":0.71174108849447726},{"$f":"'1D Vectors Transposed'!H4+'1D Vectors Transposed'!I4*'Risk-return'!HQ3","v":0.71027531389773846},{"$f":"'1D Vectors Transposed'!H4+'1D Vectors Transposed'!I4*'Risk-return'!HR3","v":0.70880953930099977},{"$f":"'1D Vectors Transposed'!H4+'1D Vectors Transposed'!I4*'Risk-return'!HS3","v":0.70734376470426108},{"$f":"'1D Vectors Transposed'!H4+'1D Vectors Transposed'!I4*'Risk-return'!HT3","v":0.70587799010752228},{"$f":"'1D Vectors Transposed'!H4+'1D Vectors Transposed'!I4*'Risk-return'!HU3","v":0.7044122155107837},{"$f":"'1D Vectors Transposed'!H4+'1D Vectors Transposed'!I4*'Risk-return'!HV3","v":0.7029464409140449},{"$f":"'1D Vectors Transposed'!H4+'1D Vectors Transposed'!I4*'Risk-return'!HW3","v":0.70148066631730621},{"$f":"'1D Vectors Transposed'!H4+'1D Vectors Transposed'!I4*'Risk-return'!HX3","v":0.70001489172056752},{"$f":"'1D Vectors Transposed'!H4+'1D Vectors Transposed'!I4*'Risk-return'!HY3","v":0.69854911712382883},{"$f":"'1D Vectors Transposed'!H4+'1D Vectors Transposed'!I4*'Risk-return'!HZ3","v":0.69708334252709014},{"$f":"'1D Vectors Transposed'!H4+'1D Vectors Transposed'!I4*'Risk-return'!IA3","v":0.69561756793035134},{"$f":"'1D Vectors Transposed'!H4+'1D Vectors Transposed'!I4*'Risk-return'!IB3","v":0.69415179333361277},{"$f":"'1D Vectors Transposed'!H4+'1D Vectors Transposed'!I4*'Risk-return'!IC3","v":0.69268601873687397},{"$f":"'1D Vectors Transposed'!H4+'1D Vectors Transposed'!I4*'Risk-return'!ID3","v":0.69122024414013528},{"$f":"'1D Vectors Transposed'!H4+'1D Vectors Transposed'!I4*'Risk-return'!IE3","v":0.68975446954339659},{"$f":"'1D Vectors Transposed'!H4+'1D Vectors Transposed'!I4*'Risk-return'!IF3","v":0.68828869494665779},{"$f":"'1D Vectors Transposed'!H4+'1D Vectors Transposed'!I4*'Risk-return'!IG3","v":0.68682292034991921},{"$f":"'1D Vectors Transposed'!H4+'1D Vectors Transposed'!I4*'Risk-return'!IH3","v":0.68535714575318041},{"$f":"'1D Vectors Transposed'!H4+'1D Vectors Transposed'!I4*'Risk-return'!II3","v":0.68389137115644172},{"$f":"'1D Vectors Transposed'!H4+'1D Vectors Transposed'!I4*'Risk-return'!IJ3","v":0.68242559655970303},{"$f":"'1D Vectors Transposed'!H4+'1D Vectors Transposed'!I4*'Risk-return'!IK3","v":0.68095982196296423},{"$f":"'1D Vectors Transposed'!H4+'1D Vectors Transposed'!I4*'Risk-return'!IL3","v":0.67949404736622565},{"$f":"'1D Vectors Transposed'!H4+'1D Vectors Transposed'!I4*'Risk-return'!IM3","v":0.67802827276948685},{"$f":"'1D Vectors Transposed'!H4+'1D Vectors Transposed'!I4*'Risk-return'!IN3","v":0.67656249817274816},{"$f":"'1D Vectors Transposed'!H4+'1D Vectors Transposed'!I4*'Risk-return'!IO3","v":0.67509672357600947},{"$f":"'1D Vectors Transposed'!H4+'1D Vectors Transposed'!I4*'Risk-return'!IP3","v":0.67363094897927078},{"$f":"'1D Vectors Transposed'!H4+'1D Vectors Transposed'!I4*'Risk-return'!IQ3","v":0.67216517438253209},{"$f":"'1D Vectors Transposed'!H4+'1D Vectors Transposed'!I4*'Risk-return'!IR3","v":0.67069939978579329},{"$f":"'1D Vectors Transposed'!H4+'1D Vectors Transposed'!I4*'Risk-return'!IS3","v":0.6692336251890546},{"$f":"'1D Vectors Transposed'!H4+'1D Vectors Transposed'!I4*'Risk-return'!IT3","v":0.66776785059231591},{"$f":"'1D Vectors Transposed'!H4+'1D Vectors Transposed'!I4*'Risk-return'!IU3","v":0.66630207599557723},{"$f":"'1D Vectors Transposed'!H4+'1D Vectors Transposed'!I4*'Risk-return'!IV3","v":0.66483630139883854},{"$f":"'1D Vectors Transposed'!H4+'1D Vectors Transposed'!I4*'Risk-return'!IW3","v":0.66337052680209974},{"$f":"'1D Vectors Transposed'!H4+'1D Vectors Transposed'!I4*'Risk-return'!IX3","v":0.66190475220536116},{"$f":"'1D Vectors Transposed'!H4+'1D Vectors Transposed'!I4*'Risk-return'!IY3","v":0.66043897760862236},{"$f":"'1D Vectors Transposed'!H4+'1D Vectors Transposed'!I4*'Risk-return'!IZ3","v":0.65897320301188367},{"$f":"'1D Vectors Transposed'!H4+'1D Vectors Transposed'!I4*'Risk-return'!JA3","v":0.65750742841514498},{"$f":"'1D Vectors Transposed'!H4+'1D Vectors Transposed'!I4*'Risk-return'!JB3","v":0.65604165381840618},{"$f":"'1D Vectors Transposed'!H4+'1D Vectors Transposed'!I4*'Risk-return'!JC3","v":0.6545758792216676},{"$f":"'1D Vectors Transposed'!H4+'1D Vectors Transposed'!I4*'Risk-return'!JD3","v":0.6531101046249288},{"$f":"'1D Vectors Transposed'!H4+'1D Vectors Transposed'!I4*'Risk-return'!JE3","v":0.65164433002819011},{"$f":"'1D Vectors Transposed'!H4+'1D Vectors Transposed'!I4*'Risk-return'!JF3","v":0.65017855543145142},{"$f":"'1D Vectors Transposed'!H4+'1D Vectors Transposed'!I4*'Risk-return'!JG3","v":0.64871278083471262},{"$f":"'1D Vectors Transposed'!H4+'1D Vectors Transposed'!I4*'Risk-return'!JH3","v":0.64724700623797404},{"$f":"'1D Vectors Transposed'!H4+'1D Vectors Transposed'!I4*'Risk-return'!JI3","v":0.64578123164123524},{"$f":"'1D Vectors Transposed'!H4+'1D Vectors Transposed'!I4*'Risk-return'!JJ3","v":0.64431545704449655},{"$f":"'1D Vectors Transposed'!H4+'1D Vectors Transposed'!I4*'Risk-return'!JK3","v":0.64284968244775786},{"$f":"'1D Vectors Transposed'!H4+'1D Vectors Transposed'!I4*'Risk-return'!JL3","v":0.64138390785101917},{"$f":"'1D Vectors Transposed'!H4+'1D Vectors Transposed'!I4*'Risk-return'!JM3","v":0.63991813325428049},{"$f":"'1D Vectors Transposed'!H4+'1D Vectors Transposed'!I4*'Risk-return'!JN3","v":0.63845235865754169},{"$f":"'1D Vectors Transposed'!H4+'1D Vectors Transposed'!I4*'Risk-return'!JO3","v":0.63698658406080311},{"$f":"'1D Vectors Transposed'!H4+'1D Vectors Transposed'!I4*'Risk-return'!JP3","v":0.63552080946406431},{"$f":"'1D Vectors Transposed'!H4+'1D Vectors Transposed'!I4*'Risk-return'!JQ3","v":0.63405503486732562},{"$f":"'1D Vectors Transposed'!H4+'1D Vectors Transposed'!I4*'Risk-return'!JR3","v":0.63258926027058693},{"$f":"'1D Vectors Transposed'!H4+'1D Vectors Transposed'!I4*'Risk-return'!JS3","v":0.63112348567384813},{"$f":"'1D Vectors Transposed'!H4+'1D Vectors Transposed'!I4*'Risk-return'!JT3","v":0.62965771107710955},{"$f":"'1D Vectors Transposed'!H4+'1D Vectors Transposed'!I4*'Risk-return'!JU3","v":0.62819193648037075},{"$f":"'1D Vectors Transposed'!H4+'1D Vectors Transposed'!I4*'Risk-return'!JV3","v":0.62672616188363206},{"$f":"'1D Vectors Transposed'!H4+'1D Vectors Transposed'!I4*'Risk-return'!JW3","v":0.62526038728689337},{"$f":"'1D Vectors Transposed'!H4+'1D Vectors Transposed'!I4*'Risk-return'!JX3","v":0.62379461269015457},{"$f":"'1D Vectors Transposed'!H4+'1D Vectors Transposed'!I4*'Risk-return'!JY3","v":0.62232883809341599},{"$f":"'1D Vectors Transposed'!H4+'1D Vectors Transposed'!I4*'Risk-return'!JZ3","v":0.62086306349667719},{"$f":"'1D Vectors Transposed'!H4+'1D Vectors Transposed'!I4*'Risk-return'!KA3","v":0.6193972888999385},{"$f":"'1D Vectors Transposed'!H4+'1D Vectors Transposed'!I4*'Risk-return'!KB3","v":0.61793151430319981},{"$f":"'1D Vectors Transposed'!H4+'1D Vectors Transposed'!I4*'Risk-return'!KC3","v":0.61646573970646112},{"$f":"'1D Vectors Transposed'!H4+'1D Vectors Transposed'!I4*'Risk-return'!KD3","v":0.61499996510972244},{"$f":"'1D Vectors Transposed'!H4+'1D Vectors Transposed'!I4*'Risk-return'!KE3","v":0.61353419051298363},{"$f":"'1D Vectors Transposed'!H4+'1D Vectors Transposed'!I4*'Risk-return'!KF3","v":0.61206841591624506},{"$f":"'1D Vectors Transposed'!H4+'1D Vectors Transposed'!I4*'Risk-return'!KG3","v":0.61060264131950626},{"$f":"'1D Vectors Transposed'!H4+'1D Vectors Transposed'!I4*'Risk-return'!KH3","v":0.60913686672276757},{"$f":"'1D Vectors Transposed'!H4+'1D Vectors Transposed'!I4*'Risk-return'!KI3","v":0.60767109212602888},{"$f":"'1D Vectors Transposed'!H4+'1D Vectors Transposed'!I4*'Risk-return'!KJ3","v":0.60620531752929008},{"$f":"'1D Vectors Transposed'!H4+'1D Vectors Transposed'!I4*'Risk-return'!KK3","v":0.6047395429325515},{"$f":"'1D Vectors Transposed'!H4+'1D Vectors Transposed'!I4*'Risk-return'!KL3","v":0.6032737683358127},{"$f":"'1D Vectors Transposed'!H4+'1D Vectors Transposed'!I4*'Risk-return'!KM3","v":0.60180799373907401},{"$f":"'1D Vectors Transposed'!H4+'1D Vectors Transposed'!I4*'Risk-return'!KN3","v":0.60034221914233532},{"$f":"'1D Vectors Transposed'!H4+'1D Vectors Transposed'!I4*'Risk-return'!KO3","v":0.59887644454559652},{"$f":"'1D Vectors Transposed'!H4+'1D Vectors Transposed'!I4*'Risk-return'!KP3","v":0.59741066994885794},{"$f":"'1D Vectors Transposed'!H4+'1D Vectors Transposed'!I4*'Risk-return'!KQ3","v":0.59594489535211914},{"$f":"'1D Vectors Transposed'!H4+'1D Vectors Transposed'!I4*'Risk-return'!KR3","v":0.59447912075538045},{"$f":"'1D Vectors Transposed'!H4+'1D Vectors Transposed'!I4*'Risk-return'!KS3","v":0.59301334615864176},{"$f":"'1D Vectors Transposed'!H4+'1D Vectors Transposed'!I4*'Risk-return'!KT3","v":0.59154757156190296},{"$f":"'1D Vectors Transposed'!H4+'1D Vectors Transposed'!I4*'Risk-return'!KU3","v":0.59008179696516438},{"$f":"'1D Vectors Transposed'!H4+'1D Vectors Transposed'!I4*'Risk-return'!KV3","v":0.58861602236842558},{"$f":"'1D Vectors Transposed'!H4+'1D Vectors Transposed'!I4*'Risk-return'!KW3","v":0.5871502477716869},{"$f":"'1D Vectors Transposed'!H4+'1D Vectors Transposed'!I4*'Risk-return'!KX3","v":0.58568447317494821},{"$f":"'1D Vectors Transposed'!H4+'1D Vectors Transposed'!I4*'Risk-return'!KY3","v":0.58421869857820952},{"$f":"'1D Vectors Transposed'!H4+'1D Vectors Transposed'!I4*'Risk-return'!KZ3","v":0.58275292398147083},{"$f":"'1D Vectors Transposed'!H4+'1D Vectors Transposed'!I4*'Risk-return'!LA3","v":0.58128714938473203},{"$f":"'1D Vectors Transposed'!H4+'1D Vectors Transposed'!I4*'Risk-return'!LB3","v":0.57982134748576764},{"$f":"'1D Vectors Transposed'!H4+'1D Vectors Transposed'!I4*'Risk-return'!LC3","v":0.57835554558680302},{"$f":"'1D Vectors Transposed'!H4+'1D Vectors Transposed'!I4*'Risk-return'!LD3","v":0.57688974368783852},{"$f":"'1D Vectors Transposed'!H4+'1D Vectors Transposed'!I4*'Risk-return'!LE3","v":0.57542394178887402},{"$f":"'1D Vectors Transposed'!H4+'1D Vectors Transposed'!I4*'Risk-return'!LF3","v":0.57395813988990951},{"$f":"'1D Vectors Transposed'!H4+'1D Vectors Transposed'!I4*'Risk-return'!LG3","v":0.57249233799094501},{"$f":"'1D Vectors Transposed'!H4+'1D Vectors Transposed'!I4*'Risk-return'!LH3","v":0.57102653609198051},{"$f":"'1D Vectors Transposed'!H4+'1D Vectors Transposed'!I4*'Risk-return'!LI3","v":0.56956073419301601},{"$f":"'1D Vectors Transposed'!H4+'1D Vectors Transposed'!I4*'Risk-return'!LJ3","v":0.56809493229405139},{"$f":"'1D Vectors Transposed'!H4+'1D Vectors Transposed'!I4*'Risk-return'!LK3","v":0.566629130395087},{"$f":"'1D Vectors Transposed'!H4+'1D Vectors Transposed'!I4*'Risk-return'!LL3","v":0.56516332849612239},{"$f":"'1D Vectors Transposed'!H4+'1D Vectors Transposed'!I4*'Risk-return'!LM3","v":0.56369752659715799},{"$f":"'1D Vectors Transposed'!H4+'1D Vectors Transposed'!I4*'Risk-return'!LN3","v":0.56223172469819338},{"$f":"'1D Vectors Transposed'!H4+'1D Vectors Transposed'!I4*'Risk-return'!LO3","v":0.56076592279922888},{"$f":"'1D Vectors Transposed'!H4+'1D Vectors Transposed'!I4*'Risk-return'!LP3","v":0.55930012090026437},{"$f":"'1D Vectors Transposed'!H4+'1D Vectors Transposed'!I4*'Risk-return'!LQ3","v":0.55783431900129987},{"$f":"'1D Vectors Transposed'!H4+'1D Vectors Transposed'!I4*'Risk-return'!LR3","v":0.55636851710233537},{"$f":"'1D Vectors Transposed'!H4+'1D Vectors Transposed'!I4*'Risk-return'!LS3","v":0.55490271520337087},{"$f":"'1D Vectors Transposed'!H4+'1D Vectors Transposed'!I4*'Risk-return'!LT3","v":0.55343691330440636},{"$f":"'1D Vectors Transposed'!H4+'1D Vectors Transposed'!I4*'Risk-return'!LU3","v":0.55197111140544175},{"$f":"'1D Vectors Transposed'!H4+'1D Vectors Transposed'!I4*'Risk-return'!LV3","v":0.55050530950647736},{"$f":"'1D Vectors Transposed'!H4+'1D Vectors Transposed'!I4*'Risk-return'!LW3","v":0.54903950760751274},{"$f":"'1D Vectors Transposed'!H4+'1D Vectors Transposed'!I4*'Risk-return'!LX3","v":0.54757370570854835},{"$f":"'1D Vectors Transposed'!H4+'1D Vectors Transposed'!I4*'Risk-return'!LY3","v":0.54610790380958374},{"$f":"'1D Vectors Transposed'!H4+'1D Vectors Transposed'!I4*'Risk-return'!LZ3","v":0.54464210191061924},{"$f":"'1D Vectors Transposed'!H4+'1D Vectors Transposed'!I4*'Risk-return'!MA3","v":0.54317630001165473},{"$f":"'1D Vectors Transposed'!H4+'1D Vectors Transposed'!I4*'Risk-return'!MB3","v":0.54171049811269023},{"$f":"'1D Vectors Transposed'!H4+'1D Vectors Transposed'!I4*'Risk-return'!MC3","v":0.54024469621372573},{"$f":"'1D Vectors Transposed'!H4+'1D Vectors Transposed'!I4*'Risk-return'!MD3","v":0.53877889431476123},{"$f":"'1D Vectors Transposed'!H4+'1D Vectors Transposed'!I4*'Risk-return'!ME3","v":0.53731309241579672},{"$f":"'1D Vectors Transposed'!H4+'1D Vectors Transposed'!I4*'Risk-return'!MF3","v":0.53584729051683222},{"$f":"'1D Vectors Transposed'!H4+'1D Vectors Transposed'!I4*'Risk-return'!MG3","v":0.53438148861786772},{"$f":"'1D Vectors Transposed'!H4+'1D Vectors Transposed'!I4*'Risk-return'!MH3","v":0.5329156867189031},{"$f":"'1D Vectors Transposed'!H4+'1D Vectors Transposed'!I4*'Risk-return'!MI3","v":0.5314498848199386},{"$f":"'1D Vectors Transposed'!H4+'1D Vectors Transposed'!I4*'Risk-return'!MJ3","v":0.5299840829209741},{"$f":"'1D Vectors Transposed'!H4+'1D Vectors Transposed'!I4*'Risk-return'!MK3","v":0.5285182810220096},{"$f":"'1D Vectors Transposed'!H4+'1D Vectors Transposed'!I4*'Risk-return'!ML3","v":0.52705247912304509},{"$f":"'1D Vectors Transposed'!H4+'1D Vectors Transposed'!I4*'Risk-return'!MM3","v":0.52558667722408059},{"$f":"'1D Vectors Transposed'!H4+'1D Vectors Transposed'!I4*'Risk-return'!MN3","v":0.52412087532511609},{"$f":"'1D Vectors Transposed'!H4+'1D Vectors Transposed'!I4*'Risk-return'!MO3","v":0.52265507342615158},{"$f":"'1D Vectors Transposed'!H4+'1D Vectors Transposed'!I4*'Risk-return'!MP3","v":0.52118927152718708},{"$f":"'1D Vectors Transposed'!H4+'1D Vectors Transposed'!I4*'Risk-return'!MQ3","v":0.51972346962822258},{"$f":"'1D Vectors Transposed'!H4+'1D Vectors Transposed'!I4*'Risk-return'!MR3","v":0.51825766772925796},{"$f":"'1D Vectors Transposed'!H4+'1D Vectors Transposed'!I4*'Risk-return'!MS3","v":0.51679186583029346},{"$f":"'1D Vectors Transposed'!H4+'1D Vectors Transposed'!I4*'Risk-return'!MT3","v":0.51532606393132896},{"$f":"'1D Vectors Transposed'!H4+'1D Vectors Transposed'!I4*'Risk-return'!MU3","v":0.51386026203236446},{"$f":"'1D Vectors Transposed'!H4+'1D Vectors Transposed'!I4*'Risk-return'!MV3","v":0.51239446013339995},{"$f":"'1D Vectors Transposed'!H4+'1D Vectors Transposed'!I4*'Risk-return'!MW3","v":0.51092865823443545},{"$f":"'1D Vectors Transposed'!H4+'1D Vectors Transposed'!I4*'Risk-return'!MX3","v":0.50946285633547095},{"$f":"'1D Vectors Transposed'!H4+'1D Vectors Transposed'!I4*'Risk-return'!MY3","v":0.50799705443650645},{"$f":"'1D Vectors Transposed'!H4+'1D Vectors Transposed'!I4*'Risk-return'!MZ3","v":0.50653125253754194},{"$f":"'1D Vectors Transposed'!H4+'1D Vectors Transposed'!I4*'Risk-return'!NA3","v":0.50506545063857744},{"$f":"'1D Vectors Transposed'!H4+'1D Vectors Transposed'!I4*'Risk-return'!NB3","v":0.50359964873961294},{"$f":"'1D Vectors Transposed'!H4+'1D Vectors Transposed'!I4*'Risk-return'!NC3","v":0.50213384684064832},{"$f":"'1D Vectors Transposed'!H4+'1D Vectors Transposed'!I4*'Risk-return'!ND3","v":0.50066804494168382},{"$f":"'1D Vectors Transposed'!H4+'1D Vectors Transposed'!I4*'Risk-return'!NE3","v":0.49920224304271932},{"$f":"'1D Vectors Transposed'!H4+'1D Vectors Transposed'!I4*'Risk-return'!NF3","v":0.49773644114375482},{"$f":"'1D Vectors Transposed'!H4+'1D Vectors Transposed'!I4*'Risk-return'!NG3","v":0.49627063924479031},{"$f":"'1D Vectors Transposed'!H4+'1D Vectors Transposed'!I4*'Risk-return'!NH3","v":0.49480483734582581},{"$f":"'1D Vectors Transposed'!H4+'1D Vectors Transposed'!I4*'Risk-return'!NI3","v":0.49333903544686131},{"$f":"'1D Vectors Transposed'!H4+'1D Vectors Transposed'!I4*'Risk-return'!NJ3","v":0.4918732335478968},{"$f":"'1D Vectors Transposed'!H4+'1D Vectors Transposed'!I4*'Risk-return'!NK3","v":0.4904074316489323},{"$f":"'1D Vectors Transposed'!H4+'1D Vectors Transposed'!I4*'Risk-return'!NL3","v":0.4889416297499678},{"$f":"'1D Vectors Transposed'!H4+'1D Vectors Transposed'!I4*'Risk-return'!NM3","v":0.4874758278510033},{"$f":"'1D Vectors Transposed'!H4+'1D Vectors Transposed'!I4*'Risk-return'!NN3","v":0.48601002595203868},{"$f":"'1D Vectors Transposed'!H4+'1D Vectors Transposed'!I4*'Risk-return'!NO3","v":0.48454422405307418},{"$f":"'1D Vectors Transposed'!H4+'1D Vectors Transposed'!I4*'Risk-return'!NP3","v":0.48307842215410968},{"$f":"'1D Vectors Transposed'!H4+'1D Vectors Transposed'!I4*'Risk-return'!NQ3","v":0.48161262025514517},{"$f":"'1D Vectors Transposed'!H4+'1D Vectors Transposed'!I4*'Risk-return'!NR3","v":0.48014681835618067},{"$f":"'1D Vectors Transposed'!H4+'1D Vectors Transposed'!I4*'Risk-return'!NS3","v":0.47868101645721617},{"$f":"'1D Vectors Transposed'!H4+'1D Vectors Transposed'!I4*'Risk-return'!NT3","v":0.47721521455825167},{"$f":"'1D Vectors Transposed'!H4+'1D Vectors Transposed'!I4*'Risk-return'!NU3","v":0.47574941265928716},{"$f":"'1D Vectors Transposed'!H4+'1D Vectors Transposed'!I4*'Risk-return'!NV3","v":0.47428361076032266},{"$f":"'1D Vectors Transposed'!H4+'1D Vectors Transposed'!I4*'Risk-return'!NW3","v":0.47281780886135816},{"$f":"'1D Vectors Transposed'!H4+'1D Vectors Transposed'!I4*'Risk-return'!NX3","v":0.47135200696239354},{"$f":"'1D Vectors Transposed'!H4+'1D Vectors Transposed'!I4*'Risk-return'!NY3","v":0.46988620506342904},{"$f":"'1D Vectors Transposed'!H4+'1D Vectors Transposed'!I4*'Risk-return'!NZ3","v":0.46842040316446454},{"$f":"'1D Vectors Transposed'!H4+'1D Vectors Transposed'!I4*'Risk-return'!OA3","v":0.46695460126550004},{"$f":"'1D Vectors Transposed'!H4+'1D Vectors Transposed'!I4*'Risk-return'!OB3","v":0.46548879936653553},{"$f":"'1D Vectors Transposed'!H4+'1D Vectors Transposed'!I4*'Risk-return'!OC3","v":0.46402299746757103},{"$f":"'1D Vectors Transposed'!H4+'1D Vectors Transposed'!I4*'Risk-return'!OD3","v":0.46255719556860653},{"$f":"'1D Vectors Transposed'!H4+'1D Vectors Transposed'!I4*'Risk-return'!OE3","v":0.46109139366964202},{"$f":"'1D Vectors Transposed'!H4+'1D Vectors Transposed'!I4*'Risk-return'!OF3","v":0.45962559177067752},{"$f":"'1D Vectors Transposed'!H4+'1D Vectors Transposed'!I4*'Risk-return'!OG3","v":0.45815978987171302},{"$f":"'1D Vectors Transposed'!H4+'1D Vectors Transposed'!I4*'Risk-return'!OH3","v":0.45669398797274852},{"$f":"'1D Vectors Transposed'!H4+'1D Vectors Transposed'!I4*'Risk-return'!OI3","v":0.4552281860737839},{"$f":"'1D Vectors Transposed'!H4+'1D Vectors Transposed'!I4*'Risk-return'!OJ3","v":0.4537623841748194},{"$f":"'1D Vectors Transposed'!H4+'1D Vectors Transposed'!I4*'Risk-return'!OK3","v":0.4522965822758549},{"$f":"'1D Vectors Transposed'!H4+'1D Vectors Transposed'!I4*'Risk-return'!OL3","v":0.45083078037689039},{"$f":"'1D Vectors Transposed'!H4+'1D Vectors Transposed'!I4*'Risk-return'!OM3","v":0.44936497847792589},{"$f":"'1D Vectors Transposed'!H4+'1D Vectors Transposed'!I4*'Risk-return'!ON3","v":0.44789917657896139},{"$f":"'1D Vectors Transposed'!H4+'1D Vectors Transposed'!I4*'Risk-return'!OO3","v":0.44643337467999689},{"$f":"'1D Vectors Transposed'!H4+'1D Vectors Transposed'!I4*'Risk-return'!OP3","v":0.44496757278103238},{"$f":"'1D Vectors Transposed'!H4+'1D Vectors Transposed'!I4*'Risk-return'!OQ3","v":0.44350177088206788},{"$f":"'1D Vectors Transposed'!H4+'1D Vectors Transposed'!I4*'Risk-return'!OR3","v":0.44203596898310338},{"$f":"'1D Vectors Transposed'!H4+'1D Vectors Transposed'!I4*'Risk-return'!OS3","v":0.44057016708413888},{"$f":"'1D Vectors Transposed'!H4+'1D Vectors Transposed'!I4*'Risk-return'!OT3","v":0.43910436518517426},{"$f":"'1D Vectors Transposed'!H4+'1D Vectors Transposed'!I4*'Risk-return'!OU3","v":0.43763856328620976},{"$f":"'1D Vectors Transposed'!H4+'1D Vectors Transposed'!I4*'Risk-return'!OV3","v":0.43617276138724526},{"$f":"'1D Vectors Transposed'!H4+'1D Vectors Transposed'!I4*'Risk-return'!OW3","v":0.43470695948828075},{"$f":"'1D Vectors Transposed'!H4+'1D Vectors Transposed'!I4*'Risk-return'!OX3","v":0.43324115758931625},{"$f":"'1D Vectors Transposed'!H4+'1D Vectors Transposed'!I4*'Risk-return'!OY3","v":0.43177535569035175},{"$f":"'1D Vectors Transposed'!H4+'1D Vectors Transposed'!I4*'Risk-return'!OZ3","v":0.43030955379138724},{"$f":"'1D Vectors Transposed'!H4+'1D Vectors Transposed'!I4*'Risk-return'!PA3","v":0.42884375189242274},{"$f":"'1D Vectors Transposed'!H4+'1D Vectors Transposed'!I4*'Risk-return'!PB3","v":0.42737794999345824},{"$f":"'1D Vectors Transposed'!H4+'1D Vectors Transposed'!I4*'Risk-return'!PC3","v":0.42591214809449374},{"$f":"'1D Vectors Transposed'!H4+'1D Vectors Transposed'!I4*'Risk-return'!PD3","v":0.42444634619552912},{"$f":"'1D Vectors Transposed'!H4+'1D Vectors Transposed'!I4*'Risk-return'!PE3","v":0.42298054429656462},{"$f":"'1D Vectors Transposed'!H4+'1D Vectors Transposed'!I4*'Risk-return'!PF3","v":0.42151474239760012},{"$f":"'1D Vectors Transposed'!H4+'1D Vectors Transposed'!I4*'Risk-return'!PG3","v":0.42004894049863561},{"$f":"'1D Vectors Transposed'!H4+'1D Vectors Transposed'!I4*'Risk-return'!PH3","v":0.41858313859967111},{"$f":"'1D Vectors Transposed'!H4+'1D Vectors Transposed'!I4*'Risk-return'!PI3","v":0.41711733670070661},{"$f":"'1D Vectors Transposed'!H4+'1D Vectors Transposed'!I4*'Risk-return'!PJ3","v":0.41565153480174211},{"$f":"'1D Vectors Transposed'!H4+'1D Vectors Transposed'!I4*'Risk-return'!PK3","v":0.4141857329027776},{"$f":"'1D Vectors Transposed'!H4+'1D Vectors Transposed'!I4*'Risk-return'!PL3","v":0.4127199310038131},{"$f":"'1D Vectors Transposed'!H4+'1D Vectors Transposed'!I4*'Risk-return'!PM3","v":0.4112541291048486},{"$f":"'1D Vectors Transposed'!H4+'1D Vectors Transposed'!I4*'Risk-return'!PN3","v":0.4097883272058841},{"$f":"'1D Vectors Transposed'!H4+'1D Vectors Transposed'!I4*'Risk-return'!PO3","v":0.40832252530691948},{"$f":"'1D Vectors Transposed'!H4+'1D Vectors Transposed'!I4*'Risk-return'!PP3","v":0.40685672340795498},{"$f":"'1D Vectors Transposed'!H4+'1D Vectors Transposed'!I4*'Risk-return'!PQ3","v":0.40539092150899048},{"$f":"'1D Vectors Transposed'!H4+'1D Vectors Transposed'!I4*'Risk-return'!PR3","v":0.40392511961002597},{"$f":"'1D Vectors Transposed'!H4+'1D Vectors Transposed'!I4*'Risk-return'!PS3","v":0.40245931771106147},{"$f":"'1D Vectors Transposed'!H4+'1D Vectors Transposed'!I4*'Risk-return'!PT3","v":0.40099351581209697},{"$f":"'1D Vectors Transposed'!H4+'1D Vectors Transposed'!I4*'Risk-return'!PU3","v":0.39952771391313247},{"$f":"'1D Vectors Transposed'!H4+'1D Vectors Transposed'!I4*'Risk-return'!PV3","v":0.39806191201416796},{"$f":"'1D Vectors Transposed'!H4+'1D Vectors Transposed'!I4*'Risk-return'!PW3","v":0.39659611011520346},{"$f":"'1D Vectors Transposed'!H4+'1D Vectors Transposed'!I4*'Risk-return'!PX3","v":0.39513030821623896},{"$f":"'1D Vectors Transposed'!H4+'1D Vectors Transposed'!I4*'Risk-return'!PY3","v":0.39366450631727445},{"$f":"'1D Vectors Transposed'!H4+'1D Vectors Transposed'!I4*'Risk-return'!PZ3","v":0.39219870441830984},{"$f":"'1D Vectors Transposed'!H4+'1D Vectors Transposed'!I4*'Risk-return'!QA3","v":0.39073290251934534},{"$f":"'1D Vectors Transposed'!H4+'1D Vectors Transposed'!I4*'Risk-return'!QB3","v":0.38926710062038083},{"$f":"'1D Vectors Transposed'!H4+'1D Vectors Transposed'!I4*'Risk-return'!QC3","v":0.38780129872141633},{"$f":"'1D Vectors Transposed'!H4+'1D Vectors Transposed'!I4*'Risk-return'!QD3","v":0.38633549682245183},{"$f":"'1D Vectors Transposed'!H4+'1D Vectors Transposed'!I4*'Risk-return'!QE3","v":0.38486969492348733},{"$f":"'1D Vectors Transposed'!H4+'1D Vectors Transposed'!I4*'Risk-return'!QF3","v":0.38340389302452282},{"$f":"'1D Vectors Transposed'!H4+'1D Vectors Transposed'!I4*'Risk-return'!QG3","v":0.38193809112555832},{"$f":"'1D Vectors Transposed'!H4+'1D Vectors Transposed'!I4*'Risk-return'!QH3","v":0.38047228922659382},{"$f":"'1D Vectors Transposed'!H4+'1D Vectors Transposed'!I4*'Risk-return'!QI3","v":0.37900648732762932},{"$f":"'1D Vectors Transposed'!H4+'1D Vectors Transposed'!I4*'Risk-return'!QJ3","v":0.37754068542866481},{"$f":"'1D Vectors Transposed'!H4+'1D Vectors Transposed'!I4*'Risk-return'!QK3","v":0.3760748835297002},{"$f":"'1D Vectors Transposed'!H4+'1D Vectors Transposed'!I4*'Risk-return'!QL3","v":0.3746090816307357},{"$f":"'1D Vectors Transposed'!H4+'1D Vectors Transposed'!I4*'Risk-return'!QM3","v":0.37314327973177119},{"$f":"'1D Vectors Transposed'!H4+'1D Vectors Transposed'!I4*'Risk-return'!QN3","v":0.37167747783280669},{"$f":"'1D Vectors Transposed'!H4+'1D Vectors Transposed'!I4*'Risk-return'!QO3","v":0.37021167593384219},{"$f":"'1D Vectors Transposed'!H4+'1D Vectors Transposed'!I4*'Risk-return'!QP3","v":0.36874587403487769},{"$f":"'1D Vectors Transposed'!H4+'1D Vectors Transposed'!I4*'Risk-return'!QQ3","v":0.36728007213591318},{"$f":"'1D Vectors Transposed'!H4+'1D Vectors Transposed'!I4*'Risk-return'!QR3","v":0.36581427023694868},{"$f":"'1D Vectors Transposed'!H4+'1D Vectors Transposed'!I4*'Risk-return'!QS3","v":0.36434846833798418},{"$f":"'1D Vectors Transposed'!H4+'1D Vectors Transposed'!I4*'Risk-return'!QT3","v":0.36288266643901967},{"$f":"'1D Vectors Transposed'!H4+'1D Vectors Transposed'!I4*'Risk-return'!QU3","v":0.36141686454005506},{"$f":"'1D Vectors Transposed'!H4+'1D Vectors Transposed'!I4*'Risk-return'!QV3","v":0.35995106264109056},{"$f":"'1D Vectors Transposed'!H4+'1D Vectors Transposed'!I4*'Risk-return'!QW3","v":0.35848526074212606},{"$f":"'1D Vectors Transposed'!H4+'1D Vectors Transposed'!I4*'Risk-return'!QX3","v":0.35701945884316155},{"$f":"'1D Vectors Transposed'!H4+'1D Vectors Transposed'!I4*'Risk-return'!QY3","v":0.35555365694419705},{"$f":"'1D Vectors Transposed'!H4+'1D Vectors Transposed'!I4*'Risk-return'!QZ3","v":0.35408785504523255},{"$f":"'1D Vectors Transposed'!H4+'1D Vectors Transposed'!I4*'Risk-return'!RA3","v":0.35262205314626804},{"$f":"'1D Vectors Transposed'!H4+'1D Vectors Transposed'!I4*'Risk-return'!RB3","v":0.35115625124730354},{"$f":"'1D Vectors Transposed'!H4+'1D Vectors Transposed'!I4*'Risk-return'!RC3","v":0.34969044934833904},{"$f":"'1D Vectors Transposed'!H4+'1D Vectors Transposed'!I4*'Risk-return'!RD3","v":0.34822464744937454},{"$f":"'1D Vectors Transposed'!H4+'1D Vectors Transposed'!I4*'Risk-return'!RE3","v":0.34675884555041003},{"$f":"'1D Vectors Transposed'!H4+'1D Vectors Transposed'!I4*'Risk-return'!RF3","v":0.34529304365144542},{"$f":"'1D Vectors Transposed'!H4+'1D Vectors Transposed'!I4*'Risk-return'!RG3","v":0.34382724175248092},{"$f":"'1D Vectors Transposed'!H4+'1D Vectors Transposed'!I4*'Risk-return'!RH3","v":0.34236143985351641},{"$f":"'1D Vectors Transposed'!H4+'1D Vectors Transposed'!I4*'Risk-return'!RI3","v":0.34089563795455191},{"$f":"'1D Vectors Transposed'!H4+'1D Vectors Transposed'!I4*'Risk-return'!RJ3","v":0.33942983605558741},{"$f":"'1D Vectors Transposed'!H4+'1D Vectors Transposed'!I4*'Risk-return'!RK3","v":0.33796403415662291},{"$f":"'1D Vectors Transposed'!H4+'1D Vectors Transposed'!I4*'Risk-return'!RL3","v":0.3364982322576584},{"$f":"'1D Vectors Transposed'!H4+'1D Vectors Transposed'!I4*'Risk-return'!RM3","v":0.3350324303586939},{"$f":"'1D Vectors Transposed'!H4+'1D Vectors Transposed'!I4*'Risk-return'!RN3","v":0.3335666284597294},{"$f":"'1D Vectors Transposed'!H4+'1D Vectors Transposed'!I4*'Risk-return'!RO3","v":0.33210082656076489},{"$f":"'1D Vectors Transposed'!H4+'1D Vectors Transposed'!I4*'Risk-return'!RP3","v":0.33063502466180039},{"$f":"'1D Vectors Transposed'!H4+'1D Vectors Transposed'!I4*'Risk-return'!RQ3","v":0.32916922276283578},{"$f":"'1D Vectors Transposed'!H4+'1D Vectors Transposed'!I4*'Risk-return'!RR3","v":0.32770342086387128},{"$f":"'1D Vectors Transposed'!H4+'1D Vectors Transposed'!I4*'Risk-return'!RS3","v":0.32623761896490677},{"$f":"'1D Vectors Transposed'!H4+'1D Vectors Transposed'!I4*'Risk-return'!RT3","v":0.32477181706594227},{"$f":"'1D Vectors Transposed'!H4+'1D Vectors Transposed'!I4*'Risk-return'!RU3","v":0.32330601516697777},{"$f":"'1D Vectors Transposed'!H4+'1D Vectors Transposed'!I4*'Risk-return'!RV3","v":0.32184021326801326},{"$f":"'1D Vectors Transposed'!H4+'1D Vectors Transposed'!I4*'Risk-return'!RW3","v":0.32037441136904876},{"$f":"'1D Vectors Transposed'!H4+'1D Vectors Transposed'!I4*'Risk-return'!RX3","v":0.31890860947008426},{"$f":"'1D Vectors Transposed'!H4+'1D Vectors Transposed'!I4*'Risk-return'!RY3","v":0.31744280757111976},{"$f":"'1D Vectors Transposed'!H4+'1D Vectors Transposed'!I4*'Risk-return'!RZ3","v":0.31597700567215525},{"$f":"'1D Vectors Transposed'!H4+'1D Vectors Transposed'!I4*'Risk-return'!SA3","v":0.31451120377319064},{"$f":"'1D Vectors Transposed'!H4+'1D Vectors Transposed'!I4*'Risk-return'!SB3","v":0.31304540187422614},{"$f":"'1D Vectors Transposed'!H4+'1D Vectors Transposed'!I4*'Risk-return'!SC3","v":0.31157959997526163},{"$f":"'1D Vectors Transposed'!H4+'1D Vectors Transposed'!I4*'Risk-return'!SD3","v":0.31011379807629713},{"$f":"'1D Vectors Transposed'!H4+'1D Vectors Transposed'!I4*'Risk-return'!SE3","v":0.30864799617733263},{"$f":"'1D Vectors Transposed'!H4+'1D Vectors Transposed'!I4*'Risk-return'!SF3","v":0.30718219427836813},{"$f":"'1D Vectors Transposed'!H4+'1D Vectors Transposed'!I4*'Risk-return'!SG3","v":1.0386089327761125}]
["SPASTT01ITM661N",{"$f":"'1D Vectors Transposed'!H5+'1D Vectors Transposed'!I5*'Risk-return'!B3","v":7.7872678177534044E-2},{"$f":"'1D Vectors Transposed'!H5+'1D Vectors Transposed'!I5*'Risk-return'!C3","v":7.6997198585342014E-2},{"$f":"'1D Vectors Transposed'!H5+'1D Vectors Transposed'!I5*'Risk-return'!D3","v":7.6121719056849502E-2},{"$f":"'1D Vectors Transposed'!H5+'1D Vectors Transposed'!I5*'Risk-return'!E3","v":7.5246239400957954E-2},{"$f":"'1D Vectors Transposed'!H5+'1D Vectors Transposed'!I5*'Risk-return'!F3","v":7.4370759999864505E-2},{"$f":"'1D Vectors Transposed'!H5+'1D Vectors Transposed'!I5*'Risk-return'!G3","v":7.3495280343972944E-2},{"$f":"'1D Vectors Transposed'!H5+'1D Vectors Transposed'!I5*'Risk-return'!H3","v":7.2619800688081382E-2},{"$f":"'1D Vectors Transposed'!H5+'1D Vectors Transposed'!I5*'Risk-return'!I3","v":7.1744321032189834E-2},{"$f":"'1D Vectors Transposed'!H5+'1D Vectors Transposed'!I5*'Risk-return'!J3","v":7.0868841376298272E-2},{"$f":"'1D Vectors Transposed'!H5+'1D Vectors Transposed'!I5*'Risk-return'!K3","v":6.9993362230002923E-2},{"$f":"'1D Vectors Transposed'!H5+'1D Vectors Transposed'!I5*'Risk-return'!L3","v":6.9117883083707574E-2},{"$f":"'1D Vectors Transposed'!H5+'1D Vectors Transposed'!I5*'Risk-return'!M3","v":6.8242403937412224E-2},{"$f":"'1D Vectors Transposed'!H5+'1D Vectors Transposed'!I5*'Risk-return'!N3","v":6.7366924791116875E-2},{"$f":"'1D Vectors Transposed'!H5+'1D Vectors Transposed'!I5*'Risk-return'!O3","v":6.6491445644821526E-2},{"$f":"'1D Vectors Transposed'!H5+'1D Vectors Transposed'!I5*'Risk-return'!P3","v":6.5615966498526176E-2},{"$f":"'1D Vectors Transposed'!H5+'1D Vectors Transposed'!I5*'Risk-return'!Q3","v":6.4740487352230827E-2},{"$f":"'1D Vectors Transposed'!H5+'1D Vectors Transposed'!I5*'Risk-return'!R3","v":6.3865008205935464E-2},{"$f":"'1D Vectors Transposed'!H5+'1D Vectors Transposed'!I5*'Risk-return'!S3","v":6.2989529059640115E-2},{"$f":"'1D Vectors Transposed'!H5+'1D Vectors Transposed'!I5*'Risk-return'!T3","v":6.2114049913344765E-2},{"$f":"'1D Vectors Transposed'!H5+'1D Vectors Transposed'!I5*'Risk-return'!U3","v":6.1238570767049416E-2},{"$f":"'1D Vectors Transposed'!H5+'1D Vectors Transposed'!I5*'Risk-return'!V3","v":6.0363090601561656E-2},{"$f":"'1D Vectors Transposed'!H5+'1D Vectors Transposed'!I5*'Risk-return'!W3","v":5.9487610436073896E-2},{"$f":"'1D Vectors Transposed'!H5+'1D Vectors Transposed'!I5*'Risk-return'!X3","v":5.8612130270586135E-2},{"$f":"'1D Vectors Transposed'!H5+'1D Vectors Transposed'!I5*'Risk-return'!Y3","v":5.7736650105098375E-2},{"$f":"'1D Vectors Transposed'!H5+'1D Vectors Transposed'!I5*'Risk-return'!Z3","v":5.6861169939610615E-2},{"$f":"'1D Vectors Transposed'!H5+'1D Vectors Transposed'!I5*'Risk-return'!AA3","v":5.5985689774122854E-2},{"$f":"'1D Vectors Transposed'!H5+'1D Vectors Transposed'!I5*'Risk-return'!AB3","v":5.5110209608635094E-2},{"$f":"'1D Vectors Transposed'!H5+'1D Vectors Transposed'!I5*'Risk-return'!AC3","v":5.4234729443147334E-2},{"$f":"'1D Vectors Transposed'!H5+'1D Vectors Transposed'!I5*'Risk-return'!AD3","v":5.3359249277659566E-2},{"$f":"'1D Vectors Transposed'!H5+'1D Vectors Transposed'!I5*'Risk-return'!AE3","v":5.2483769112171806E-2},{"$f":"'1D Vectors Transposed'!H5+'1D Vectors Transposed'!I5*'Risk-return'!AF3","v":5.1608288946684046E-2},{"$f":"'1D Vectors Transposed'!H5+'1D Vectors Transposed'!I5*'Risk-return'!AG3","v":5.0732808781196286E-2},{"$f":"'1D Vectors Transposed'!H5+'1D Vectors Transposed'!I5*'Risk-return'!AH3","v":4.9857328615708518E-2},{"$f":"'1D Vectors Transposed'!H5+'1D Vectors Transposed'!I5*'Risk-return'!AI3","v":4.8981848450220758E-2},{"$f":"'1D Vectors Transposed'!H5+'1D Vectors Transposed'!I5*'Risk-return'!AJ3","v":4.8106368284732998E-2},{"$f":"'1D Vectors Transposed'!H5+'1D Vectors Transposed'!I5*'Risk-return'!AK3","v":4.7230888119245237E-2},{"$f":"'1D Vectors Transposed'!H5+'1D Vectors Transposed'!I5*'Risk-return'!AL3","v":4.6355407953757477E-2},{"$f":"'1D Vectors Transposed'!H5+'1D Vectors Transposed'!I5*'Risk-return'!AM3","v":4.5479927788269717E-2},{"$f":"'1D Vectors Transposed'!H5+'1D Vectors Transposed'!I5*'Risk-return'!AN3","v":4.4604447622781956E-2},{"$f":"'1D Vectors Transposed'!H5+'1D Vectors Transposed'!I5*'Risk-return'!AO3","v":4.3728967457294196E-2},{"$f":"'1D Vectors Transposed'!H5+'1D Vectors Transposed'!I5*'Risk-return'!AP3","v":4.2853489330191258E-2},{"$f":"'1D Vectors Transposed'!H5+'1D Vectors Transposed'!I5*'Risk-return'!AQ3","v":4.1978011203088313E-2},{"$f":"'1D Vectors Transposed'!H5+'1D Vectors Transposed'!I5*'Risk-return'!AR3","v":4.1102533075985374E-2},{"$f":"'1D Vectors Transposed'!H5+'1D Vectors Transposed'!I5*'Risk-return'!AS3","v":4.0227054948882436E-2},{"$f":"'1D Vectors Transposed'!H5+'1D Vectors Transposed'!I5*'Risk-return'!AT3","v":3.9351576821779498E-2},{"$f":"'1D Vectors Transposed'!H5+'1D Vectors Transposed'!I5*'Risk-return'!AU3","v":3.8476098694676553E-2},{"$f":"'1D Vectors Transposed'!H5+'1D Vectors Transposed'!I5*'Risk-return'!AV3","v":3.7600620567573614E-2},{"$f":"'1D Vectors Transposed'!H5+'1D Vectors Transposed'!I5*'Risk-return'!AW3","v":3.6725142440470676E-2},{"$f":"'1D Vectors Transposed'!H5+'1D Vectors Transposed'!I5*'Risk-return'!AX3","v":3.5849664313367731E-2},{"$f":"'1D Vectors Transposed'!H5+'1D Vectors Transposed'!I5*'Risk-return'!AY3","v":3.4974186186264793E-2},{"$f":"'1D Vectors Transposed'!H5+'1D Vectors Transposed'!I5*'Risk-return'!AZ3","v":3.4098708059161854E-2},{"$f":"'1D Vectors Transposed'!H5+'1D Vectors Transposed'!I5*'Risk-return'!BA3","v":3.3223229932058916E-2},{"$f":"'1D Vectors Transposed'!H5+'1D Vectors Transposed'!I5*'Risk-return'!BB3","v":3.2347751804955971E-2},{"$f":"'1D Vectors Transposed'!H5+'1D Vectors Transposed'!I5*'Risk-return'!BC3","v":3.1472273677853033E-2},{"$f":"'1D Vectors Transposed'!H5+'1D Vectors Transposed'!I5*'Risk-return'!BD3","v":3.0596795550750094E-2},{"$f":"'1D Vectors Transposed'!H5+'1D Vectors Transposed'!I5*'Risk-return'!BE3","v":2.9721317423647156E-2},{"$f":"'1D Vectors Transposed'!H5+'1D Vectors Transposed'!I5*'Risk-return'!BF3","v":2.8845839296544211E-2},{"$f":"'1D Vectors Transposed'!H5+'1D Vectors Transposed'!I5*'Risk-return'!BG3","v":2.7970361169441273E-2},{"$f":"'1D Vectors Transposed'!H5+'1D Vectors Transposed'!I5*'Risk-return'!BH3","v":2.7094883042338334E-2},{"$f":"'1D Vectors Transposed'!H5+'1D Vectors Transposed'!I5*'Risk-return'!BI3","v":2.6219404915235396E-2},{"$f":"'1D Vectors Transposed'!H5+'1D Vectors Transposed'!I5*'Risk-return'!BJ3","v":2.5343926788132451E-2},{"$f":"'1D Vectors Transposed'!H5+'1D Vectors Transposed'!I5*'Risk-return'!BK3","v":2.4468448661029513E-2},{"$f":"'1D Vectors Transposed'!H5+'1D Vectors Transposed'!I5*'Risk-return'!BL3","v":2.3592970533926574E-2},{"$f":"'1D Vectors Transposed'!H5+'1D Vectors Transposed'!I5*'Risk-return'!BM3","v":2.2717492406823629E-2},{"$f":"'1D Vectors Transposed'!H5+'1D Vectors Transposed'!I5*'Risk-return'!BN3","v":2.1842014279720691E-2},{"$f":"'1D Vectors Transposed'!H5+'1D Vectors Transposed'!I5*'Risk-return'!BO3","v":2.0966536152617753E-2},{"$f":"'1D Vectors Transposed'!H5+'1D Vectors Transposed'!I5*'Risk-return'!BP3","v":2.0091058025514814E-2},{"$f":"'1D Vectors Transposed'!H5+'1D Vectors Transposed'!I5*'Risk-return'!BQ3","v":1.9215579898411869E-2},{"$f":"'1D Vectors Transposed'!H5+'1D Vectors Transposed'!I5*'Risk-return'!BR3","v":1.8340101771308931E-2},{"$f":"'1D Vectors Transposed'!H5+'1D Vectors Transposed'!I5*'Risk-return'!BS3","v":1.7464623644205993E-2},{"$f":"'1D Vectors Transposed'!H5+'1D Vectors Transposed'!I5*'Risk-return'!BT3","v":1.6589145517103054E-2},{"$f":"'1D Vectors Transposed'!H5+'1D Vectors Transposed'!I5*'Risk-return'!BU3","v":1.5713667390000116E-2},{"$f":"'1D Vectors Transposed'!H5+'1D Vectors Transposed'!I5*'Risk-return'!BV3","v":1.4838189262897178E-2},{"$f":"'1D Vectors Transposed'!H5+'1D Vectors Transposed'!I5*'Risk-return'!BW3","v":1.3962711135794226E-2},{"$f":"'1D Vectors Transposed'!H5+'1D Vectors Transposed'!I5*'Risk-return'!BX3","v":1.3087233008691287E-2},{"$f":"'1D Vectors Transposed'!H5+'1D Vectors Transposed'!I5*'Risk-return'!BY3","v":1.2211754881588349E-2},{"$f":"'1D Vectors Transposed'!H5+'1D Vectors Transposed'!I5*'Risk-return'!BZ3","v":1.1336276754485411E-2},{"$f":"'1D Vectors Transposed'!H5+'1D Vectors Transposed'!I5*'Risk-return'!CA3","v":1.0460798627382473E-2},{"$f":"'1D Vectors Transposed'!H5+'1D Vectors Transposed'!I5*'Risk-return'!CB3","v":9.5853205002795344E-3},{"$f":"'1D Vectors Transposed'!H5+'1D Vectors Transposed'!I5*'Risk-return'!CC3","v":8.7098423731765962E-3},{"$f":"'1D Vectors Transposed'!H5+'1D Vectors Transposed'!I5*'Risk-return'!CD3","v":7.834364246073644E-3},{"$f":"'1D Vectors Transposed'!H5+'1D Vectors Transposed'!I5*'Risk-return'!CE3","v":6.9588861189707057E-3},{"$f":"'1D Vectors Transposed'!H5+'1D Vectors Transposed'!I5*'Risk-return'!CF3","v":6.0834079918677675E-3},{"$f":"'1D Vectors Transposed'!H5+'1D Vectors Transposed'!I5*'Risk-return'!CG3","v":5.2079298647648292E-3},{"$f":"'1D Vectors Transposed'!H5+'1D Vectors Transposed'!I5*'Risk-return'!CH3","v":4.332451737661891E-3},{"$f":"'1D Vectors Transposed'!H5+'1D Vectors Transposed'!I5*'Risk-return'!CI3","v":3.4569736105589527E-3},{"$f":"'1D Vectors Transposed'!H5+'1D Vectors Transposed'!I5*'Risk-return'!CJ3","v":2.5814954834560144E-3},{"$f":"'1D Vectors Transposed'!H5+'1D Vectors Transposed'!I5*'Risk-return'!CK3","v":1.7060173563530762E-3},{"$f":"'1D Vectors Transposed'!H5+'1D Vectors Transposed'!I5*'Risk-return'!CL3","v":8.3053922925012402E-4},{"$f":"'1D Vectors Transposed'!H5+'1D Vectors Transposed'!I5*'Risk-return'!CM3","v":-4.4938897852814241E-5},{"$f":"'1D Vectors Transposed'!H5+'1D Vectors Transposed'!I5*'Risk-return'!CN3","v":-9.2041702495575251E-4},{"$f":"'1D Vectors Transposed'!H5+'1D Vectors Transposed'!I5*'Risk-return'!CO3","v":-1.7958951520586908E-3},{"$f":"'1D Vectors Transposed'!H5+'1D Vectors Transposed'!I5*'Risk-return'!CP3","v":-2.671373279161629E-3},{"$f":"'1D Vectors Transposed'!H5+'1D Vectors Transposed'!I5*'Risk-return'!CQ3","v":-3.5468514062645673E-3},{"$f":"'1D Vectors Transposed'!H5+'1D Vectors Transposed'!I5*'Risk-return'!CR3","v":-4.4223295333675056E-3},{"$f":"'1D Vectors Transposed'!H5+'1D Vectors Transposed'!I5*'Risk-return'!CS3","v":-5.2978076604704577E-3},{"$f":"'1D Vectors Transposed'!H5+'1D Vectors Transposed'!I5*'Risk-return'!CT3","v":-6.173285787573396E-3},{"$f":"'1D Vectors Transposed'!H5+'1D Vectors Transposed'!I5*'Risk-return'!CU3","v":-7.0487639146763342E-3},{"$f":"'1D Vectors Transposed'!H5+'1D Vectors Transposed'!I5*'Risk-return'!CV3","v":-7.9242420417792725E-3},{"$f":"'1D Vectors Transposed'!H5+'1D Vectors Transposed'!I5*'Risk-return'!CW3","v":-8.7997201688822108E-3},{"$f":"'1D Vectors Transposed'!H5+'1D Vectors Transposed'!I5*'Risk-return'!CX3","v":-9.675198295985149E-3},{"$f":"'1D Vectors Transposed'!H5+'1D Vectors Transposed'!I5*'Risk-return'!CY3","v":-1.0550676423088087E-2},{"$f":"'1D Vectors Transposed'!H5+'1D Vectors Transposed'!I5*'Risk-return'!CZ3","v":-1.1426154550191026E-2},{"$f":"'1D Vectors Transposed'!H5+'1D Vectors Transposed'!I5*'Risk-return'!DA3","v":-1.2301632677293978E-2},{"$f":"'1D Vectors Transposed'!H5+'1D Vectors Transposed'!I5*'Risk-return'!DB3","v":-1.3177110804396916E-2},{"$f":"'1D Vectors Transposed'!H5+'1D Vectors Transposed'!I5*'Risk-return'!DC3","v":-1.4052588931499854E-2},{"$f":"'1D Vectors Transposed'!H5+'1D Vectors Transposed'!I5*'Risk-return'!DD3","v":-1.4928067058602792E-2},{"$f":"'1D Vectors Transposed'!H5+'1D Vectors Transposed'!I5*'Risk-return'!DE3","v":-1.5803545185705731E-2},{"$f":"'1D Vectors Transposed'!H5+'1D Vectors Transposed'!I5*'Risk-return'!DF3","v":-1.6679023312808669E-2},{"$f":"'1D Vectors Transposed'!H5+'1D Vectors Transposed'!I5*'Risk-return'!DG3","v":-1.7554501439911607E-2},{"$f":"'1D Vectors Transposed'!H5+'1D Vectors Transposed'!I5*'Risk-return'!DH3","v":-1.8429979567014559E-2},{"$f":"'1D Vectors Transposed'!H5+'1D Vectors Transposed'!I5*'Risk-return'!DI3","v":-1.9305457694117498E-2},{"$f":"'1D Vectors Transposed'!H5+'1D Vectors Transposed'!I5*'Risk-return'!DJ3","v":-2.0180935821220436E-2},{"$f":"'1D Vectors Transposed'!H5+'1D Vectors Transposed'!I5*'Risk-return'!DK3","v":-2.1056413948323374E-2},{"$f":"'1D Vectors Transposed'!H5+'1D Vectors Transposed'!I5*'Risk-return'!DL3","v":-2.1931892075426312E-2},{"$f":"'1D Vectors Transposed'!H5+'1D Vectors Transposed'!I5*'Risk-return'!DM3","v":-2.2807370202529251E-2},{"$f":"'1D Vectors Transposed'!H5+'1D Vectors Transposed'!I5*'Risk-return'!DN3","v":-2.3682848329632189E-2},{"$f":"'1D Vectors Transposed'!H5+'1D Vectors Transposed'!I5*'Risk-return'!DO3","v":-2.4558326456735127E-2},{"$f":"'1D Vectors Transposed'!H5+'1D Vectors Transposed'!I5*'Risk-return'!DP3","v":-2.5433804583838079E-2},{"$f":"'1D Vectors Transposed'!H5+'1D Vectors Transposed'!I5*'Risk-return'!DQ3","v":-2.6309282710941018E-2},{"$f":"'1D Vectors Transposed'!H5+'1D Vectors Transposed'!I5*'Risk-return'!DR3","v":-2.7184760838043956E-2},{"$f":"'1D Vectors Transposed'!H5+'1D Vectors Transposed'!I5*'Risk-return'!DS3","v":-2.8060238965146894E-2},{"$f":"'1D Vectors Transposed'!H5+'1D Vectors Transposed'!I5*'Risk-return'!DT3","v":-2.8935717092249832E-2},{"$f":"'1D Vectors Transposed'!H5+'1D Vectors Transposed'!I5*'Risk-return'!DU3","v":-2.9811195219352771E-2},{"$f":"'1D Vectors Transposed'!H5+'1D Vectors Transposed'!I5*'Risk-return'!DV3","v":-3.0686673346455709E-2},{"$f":"'1D Vectors Transposed'!H5+'1D Vectors Transposed'!I5*'Risk-return'!DW3","v":-3.1562151473558661E-2},{"$f":"'1D Vectors Transposed'!H5+'1D Vectors Transposed'!I5*'Risk-return'!DX3","v":-3.2437629600661599E-2},{"$f":"'1D Vectors Transposed'!H5+'1D Vectors Transposed'!I5*'Risk-return'!DY3","v":-3.3313107727764538E-2},{"$f":"'1D Vectors Transposed'!H5+'1D Vectors Transposed'!I5*'Risk-return'!DZ3","v":-3.4188585854867476E-2},{"$f":"'1D Vectors Transposed'!H5+'1D Vectors Transposed'!I5*'Risk-return'!EA3","v":-3.5064063981970414E-2},{"$f":"'1D Vectors Transposed'!H5+'1D Vectors Transposed'!I5*'Risk-return'!EB3","v":-3.5939542109073352E-2},{"$f":"'1D Vectors Transposed'!H5+'1D Vectors Transposed'!I5*'Risk-return'!EC3","v":-3.6815020236176291E-2},{"$f":"'1D Vectors Transposed'!H5+'1D Vectors Transposed'!I5*'Risk-return'!ED3","v":-3.7690498363279243E-2},{"$f":"'1D Vectors Transposed'!H5+'1D Vectors Transposed'!I5*'Risk-return'!EE3","v":-3.8565976490382181E-2},{"$f":"'1D Vectors Transposed'!H5+'1D Vectors Transposed'!I5*'Risk-return'!EF3","v":-3.9441454617485119E-2},{"$f":"'1D Vectors Transposed'!H5+'1D Vectors Transposed'!I5*'Risk-return'!EG3","v":-4.0316932744588058E-2},{"$f":"'1D Vectors Transposed'!H5+'1D Vectors Transposed'!I5*'Risk-return'!EH3","v":-4.1192410871690996E-2},{"$f":"'1D Vectors Transposed'!H5+'1D Vectors Transposed'!I5*'Risk-return'!EI3","v":-4.2067888998793934E-2},{"$f":"'1D Vectors Transposed'!H5+'1D Vectors Transposed'!I5*'Risk-return'!EJ3","v":-4.2943367125896872E-2},{"$f":"'1D Vectors Transposed'!H5+'1D Vectors Transposed'!I5*'Risk-return'!EK3","v":-4.3818845252999811E-2},{"$f":"'1D Vectors Transposed'!H5+'1D Vectors Transposed'!I5*'Risk-return'!EL3","v":-4.4694323380102763E-2},{"$f":"'1D Vectors Transposed'!H5+'1D Vectors Transposed'!I5*'Risk-return'!EM3","v":-4.5569801507205701E-2},{"$f":"'1D Vectors Transposed'!H5+'1D Vectors Transposed'!I5*'Risk-return'!EN3","v":-4.6445279634308639E-2},{"$f":"'1D Vectors Transposed'!H5+'1D Vectors Transposed'!I5*'Risk-return'!EO3","v":-4.7320757761411564E-2},{"$f":"'1D Vectors Transposed'!H5+'1D Vectors Transposed'!I5*'Risk-return'!EP3","v":-4.8196235888514516E-2},{"$f":"'1D Vectors Transposed'!H5+'1D Vectors Transposed'!I5*'Risk-return'!EQ3","v":-4.9071714015617468E-2},{"$f":"'1D Vectors Transposed'!H5+'1D Vectors Transposed'!I5*'Risk-return'!ER3","v":-4.9947192142720392E-2},{"$f":"'1D Vectors Transposed'!H5+'1D Vectors Transposed'!I5*'Risk-return'!ES3","v":-5.0822670269823345E-2},{"$f":"'1D Vectors Transposed'!H5+'1D Vectors Transposed'!I5*'Risk-return'!ET3","v":-5.1698148396926269E-2},{"$f":"'1D Vectors Transposed'!H5+'1D Vectors Transposed'!I5*'Risk-return'!EU3","v":-5.2573626524029221E-2},{"$f":"'1D Vectors Transposed'!H5+'1D Vectors Transposed'!I5*'Risk-return'!EV3","v":-5.3449104651132145E-2},{"$f":"'1D Vectors Transposed'!H5+'1D Vectors Transposed'!I5*'Risk-return'!EW3","v":-5.4324582778235098E-2},{"$f":"'1D Vectors Transposed'!H5+'1D Vectors Transposed'!I5*'Risk-return'!EX3","v":-5.520006090533805E-2},{"$f":"'1D Vectors Transposed'!H5+'1D Vectors Transposed'!I5*'Risk-return'!EY3","v":-5.6075539032440974E-2},{"$f":"'1D Vectors Transposed'!H5+'1D Vectors Transposed'!I5*'Risk-return'!EZ3","v":-5.6951017159543926E-2},{"$f":"'1D Vectors Transposed'!H5+'1D Vectors Transposed'!I5*'Risk-return'!FA3","v":-5.7826495286646851E-2},{"$f":"'1D Vectors Transposed'!H5+'1D Vectors Transposed'!I5*'Risk-return'!FB3","v":-5.8701973413749803E-2},{"$f":"'1D Vectors Transposed'!H5+'1D Vectors Transposed'!I5*'Risk-return'!FC3","v":-5.9577451540852727E-2},{"$f":"'1D Vectors Transposed'!H5+'1D Vectors Transposed'!I5*'Risk-return'!FD3","v":-6.0452929667955679E-2},{"$f":"'1D Vectors Transposed'!H5+'1D Vectors Transposed'!I5*'Risk-return'!FE3","v":-6.1328407795058631E-2},{"$f":"'1D Vectors Transposed'!H5+'1D Vectors Transposed'!I5*'Risk-return'!FF3","v":-6.2203885922161556E-2},{"$f":"'1D Vectors Transposed'!H5+'1D Vectors Transposed'!I5*'Risk-return'!FG3","v":-6.3079364049264508E-2},{"$f":"'1D Vectors Transposed'!H5+'1D Vectors Transposed'!I5*'Risk-return'!FH3","v":-6.3954842176367432E-2},{"$f":"'1D Vectors Transposed'!H5+'1D Vectors Transposed'!I5*'Risk-return'!FI3","v":-6.4830320303470385E-2},{"$f":"'1D Vectors Transposed'!H5+'1D Vectors Transposed'!I5*'Risk-return'!FJ3","v":-6.5705798430573309E-2},{"$f":"'1D Vectors Transposed'!H5+'1D Vectors Transposed'!I5*'Risk-return'!FK3","v":-6.6581276557676261E-2},{"$f":"'1D Vectors Transposed'!H5+'1D Vectors Transposed'!I5*'Risk-return'!FL3","v":-6.7456754684779213E-2},{"$f":"'1D Vectors Transposed'!H5+'1D Vectors Transposed'!I5*'Risk-return'!FM3","v":-6.8332232811882138E-2},{"$f":"'1D Vectors Transposed'!H5+'1D Vectors Transposed'!I5*'Risk-return'!FN3","v":-6.920771093898509E-2},{"$f":"'1D Vectors Transposed'!H5+'1D Vectors Transposed'!I5*'Risk-return'!FO3","v":-7.0083189066088014E-2},{"$f":"'1D Vectors Transposed'!H5+'1D Vectors Transposed'!I5*'Risk-return'!FP3","v":-7.0958667193190966E-2},{"$f":"'1D Vectors Transposed'!H5+'1D Vectors Transposed'!I5*'Risk-return'!FQ3","v":-7.1834145320293891E-2},{"$f":"'1D Vectors Transposed'!H5+'1D Vectors Transposed'!I5*'Risk-return'!FR3","v":-7.2709623447396843E-2},{"$f":"'1D Vectors Transposed'!H5+'1D Vectors Transposed'!I5*'Risk-return'!FS3","v":-7.3585101574499767E-2},{"$f":"'1D Vectors Transposed'!H5+'1D Vectors Transposed'!I5*'Risk-return'!FT3","v":-7.4460579701602719E-2},{"$f":"'1D Vectors Transposed'!H5+'1D Vectors Transposed'!I5*'Risk-return'!FU3","v":-7.5336057828705671E-2},{"$f":"'1D Vectors Transposed'!H5+'1D Vectors Transposed'!I5*'Risk-return'!FV3","v":-7.6211535955808596E-2},{"$f":"'1D Vectors Transposed'!H5+'1D Vectors Transposed'!I5*'Risk-return'!FW3","v":-7.7087014082911548E-2},{"$f":"'1D Vectors Transposed'!H5+'1D Vectors Transposed'!I5*'Risk-return'!FX3","v":-7.7962492210014472E-2},{"$f":"'1D Vectors Transposed'!H5+'1D Vectors Transposed'!I5*'Risk-return'!FY3","v":-7.8837970337117425E-2},{"$f":"'1D Vectors Transposed'!H5+'1D Vectors Transposed'!I5*'Risk-return'!FZ3","v":-7.9713448464220349E-2},{"$f":"'1D Vectors Transposed'!H5+'1D Vectors Transposed'!I5*'Risk-return'!GA3","v":-8.0588926591323301E-2},{"$f":"'1D Vectors Transposed'!H5+'1D Vectors Transposed'!I5*'Risk-return'!GB3","v":-8.1464404718426253E-2},{"$f":"'1D Vectors Transposed'!H5+'1D Vectors Transposed'!I5*'Risk-return'!GC3","v":-8.2339882845529178E-2},{"$f":"'1D Vectors Transposed'!H5+'1D Vectors Transposed'!I5*'Risk-return'!GD3","v":-8.321536097263213E-2},{"$f":"'1D Vectors Transposed'!H5+'1D Vectors Transposed'!I5*'Risk-return'!GE3","v":-8.4090839099735054E-2},{"$f":"'1D Vectors Transposed'!H5+'1D Vectors Transposed'!I5*'Risk-return'!GF3","v":-8.4966317226838006E-2},{"$f":"'1D Vectors Transposed'!H5+'1D Vectors Transposed'!I5*'Risk-return'!GG3","v":-8.5841795353940931E-2},{"$f":"'1D Vectors Transposed'!H5+'1D Vectors Transposed'!I5*'Risk-return'!GH3","v":-8.6717273481043883E-2},{"$f":"'1D Vectors Transposed'!H5+'1D Vectors Transposed'!I5*'Risk-return'!GI3","v":-8.7592751608146835E-2},{"$f":"'1D Vectors Transposed'!H5+'1D Vectors Transposed'!I5*'Risk-return'!GJ3","v":-8.8468229735249759E-2},{"$f":"'1D Vectors Transposed'!H5+'1D Vectors Transposed'!I5*'Risk-return'!GK3","v":-8.9343707862352711E-2},{"$f":"'1D Vectors Transposed'!H5+'1D Vectors Transposed'!I5*'Risk-return'!GL3","v":-9.0219185989455636E-2},{"$f":"'1D Vectors Transposed'!H5+'1D Vectors Transposed'!I5*'Risk-return'!GM3","v":-9.1094664116558588E-2},{"$f":"'1D Vectors Transposed'!H5+'1D Vectors Transposed'!I5*'Risk-return'!GN3","v":-9.1970142243661512E-2},{"$f":"'1D Vectors Transposed'!H5+'1D Vectors Transposed'!I5*'Risk-return'!GO3","v":-9.2845620370764465E-2},{"$f":"'1D Vectors Transposed'!H5+'1D Vectors Transposed'!I5*'Risk-return'!GP3","v":-9.3721098497867417E-2},{"$f":"'1D Vectors Transposed'!H5+'1D Vectors Transposed'!I5*'Risk-return'!GQ3","v":-9.4596576624970341E-2},{"$f":"'1D Vectors Transposed'!H5+'1D Vectors Transposed'!I5*'Risk-return'!GR3","v":-9.5472054752073293E-2},{"$f":"'1D Vectors Transposed'!H5+'1D Vectors Transposed'!I5*'Risk-return'!GS3","v":-9.6347532879176218E-2},{"$f":"'1D Vectors Transposed'!H5+'1D Vectors Transposed'!I5*'Risk-return'!GT3","v":-9.722301100627917E-2},{"$f":"'1D Vectors Transposed'!H5+'1D Vectors Transposed'!I5*'Risk-return'!GU3","v":-9.8098489133382094E-2},{"$f":"'1D Vectors Transposed'!H5+'1D Vectors Transposed'!I5*'Risk-return'!GV3","v":-9.8973967260485046E-2},{"$f":"'1D Vectors Transposed'!H5+'1D Vectors Transposed'!I5*'Risk-return'!GW3","v":-9.9849445387587971E-2},{"$f":"'1D Vectors Transposed'!H5+'1D Vectors Transposed'!I5*'Risk-return'!GX3","v":-0.10072492351469092},{"$f":"'1D Vectors Transposed'!H5+'1D Vectors Transposed'!I5*'Risk-return'!GY3","v":-0.10160040164179387},{"$f":"'1D Vectors Transposed'!H5+'1D Vectors Transposed'!I5*'Risk-return'!GZ3","v":-0.1024758797688968},{"$f":"'1D Vectors Transposed'!H5+'1D Vectors Transposed'!I5*'Risk-return'!HA3","v":-0.10335135789599975},{"$f":"'1D Vectors Transposed'!H5+'1D Vectors Transposed'!I5*'Risk-return'!HB3","v":-0.10422683602310268},{"$f":"'1D Vectors Transposed'!H5+'1D Vectors Transposed'!I5*'Risk-return'!HC3","v":-0.10510231415020563},{"$f":"'1D Vectors Transposed'!H5+'1D Vectors Transposed'!I5*'Risk-return'!HD3","v":-0.10597779227730855},{"$f":"'1D Vectors Transposed'!H5+'1D Vectors Transposed'!I5*'Risk-return'!HE3","v":-0.1068532704044115},{"$f":"'1D Vectors Transposed'!H5+'1D Vectors Transposed'!I5*'Risk-return'!HF3","v":-0.10772874853151446},{"$f":"'1D Vectors Transposed'!H5+'1D Vectors Transposed'!I5*'Risk-return'!HG3","v":-0.10860422665861738},{"$f":"'1D Vectors Transposed'!H5+'1D Vectors Transposed'!I5*'Risk-return'!HH3","v":-0.10947970478572033},{"$f":"'1D Vectors Transposed'!H5+'1D Vectors Transposed'!I5*'Risk-return'!HI3","v":-0.11035518291282326},{"$f":"'1D Vectors Transposed'!H5+'1D Vectors Transposed'!I5*'Risk-return'!HJ3","v":-0.11123066103992621},{"$f":"'1D Vectors Transposed'!H5+'1D Vectors Transposed'!I5*'Risk-return'!HK3","v":-0.11210613916702913},{"$f":"'1D Vectors Transposed'!H5+'1D Vectors Transposed'!I5*'Risk-return'!HL3","v":-0.11298161729413209},{"$f":"'1D Vectors Transposed'!H5+'1D Vectors Transposed'!I5*'Risk-return'!HM3","v":-0.11385709542123504},{"$f":"'1D Vectors Transposed'!H5+'1D Vectors Transposed'!I5*'Risk-return'!HN3","v":-0.11473257354833796},{"$f":"'1D Vectors Transposed'!H5+'1D Vectors Transposed'!I5*'Risk-return'!HO3","v":-0.11560805167544091},{"$f":"'1D Vectors Transposed'!H5+'1D Vectors Transposed'!I5*'Risk-return'!HP3","v":-0.11648352980254384},{"$f":"'1D Vectors Transposed'!H5+'1D Vectors Transposed'!I5*'Risk-return'!HQ3","v":-0.11735900792964679},{"$f":"'1D Vectors Transposed'!H5+'1D Vectors Transposed'!I5*'Risk-return'!HR3","v":-0.11823448605674972},{"$f":"'1D Vectors Transposed'!H5+'1D Vectors Transposed'!I5*'Risk-return'!HS3","v":-0.11910996418385267},{"$f":"'1D Vectors Transposed'!H5+'1D Vectors Transposed'!I5*'Risk-return'!HT3","v":-0.11998544231095562},{"$f":"'1D Vectors Transposed'!H5+'1D Vectors Transposed'!I5*'Risk-return'!HU3","v":-0.12086092043805854},{"$f":"'1D Vectors Transposed'!H5+'1D Vectors Transposed'!I5*'Risk-return'!HV3","v":-0.1217363985651615},{"$f":"'1D Vectors Transposed'!H5+'1D Vectors Transposed'!I5*'Risk-return'!HW3","v":-0.12261187669226442},{"$f":"'1D Vectors Transposed'!H5+'1D Vectors Transposed'!I5*'Risk-return'!HX3","v":-0.12348735481936737},{"$f":"'1D Vectors Transposed'!H5+'1D Vectors Transposed'!I5*'Risk-return'!HY3","v":-0.1243628329464703},{"$f":"'1D Vectors Transposed'!H5+'1D Vectors Transposed'!I5*'Risk-return'!HZ3","v":-0.12523831107357325},{"$f":"'1D Vectors Transposed'!H5+'1D Vectors Transposed'!I5*'Risk-return'!IA3","v":-0.1261137892006762},{"$f":"'1D Vectors Transposed'!H5+'1D Vectors Transposed'!I5*'Risk-return'!IB3","v":-0.12698926732777913},{"$f":"'1D Vectors Transposed'!H5+'1D Vectors Transposed'!I5*'Risk-return'!IC3","v":-0.12786474545488208},{"$f":"'1D Vectors Transposed'!H5+'1D Vectors Transposed'!I5*'Risk-return'!ID3","v":-0.128740223581985},{"$f":"'1D Vectors Transposed'!H5+'1D Vectors Transposed'!I5*'Risk-return'!IE3","v":-0.12961570170908795},{"$f":"'1D Vectors Transposed'!H5+'1D Vectors Transposed'!I5*'Risk-return'!IF3","v":-0.13049117983619088},{"$f":"'1D Vectors Transposed'!H5+'1D Vectors Transposed'!I5*'Risk-return'!IG3","v":-0.13136665796329383},{"$f":"'1D Vectors Transposed'!H5+'1D Vectors Transposed'!I5*'Risk-return'!IH3","v":-0.13224213609039676},{"$f":"'1D Vectors Transposed'!H5+'1D Vectors Transposed'!I5*'Risk-return'!II3","v":-0.13311761421749971},{"$f":"'1D Vectors Transposed'!H5+'1D Vectors Transposed'!I5*'Risk-return'!IJ3","v":-0.13399309234460266},{"$f":"'1D Vectors Transposed'!H5+'1D Vectors Transposed'!I5*'Risk-return'!IK3","v":-0.13486857047170558},{"$f":"'1D Vectors Transposed'!H5+'1D Vectors Transposed'!I5*'Risk-return'!IL3","v":-0.13574404859880854},{"$f":"'1D Vectors Transposed'!H5+'1D Vectors Transposed'!I5*'Risk-return'!IM3","v":-0.13661952672591146},{"$f":"'1D Vectors Transposed'!H5+'1D Vectors Transposed'!I5*'Risk-return'!IN3","v":-0.13749500485301441},{"$f":"'1D Vectors Transposed'!H5+'1D Vectors Transposed'!I5*'Risk-return'!IO3","v":-0.13837048298011734},{"$f":"'1D Vectors Transposed'!H5+'1D Vectors Transposed'!I5*'Risk-return'!IP3","v":-0.13924596110722029},{"$f":"'1D Vectors Transposed'!H5+'1D Vectors Transposed'!I5*'Risk-return'!IQ3","v":-0.14012143923432324},{"$f":"'1D Vectors Transposed'!H5+'1D Vectors Transposed'!I5*'Risk-return'!IR3","v":-0.14099691736142617},{"$f":"'1D Vectors Transposed'!H5+'1D Vectors Transposed'!I5*'Risk-return'!IS3","v":-0.14187239548852912},{"$f":"'1D Vectors Transposed'!H5+'1D Vectors Transposed'!I5*'Risk-return'!IT3","v":-0.14274787361563204},{"$f":"'1D Vectors Transposed'!H5+'1D Vectors Transposed'!I5*'Risk-return'!IU3","v":-0.14362335174273499},{"$f":"'1D Vectors Transposed'!H5+'1D Vectors Transposed'!I5*'Risk-return'!IV3","v":-0.14449882986983792},{"$f":"'1D Vectors Transposed'!H5+'1D Vectors Transposed'!I5*'Risk-return'!IW3","v":-0.14537430799694087},{"$f":"'1D Vectors Transposed'!H5+'1D Vectors Transposed'!I5*'Risk-return'!IX3","v":-0.14624978612404382},{"$f":"'1D Vectors Transposed'!H5+'1D Vectors Transposed'!I5*'Risk-return'!IY3","v":-0.14712526425114675},{"$f":"'1D Vectors Transposed'!H5+'1D Vectors Transposed'!I5*'Risk-return'!IZ3","v":-0.1480007423782497},{"$f":"'1D Vectors Transposed'!H5+'1D Vectors Transposed'!I5*'Risk-return'!JA3","v":-0.14887622050535262},{"$f":"'1D Vectors Transposed'!H5+'1D Vectors Transposed'!I5*'Risk-return'!JB3","v":-0.14975169863245558},{"$f":"'1D Vectors Transposed'!H5+'1D Vectors Transposed'!I5*'Risk-return'!JC3","v":-0.1506271767595585},{"$f":"'1D Vectors Transposed'!H5+'1D Vectors Transposed'!I5*'Risk-return'!JD3","v":-0.15150265488666145},{"$f":"'1D Vectors Transposed'!H5+'1D Vectors Transposed'!I5*'Risk-return'!JE3","v":-0.15237813301376441},{"$f":"'1D Vectors Transposed'!H5+'1D Vectors Transposed'!I5*'Risk-return'!JF3","v":-0.15325361114086733},{"$f":"'1D Vectors Transposed'!H5+'1D Vectors Transposed'!I5*'Risk-return'!JG3","v":-0.15412908926797028},{"$f":"'1D Vectors Transposed'!H5+'1D Vectors Transposed'!I5*'Risk-return'!JH3","v":-0.15500456739507321},{"$f":"'1D Vectors Transposed'!H5+'1D Vectors Transposed'!I5*'Risk-return'!JI3","v":-0.15588004552217616},{"$f":"'1D Vectors Transposed'!H5+'1D Vectors Transposed'!I5*'Risk-return'!JJ3","v":-0.15675552364927908},{"$f":"'1D Vectors Transposed'!H5+'1D Vectors Transposed'!I5*'Risk-return'!JK3","v":-0.15763100177638203},{"$f":"'1D Vectors Transposed'!H5+'1D Vectors Transposed'!I5*'Risk-return'!JL3","v":-0.15850647990348496},{"$f":"'1D Vectors Transposed'!H5+'1D Vectors Transposed'!I5*'Risk-return'!JM3","v":-0.15938195803058791},{"$f":"'1D Vectors Transposed'!H5+'1D Vectors Transposed'!I5*'Risk-return'!JN3","v":-0.16025743615769086},{"$f":"'1D Vectors Transposed'!H5+'1D Vectors Transposed'!I5*'Risk-return'!JO3","v":-0.16113291428479379},{"$f":"'1D Vectors Transposed'!H5+'1D Vectors Transposed'!I5*'Risk-return'!JP3","v":-0.16200839241189674},{"$f":"'1D Vectors Transposed'!H5+'1D Vectors Transposed'!I5*'Risk-return'!JQ3","v":-0.16288387053899966},{"$f":"'1D Vectors Transposed'!H5+'1D Vectors Transposed'!I5*'Risk-return'!JR3","v":-0.16375934866610262},{"$f":"'1D Vectors Transposed'!H5+'1D Vectors Transposed'!I5*'Risk-return'!JS3","v":-0.16463482679320554},{"$f":"'1D Vectors Transposed'!H5+'1D Vectors Transposed'!I5*'Risk-return'!JT3","v":-0.16551030492030849},{"$f":"'1D Vectors Transposed'!H5+'1D Vectors Transposed'!I5*'Risk-return'!JU3","v":-0.16638578304741145},{"$f":"'1D Vectors Transposed'!H5+'1D Vectors Transposed'!I5*'Risk-return'!JV3","v":-0.16726126117451437},{"$f":"'1D Vectors Transposed'!H5+'1D Vectors Transposed'!I5*'Risk-return'!JW3","v":-0.16813673930161732},{"$f":"'1D Vectors Transposed'!H5+'1D Vectors Transposed'!I5*'Risk-return'!JX3","v":-0.16901221742872025},{"$f":"'1D Vectors Transposed'!H5+'1D Vectors Transposed'!I5*'Risk-return'!JY3","v":-0.1698876955558232},{"$f":"'1D Vectors Transposed'!H5+'1D Vectors Transposed'!I5*'Risk-return'!JZ3","v":-0.17076317368292612},{"$f":"'1D Vectors Transposed'!H5+'1D Vectors Transposed'!I5*'Risk-return'!KA3","v":-0.17163865181002905},{"$f":"'1D Vectors Transposed'!H5+'1D Vectors Transposed'!I5*'Risk-return'!KB3","v":-0.17251412993713203},{"$f":"'1D Vectors Transposed'!H5+'1D Vectors Transposed'!I5*'Risk-return'!KC3","v":-0.17338960806423495},{"$f":"'1D Vectors Transposed'!H5+'1D Vectors Transposed'!I5*'Risk-return'!KD3","v":-0.17426508619133788},{"$f":"'1D Vectors Transposed'!H5+'1D Vectors Transposed'!I5*'Risk-return'!KE3","v":-0.17514056431844086},{"$f":"'1D Vectors Transposed'!H5+'1D Vectors Transposed'!I5*'Risk-return'!KF3","v":-0.17601604244554378},{"$f":"'1D Vectors Transposed'!H5+'1D Vectors Transposed'!I5*'Risk-return'!KG3","v":-0.1768915205726467},{"$f":"'1D Vectors Transposed'!H5+'1D Vectors Transposed'!I5*'Risk-return'!KH3","v":-0.17776699869974963},{"$f":"'1D Vectors Transposed'!H5+'1D Vectors Transposed'!I5*'Risk-return'!KI3","v":-0.17864247682685261},{"$f":"'1D Vectors Transposed'!H5+'1D Vectors Transposed'!I5*'Risk-return'!KJ3","v":-0.17951795495395553},{"$f":"'1D Vectors Transposed'!H5+'1D Vectors Transposed'!I5*'Risk-return'!KK3","v":-0.18039343308105846},{"$f":"'1D Vectors Transposed'!H5+'1D Vectors Transposed'!I5*'Risk-return'!KL3","v":-0.18126891120816144},{"$f":"'1D Vectors Transposed'!H5+'1D Vectors Transposed'!I5*'Risk-return'!KM3","v":-0.18214438933526436},{"$f":"'1D Vectors Transposed'!H5+'1D Vectors Transposed'!I5*'Risk-return'!KN3","v":-0.18301986746236729},{"$f":"'1D Vectors Transposed'!H5+'1D Vectors Transposed'!I5*'Risk-return'!KO3","v":-0.18389534558947021},{"$f":"'1D Vectors Transposed'!H5+'1D Vectors Transposed'!I5*'Risk-return'!KP3","v":-0.18477082371657319},{"$f":"'1D Vectors Transposed'!H5+'1D Vectors Transposed'!I5*'Risk-return'!KQ3","v":-0.18564630184367611},{"$f":"'1D Vectors Transposed'!H5+'1D Vectors Transposed'!I5*'Risk-return'!KR3","v":-0.18652177997077904},{"$f":"'1D Vectors Transposed'!H5+'1D Vectors Transposed'!I5*'Risk-return'!KS3","v":-0.18739725809788202},{"$f":"'1D Vectors Transposed'!H5+'1D Vectors Transposed'!I5*'Risk-return'!KT3","v":-0.18827273622498494},{"$f":"'1D Vectors Transposed'!H5+'1D Vectors Transposed'!I5*'Risk-return'!KU3","v":-0.18914821435208787},{"$f":"'1D Vectors Transposed'!H5+'1D Vectors Transposed'!I5*'Risk-return'!KV3","v":-0.19002369247919079},{"$f":"'1D Vectors Transposed'!H5+'1D Vectors Transposed'!I5*'Risk-return'!KW3","v":-0.19089917060629377},{"$f":"'1D Vectors Transposed'!H5+'1D Vectors Transposed'!I5*'Risk-return'!KX3","v":-0.1917746487333967},{"$f":"'1D Vectors Transposed'!H5+'1D Vectors Transposed'!I5*'Risk-return'!KY3","v":-0.19265012686049962},{"$f":"'1D Vectors Transposed'!H5+'1D Vectors Transposed'!I5*'Risk-return'!KZ3","v":-0.1935256049876026},{"$f":"'1D Vectors Transposed'!H5+'1D Vectors Transposed'!I5*'Risk-return'!LA3","v":-0.19440108311470553},{"$f":"'1D Vectors Transposed'!H5+'1D Vectors Transposed'!I5*'Risk-return'!LB3","v":-0.19527657754888703},{"$f":"'1D Vectors Transposed'!H5+'1D Vectors Transposed'!I5*'Risk-return'!LC3","v":-0.19615207198306853},{"$f":"'1D Vectors Transposed'!H5+'1D Vectors Transposed'!I5*'Risk-return'!LD3","v":-0.19702756641725003},{"$f":"'1D Vectors Transposed'!H5+'1D Vectors Transposed'!I5*'Risk-return'!LE3","v":-0.19790306085143153},{"$f":"'1D Vectors Transposed'!H5+'1D Vectors Transposed'!I5*'Risk-return'!LF3","v":-0.19877855528561308},{"$f":"'1D Vectors Transposed'!H5+'1D Vectors Transposed'!I5*'Risk-return'!LG3","v":-0.19965404971979459},{"$f":"'1D Vectors Transposed'!H5+'1D Vectors Transposed'!I5*'Risk-return'!LH3","v":-0.20052954415397609},{"$f":"'1D Vectors Transposed'!H5+'1D Vectors Transposed'!I5*'Risk-return'!LI3","v":-0.20140503858815759},{"$f":"'1D Vectors Transposed'!H5+'1D Vectors Transposed'!I5*'Risk-return'!LJ3","v":-0.20228053302233909},{"$f":"'1D Vectors Transposed'!H5+'1D Vectors Transposed'!I5*'Risk-return'!LK3","v":-0.20315602745652059},{"$f":"'1D Vectors Transposed'!H5+'1D Vectors Transposed'!I5*'Risk-return'!LL3","v":-0.20403152189070209},{"$f":"'1D Vectors Transposed'!H5+'1D Vectors Transposed'!I5*'Risk-return'!LM3","v":-0.20490701632488365},{"$f":"'1D Vectors Transposed'!H5+'1D Vectors Transposed'!I5*'Risk-return'!LN3","v":-0.20578251075906515},{"$f":"'1D Vectors Transposed'!H5+'1D Vectors Transposed'!I5*'Risk-return'!LO3","v":-0.20665800519324665},{"$f":"'1D Vectors Transposed'!H5+'1D Vectors Transposed'!I5*'Risk-return'!LP3","v":-0.20753349962742815},{"$f":"'1D Vectors Transposed'!H5+'1D Vectors Transposed'!I5*'Risk-return'!LQ3","v":-0.20840899406160965},{"$f":"'1D Vectors Transposed'!H5+'1D Vectors Transposed'!I5*'Risk-return'!LR3","v":-0.20928448849579115},{"$f":"'1D Vectors Transposed'!H5+'1D Vectors Transposed'!I5*'Risk-return'!LS3","v":-0.21015998292997265},{"$f":"'1D Vectors Transposed'!H5+'1D Vectors Transposed'!I5*'Risk-return'!LT3","v":-0.21103547736415421},{"$f":"'1D Vectors Transposed'!H5+'1D Vectors Transposed'!I5*'Risk-return'!LU3","v":-0.21191097179833571},{"$f":"'1D Vectors Transposed'!H5+'1D Vectors Transposed'!I5*'Risk-return'!LV3","v":-0.21278646623251721},{"$f":"'1D Vectors Transposed'!H5+'1D Vectors Transposed'!I5*'Risk-return'!LW3","v":-0.21366196066669871},{"$f":"'1D Vectors Transposed'!H5+'1D Vectors Transposed'!I5*'Risk-return'!LX3","v":-0.21453745510088021},{"$f":"'1D Vectors Transposed'!H5+'1D Vectors Transposed'!I5*'Risk-return'!LY3","v":-0.21541294953506171},{"$f":"'1D Vectors Transposed'!H5+'1D Vectors Transposed'!I5*'Risk-return'!LZ3","v":-0.21628844396924321},{"$f":"'1D Vectors Transposed'!H5+'1D Vectors Transposed'!I5*'Risk-return'!MA3","v":-0.21716393840342477},{"$f":"'1D Vectors Transposed'!H5+'1D Vectors Transposed'!I5*'Risk-return'!MB3","v":-0.21803943283760627},{"$f":"'1D Vectors Transposed'!H5+'1D Vectors Transposed'!I5*'Risk-return'!MC3","v":-0.21891492727178777},{"$f":"'1D Vectors Transposed'!H5+'1D Vectors Transposed'!I5*'Risk-return'!MD3","v":-0.21979042170596927},{"$f":"'1D Vectors Transposed'!H5+'1D Vectors Transposed'!I5*'Risk-return'!ME3","v":-0.22066591614015077},{"$f":"'1D Vectors Transposed'!H5+'1D Vectors Transposed'!I5*'Risk-return'!MF3","v":-0.22154141057433227},{"$f":"'1D Vectors Transposed'!H5+'1D Vectors Transposed'!I5*'Risk-return'!MG3","v":-0.22241690500851377},{"$f":"'1D Vectors Transposed'!H5+'1D Vectors Transposed'!I5*'Risk-return'!MH3","v":-0.22329239944269527},{"$f":"'1D Vectors Transposed'!H5+'1D Vectors Transposed'!I5*'Risk-return'!MI3","v":-0.22416789387687683},{"$f":"'1D Vectors Transposed'!H5+'1D Vectors Transposed'!I5*'Risk-return'!MJ3","v":-0.22504338831105833},{"$f":"'1D Vectors Transposed'!H5+'1D Vectors Transposed'!I5*'Risk-return'!MK3","v":-0.22591888274523983},{"$f":"'1D Vectors Transposed'!H5+'1D Vectors Transposed'!I5*'Risk-return'!ML3","v":-0.22679437717942133},{"$f":"'1D Vectors Transposed'!H5+'1D Vectors Transposed'!I5*'Risk-return'!MM3","v":-0.22766987161360283},{"$f":"'1D Vectors Transposed'!H5+'1D Vectors Transposed'!I5*'Risk-return'!MN3","v":-0.22854536604778433},{"$f":"'1D Vectors Transposed'!H5+'1D Vectors Transposed'!I5*'Risk-return'!MO3","v":-0.22942086048196583},{"$f":"'1D Vectors Transposed'!H5+'1D Vectors Transposed'!I5*'Risk-return'!MP3","v":-0.23029635491614739},{"$f":"'1D Vectors Transposed'!H5+'1D Vectors Transposed'!I5*'Risk-return'!MQ3","v":-0.23117184935032889},{"$f":"'1D Vectors Transposed'!H5+'1D Vectors Transposed'!I5*'Risk-return'!MR3","v":-0.23204734378451039},{"$f":"'1D Vectors Transposed'!H5+'1D Vectors Transposed'!I5*'Risk-return'!MS3","v":-0.23292283821869189},{"$f":"'1D Vectors Transposed'!H5+'1D Vectors Transposed'!I5*'Risk-return'!MT3","v":-0.23379833265287339},{"$f":"'1D Vectors Transposed'!H5+'1D Vectors Transposed'!I5*'Risk-return'!MU3","v":-0.23467382708705489},{"$f":"'1D Vectors Transposed'!H5+'1D Vectors Transposed'!I5*'Risk-return'!MV3","v":-0.23554932152123639},{"$f":"'1D Vectors Transposed'!H5+'1D Vectors Transposed'!I5*'Risk-return'!MW3","v":-0.23642481595541795},{"$f":"'1D Vectors Transposed'!H5+'1D Vectors Transposed'!I5*'Risk-return'!MX3","v":-0.23730031038959945},{"$f":"'1D Vectors Transposed'!H5+'1D Vectors Transposed'!I5*'Risk-return'!MY3","v":-0.23817580482378095},{"$f":"'1D Vectors Transposed'!H5+'1D Vectors Transposed'!I5*'Risk-return'!MZ3","v":-0.23905129925796245},{"$f":"'1D Vectors Transposed'!H5+'1D Vectors Transposed'!I5*'Risk-return'!NA3","v":-0.23992679369214395},{"$f":"'1D Vectors Transposed'!H5+'1D Vectors Transposed'!I5*'Risk-return'!NB3","v":-0.24080228812632545},{"$f":"'1D Vectors Transposed'!H5+'1D Vectors Transposed'!I5*'Risk-return'!NC3","v":-0.24167778256050695},{"$f":"'1D Vectors Transposed'!H5+'1D Vectors Transposed'!I5*'Risk-return'!ND3","v":-0.24255327699468851},{"$f":"'1D Vectors Transposed'!H5+'1D Vectors Transposed'!I5*'Risk-return'!NE3","v":-0.24342877142887001},{"$f":"'1D Vectors Transposed'!H5+'1D Vectors Transposed'!I5*'Risk-return'!NF3","v":-0.24430426586305151},{"$f":"'1D Vectors Transposed'!H5+'1D Vectors Transposed'!I5*'Risk-return'!NG3","v":-0.24517976029723301},{"$f":"'1D Vectors Transposed'!H5+'1D Vectors Transposed'!I5*'Risk-return'!NH3","v":-0.24605525473141451},{"$f":"'1D Vectors Transposed'!H5+'1D Vectors Transposed'!I5*'Risk-return'!NI3","v":-0.24693074916559601},{"$f":"'1D Vectors Transposed'!H5+'1D Vectors Transposed'!I5*'Risk-return'!NJ3","v":-0.24780624359977751},{"$f":"'1D Vectors Transposed'!H5+'1D Vectors Transposed'!I5*'Risk-return'!NK3","v":-0.24868173803395907},{"$f":"'1D Vectors Transposed'!H5+'1D Vectors Transposed'!I5*'Risk-return'!NL3","v":-0.24955723246814057},{"$f":"'1D Vectors Transposed'!H5+'1D Vectors Transposed'!I5*'Risk-return'!NM3","v":-0.2504327269023221},{"$f":"'1D Vectors Transposed'!H5+'1D Vectors Transposed'!I5*'Risk-return'!NN3","v":-0.25130822133650355},{"$f":"'1D Vectors Transposed'!H5+'1D Vectors Transposed'!I5*'Risk-return'!NO3","v":-0.2521837157706851},{"$f":"'1D Vectors Transposed'!H5+'1D Vectors Transposed'!I5*'Risk-return'!NP3","v":-0.25305921020486655},{"$f":"'1D Vectors Transposed'!H5+'1D Vectors Transposed'!I5*'Risk-return'!NQ3","v":-0.2539347046390481},{"$f":"'1D Vectors Transposed'!H5+'1D Vectors Transposed'!I5*'Risk-return'!NR3","v":-0.25481019907322966},{"$f":"'1D Vectors Transposed'!H5+'1D Vectors Transposed'!I5*'Risk-return'!NS3","v":-0.2556856935074111},{"$f":"'1D Vectors Transposed'!H5+'1D Vectors Transposed'!I5*'Risk-return'!NT3","v":-0.25656118794159266},{"$f":"'1D Vectors Transposed'!H5+'1D Vectors Transposed'!I5*'Risk-return'!NU3","v":-0.25743668237577411},{"$f":"'1D Vectors Transposed'!H5+'1D Vectors Transposed'!I5*'Risk-return'!NV3","v":-0.25831217680995566},{"$f":"'1D Vectors Transposed'!H5+'1D Vectors Transposed'!I5*'Risk-return'!NW3","v":-0.25918767124413711},{"$f":"'1D Vectors Transposed'!H5+'1D Vectors Transposed'!I5*'Risk-return'!NX3","v":-0.26006316567831866},{"$f":"'1D Vectors Transposed'!H5+'1D Vectors Transposed'!I5*'Risk-return'!NY3","v":-0.26093866011250022},{"$f":"'1D Vectors Transposed'!H5+'1D Vectors Transposed'!I5*'Risk-return'!NZ3","v":-0.26181415454668167},{"$f":"'1D Vectors Transposed'!H5+'1D Vectors Transposed'!I5*'Risk-return'!OA3","v":-0.26268964898086322},{"$f":"'1D Vectors Transposed'!H5+'1D Vectors Transposed'!I5*'Risk-return'!OB3","v":-0.26356514341504467},{"$f":"'1D Vectors Transposed'!H5+'1D Vectors Transposed'!I5*'Risk-return'!OC3","v":-0.26444063784922622},{"$f":"'1D Vectors Transposed'!H5+'1D Vectors Transposed'!I5*'Risk-return'!OD3","v":-0.26531613228340767},{"$f":"'1D Vectors Transposed'!H5+'1D Vectors Transposed'!I5*'Risk-return'!OE3","v":-0.26619162671758922},{"$f":"'1D Vectors Transposed'!H5+'1D Vectors Transposed'!I5*'Risk-return'!OF3","v":-0.26706712115177078},{"$f":"'1D Vectors Transposed'!H5+'1D Vectors Transposed'!I5*'Risk-return'!OG3","v":-0.26794261558595223},{"$f":"'1D Vectors Transposed'!H5+'1D Vectors Transposed'!I5*'Risk-return'!OH3","v":-0.26881811002013378},{"$f":"'1D Vectors Transposed'!H5+'1D Vectors Transposed'!I5*'Risk-return'!OI3","v":-0.26969360445431523},{"$f":"'1D Vectors Transposed'!H5+'1D Vectors Transposed'!I5*'Risk-return'!OJ3","v":-0.27056909888849678},{"$f":"'1D Vectors Transposed'!H5+'1D Vectors Transposed'!I5*'Risk-return'!OK3","v":-0.27144459332267823},{"$f":"'1D Vectors Transposed'!H5+'1D Vectors Transposed'!I5*'Risk-return'!OL3","v":-0.27232008775685979},{"$f":"'1D Vectors Transposed'!H5+'1D Vectors Transposed'!I5*'Risk-return'!OM3","v":-0.27319558219104134},{"$f":"'1D Vectors Transposed'!H5+'1D Vectors Transposed'!I5*'Risk-return'!ON3","v":-0.27407107662522279},{"$f":"'1D Vectors Transposed'!H5+'1D Vectors Transposed'!I5*'Risk-return'!OO3","v":-0.27494657105940434},{"$f":"'1D Vectors Transposed'!H5+'1D Vectors Transposed'!I5*'Risk-return'!OP3","v":-0.27582206549358579},{"$f":"'1D Vectors Transposed'!H5+'1D Vectors Transposed'!I5*'Risk-return'!OQ3","v":-0.27669755992776734},{"$f":"'1D Vectors Transposed'!H5+'1D Vectors Transposed'!I5*'Risk-return'!OR3","v":-0.27757305436194879},{"$f":"'1D Vectors Transposed'!H5+'1D Vectors Transposed'!I5*'Risk-return'!OS3","v":-0.27844854879613035},{"$f":"'1D Vectors Transposed'!H5+'1D Vectors Transposed'!I5*'Risk-return'!OT3","v":-0.27932404323031179},{"$f":"'1D Vectors Transposed'!H5+'1D Vectors Transposed'!I5*'Risk-return'!OU3","v":-0.28019953766449335},{"$f":"'1D Vectors Transposed'!H5+'1D Vectors Transposed'!I5*'Risk-return'!OV3","v":-0.2810750320986749},{"$f":"'1D Vectors Transposed'!H5+'1D Vectors Transposed'!I5*'Risk-return'!OW3","v":-0.28195052653285635},{"$f":"'1D Vectors Transposed'!H5+'1D Vectors Transposed'!I5*'Risk-return'!OX3","v":-0.28282602096703791},{"$f":"'1D Vectors Transposed'!H5+'1D Vectors Transposed'!I5*'Risk-return'!OY3","v":-0.28370151540121935},{"$f":"'1D Vectors Transposed'!H5+'1D Vectors Transposed'!I5*'Risk-return'!OZ3","v":-0.28457700983540091},{"$f":"'1D Vectors Transposed'!H5+'1D Vectors Transposed'!I5*'Risk-return'!PA3","v":-0.28545250426958235},{"$f":"'1D Vectors Transposed'!H5+'1D Vectors Transposed'!I5*'Risk-return'!PB3","v":-0.28632799870376391},{"$f":"'1D Vectors Transposed'!H5+'1D Vectors Transposed'!I5*'Risk-return'!PC3","v":-0.28720349313794546},{"$f":"'1D Vectors Transposed'!H5+'1D Vectors Transposed'!I5*'Risk-return'!PD3","v":-0.28807898757212691},{"$f":"'1D Vectors Transposed'!H5+'1D Vectors Transposed'!I5*'Risk-return'!PE3","v":-0.28895448200630847},{"$f":"'1D Vectors Transposed'!H5+'1D Vectors Transposed'!I5*'Risk-return'!PF3","v":-0.28982997644048991},{"$f":"'1D Vectors Transposed'!H5+'1D Vectors Transposed'!I5*'Risk-return'!PG3","v":-0.29070547087467147},{"$f":"'1D Vectors Transposed'!H5+'1D Vectors Transposed'!I5*'Risk-return'!PH3","v":-0.29158096530885291},{"$f":"'1D Vectors Transposed'!H5+'1D Vectors Transposed'!I5*'Risk-return'!PI3","v":-0.29245645974303447},{"$f":"'1D Vectors Transposed'!H5+'1D Vectors Transposed'!I5*'Risk-return'!PJ3","v":-0.29333195417721603},{"$f":"'1D Vectors Transposed'!H5+'1D Vectors Transposed'!I5*'Risk-return'!PK3","v":-0.29420744861139747},{"$f":"'1D Vectors Transposed'!H5+'1D Vectors Transposed'!I5*'Risk-return'!PL3","v":-0.29508294304557903},{"$f":"'1D Vectors Transposed'!H5+'1D Vectors Transposed'!I5*'Risk-return'!PM3","v":-0.29595843747976047},{"$f":"'1D Vectors Transposed'!H5+'1D Vectors Transposed'!I5*'Risk-return'!PN3","v":-0.29683393191394203},{"$f":"'1D Vectors Transposed'!H5+'1D Vectors Transposed'!I5*'Risk-return'!PO3","v":-0.29770942634812347},{"$f":"'1D Vectors Transposed'!H5+'1D Vectors Transposed'!I5*'Risk-return'!PP3","v":-0.29858492078230503},{"$f":"'1D Vectors Transposed'!H5+'1D Vectors Transposed'!I5*'Risk-return'!PQ3","v":-0.29946041521648659},{"$f":"'1D Vectors Transposed'!H5+'1D Vectors Transposed'!I5*'Risk-return'!PR3","v":-0.30033590965066803},{"$f":"'1D Vectors Transposed'!H5+'1D Vectors Transposed'!I5*'Risk-return'!PS3","v":-0.30121140408484959},{"$f":"'1D Vectors Transposed'!H5+'1D Vectors Transposed'!I5*'Risk-return'!PT3","v":-0.30208689851903103},{"$f":"'1D Vectors Transposed'!H5+'1D Vectors Transposed'!I5*'Risk-return'!PU3","v":-0.30296239295321259},{"$f":"'1D Vectors Transposed'!H5+'1D Vectors Transposed'!I5*'Risk-return'!PV3","v":-0.30383788738739403},{"$f":"'1D Vectors Transposed'!H5+'1D Vectors Transposed'!I5*'Risk-return'!PW3","v":-0.30471338182157559},{"$f":"'1D Vectors Transposed'!H5+'1D Vectors Transposed'!I5*'Risk-return'!PX3","v":-0.30558887625575715},{"$f":"'1D Vectors Transposed'!H5+'1D Vectors Transposed'!I5*'Risk-return'!PY3","v":-0.30646437068993859},{"$f":"'1D Vectors Transposed'!H5+'1D Vectors Transposed'!I5*'Risk-return'!PZ3","v":-0.30733986512412015},{"$f":"'1D Vectors Transposed'!H5+'1D Vectors Transposed'!I5*'Risk-return'!QA3","v":-0.30821535955830159},{"$f":"'1D Vectors Transposed'!H5+'1D Vectors Transposed'!I5*'Risk-return'!QB3","v":-0.30909085399248315},{"$f":"'1D Vectors Transposed'!H5+'1D Vectors Transposed'!I5*'Risk-return'!QC3","v":-0.3099663484266646},{"$f":"'1D Vectors Transposed'!H5+'1D Vectors Transposed'!I5*'Risk-return'!QD3","v":-0.31084184286084615},{"$f":"'1D Vectors Transposed'!H5+'1D Vectors Transposed'!I5*'Risk-return'!QE3","v":-0.31171733729502771},{"$f":"'1D Vectors Transposed'!H5+'1D Vectors Transposed'!I5*'Risk-return'!QF3","v":-0.31259283172920915},{"$f":"'1D Vectors Transposed'!H5+'1D Vectors Transposed'!I5*'Risk-return'!QG3","v":-0.31346832616339071},{"$f":"'1D Vectors Transposed'!H5+'1D Vectors Transposed'!I5*'Risk-return'!QH3","v":-0.31434382059757215},{"$f":"'1D Vectors Transposed'!H5+'1D Vectors Transposed'!I5*'Risk-return'!QI3","v":-0.31521931503175371},{"$f":"'1D Vectors Transposed'!H5+'1D Vectors Transposed'!I5*'Risk-return'!QJ3","v":-0.31609480946593516},{"$f":"'1D Vectors Transposed'!H5+'1D Vectors Transposed'!I5*'Risk-return'!QK3","v":-0.31697030390011671},{"$f":"'1D Vectors Transposed'!H5+'1D Vectors Transposed'!I5*'Risk-return'!QL3","v":-0.31784579833429827},{"$f":"'1D Vectors Transposed'!H5+'1D Vectors Transposed'!I5*'Risk-return'!QM3","v":-0.31872129276847971},{"$f":"'1D Vectors Transposed'!H5+'1D Vectors Transposed'!I5*'Risk-return'!QN3","v":-0.31959678720266127},{"$f":"'1D Vectors Transposed'!H5+'1D Vectors Transposed'!I5*'Risk-return'!QO3","v":-0.32047228163684272},{"$f":"'1D Vectors Transposed'!H5+'1D Vectors Transposed'!I5*'Risk-return'!QP3","v":-0.32134777607102427},{"$f":"'1D Vectors Transposed'!H5+'1D Vectors Transposed'!I5*'Risk-return'!QQ3","v":-0.32222327050520572},{"$f":"'1D Vectors Transposed'!H5+'1D Vectors Transposed'!I5*'Risk-return'!QR3","v":-0.32309876493938727},{"$f":"'1D Vectors Transposed'!H5+'1D Vectors Transposed'!I5*'Risk-return'!QS3","v":-0.32397425937356883},{"$f":"'1D Vectors Transposed'!H5+'1D Vectors Transposed'!I5*'Risk-return'!QT3","v":-0.32484975380775027},{"$f":"'1D Vectors Transposed'!H5+'1D Vectors Transposed'!I5*'Risk-return'!QU3","v":-0.32572524824193183},{"$f":"'1D Vectors Transposed'!H5+'1D Vectors Transposed'!I5*'Risk-return'!QV3","v":-0.32660074267611328},{"$f":"'1D Vectors Transposed'!H5+'1D Vectors Transposed'!I5*'Risk-return'!QW3","v":-0.32747623711029483},{"$f":"'1D Vectors Transposed'!H5+'1D Vectors Transposed'!I5*'Risk-return'!QX3","v":-0.32835173154447628},{"$f":"'1D Vectors Transposed'!H5+'1D Vectors Transposed'!I5*'Risk-return'!QY3","v":-0.32922722597865783},{"$f":"'1D Vectors Transposed'!H5+'1D Vectors Transposed'!I5*'Risk-return'!QZ3","v":-0.33010272041283939},{"$f":"'1D Vectors Transposed'!H5+'1D Vectors Transposed'!I5*'Risk-return'!RA3","v":-0.33097821484702084},{"$f":"'1D Vectors Transposed'!H5+'1D Vectors Transposed'!I5*'Risk-return'!RB3","v":-0.33185370928120239},{"$f":"'1D Vectors Transposed'!H5+'1D Vectors Transposed'!I5*'Risk-return'!RC3","v":-0.33272920371538384},{"$f":"'1D Vectors Transposed'!H5+'1D Vectors Transposed'!I5*'Risk-return'!RD3","v":-0.33360469814956539},{"$f":"'1D Vectors Transposed'!H5+'1D Vectors Transposed'!I5*'Risk-return'!RE3","v":-0.33448019258374684},{"$f":"'1D Vectors Transposed'!H5+'1D Vectors Transposed'!I5*'Risk-return'!RF3","v":-0.33535568701792839},{"$f":"'1D Vectors Transposed'!H5+'1D Vectors Transposed'!I5*'Risk-return'!RG3","v":-0.33623118145210995},{"$f":"'1D Vectors Transposed'!H5+'1D Vectors Transposed'!I5*'Risk-return'!RH3","v":-0.3371066758862914},{"$f":"'1D Vectors Transposed'!H5+'1D Vectors Transposed'!I5*'Risk-return'!RI3","v":-0.33798217032047295},{"$f":"'1D Vectors Transposed'!H5+'1D Vectors Transposed'!I5*'Risk-return'!RJ3","v":-0.3388576647546544},{"$f":"'1D Vectors Transposed'!H5+'1D Vectors Transposed'!I5*'Risk-return'!RK3","v":-0.33973315918883595},{"$f":"'1D Vectors Transposed'!H5+'1D Vectors Transposed'!I5*'Risk-return'!RL3","v":-0.3406086536230174},{"$f":"'1D Vectors Transposed'!H5+'1D Vectors Transposed'!I5*'Risk-return'!RM3","v":-0.34148414805719896},{"$f":"'1D Vectors Transposed'!H5+'1D Vectors Transposed'!I5*'Risk-return'!RN3","v":-0.34235964249138051},{"$f":"'1D Vectors Transposed'!H5+'1D Vectors Transposed'!I5*'Risk-return'!RO3","v":-0.34323513692556196},{"$f":"'1D Vectors Transposed'!H5+'1D Vectors Transposed'!I5*'Risk-return'!RP3","v":-0.34411063135974351},{"$f":"'1D Vectors Transposed'!H5+'1D Vectors Transposed'!I5*'Risk-return'!RQ3","v":-0.34498612579392496},{"$f":"'1D Vectors Transposed'!H5+'1D Vectors Transposed'!I5*'Risk-return'!RR3","v":-0.34586162022810651},{"$f":"'1D Vectors Transposed'!H5+'1D Vectors Transposed'!I5*'Risk-return'!RS3","v":-0.34673711466228796},{"$f":"'1D Vectors Transposed'!H5+'1D Vectors Transposed'!I5*'Risk-return'!RT3","v":-0.34761260909646952},{"$f":"'1D Vectors Transposed'!H5+'1D Vectors Transposed'!I5*'Risk-return'!RU3","v":-0.34848810353065107},{"$f":"'1D Vectors Transposed'!H5+'1D Vectors Transposed'!I5*'Risk-return'!RV3","v":-0.34936359796483252},{"$f":"'1D Vectors Transposed'!H5+'1D Vectors Transposed'!I5*'Risk-return'!RW3","v":-0.35023909239901407},{"$f":"'1D Vectors Transposed'!H5+'1D Vectors Transposed'!I5*'Risk-return'!RX3","v":-0.35111458683319552},{"$f":"'1D Vectors Transposed'!H5+'1D Vectors Transposed'!I5*'Risk-return'!RY3","v":-0.35199008126737708},{"$f":"'1D Vectors Transposed'!H5+'1D Vectors Transposed'!I5*'Risk-return'!RZ3","v":-0.35286557570155852},{"$f":"'1D Vectors Transposed'!H5+'1D Vectors Transposed'!I5*'Risk-return'!SA3","v":-0.35374107013574008},{"$f":"'1D Vectors Transposed'!H5+'1D Vectors Transposed'!I5*'Risk-return'!SB3","v":-0.35461656456992163},{"$f":"'1D Vectors Transposed'!H5+'1D Vectors Transposed'!I5*'Risk-return'!SC3","v":-0.35549205900410308},{"$f":"'1D Vectors Transposed'!H5+'1D Vectors Transposed'!I5*'Risk-return'!SD3","v":-0.35636755343828463},{"$f":"'1D Vectors Transposed'!H5+'1D Vectors Transposed'!I5*'Risk-return'!SE3","v":-0.35724304787246608},{"$f":"'1D Vectors Transposed'!H5+'1D Vectors Transposed'!I5*'Risk-return'!SF3","v":-0.35811854230664764},{"$f":"'1D Vectors Transposed'!H5+'1D Vectors Transposed'!I5*'Risk-return'!SG3","v":7.8748157769726074E-2}]
["SPASTT01GRM661N",{"$f":"'1D Vectors Transposed'!H6+'1D Vectors Transposed'!I6*'Risk-return'!B3","v":3.243291359093553E-2},{"$f":"'1D Vectors Transposed'!H6+'1D Vectors Transposed'!I6*'Risk-return'!C3","v":3.0870594624182214E-2},{"$f":"'1D Vectors Transposed'!H6+'1D Vectors Transposed'!I6*'Risk-return'!D3","v":2.9308275771102565E-2},{"$f":"'1D Vectors Transposed'!H6+'1D Vectors Transposed'!I6*'Risk-return'!E3","v":2.7745956690675581E-2},{"$f":"'1D Vectors Transposed'!H6+'1D Vectors Transposed'!I6*'Risk-return'!F3","v":2.6183638064943272E-2},{"$f":"'1D Vectors Transposed'!H6+'1D Vectors Transposed'!I6*'Risk-return'!G3","v":2.4621318984516284E-2},{"$f":"'1D Vectors Transposed'!H6+'1D Vectors Transposed'!I6*'Risk-return'!H3","v":2.30589999040893E-2},{"$f":"'1D Vectors Transposed'!H6+'1D Vectors Transposed'!I6*'Risk-return'!I3","v":2.1496680823662316E-2},{"$f":"'1D Vectors Transposed'!H6+'1D Vectors Transposed'!I6*'Risk-return'!J3","v":1.9934361743235332E-2},{"$f":"'1D Vectors Transposed'!H6+'1D Vectors Transposed'!I6*'Risk-return'!K3","v":1.8372043572197697E-2},{"$f":"'1D Vectors Transposed'!H6+'1D Vectors Transposed'!I6*'Risk-return'!L3","v":1.6809725401160061E-2},{"$f":"'1D Vectors Transposed'!H6+'1D Vectors Transposed'!I6*'Risk-return'!M3","v":1.5247407230122426E-2},{"$f":"'1D Vectors Transposed'!H6+'1D Vectors Transposed'!I6*'Risk-return'!N3","v":1.368508905908479E-2},{"$f":"'1D Vectors Transposed'!H6+'1D Vectors Transposed'!I6*'Risk-return'!O3","v":1.2122770888047155E-2},{"$f":"'1D Vectors Transposed'!H6+'1D Vectors Transposed'!I6*'Risk-return'!P3","v":1.0560452717009519E-2},{"$f":"'1D Vectors Transposed'!H6+'1D Vectors Transposed'!I6*'Risk-return'!Q3","v":8.9981345459718837E-3},{"$f":"'1D Vectors Transposed'!H6+'1D Vectors Transposed'!I6*'Risk-return'!R3","v":7.4358163749342482E-3},{"$f":"'1D Vectors Transposed'!H6+'1D Vectors Transposed'!I6*'Risk-return'!S3","v":5.8734982038966127E-3},{"$f":"'1D Vectors Transposed'!H6+'1D Vectors Transposed'!I6*'Risk-return'!T3","v":4.3111800328589772E-3},{"$f":"'1D Vectors Transposed'!H6+'1D Vectors Transposed'!I6*'Risk-return'!U3","v":2.7488618618213417E-3},{"$f":"'1D Vectors Transposed'!H6+'1D Vectors Transposed'!I6*'Risk-return'!V3","v":1.1865418720050092E-3},{"$f":"'1D Vectors Transposed'!H6+'1D Vectors Transposed'!I6*'Risk-return'!W3","v":-3.7577811781132342E-4},{"$f":"'1D Vectors Transposed'!H6+'1D Vectors Transposed'!I6*'Risk-return'!X3","v":-1.9380981076276629E-3},{"$f":"'1D Vectors Transposed'!H6+'1D Vectors Transposed'!I6*'Risk-return'!Y3","v":-3.5004180974439955E-3},{"$f":"'1D Vectors Transposed'!H6+'1D Vectors Transposed'!I6*'Risk-return'!Z3","v":-5.0627380872603281E-3},{"$f":"'1D Vectors Transposed'!H6+'1D Vectors Transposed'!I6*'Risk-return'!AA3","v":-6.6250580770766676E-3},{"$f":"'1D Vectors Transposed'!H6+'1D Vectors Transposed'!I6*'Risk-return'!AB3","v":-8.1873780668930002E-3},{"$f":"'1D Vectors Transposed'!H6+'1D Vectors Transposed'!I6*'Risk-return'!AC3","v":-9.7496980567093328E-3},{"$f":"'1D Vectors Transposed'!H6+'1D Vectors Transposed'!I6*'Risk-return'!AD3","v":-1.1312018046525665E-2},{"$f":"'1D Vectors Transposed'!H6+'1D Vectors Transposed'!I6*'Risk-return'!AE3","v":-1.2874338036342005E-2},{"$f":"'1D Vectors Transposed'!H6+'1D Vectors Transposed'!I6*'Risk-return'!AF3","v":-1.4436658026158337E-2},{"$f":"'1D Vectors Transposed'!H6+'1D Vectors Transposed'!I6*'Risk-return'!AG3","v":-1.599897801597467E-2},{"$f":"'1D Vectors Transposed'!H6+'1D Vectors Transposed'!I6*'Risk-return'!AH3","v":-1.7561298005791003E-2},{"$f":"'1D Vectors Transposed'!H6+'1D Vectors Transposed'!I6*'Risk-return'!AI3","v":-1.9123617995607342E-2},{"$f":"'1D Vectors Transposed'!H6+'1D Vectors Transposed'!I6*'Risk-return'!AJ3","v":-2.0685937985423675E-2},{"$f":"'1D Vectors Transposed'!H6+'1D Vectors Transposed'!I6*'Risk-return'!AK3","v":-2.2248257975240007E-2},{"$f":"'1D Vectors Transposed'!H6+'1D Vectors Transposed'!I6*'Risk-return'!AL3","v":-2.3810577965056347E-2},{"$f":"'1D Vectors Transposed'!H6+'1D Vectors Transposed'!I6*'Risk-return'!AM3","v":-2.5372897954872679E-2},{"$f":"'1D Vectors Transposed'!H6+'1D Vectors Transposed'!I6*'Risk-return'!AN3","v":-2.6935217944689012E-2},{"$f":"'1D Vectors Transposed'!H6+'1D Vectors Transposed'!I6*'Risk-return'!AO3","v":-2.8497537934505345E-2},{"$f":"'1D Vectors Transposed'!H6+'1D Vectors Transposed'!I6*'Risk-return'!AP3","v":-3.0059854286764283E-2},{"$f":"'1D Vectors Transposed'!H6+'1D Vectors Transposed'!I6*'Risk-return'!AQ3","v":-3.1622170639023221E-2},{"$f":"'1D Vectors Transposed'!H6+'1D Vectors Transposed'!I6*'Risk-return'!AR3","v":-3.318448699128216E-2},{"$f":"'1D Vectors Transposed'!H6+'1D Vectors Transposed'!I6*'Risk-return'!AS3","v":-3.4746803343541098E-2},{"$f":"'1D Vectors Transposed'!H6+'1D Vectors Transposed'!I6*'Risk-return'!AT3","v":-3.6309119695800023E-2},{"$f":"'1D Vectors Transposed'!H6+'1D Vectors Transposed'!I6*'Risk-return'!AU3","v":-3.7871436048058961E-2},{"$f":"'1D Vectors Transposed'!H6+'1D Vectors Transposed'!I6*'Risk-return'!AV3","v":-3.9433752400317899E-2},{"$f":"'1D Vectors Transposed'!H6+'1D Vectors Transposed'!I6*'Risk-return'!AW3","v":-4.0996068752576838E-2},{"$f":"'1D Vectors Transposed'!H6+'1D Vectors Transposed'!I6*'Risk-return'!AX3","v":-4.2558385104835776E-2},{"$f":"'1D Vectors Transposed'!H6+'1D Vectors Transposed'!I6*'Risk-return'!AY3","v":-4.4120701457094715E-2},{"$f":"'1D Vectors Transposed'!H6+'1D Vectors Transposed'!I6*'Risk-return'!AZ3","v":-4.5683017809353653E-2},{"$f":"'1D Vectors Transposed'!H6+'1D Vectors Transposed'!I6*'Risk-return'!BA3","v":-4.7245334161612577E-2},{"$f":"'1D Vectors Transposed'!H6+'1D Vectors Transposed'!I6*'Risk-return'!BB3","v":-4.8807650513871516E-2},{"$f":"'1D Vectors Transposed'!H6+'1D Vectors Transposed'!I6*'Risk-return'!BC3","v":-5.0369966866130454E-2},{"$f":"'1D Vectors Transposed'!H6+'1D Vectors Transposed'!I6*'Risk-return'!BD3","v":-5.1932283218389393E-2},{"$f":"'1D Vectors Transposed'!H6+'1D Vectors Transposed'!I6*'Risk-return'!BE3","v":-5.3494599570648331E-2},{"$f":"'1D Vectors Transposed'!H6+'1D Vectors Transposed'!I6*'Risk-return'!BF3","v":-5.5056915922907269E-2},{"$f":"'1D Vectors Transposed'!H6+'1D Vectors Transposed'!I6*'Risk-return'!BG3","v":-5.6619232275166208E-2},{"$f":"'1D Vectors Transposed'!H6+'1D Vectors Transposed'!I6*'Risk-return'!BH3","v":-5.8181548627425132E-2},{"$f":"'1D Vectors Transposed'!H6+'1D Vectors Transposed'!I6*'Risk-return'!BI3","v":-5.9743864979684071E-2},{"$f":"'1D Vectors Transposed'!H6+'1D Vectors Transposed'!I6*'Risk-return'!BJ3","v":-6.1306181331943009E-2},{"$f":"'1D Vectors Transposed'!H6+'1D Vectors Transposed'!I6*'Risk-return'!BK3","v":-6.2868497684201941E-2},{"$f":"'1D Vectors Transposed'!H6+'1D Vectors Transposed'!I6*'Risk-return'!BL3","v":-6.4430814036460893E-2},{"$f":"'1D Vectors Transposed'!H6+'1D Vectors Transposed'!I6*'Risk-return'!BM3","v":-6.5993130388719817E-2},{"$f":"'1D Vectors Transposed'!H6+'1D Vectors Transposed'!I6*'Risk-return'!BN3","v":-6.7555446740978742E-2},{"$f":"'1D Vectors Transposed'!H6+'1D Vectors Transposed'!I6*'Risk-return'!BO3","v":-6.9117763093237694E-2},{"$f":"'1D Vectors Transposed'!H6+'1D Vectors Transposed'!I6*'Risk-return'!BP3","v":-7.0680079445496619E-2},{"$f":"'1D Vectors Transposed'!H6+'1D Vectors Transposed'!I6*'Risk-return'!BQ3","v":-7.2242395797755571E-2},{"$f":"'1D Vectors Transposed'!H6+'1D Vectors Transposed'!I6*'Risk-return'!BR3","v":-7.3804712150014495E-2},{"$f":"'1D Vectors Transposed'!H6+'1D Vectors Transposed'!I6*'Risk-return'!BS3","v":-7.5367028502273448E-2},{"$f":"'1D Vectors Transposed'!H6+'1D Vectors Transposed'!I6*'Risk-return'!BT3","v":-7.6929344854532372E-2},{"$f":"'1D Vectors Transposed'!H6+'1D Vectors Transposed'!I6*'Risk-return'!BU3","v":-7.8491661206791297E-2},{"$f":"'1D Vectors Transposed'!H6+'1D Vectors Transposed'!I6*'Risk-return'!BV3","v":-8.0053977559050249E-2},{"$f":"'1D Vectors Transposed'!H6+'1D Vectors Transposed'!I6*'Risk-return'!BW3","v":-8.1616293911309173E-2},{"$f":"'1D Vectors Transposed'!H6+'1D Vectors Transposed'!I6*'Risk-return'!BX3","v":-8.3178610263568126E-2},{"$f":"'1D Vectors Transposed'!H6+'1D Vectors Transposed'!I6*'Risk-return'!BY3","v":-8.474092661582705E-2},{"$f":"'1D Vectors Transposed'!H6+'1D Vectors Transposed'!I6*'Risk-return'!BZ3","v":-8.6303242968086002E-2},{"$f":"'1D Vectors Transposed'!H6+'1D Vectors Transposed'!I6*'Risk-return'!CA3","v":-8.7865559320344927E-2},{"$f":"'1D Vectors Transposed'!H6+'1D Vectors Transposed'!I6*'Risk-return'!CB3","v":-8.9427875672603852E-2},{"$f":"'1D Vectors Transposed'!H6+'1D Vectors Transposed'!I6*'Risk-return'!CC3","v":-9.0990192024862804E-2},{"$f":"'1D Vectors Transposed'!H6+'1D Vectors Transposed'!I6*'Risk-return'!CD3","v":-9.2552508377121728E-2},{"$f":"'1D Vectors Transposed'!H6+'1D Vectors Transposed'!I6*'Risk-return'!CE3","v":-9.4114824729380653E-2},{"$f":"'1D Vectors Transposed'!H6+'1D Vectors Transposed'!I6*'Risk-return'!CF3","v":-9.5677141081639605E-2},{"$f":"'1D Vectors Transposed'!H6+'1D Vectors Transposed'!I6*'Risk-return'!CG3","v":-9.723945743389853E-2},{"$f":"'1D Vectors Transposed'!H6+'1D Vectors Transposed'!I6*'Risk-return'!CH3","v":-9.8801773786157482E-2},{"$f":"'1D Vectors Transposed'!H6+'1D Vectors Transposed'!I6*'Risk-return'!CI3","v":-0.10036409013841641},{"$f":"'1D Vectors Transposed'!H6+'1D Vectors Transposed'!I6*'Risk-return'!CJ3","v":-0.10192640649067536},{"$f":"'1D Vectors Transposed'!H6+'1D Vectors Transposed'!I6*'Risk-return'!CK3","v":-0.10348872284293428},{"$f":"'1D Vectors Transposed'!H6+'1D Vectors Transposed'!I6*'Risk-return'!CL3","v":-0.10505103919519321},{"$f":"'1D Vectors Transposed'!H6+'1D Vectors Transposed'!I6*'Risk-return'!CM3","v":-0.10661335554745216},{"$f":"'1D Vectors Transposed'!H6+'1D Vectors Transposed'!I6*'Risk-return'!CN3","v":-0.10817567189971108},{"$f":"'1D Vectors Transposed'!H6+'1D Vectors Transposed'!I6*'Risk-return'!CO3","v":-0.10973798825197004},{"$f":"'1D Vectors Transposed'!H6+'1D Vectors Transposed'!I6*'Risk-return'!CP3","v":-0.11130030460422896},{"$f":"'1D Vectors Transposed'!H6+'1D Vectors Transposed'!I6*'Risk-return'!CQ3","v":-0.11286262095648791},{"$f":"'1D Vectors Transposed'!H6+'1D Vectors Transposed'!I6*'Risk-return'!CR3","v":-0.11442493730874684},{"$f":"'1D Vectors Transposed'!H6+'1D Vectors Transposed'!I6*'Risk-return'!CS3","v":-0.11598725366100576},{"$f":"'1D Vectors Transposed'!H6+'1D Vectors Transposed'!I6*'Risk-return'!CT3","v":-0.11754957001326471},{"$f":"'1D Vectors Transposed'!H6+'1D Vectors Transposed'!I6*'Risk-return'!CU3","v":-0.11911188636552364},{"$f":"'1D Vectors Transposed'!H6+'1D Vectors Transposed'!I6*'Risk-return'!CV3","v":-0.12067420271778259},{"$f":"'1D Vectors Transposed'!H6+'1D Vectors Transposed'!I6*'Risk-return'!CW3","v":-0.12223651907004152},{"$f":"'1D Vectors Transposed'!H6+'1D Vectors Transposed'!I6*'Risk-return'!CX3","v":-0.12379883542230047},{"$f":"'1D Vectors Transposed'!H6+'1D Vectors Transposed'!I6*'Risk-return'!CY3","v":-0.12536115177455939},{"$f":"'1D Vectors Transposed'!H6+'1D Vectors Transposed'!I6*'Risk-return'!CZ3","v":-0.12692346812681832},{"$f":"'1D Vectors Transposed'!H6+'1D Vectors Transposed'!I6*'Risk-return'!DA3","v":-0.12848578447907727},{"$f":"'1D Vectors Transposed'!H6+'1D Vectors Transposed'!I6*'Risk-return'!DB3","v":-0.13004810083133619},{"$f":"'1D Vectors Transposed'!H6+'1D Vectors Transposed'!I6*'Risk-return'!DC3","v":-0.13161041718359515},{"$f":"'1D Vectors Transposed'!H6+'1D Vectors Transposed'!I6*'Risk-return'!DD3","v":-0.13317273353585407},{"$f":"'1D Vectors Transposed'!H6+'1D Vectors Transposed'!I6*'Risk-return'!DE3","v":-0.13473504988811302},{"$f":"'1D Vectors Transposed'!H6+'1D Vectors Transposed'!I6*'Risk-return'!DF3","v":-0.13629736624037195},{"$f":"'1D Vectors Transposed'!H6+'1D Vectors Transposed'!I6*'Risk-return'!DG3","v":-0.13785968259263087},{"$f":"'1D Vectors Transposed'!H6+'1D Vectors Transposed'!I6*'Risk-return'!DH3","v":-0.13942199894488982},{"$f":"'1D Vectors Transposed'!H6+'1D Vectors Transposed'!I6*'Risk-return'!DI3","v":-0.14098431529714875},{"$f":"'1D Vectors Transposed'!H6+'1D Vectors Transposed'!I6*'Risk-return'!DJ3","v":-0.1425466316494077},{"$f":"'1D Vectors Transposed'!H6+'1D Vectors Transposed'!I6*'Risk-return'!DK3","v":-0.14410894800166663},{"$f":"'1D Vectors Transposed'!H6+'1D Vectors Transposed'!I6*'Risk-return'!DL3","v":-0.14567126435392558},{"$f":"'1D Vectors Transposed'!H6+'1D Vectors Transposed'!I6*'Risk-return'!DM3","v":-0.1472335807061845},{"$f":"'1D Vectors Transposed'!H6+'1D Vectors Transposed'!I6*'Risk-return'!DN3","v":-0.14879589705844343},{"$f":"'1D Vectors Transposed'!H6+'1D Vectors Transposed'!I6*'Risk-return'!DO3","v":-0.15035821341070238},{"$f":"'1D Vectors Transposed'!H6+'1D Vectors Transposed'!I6*'Risk-return'!DP3","v":-0.1519205297629613},{"$f":"'1D Vectors Transposed'!H6+'1D Vectors Transposed'!I6*'Risk-return'!DQ3","v":-0.15348284611522026},{"$f":"'1D Vectors Transposed'!H6+'1D Vectors Transposed'!I6*'Risk-return'!DR3","v":-0.15504516246747918},{"$f":"'1D Vectors Transposed'!H6+'1D Vectors Transposed'!I6*'Risk-return'!DS3","v":-0.15660747881973813},{"$f":"'1D Vectors Transposed'!H6+'1D Vectors Transposed'!I6*'Risk-return'!DT3","v":-0.15816979517199706},{"$f":"'1D Vectors Transposed'!H6+'1D Vectors Transposed'!I6*'Risk-return'!DU3","v":-0.15973211152425598},{"$f":"'1D Vectors Transposed'!H6+'1D Vectors Transposed'!I6*'Risk-return'!DV3","v":-0.16129442787651493},{"$f":"'1D Vectors Transposed'!H6+'1D Vectors Transposed'!I6*'Risk-return'!DW3","v":-0.16285674422877386},{"$f":"'1D Vectors Transposed'!H6+'1D Vectors Transposed'!I6*'Risk-return'!DX3","v":-0.16441906058103281},{"$f":"'1D Vectors Transposed'!H6+'1D Vectors Transposed'!I6*'Risk-return'!DY3","v":-0.16598137693329174},{"$f":"'1D Vectors Transposed'!H6+'1D Vectors Transposed'!I6*'Risk-return'!DZ3","v":-0.16754369328555069},{"$f":"'1D Vectors Transposed'!H6+'1D Vectors Transposed'!I6*'Risk-return'!EA3","v":-0.16910600963780961},{"$f":"'1D Vectors Transposed'!H6+'1D Vectors Transposed'!I6*'Risk-return'!EB3","v":-0.17066832599006854},{"$f":"'1D Vectors Transposed'!H6+'1D Vectors Transposed'!I6*'Risk-return'!EC3","v":-0.17223064234232749},{"$f":"'1D Vectors Transposed'!H6+'1D Vectors Transposed'!I6*'Risk-return'!ED3","v":-0.17379295869458641},{"$f":"'1D Vectors Transposed'!H6+'1D Vectors Transposed'!I6*'Risk-return'!EE3","v":-0.17535527504684537},{"$f":"'1D Vectors Transposed'!H6+'1D Vectors Transposed'!I6*'Risk-return'!EF3","v":-0.17691759139910429},{"$f":"'1D Vectors Transposed'!H6+'1D Vectors Transposed'!I6*'Risk-return'!EG3","v":-0.17847990775136324},{"$f":"'1D Vectors Transposed'!H6+'1D Vectors Transposed'!I6*'Risk-return'!EH3","v":-0.18004222410362217},{"$f":"'1D Vectors Transposed'!H6+'1D Vectors Transposed'!I6*'Risk-return'!EI3","v":-0.18160454045588109},{"$f":"'1D Vectors Transposed'!H6+'1D Vectors Transposed'!I6*'Risk-return'!EJ3","v":-0.18316685680814004},{"$f":"'1D Vectors Transposed'!H6+'1D Vectors Transposed'!I6*'Risk-return'!EK3","v":-0.18472917316039897},{"$f":"'1D Vectors Transposed'!H6+'1D Vectors Transposed'!I6*'Risk-return'!EL3","v":-0.18629148951265792},{"$f":"'1D Vectors Transposed'!H6+'1D Vectors Transposed'!I6*'Risk-return'!EM3","v":-0.18785380586491685},{"$f":"'1D Vectors Transposed'!H6+'1D Vectors Transposed'!I6*'Risk-return'!EN3","v":-0.1894161222171758},{"$f":"'1D Vectors Transposed'!H6+'1D Vectors Transposed'!I6*'Risk-return'!EO3","v":-0.19097843856943472},{"$f":"'1D Vectors Transposed'!H6+'1D Vectors Transposed'!I6*'Risk-return'!EP3","v":-0.19254075492169365},{"$f":"'1D Vectors Transposed'!H6+'1D Vectors Transposed'!I6*'Risk-return'!EQ3","v":-0.1941030712739526},{"$f":"'1D Vectors Transposed'!H6+'1D Vectors Transposed'!I6*'Risk-return'!ER3","v":-0.19566538762621152},{"$f":"'1D Vectors Transposed'!H6+'1D Vectors Transposed'!I6*'Risk-return'!ES3","v":-0.19722770397847048},{"$f":"'1D Vectors Transposed'!H6+'1D Vectors Transposed'!I6*'Risk-return'!ET3","v":-0.1987900203307294},{"$f":"'1D Vectors Transposed'!H6+'1D Vectors Transposed'!I6*'Risk-return'!EU3","v":-0.20035233668298832},{"$f":"'1D Vectors Transposed'!H6+'1D Vectors Transposed'!I6*'Risk-return'!EV3","v":-0.20191465303524728},{"$f":"'1D Vectors Transposed'!H6+'1D Vectors Transposed'!I6*'Risk-return'!EW3","v":-0.2034769693875062},{"$f":"'1D Vectors Transposed'!H6+'1D Vectors Transposed'!I6*'Risk-return'!EX3","v":-0.20503928573976515},{"$f":"'1D Vectors Transposed'!H6+'1D Vectors Transposed'!I6*'Risk-return'!EY3","v":-0.20660160209202408},{"$f":"'1D Vectors Transposed'!H6+'1D Vectors Transposed'!I6*'Risk-return'!EZ3","v":-0.20816391844428303},{"$f":"'1D Vectors Transposed'!H6+'1D Vectors Transposed'!I6*'Risk-return'!FA3","v":-0.20972623479654195},{"$f":"'1D Vectors Transposed'!H6+'1D Vectors Transposed'!I6*'Risk-return'!FB3","v":-0.21128855114880088},{"$f":"'1D Vectors Transposed'!H6+'1D Vectors Transposed'!I6*'Risk-return'!FC3","v":-0.21285086750105983},{"$f":"'1D Vectors Transposed'!H6+'1D Vectors Transposed'!I6*'Risk-return'!FD3","v":-0.21441318385331876},{"$f":"'1D Vectors Transposed'!H6+'1D Vectors Transposed'!I6*'Risk-return'!FE3","v":-0.21597550020557771},{"$f":"'1D Vectors Transposed'!H6+'1D Vectors Transposed'!I6*'Risk-return'!FF3","v":-0.21753781655783663},{"$f":"'1D Vectors Transposed'!H6+'1D Vectors Transposed'!I6*'Risk-return'!FG3","v":-0.21910013291009559},{"$f":"'1D Vectors Transposed'!H6+'1D Vectors Transposed'!I6*'Risk-return'!FH3","v":-0.22066244926235454},{"$f":"'1D Vectors Transposed'!H6+'1D Vectors Transposed'!I6*'Risk-return'!FI3","v":-0.22222476561461343},{"$f":"'1D Vectors Transposed'!H6+'1D Vectors Transposed'!I6*'Risk-return'!FJ3","v":-0.22378708196687239},{"$f":"'1D Vectors Transposed'!H6+'1D Vectors Transposed'!I6*'Risk-return'!FK3","v":-0.22534939831913134},{"$f":"'1D Vectors Transposed'!H6+'1D Vectors Transposed'!I6*'Risk-return'!FL3","v":-0.22691171467139024},{"$f":"'1D Vectors Transposed'!H6+'1D Vectors Transposed'!I6*'Risk-return'!FM3","v":-0.22847403102364919},{"$f":"'1D Vectors Transposed'!H6+'1D Vectors Transposed'!I6*'Risk-return'!FN3","v":-0.23003634737590814},{"$f":"'1D Vectors Transposed'!H6+'1D Vectors Transposed'!I6*'Risk-return'!FO3","v":-0.23159866372816709},{"$f":"'1D Vectors Transposed'!H6+'1D Vectors Transposed'!I6*'Risk-return'!FP3","v":-0.23316098008042599},{"$f":"'1D Vectors Transposed'!H6+'1D Vectors Transposed'!I6*'Risk-return'!FQ3","v":-0.23472329643268494},{"$f":"'1D Vectors Transposed'!H6+'1D Vectors Transposed'!I6*'Risk-return'!FR3","v":-0.23628561278494389},{"$f":"'1D Vectors Transposed'!H6+'1D Vectors Transposed'!I6*'Risk-return'!FS3","v":-0.23784792913720279},{"$f":"'1D Vectors Transposed'!H6+'1D Vectors Transposed'!I6*'Risk-return'!FT3","v":-0.23941024548946174},{"$f":"'1D Vectors Transposed'!H6+'1D Vectors Transposed'!I6*'Risk-return'!FU3","v":-0.24097256184172069},{"$f":"'1D Vectors Transposed'!H6+'1D Vectors Transposed'!I6*'Risk-return'!FV3","v":-0.24253487819397965},{"$f":"'1D Vectors Transposed'!H6+'1D Vectors Transposed'!I6*'Risk-return'!FW3","v":-0.24409719454623854},{"$f":"'1D Vectors Transposed'!H6+'1D Vectors Transposed'!I6*'Risk-return'!FX3","v":-0.2456595108984975},{"$f":"'1D Vectors Transposed'!H6+'1D Vectors Transposed'!I6*'Risk-return'!FY3","v":-0.24722182725075645},{"$f":"'1D Vectors Transposed'!H6+'1D Vectors Transposed'!I6*'Risk-return'!FZ3","v":-0.24878414360301535},{"$f":"'1D Vectors Transposed'!H6+'1D Vectors Transposed'!I6*'Risk-return'!GA3","v":-0.25034645995527433},{"$f":"'1D Vectors Transposed'!H6+'1D Vectors Transposed'!I6*'Risk-return'!GB3","v":-0.25190877630753328},{"$f":"'1D Vectors Transposed'!H6+'1D Vectors Transposed'!I6*'Risk-return'!GC3","v":-0.25347109265979217},{"$f":"'1D Vectors Transposed'!H6+'1D Vectors Transposed'!I6*'Risk-return'!GD3","v":-0.25503340901205113},{"$f":"'1D Vectors Transposed'!H6+'1D Vectors Transposed'!I6*'Risk-return'!GE3","v":-0.25659572536431008},{"$f":"'1D Vectors Transposed'!H6+'1D Vectors Transposed'!I6*'Risk-return'!GF3","v":-0.25815804171656903},{"$f":"'1D Vectors Transposed'!H6+'1D Vectors Transposed'!I6*'Risk-return'!GG3","v":-0.25972035806882793},{"$f":"'1D Vectors Transposed'!H6+'1D Vectors Transposed'!I6*'Risk-return'!GH3","v":-0.26128267442108688},{"$f":"'1D Vectors Transposed'!H6+'1D Vectors Transposed'!I6*'Risk-return'!GI3","v":-0.26284499077334583},{"$f":"'1D Vectors Transposed'!H6+'1D Vectors Transposed'!I6*'Risk-return'!GJ3","v":-0.26440730712560473},{"$f":"'1D Vectors Transposed'!H6+'1D Vectors Transposed'!I6*'Risk-return'!GK3","v":-0.26596962347786368},{"$f":"'1D Vectors Transposed'!H6+'1D Vectors Transposed'!I6*'Risk-return'!GL3","v":-0.26753193983012263},{"$f":"'1D Vectors Transposed'!H6+'1D Vectors Transposed'!I6*'Risk-return'!GM3","v":-0.26909425618238159},{"$f":"'1D Vectors Transposed'!H6+'1D Vectors Transposed'!I6*'Risk-return'!GN3","v":-0.27065657253464048},{"$f":"'1D Vectors Transposed'!H6+'1D Vectors Transposed'!I6*'Risk-return'!GO3","v":-0.27221888888689943},{"$f":"'1D Vectors Transposed'!H6+'1D Vectors Transposed'!I6*'Risk-return'!GP3","v":-0.27378120523915839},{"$f":"'1D Vectors Transposed'!H6+'1D Vectors Transposed'!I6*'Risk-return'!GQ3","v":-0.27534352159141728},{"$f":"'1D Vectors Transposed'!H6+'1D Vectors Transposed'!I6*'Risk-return'!GR3","v":-0.27690583794367624},{"$f":"'1D Vectors Transposed'!H6+'1D Vectors Transposed'!I6*'Risk-return'!GS3","v":-0.27846815429593519},{"$f":"'1D Vectors Transposed'!H6+'1D Vectors Transposed'!I6*'Risk-return'!GT3","v":-0.28003047064819414},{"$f":"'1D Vectors Transposed'!H6+'1D Vectors Transposed'!I6*'Risk-return'!GU3","v":-0.28159278700045304},{"$f":"'1D Vectors Transposed'!H6+'1D Vectors Transposed'!I6*'Risk-return'!GV3","v":-0.28315510335271199},{"$f":"'1D Vectors Transposed'!H6+'1D Vectors Transposed'!I6*'Risk-return'!GW3","v":-0.28471741970497094},{"$f":"'1D Vectors Transposed'!H6+'1D Vectors Transposed'!I6*'Risk-return'!GX3","v":-0.28627973605722984},{"$f":"'1D Vectors Transposed'!H6+'1D Vectors Transposed'!I6*'Risk-return'!GY3","v":-0.28784205240948879},{"$f":"'1D Vectors Transposed'!H6+'1D Vectors Transposed'!I6*'Risk-return'!GZ3","v":-0.28940436876174774},{"$f":"'1D Vectors Transposed'!H6+'1D Vectors Transposed'!I6*'Risk-return'!HA3","v":-0.2909666851140067},{"$f":"'1D Vectors Transposed'!H6+'1D Vectors Transposed'!I6*'Risk-return'!HB3","v":-0.29252900146626559},{"$f":"'1D Vectors Transposed'!H6+'1D Vectors Transposed'!I6*'Risk-return'!HC3","v":-0.29409131781852454},{"$f":"'1D Vectors Transposed'!H6+'1D Vectors Transposed'!I6*'Risk-return'!HD3","v":-0.2956536341707835},{"$f":"'1D Vectors Transposed'!H6+'1D Vectors Transposed'!I6*'Risk-return'!HE3","v":-0.29721595052304239},{"$f":"'1D Vectors Transposed'!H6+'1D Vectors Transposed'!I6*'Risk-return'!HF3","v":-0.29877826687530135},{"$f":"'1D Vectors Transposed'!H6+'1D Vectors Transposed'!I6*'Risk-return'!HG3","v":-0.3003405832275603},{"$f":"'1D Vectors Transposed'!H6+'1D Vectors Transposed'!I6*'Risk-return'!HH3","v":-0.30190289957981925},{"$f":"'1D Vectors Transposed'!H6+'1D Vectors Transposed'!I6*'Risk-return'!HI3","v":-0.30346521593207815},{"$f":"'1D Vectors Transposed'!H6+'1D Vectors Transposed'!I6*'Risk-return'!HJ3","v":-0.3050275322843371},{"$f":"'1D Vectors Transposed'!H6+'1D Vectors Transposed'!I6*'Risk-return'!HK3","v":-0.30658984863659605},{"$f":"'1D Vectors Transposed'!H6+'1D Vectors Transposed'!I6*'Risk-return'!HL3","v":-0.30815216498885495},{"$f":"'1D Vectors Transposed'!H6+'1D Vectors Transposed'!I6*'Risk-return'!HM3","v":-0.3097144813411139},{"$f":"'1D Vectors Transposed'!H6+'1D Vectors Transposed'!I6*'Risk-return'!HN3","v":-0.31127679769337285},{"$f":"'1D Vectors Transposed'!H6+'1D Vectors Transposed'!I6*'Risk-return'!HO3","v":-0.31283911404563181},{"$f":"'1D Vectors Transposed'!H6+'1D Vectors Transposed'!I6*'Risk-return'!HP3","v":-0.3144014303978907},{"$f":"'1D Vectors Transposed'!H6+'1D Vectors Transposed'!I6*'Risk-return'!HQ3","v":-0.31596374675014965},{"$f":"'1D Vectors Transposed'!H6+'1D Vectors Transposed'!I6*'Risk-return'!HR3","v":-0.31752606310240861},{"$f":"'1D Vectors Transposed'!H6+'1D Vectors Transposed'!I6*'Risk-return'!HS3","v":-0.3190883794546675},{"$f":"'1D Vectors Transposed'!H6+'1D Vectors Transposed'!I6*'Risk-return'!HT3","v":-0.32065069580692646},{"$f":"'1D Vectors Transposed'!H6+'1D Vectors Transposed'!I6*'Risk-return'!HU3","v":-0.32221301215918541},{"$f":"'1D Vectors Transposed'!H6+'1D Vectors Transposed'!I6*'Risk-return'!HV3","v":-0.32377532851144436},{"$f":"'1D Vectors Transposed'!H6+'1D Vectors Transposed'!I6*'Risk-return'!HW3","v":-0.32533764486370326},{"$f":"'1D Vectors Transposed'!H6+'1D Vectors Transposed'!I6*'Risk-return'!HX3","v":-0.32689996121596221},{"$f":"'1D Vectors Transposed'!H6+'1D Vectors Transposed'!I6*'Risk-return'!HY3","v":-0.32846227756822116},{"$f":"'1D Vectors Transposed'!H6+'1D Vectors Transposed'!I6*'Risk-return'!HZ3","v":-0.33002459392048006},{"$f":"'1D Vectors Transposed'!H6+'1D Vectors Transposed'!I6*'Risk-return'!IA3","v":-0.33158691027273901},{"$f":"'1D Vectors Transposed'!H6+'1D Vectors Transposed'!I6*'Risk-return'!IB3","v":-0.33314922662499796},{"$f":"'1D Vectors Transposed'!H6+'1D Vectors Transposed'!I6*'Risk-return'!IC3","v":-0.33471154297725692},{"$f":"'1D Vectors Transposed'!H6+'1D Vectors Transposed'!I6*'Risk-return'!ID3","v":-0.33627385932951581},{"$f":"'1D Vectors Transposed'!H6+'1D Vectors Transposed'!I6*'Risk-return'!IE3","v":-0.33783617568177476},{"$f":"'1D Vectors Transposed'!H6+'1D Vectors Transposed'!I6*'Risk-return'!IF3","v":-0.33939849203403372},{"$f":"'1D Vectors Transposed'!H6+'1D Vectors Transposed'!I6*'Risk-return'!IG3","v":-0.34096080838629261},{"$f":"'1D Vectors Transposed'!H6+'1D Vectors Transposed'!I6*'Risk-return'!IH3","v":-0.34252312473855157},{"$f":"'1D Vectors Transposed'!H6+'1D Vectors Transposed'!I6*'Risk-return'!II3","v":-0.34408544109081052},{"$f":"'1D Vectors Transposed'!H6+'1D Vectors Transposed'!I6*'Risk-return'!IJ3","v":-0.34564775744306947},{"$f":"'1D Vectors Transposed'!H6+'1D Vectors Transposed'!I6*'Risk-return'!IK3","v":-0.34721007379532837},{"$f":"'1D Vectors Transposed'!H6+'1D Vectors Transposed'!I6*'Risk-return'!IL3","v":-0.34877239014758732},{"$f":"'1D Vectors Transposed'!H6+'1D Vectors Transposed'!I6*'Risk-return'!IM3","v":-0.35033470649984627},{"$f":"'1D Vectors Transposed'!H6+'1D Vectors Transposed'!I6*'Risk-return'!IN3","v":-0.35189702285210517},{"$f":"'1D Vectors Transposed'!H6+'1D Vectors Transposed'!I6*'Risk-return'!IO3","v":-0.35345933920436412},{"$f":"'1D Vectors Transposed'!H6+'1D Vectors Transposed'!I6*'Risk-return'!IP3","v":-0.35502165555662307},{"$f":"'1D Vectors Transposed'!H6+'1D Vectors Transposed'!I6*'Risk-return'!IQ3","v":-0.35658397190888202},{"$f":"'1D Vectors Transposed'!H6+'1D Vectors Transposed'!I6*'Risk-return'!IR3","v":-0.35814628826114092},{"$f":"'1D Vectors Transposed'!H6+'1D Vectors Transposed'!I6*'Risk-return'!IS3","v":-0.35970860461339987},{"$f":"'1D Vectors Transposed'!H6+'1D Vectors Transposed'!I6*'Risk-return'!IT3","v":-0.36127092096565883},{"$f":"'1D Vectors Transposed'!H6+'1D Vectors Transposed'!I6*'Risk-return'!IU3","v":-0.36283323731791772},{"$f":"'1D Vectors Transposed'!H6+'1D Vectors Transposed'!I6*'Risk-return'!IV3","v":-0.36439555367017668},{"$f":"'1D Vectors Transposed'!H6+'1D Vectors Transposed'!I6*'Risk-return'!IW3","v":-0.36595787002243563},{"$f":"'1D Vectors Transposed'!H6+'1D Vectors Transposed'!I6*'Risk-return'!IX3","v":-0.36752018637469458},{"$f":"'1D Vectors Transposed'!H6+'1D Vectors Transposed'!I6*'Risk-return'!IY3","v":-0.36908250272695348},{"$f":"'1D Vectors Transposed'!H6+'1D Vectors Transposed'!I6*'Risk-return'!IZ3","v":-0.37064481907921243},{"$f":"'1D Vectors Transposed'!H6+'1D Vectors Transposed'!I6*'Risk-return'!JA3","v":-0.37220713543147138},{"$f":"'1D Vectors Transposed'!H6+'1D Vectors Transposed'!I6*'Risk-return'!JB3","v":-0.37376945178373028},{"$f":"'1D Vectors Transposed'!H6+'1D Vectors Transposed'!I6*'Risk-return'!JC3","v":-0.37533176813598923},{"$f":"'1D Vectors Transposed'!H6+'1D Vectors Transposed'!I6*'Risk-return'!JD3","v":-0.37689408448824818},{"$f":"'1D Vectors Transposed'!H6+'1D Vectors Transposed'!I6*'Risk-return'!JE3","v":-0.37845640084050713},{"$f":"'1D Vectors Transposed'!H6+'1D Vectors Transposed'!I6*'Risk-return'!JF3","v":-0.38001871719276603},{"$f":"'1D Vectors Transposed'!H6+'1D Vectors Transposed'!I6*'Risk-return'!JG3","v":-0.38158103354502498},{"$f":"'1D Vectors Transposed'!H6+'1D Vectors Transposed'!I6*'Risk-return'!JH3","v":-0.38314334989728394},{"$f":"'1D Vectors Transposed'!H6+'1D Vectors Transposed'!I6*'Risk-return'!JI3","v":-0.38470566624954283},{"$f":"'1D Vectors Transposed'!H6+'1D Vectors Transposed'!I6*'Risk-return'!JJ3","v":-0.38626798260180178},{"$f":"'1D Vectors Transposed'!H6+'1D Vectors Transposed'!I6*'Risk-return'!JK3","v":-0.38783029895406074},{"$f":"'1D Vectors Transposed'!H6+'1D Vectors Transposed'!I6*'Risk-return'!JL3","v":-0.38939261530631969},{"$f":"'1D Vectors Transposed'!H6+'1D Vectors Transposed'!I6*'Risk-return'!JM3","v":-0.39095493165857859},{"$f":"'1D Vectors Transposed'!H6+'1D Vectors Transposed'!I6*'Risk-return'!JN3","v":-0.39251724801083754},{"$f":"'1D Vectors Transposed'!H6+'1D Vectors Transposed'!I6*'Risk-return'!JO3","v":-0.39407956436309649},{"$f":"'1D Vectors Transposed'!H6+'1D Vectors Transposed'!I6*'Risk-return'!JP3","v":-0.39564188071535539},{"$f":"'1D Vectors Transposed'!H6+'1D Vectors Transposed'!I6*'Risk-return'!JQ3","v":-0.39720419706761434},{"$f":"'1D Vectors Transposed'!H6+'1D Vectors Transposed'!I6*'Risk-return'!JR3","v":-0.39876651341987329},{"$f":"'1D Vectors Transposed'!H6+'1D Vectors Transposed'!I6*'Risk-return'!JS3","v":-0.40032882977213224},{"$f":"'1D Vectors Transposed'!H6+'1D Vectors Transposed'!I6*'Risk-return'!JT3","v":-0.40189114612439114},{"$f":"'1D Vectors Transposed'!H6+'1D Vectors Transposed'!I6*'Risk-return'!JU3","v":-0.40345346247665009},{"$f":"'1D Vectors Transposed'!H6+'1D Vectors Transposed'!I6*'Risk-return'!JV3","v":-0.40501577882890905},{"$f":"'1D Vectors Transposed'!H6+'1D Vectors Transposed'!I6*'Risk-return'!JW3","v":-0.40657809518116794},{"$f":"'1D Vectors Transposed'!H6+'1D Vectors Transposed'!I6*'Risk-return'!JX3","v":-0.40814041153342689},{"$f":"'1D Vectors Transposed'!H6+'1D Vectors Transposed'!I6*'Risk-return'!JY3","v":-0.40970272788568585},{"$f":"'1D Vectors Transposed'!H6+'1D Vectors Transposed'!I6*'Risk-return'!JZ3","v":-0.4112650442379448},{"$f":"'1D Vectors Transposed'!H6+'1D Vectors Transposed'!I6*'Risk-return'!KA3","v":-0.4128273605902037},{"$f":"'1D Vectors Transposed'!H6+'1D Vectors Transposed'!I6*'Risk-return'!KB3","v":-0.41438967694246265},{"$f":"'1D Vectors Transposed'!H6+'1D Vectors Transposed'!I6*'Risk-return'!KC3","v":-0.4159519932947216},{"$f":"'1D Vectors Transposed'!H6+'1D Vectors Transposed'!I6*'Risk-return'!KD3","v":-0.4175143096469805},{"$f":"'1D Vectors Transposed'!H6+'1D Vectors Transposed'!I6*'Risk-return'!KE3","v":-0.41907662599923945},{"$f":"'1D Vectors Transposed'!H6+'1D Vectors Transposed'!I6*'Risk-return'!KF3","v":-0.4206389423514984},{"$f":"'1D Vectors Transposed'!H6+'1D Vectors Transposed'!I6*'Risk-return'!KG3","v":-0.42220125870375735},{"$f":"'1D Vectors Transposed'!H6+'1D Vectors Transposed'!I6*'Risk-return'!KH3","v":-0.42376357505601625},{"$f":"'1D Vectors Transposed'!H6+'1D Vectors Transposed'!I6*'Risk-return'!KI3","v":-0.4253258914082752},{"$f":"'1D Vectors Transposed'!H6+'1D Vectors Transposed'!I6*'Risk-return'!KJ3","v":-0.42688820776053416},{"$f":"'1D Vectors Transposed'!H6+'1D Vectors Transposed'!I6*'Risk-return'!KK3","v":-0.42845052411279305},{"$f":"'1D Vectors Transposed'!H6+'1D Vectors Transposed'!I6*'Risk-return'!KL3","v":-0.430012840465052},{"$f":"'1D Vectors Transposed'!H6+'1D Vectors Transposed'!I6*'Risk-return'!KM3","v":-0.43157515681731096},{"$f":"'1D Vectors Transposed'!H6+'1D Vectors Transposed'!I6*'Risk-return'!KN3","v":-0.43313747316956991},{"$f":"'1D Vectors Transposed'!H6+'1D Vectors Transposed'!I6*'Risk-return'!KO3","v":-0.43469978952182881},{"$f":"'1D Vectors Transposed'!H6+'1D Vectors Transposed'!I6*'Risk-return'!KP3","v":-0.43626210587408776},{"$f":"'1D Vectors Transposed'!H6+'1D Vectors Transposed'!I6*'Risk-return'!KQ3","v":-0.43782442222634671},{"$f":"'1D Vectors Transposed'!H6+'1D Vectors Transposed'!I6*'Risk-return'!KR3","v":-0.43938673857860561},{"$f":"'1D Vectors Transposed'!H6+'1D Vectors Transposed'!I6*'Risk-return'!KS3","v":-0.44094905493086456},{"$f":"'1D Vectors Transposed'!H6+'1D Vectors Transposed'!I6*'Risk-return'!KT3","v":-0.44251137128312351},{"$f":"'1D Vectors Transposed'!H6+'1D Vectors Transposed'!I6*'Risk-return'!KU3","v":-0.44407368763538246},{"$f":"'1D Vectors Transposed'!H6+'1D Vectors Transposed'!I6*'Risk-return'!KV3","v":-0.44563600398764136},{"$f":"'1D Vectors Transposed'!H6+'1D Vectors Transposed'!I6*'Risk-return'!KW3","v":-0.44719832033990031},{"$f":"'1D Vectors Transposed'!H6+'1D Vectors Transposed'!I6*'Risk-return'!KX3","v":-0.44876063669215926},{"$f":"'1D Vectors Transposed'!H6+'1D Vectors Transposed'!I6*'Risk-return'!KY3","v":-0.45032295304441816},{"$f":"'1D Vectors Transposed'!H6+'1D Vectors Transposed'!I6*'Risk-return'!KZ3","v":-0.45188526939667711},{"$f":"'1D Vectors Transposed'!H6+'1D Vectors Transposed'!I6*'Risk-return'!LA3","v":-0.45344758574893607},{"$f":"'1D Vectors Transposed'!H6+'1D Vectors Transposed'!I6*'Risk-return'!LB3","v":-0.45500993120165417},{"$f":"'1D Vectors Transposed'!H6+'1D Vectors Transposed'!I6*'Risk-return'!LC3","v":-0.45657227665437228},{"$f":"'1D Vectors Transposed'!H6+'1D Vectors Transposed'!I6*'Risk-return'!LD3","v":-0.45813462210709044},{"$f":"'1D Vectors Transposed'!H6+'1D Vectors Transposed'!I6*'Risk-return'!LE3","v":-0.45969696755980854},{"$f":"'1D Vectors Transposed'!H6+'1D Vectors Transposed'!I6*'Risk-return'!LF3","v":-0.46125931301252665},{"$f":"'1D Vectors Transposed'!H6+'1D Vectors Transposed'!I6*'Risk-return'!LG3","v":-0.46282165846524476},{"$f":"'1D Vectors Transposed'!H6+'1D Vectors Transposed'!I6*'Risk-return'!LH3","v":-0.46438400391796292},{"$f":"'1D Vectors Transposed'!H6+'1D Vectors Transposed'!I6*'Risk-return'!LI3","v":-0.46594634937068102},{"$f":"'1D Vectors Transposed'!H6+'1D Vectors Transposed'!I6*'Risk-return'!LJ3","v":-0.46750869482339913},{"$f":"'1D Vectors Transposed'!H6+'1D Vectors Transposed'!I6*'Risk-return'!LK3","v":-0.46907104027611729},{"$f":"'1D Vectors Transposed'!H6+'1D Vectors Transposed'!I6*'Risk-return'!LL3","v":-0.47063338572883534},{"$f":"'1D Vectors Transposed'!H6+'1D Vectors Transposed'!I6*'Risk-return'!LM3","v":-0.4721957311815535},{"$f":"'1D Vectors Transposed'!H6+'1D Vectors Transposed'!I6*'Risk-return'!LN3","v":-0.47375807663427166},{"$f":"'1D Vectors Transposed'!H6+'1D Vectors Transposed'!I6*'Risk-return'!LO3","v":-0.47532042208698971},{"$f":"'1D Vectors Transposed'!H6+'1D Vectors Transposed'!I6*'Risk-return'!LP3","v":-0.47688276753970787},{"$f":"'1D Vectors Transposed'!H6+'1D Vectors Transposed'!I6*'Risk-return'!LQ3","v":-0.47844511299242604},{"$f":"'1D Vectors Transposed'!H6+'1D Vectors Transposed'!I6*'Risk-return'!LR3","v":-0.48000745844514409},{"$f":"'1D Vectors Transposed'!H6+'1D Vectors Transposed'!I6*'Risk-return'!LS3","v":-0.48156980389786225},{"$f":"'1D Vectors Transposed'!H6+'1D Vectors Transposed'!I6*'Risk-return'!LT3","v":-0.48313214935058041},{"$f":"'1D Vectors Transposed'!H6+'1D Vectors Transposed'!I6*'Risk-return'!LU3","v":-0.48469449480329846},{"$f":"'1D Vectors Transposed'!H6+'1D Vectors Transposed'!I6*'Risk-return'!LV3","v":-0.48625684025601662},{"$f":"'1D Vectors Transposed'!H6+'1D Vectors Transposed'!I6*'Risk-return'!LW3","v":-0.48781918570873467},{"$f":"'1D Vectors Transposed'!H6+'1D Vectors Transposed'!I6*'Risk-return'!LX3","v":-0.48938153116145283},{"$f":"'1D Vectors Transposed'!H6+'1D Vectors Transposed'!I6*'Risk-return'!LY3","v":-0.49094387661417099},{"$f":"'1D Vectors Transposed'!H6+'1D Vectors Transposed'!I6*'Risk-return'!LZ3","v":-0.49250622206688904},{"$f":"'1D Vectors Transposed'!H6+'1D Vectors Transposed'!I6*'Risk-return'!MA3","v":-0.4940685675196072},{"$f":"'1D Vectors Transposed'!H6+'1D Vectors Transposed'!I6*'Risk-return'!MB3","v":-0.49563091297232537},{"$f":"'1D Vectors Transposed'!H6+'1D Vectors Transposed'!I6*'Risk-return'!MC3","v":-0.49719325842504342},{"$f":"'1D Vectors Transposed'!H6+'1D Vectors Transposed'!I6*'Risk-return'!MD3","v":-0.49875560387776158},{"$f":"'1D Vectors Transposed'!H6+'1D Vectors Transposed'!I6*'Risk-return'!ME3","v":-0.50031794933047968},{"$f":"'1D Vectors Transposed'!H6+'1D Vectors Transposed'!I6*'Risk-return'!MF3","v":-0.50188029478319773},{"$f":"'1D Vectors Transposed'!H6+'1D Vectors Transposed'!I6*'Risk-return'!MG3","v":-0.50344264023591589},{"$f":"'1D Vectors Transposed'!H6+'1D Vectors Transposed'!I6*'Risk-return'!MH3","v":-0.50500498568863394},{"$f":"'1D Vectors Transposed'!H6+'1D Vectors Transposed'!I6*'Risk-return'!MI3","v":-0.50656733114135211},{"$f":"'1D Vectors Transposed'!H6+'1D Vectors Transposed'!I6*'Risk-return'!MJ3","v":-0.50812967659407027},{"$f":"'1D Vectors Transposed'!H6+'1D Vectors Transposed'!I6*'Risk-return'!MK3","v":-0.50969202204678832},{"$f":"'1D Vectors Transposed'!H6+'1D Vectors Transposed'!I6*'Risk-return'!ML3","v":-0.51125436749950648},{"$f":"'1D Vectors Transposed'!H6+'1D Vectors Transposed'!I6*'Risk-return'!MM3","v":-0.51281671295222464},{"$f":"'1D Vectors Transposed'!H6+'1D Vectors Transposed'!I6*'Risk-return'!MN3","v":-0.51437905840494269},{"$f":"'1D Vectors Transposed'!H6+'1D Vectors Transposed'!I6*'Risk-return'!MO3","v":-0.51594140385766085},{"$f":"'1D Vectors Transposed'!H6+'1D Vectors Transposed'!I6*'Risk-return'!MP3","v":-0.51750374931037901},{"$f":"'1D Vectors Transposed'!H6+'1D Vectors Transposed'!I6*'Risk-return'!MQ3","v":-0.51906609476309706},{"$f":"'1D Vectors Transposed'!H6+'1D Vectors Transposed'!I6*'Risk-return'!MR3","v":-0.52062844021581522},{"$f":"'1D Vectors Transposed'!H6+'1D Vectors Transposed'!I6*'Risk-return'!MS3","v":-0.52219078566853339},{"$f":"'1D Vectors Transposed'!H6+'1D Vectors Transposed'!I6*'Risk-return'!MT3","v":-0.52375313112125144},{"$f":"'1D Vectors Transposed'!H6+'1D Vectors Transposed'!I6*'Risk-return'!MU3","v":-0.5253154765739696},{"$f":"'1D Vectors Transposed'!H6+'1D Vectors Transposed'!I6*'Risk-return'!MV3","v":-0.52687782202668765},{"$f":"'1D Vectors Transposed'!H6+'1D Vectors Transposed'!I6*'Risk-return'!MW3","v":-0.52844016747940581},{"$f":"'1D Vectors Transposed'!H6+'1D Vectors Transposed'!I6*'Risk-return'!MX3","v":-0.53000251293212397},{"$f":"'1D Vectors Transposed'!H6+'1D Vectors Transposed'!I6*'Risk-return'!MY3","v":-0.53156485838484202},{"$f":"'1D Vectors Transposed'!H6+'1D Vectors Transposed'!I6*'Risk-return'!MZ3","v":-0.53312720383756018},{"$f":"'1D Vectors Transposed'!H6+'1D Vectors Transposed'!I6*'Risk-return'!NA3","v":-0.53468954929027834},{"$f":"'1D Vectors Transposed'!H6+'1D Vectors Transposed'!I6*'Risk-return'!NB3","v":-0.53625189474299639},{"$f":"'1D Vectors Transposed'!H6+'1D Vectors Transposed'!I6*'Risk-return'!NC3","v":-0.53781424019571455},{"$f":"'1D Vectors Transposed'!H6+'1D Vectors Transposed'!I6*'Risk-return'!ND3","v":-0.53937658564843272},{"$f":"'1D Vectors Transposed'!H6+'1D Vectors Transposed'!I6*'Risk-return'!NE3","v":-0.54093893110115077},{"$f":"'1D Vectors Transposed'!H6+'1D Vectors Transposed'!I6*'Risk-return'!NF3","v":-0.54250127655386893},{"$f":"'1D Vectors Transposed'!H6+'1D Vectors Transposed'!I6*'Risk-return'!NG3","v":-0.54406362200658698},{"$f":"'1D Vectors Transposed'!H6+'1D Vectors Transposed'!I6*'Risk-return'!NH3","v":-0.54562596745930514},{"$f":"'1D Vectors Transposed'!H6+'1D Vectors Transposed'!I6*'Risk-return'!NI3","v":-0.5471883129120233},{"$f":"'1D Vectors Transposed'!H6+'1D Vectors Transposed'!I6*'Risk-return'!NJ3","v":-0.54875065836474135},{"$f":"'1D Vectors Transposed'!H6+'1D Vectors Transposed'!I6*'Risk-return'!NK3","v":-0.55031300381745951},{"$f":"'1D Vectors Transposed'!H6+'1D Vectors Transposed'!I6*'Risk-return'!NL3","v":-0.55187534927017767},{"$f":"'1D Vectors Transposed'!H6+'1D Vectors Transposed'!I6*'Risk-return'!NM3","v":-0.55343769472289572},{"$f":"'1D Vectors Transposed'!H6+'1D Vectors Transposed'!I6*'Risk-return'!NN3","v":-0.55500004017561388},{"$f":"'1D Vectors Transposed'!H6+'1D Vectors Transposed'!I6*'Risk-return'!NO3","v":-0.55656238562833205},{"$f":"'1D Vectors Transposed'!H6+'1D Vectors Transposed'!I6*'Risk-return'!NP3","v":-0.5581247310810501},{"$f":"'1D Vectors Transposed'!H6+'1D Vectors Transposed'!I6*'Risk-return'!NQ3","v":-0.55968707653376826},{"$f":"'1D Vectors Transposed'!H6+'1D Vectors Transposed'!I6*'Risk-return'!NR3","v":-0.56124942198648642},{"$f":"'1D Vectors Transposed'!H6+'1D Vectors Transposed'!I6*'Risk-return'!NS3","v":-0.56281176743920447},{"$f":"'1D Vectors Transposed'!H6+'1D Vectors Transposed'!I6*'Risk-return'!NT3","v":-0.56437411289192263},{"$f":"'1D Vectors Transposed'!H6+'1D Vectors Transposed'!I6*'Risk-return'!NU3","v":-0.56593645834464068},{"$f":"'1D Vectors Transposed'!H6+'1D Vectors Transposed'!I6*'Risk-return'!NV3","v":-0.56749880379735884},{"$f":"'1D Vectors Transposed'!H6+'1D Vectors Transposed'!I6*'Risk-return'!NW3","v":-0.569061149250077},{"$f":"'1D Vectors Transposed'!H6+'1D Vectors Transposed'!I6*'Risk-return'!NX3","v":-0.57062349470279505},{"$f":"'1D Vectors Transposed'!H6+'1D Vectors Transposed'!I6*'Risk-return'!NY3","v":-0.57218584015551321},{"$f":"'1D Vectors Transposed'!H6+'1D Vectors Transposed'!I6*'Risk-return'!NZ3","v":-0.57374818560823138},{"$f":"'1D Vectors Transposed'!H6+'1D Vectors Transposed'!I6*'Risk-return'!OA3","v":-0.57531053106094943},{"$f":"'1D Vectors Transposed'!H6+'1D Vectors Transposed'!I6*'Risk-return'!OB3","v":-0.57687287651366759},{"$f":"'1D Vectors Transposed'!H6+'1D Vectors Transposed'!I6*'Risk-return'!OC3","v":-0.57843522196638575},{"$f":"'1D Vectors Transposed'!H6+'1D Vectors Transposed'!I6*'Risk-return'!OD3","v":-0.5799975674191038},{"$f":"'1D Vectors Transposed'!H6+'1D Vectors Transposed'!I6*'Risk-return'!OE3","v":-0.58155991287182196},{"$f":"'1D Vectors Transposed'!H6+'1D Vectors Transposed'!I6*'Risk-return'!OF3","v":-0.58312225832454001},{"$f":"'1D Vectors Transposed'!H6+'1D Vectors Transposed'!I6*'Risk-return'!OG3","v":-0.58468460377725817},{"$f":"'1D Vectors Transposed'!H6+'1D Vectors Transposed'!I6*'Risk-return'!OH3","v":-0.58624694922997633},{"$f":"'1D Vectors Transposed'!H6+'1D Vectors Transposed'!I6*'Risk-return'!OI3","v":-0.58780929468269438},{"$f":"'1D Vectors Transposed'!H6+'1D Vectors Transposed'!I6*'Risk-return'!OJ3","v":-0.58937164013541254},{"$f":"'1D Vectors Transposed'!H6+'1D Vectors Transposed'!I6*'Risk-return'!OK3","v":-0.59093398558813071},{"$f":"'1D Vectors Transposed'!H6+'1D Vectors Transposed'!I6*'Risk-return'!OL3","v":-0.59249633104084876},{"$f":"'1D Vectors Transposed'!H6+'1D Vectors Transposed'!I6*'Risk-return'!OM3","v":-0.59405867649356692},{"$f":"'1D Vectors Transposed'!H6+'1D Vectors Transposed'!I6*'Risk-return'!ON3","v":-0.59562102194628508},{"$f":"'1D Vectors Transposed'!H6+'1D Vectors Transposed'!I6*'Risk-return'!OO3","v":-0.59718336739900313},{"$f":"'1D Vectors Transposed'!H6+'1D Vectors Transposed'!I6*'Risk-return'!OP3","v":-0.59874571285172129},{"$f":"'1D Vectors Transposed'!H6+'1D Vectors Transposed'!I6*'Risk-return'!OQ3","v":-0.60030805830443934},{"$f":"'1D Vectors Transposed'!H6+'1D Vectors Transposed'!I6*'Risk-return'!OR3","v":-0.6018704037571575},{"$f":"'1D Vectors Transposed'!H6+'1D Vectors Transposed'!I6*'Risk-return'!OS3","v":-0.60343274920987566},{"$f":"'1D Vectors Transposed'!H6+'1D Vectors Transposed'!I6*'Risk-return'!OT3","v":-0.60499509466259371},{"$f":"'1D Vectors Transposed'!H6+'1D Vectors Transposed'!I6*'Risk-return'!OU3","v":-0.60655744011531187},{"$f":"'1D Vectors Transposed'!H6+'1D Vectors Transposed'!I6*'Risk-return'!OV3","v":-0.60811978556803004},{"$f":"'1D Vectors Transposed'!H6+'1D Vectors Transposed'!I6*'Risk-return'!OW3","v":-0.60968213102074809},{"$f":"'1D Vectors Transposed'!H6+'1D Vectors Transposed'!I6*'Risk-return'!OX3","v":-0.61124447647346625},{"$f":"'1D Vectors Transposed'!H6+'1D Vectors Transposed'!I6*'Risk-return'!OY3","v":-0.61280682192618441},{"$f":"'1D Vectors Transposed'!H6+'1D Vectors Transposed'!I6*'Risk-return'!OZ3","v":-0.61436916737890246},{"$f":"'1D Vectors Transposed'!H6+'1D Vectors Transposed'!I6*'Risk-return'!PA3","v":-0.61593151283162062},{"$f":"'1D Vectors Transposed'!H6+'1D Vectors Transposed'!I6*'Risk-return'!PB3","v":-0.61749385828433878},{"$f":"'1D Vectors Transposed'!H6+'1D Vectors Transposed'!I6*'Risk-return'!PC3","v":-0.61905620373705683},{"$f":"'1D Vectors Transposed'!H6+'1D Vectors Transposed'!I6*'Risk-return'!PD3","v":-0.62061854918977499},{"$f":"'1D Vectors Transposed'!H6+'1D Vectors Transposed'!I6*'Risk-return'!PE3","v":-0.62218089464249304},{"$f":"'1D Vectors Transposed'!H6+'1D Vectors Transposed'!I6*'Risk-return'!PF3","v":-0.6237432400952112},{"$f":"'1D Vectors Transposed'!H6+'1D Vectors Transposed'!I6*'Risk-return'!PG3","v":-0.62530558554792937},{"$f":"'1D Vectors Transposed'!H6+'1D Vectors Transposed'!I6*'Risk-return'!PH3","v":-0.62686793100064742},{"$f":"'1D Vectors Transposed'!H6+'1D Vectors Transposed'!I6*'Risk-return'!PI3","v":-0.62843027645336558},{"$f":"'1D Vectors Transposed'!H6+'1D Vectors Transposed'!I6*'Risk-return'!PJ3","v":-0.62999262190608374},{"$f":"'1D Vectors Transposed'!H6+'1D Vectors Transposed'!I6*'Risk-return'!PK3","v":-0.63155496735880179},{"$f":"'1D Vectors Transposed'!H6+'1D Vectors Transposed'!I6*'Risk-return'!PL3","v":-0.63311731281151995},{"$f":"'1D Vectors Transposed'!H6+'1D Vectors Transposed'!I6*'Risk-return'!PM3","v":-0.63467965826423811},{"$f":"'1D Vectors Transposed'!H6+'1D Vectors Transposed'!I6*'Risk-return'!PN3","v":-0.63624200371695616},{"$f":"'1D Vectors Transposed'!H6+'1D Vectors Transposed'!I6*'Risk-return'!PO3","v":-0.63780434916967432},{"$f":"'1D Vectors Transposed'!H6+'1D Vectors Transposed'!I6*'Risk-return'!PP3","v":-0.63936669462239237},{"$f":"'1D Vectors Transposed'!H6+'1D Vectors Transposed'!I6*'Risk-return'!PQ3","v":-0.64092904007511053},{"$f":"'1D Vectors Transposed'!H6+'1D Vectors Transposed'!I6*'Risk-return'!PR3","v":-0.6424913855278287},{"$f":"'1D Vectors Transposed'!H6+'1D Vectors Transposed'!I6*'Risk-return'!PS3","v":-0.64405373098054675},{"$f":"'1D Vectors Transposed'!H6+'1D Vectors Transposed'!I6*'Risk-return'!PT3","v":-0.64561607643326491},{"$f":"'1D Vectors Transposed'!H6+'1D Vectors Transposed'!I6*'Risk-return'!PU3","v":-0.64717842188598307},{"$f":"'1D Vectors Transposed'!H6+'1D Vectors Transposed'!I6*'Risk-return'!PV3","v":-0.64874076733870112},{"$f":"'1D Vectors Transposed'!H6+'1D Vectors Transposed'!I6*'Risk-return'!PW3","v":-0.65030311279141928},{"$f":"'1D Vectors Transposed'!H6+'1D Vectors Transposed'!I6*'Risk-return'!PX3","v":-0.65186545824413744},{"$f":"'1D Vectors Transposed'!H6+'1D Vectors Transposed'!I6*'Risk-return'!PY3","v":-0.65342780369685549},{"$f":"'1D Vectors Transposed'!H6+'1D Vectors Transposed'!I6*'Risk-return'!PZ3","v":-0.65499014914957365},{"$f":"'1D Vectors Transposed'!H6+'1D Vectors Transposed'!I6*'Risk-return'!QA3","v":-0.65655249460229181},{"$f":"'1D Vectors Transposed'!H6+'1D Vectors Transposed'!I6*'Risk-return'!QB3","v":-0.65811484005500986},{"$f":"'1D Vectors Transposed'!H6+'1D Vectors Transposed'!I6*'Risk-return'!QC3","v":-0.65967718550772803},{"$f":"'1D Vectors Transposed'!H6+'1D Vectors Transposed'!I6*'Risk-return'!QD3","v":-0.66123953096044608},{"$f":"'1D Vectors Transposed'!H6+'1D Vectors Transposed'!I6*'Risk-return'!QE3","v":-0.66280187641316424},{"$f":"'1D Vectors Transposed'!H6+'1D Vectors Transposed'!I6*'Risk-return'!QF3","v":-0.6643642218658824},{"$f":"'1D Vectors Transposed'!H6+'1D Vectors Transposed'!I6*'Risk-return'!QG3","v":-0.66592656731860045},{"$f":"'1D Vectors Transposed'!H6+'1D Vectors Transposed'!I6*'Risk-return'!QH3","v":-0.66748891277131861},{"$f":"'1D Vectors Transposed'!H6+'1D Vectors Transposed'!I6*'Risk-return'!QI3","v":-0.66905125822403677},{"$f":"'1D Vectors Transposed'!H6+'1D Vectors Transposed'!I6*'Risk-return'!QJ3","v":-0.67061360367675482},{"$f":"'1D Vectors Transposed'!H6+'1D Vectors Transposed'!I6*'Risk-return'!QK3","v":-0.67217594912947298},{"$f":"'1D Vectors Transposed'!H6+'1D Vectors Transposed'!I6*'Risk-return'!QL3","v":-0.67373829458219114},{"$f":"'1D Vectors Transposed'!H6+'1D Vectors Transposed'!I6*'Risk-return'!QM3","v":-0.67530064003490919},{"$f":"'1D Vectors Transposed'!H6+'1D Vectors Transposed'!I6*'Risk-return'!QN3","v":-0.67686298548762736},{"$f":"'1D Vectors Transposed'!H6+'1D Vectors Transposed'!I6*'Risk-return'!QO3","v":-0.67842533094034541},{"$f":"'1D Vectors Transposed'!H6+'1D Vectors Transposed'!I6*'Risk-return'!QP3","v":-0.67998767639306357},{"$f":"'1D Vectors Transposed'!H6+'1D Vectors Transposed'!I6*'Risk-return'!QQ3","v":-0.68155002184578173},{"$f":"'1D Vectors Transposed'!H6+'1D Vectors Transposed'!I6*'Risk-return'!QR3","v":-0.68311236729849978},{"$f":"'1D Vectors Transposed'!H6+'1D Vectors Transposed'!I6*'Risk-return'!QS3","v":-0.68467471275121794},{"$f":"'1D Vectors Transposed'!H6+'1D Vectors Transposed'!I6*'Risk-return'!QT3","v":-0.6862370582039361},{"$f":"'1D Vectors Transposed'!H6+'1D Vectors Transposed'!I6*'Risk-return'!QU3","v":-0.68779940365665415},{"$f":"'1D Vectors Transposed'!H6+'1D Vectors Transposed'!I6*'Risk-return'!QV3","v":-0.68936174910937231},{"$f":"'1D Vectors Transposed'!H6+'1D Vectors Transposed'!I6*'Risk-return'!QW3","v":-0.69092409456209047},{"$f":"'1D Vectors Transposed'!H6+'1D Vectors Transposed'!I6*'Risk-return'!QX3","v":-0.69248644001480852},{"$f":"'1D Vectors Transposed'!H6+'1D Vectors Transposed'!I6*'Risk-return'!QY3","v":-0.69404878546752669},{"$f":"'1D Vectors Transposed'!H6+'1D Vectors Transposed'!I6*'Risk-return'!QZ3","v":-0.69561113092024474},{"$f":"'1D Vectors Transposed'!H6+'1D Vectors Transposed'!I6*'Risk-return'!RA3","v":-0.6971734763729629},{"$f":"'1D Vectors Transposed'!H6+'1D Vectors Transposed'!I6*'Risk-return'!RB3","v":-0.69873582182568106},{"$f":"'1D Vectors Transposed'!H6+'1D Vectors Transposed'!I6*'Risk-return'!RC3","v":-0.70029816727839911},{"$f":"'1D Vectors Transposed'!H6+'1D Vectors Transposed'!I6*'Risk-return'!RD3","v":-0.70186051273111727},{"$f":"'1D Vectors Transposed'!H6+'1D Vectors Transposed'!I6*'Risk-return'!RE3","v":-0.70342285818383543},{"$f":"'1D Vectors Transposed'!H6+'1D Vectors Transposed'!I6*'Risk-return'!RF3","v":-0.70498520363655348},{"$f":"'1D Vectors Transposed'!H6+'1D Vectors Transposed'!I6*'Risk-return'!RG3","v":-0.70654754908927164},{"$f":"'1D Vectors Transposed'!H6+'1D Vectors Transposed'!I6*'Risk-return'!RH3","v":-0.7081098945419898},{"$f":"'1D Vectors Transposed'!H6+'1D Vectors Transposed'!I6*'Risk-return'!RI3","v":-0.70967223999470785},{"$f":"'1D Vectors Transposed'!H6+'1D Vectors Transposed'!I6*'Risk-return'!RJ3","v":-0.71123458544742602},{"$f":"'1D Vectors Transposed'!H6+'1D Vectors Transposed'!I6*'Risk-return'!RK3","v":-0.71279693090014418},{"$f":"'1D Vectors Transposed'!H6+'1D Vectors Transposed'!I6*'Risk-return'!RL3","v":-0.71435927635286223},{"$f":"'1D Vectors Transposed'!H6+'1D Vectors Transposed'!I6*'Risk-return'!RM3","v":-0.71592162180558039},{"$f":"'1D Vectors Transposed'!H6+'1D Vectors Transposed'!I6*'Risk-return'!RN3","v":-0.71748396725829844},{"$f":"'1D Vectors Transposed'!H6+'1D Vectors Transposed'!I6*'Risk-return'!RO3","v":-0.7190463127110166},{"$f":"'1D Vectors Transposed'!H6+'1D Vectors Transposed'!I6*'Risk-return'!RP3","v":-0.72060865816373476},{"$f":"'1D Vectors Transposed'!H6+'1D Vectors Transposed'!I6*'Risk-return'!RQ3","v":-0.72217100361645281},{"$f":"'1D Vectors Transposed'!H6+'1D Vectors Transposed'!I6*'Risk-return'!RR3","v":-0.72373334906917097},{"$f":"'1D Vectors Transposed'!H6+'1D Vectors Transposed'!I6*'Risk-return'!RS3","v":-0.72529569452188913},{"$f":"'1D Vectors Transposed'!H6+'1D Vectors Transposed'!I6*'Risk-return'!RT3","v":-0.72685803997460718},{"$f":"'1D Vectors Transposed'!H6+'1D Vectors Transposed'!I6*'Risk-return'!RU3","v":-0.72842038542732535},{"$f":"'1D Vectors Transposed'!H6+'1D Vectors Transposed'!I6*'Risk-return'!RV3","v":-0.72998273088004351},{"$f":"'1D Vectors Transposed'!H6+'1D Vectors Transposed'!I6*'Risk-return'!RW3","v":-0.73154507633276156},{"$f":"'1D Vectors Transposed'!H6+'1D Vectors Transposed'!I6*'Risk-return'!RX3","v":-0.73310742178547972},{"$f":"'1D Vectors Transposed'!H6+'1D Vectors Transposed'!I6*'Risk-return'!RY3","v":-0.73466976723819777},{"$f":"'1D Vectors Transposed'!H6+'1D Vectors Transposed'!I6*'Risk-return'!RZ3","v":-0.73623211269091593},{"$f":"'1D Vectors Transposed'!H6+'1D Vectors Transposed'!I6*'Risk-return'!SA3","v":-0.73779445814363409},{"$f":"'1D Vectors Transposed'!H6+'1D Vectors Transposed'!I6*'Risk-return'!SB3","v":-0.73935680359635214},{"$f":"'1D Vectors Transposed'!H6+'1D Vectors Transposed'!I6*'Risk-return'!SC3","v":-0.7409191490490703},{"$f":"'1D Vectors Transposed'!H6+'1D Vectors Transposed'!I6*'Risk-return'!SD3","v":-0.74248149450178846},{"$f":"'1D Vectors Transposed'!H6+'1D Vectors Transposed'!I6*'Risk-return'!SE3","v":-0.74404383995450651},{"$f":"'1D Vectors Transposed'!H6+'1D Vectors Transposed'!I6*'Risk-return'!SF3","v":-0.74560618540722468},{"$f":"'1D Vectors Transposed'!H6+'1D Vectors Transposed'!I6*'Risk-return'!SG3","v":3.3995232557688847E-2}]
["SPASTT01DEM661N",{"$f":"'1D Vectors Transposed'!H7+'1D Vectors Transposed'!I7*'Risk-return'!B3","v":-0.18025099523531374},{"$f":"'1D Vectors Transposed'!H7+'1D Vectors Transposed'!I7*'Risk-return'!C3","v":-0.17852602207004409},{"$f":"'1D Vectors Transposed'!H7+'1D Vectors Transposed'!I7*'Risk-return'!D3","v":-0.17680104903028279},{"$f":"'1D Vectors Transposed'!H7+'1D Vectors Transposed'!I7*'Risk-return'!E3","v":-0.17507607573950484},{"$f":"'1D Vectors Transposed'!H7+'1D Vectors Transposed'!I7*'Risk-return'!F3","v":-0.17335110295076017},{"$f":"'1D Vectors Transposed'!H7+'1D Vectors Transposed'!I7*'Risk-return'!G3","v":-0.17162612965998222},{"$f":"'1D Vectors Transposed'!H7+'1D Vectors Transposed'!I7*'Risk-return'!H3","v":-0.16990115636920428},{"$f":"'1D Vectors Transposed'!H7+'1D Vectors Transposed'!I7*'Risk-return'!I3","v":-0.1681761830784263},{"$f":"'1D Vectors Transposed'!H7+'1D Vectors Transposed'!I7*'Risk-return'!J3","v":-0.16645120978764835},{"$f":"'1D Vectors Transposed'!H7+'1D Vectors Transposed'!I7*'Risk-return'!K3","v":-0.16472623750093696},{"$f":"'1D Vectors Transposed'!H7+'1D Vectors Transposed'!I7*'Risk-return'!L3","v":-0.16300126521422559},{"$f":"'1D Vectors Transposed'!H7+'1D Vectors Transposed'!I7*'Risk-return'!M3","v":-0.16127629292751419},{"$f":"'1D Vectors Transposed'!H7+'1D Vectors Transposed'!I7*'Risk-return'!N3","v":-0.1595513206408028},{"$f":"'1D Vectors Transposed'!H7+'1D Vectors Transposed'!I7*'Risk-return'!O3","v":-0.1578263483540914},{"$f":"'1D Vectors Transposed'!H7+'1D Vectors Transposed'!I7*'Risk-return'!P3","v":-0.15610137606738},{"$f":"'1D Vectors Transposed'!H7+'1D Vectors Transposed'!I7*'Risk-return'!Q3","v":-0.15437640378066861},{"$f":"'1D Vectors Transposed'!H7+'1D Vectors Transposed'!I7*'Risk-return'!R3","v":-0.15265143149395721},{"$f":"'1D Vectors Transposed'!H7+'1D Vectors Transposed'!I7*'Risk-return'!S3","v":-0.15092645920724582},{"$f":"'1D Vectors Transposed'!H7+'1D Vectors Transposed'!I7*'Risk-return'!T3","v":-0.14920148692053442},{"$f":"'1D Vectors Transposed'!H7+'1D Vectors Transposed'!I7*'Risk-return'!U3","v":-0.14747651463382302},{"$f":"'1D Vectors Transposed'!H7+'1D Vectors Transposed'!I7*'Risk-return'!V3","v":-0.14575154033897852},{"$f":"'1D Vectors Transposed'!H7+'1D Vectors Transposed'!I7*'Risk-return'!W3","v":-0.14402656604413402},{"$f":"'1D Vectors Transposed'!H7+'1D Vectors Transposed'!I7*'Risk-return'!X3","v":-0.14230159174928952},{"$f":"'1D Vectors Transposed'!H7+'1D Vectors Transposed'!I7*'Risk-return'!Y3","v":-0.140576617454445},{"$f":"'1D Vectors Transposed'!H7+'1D Vectors Transposed'!I7*'Risk-return'!Z3","v":-0.1388516431596005},{"$f":"'1D Vectors Transposed'!H7+'1D Vectors Transposed'!I7*'Risk-return'!AA3","v":-0.137126668864756},{"$f":"'1D Vectors Transposed'!H7+'1D Vectors Transposed'!I7*'Risk-return'!AB3","v":-0.13540169456991147},{"$f":"'1D Vectors Transposed'!H7+'1D Vectors Transposed'!I7*'Risk-return'!AC3","v":-0.13367672027506697},{"$f":"'1D Vectors Transposed'!H7+'1D Vectors Transposed'!I7*'Risk-return'!AD3","v":-0.13195174598022247},{"$f":"'1D Vectors Transposed'!H7+'1D Vectors Transposed'!I7*'Risk-return'!AE3","v":-0.13022677168537797},{"$f":"'1D Vectors Transposed'!H7+'1D Vectors Transposed'!I7*'Risk-return'!AF3","v":-0.12850179739053347},{"$f":"'1D Vectors Transposed'!H7+'1D Vectors Transposed'!I7*'Risk-return'!AG3","v":-0.12677682309568894},{"$f":"'1D Vectors Transposed'!H7+'1D Vectors Transposed'!I7*'Risk-return'!AH3","v":-0.12505184880084444},{"$f":"'1D Vectors Transposed'!H7+'1D Vectors Transposed'!I7*'Risk-return'!AI3","v":-0.12332687450599994},{"$f":"'1D Vectors Transposed'!H7+'1D Vectors Transposed'!I7*'Risk-return'!AJ3","v":-0.12160190021115543},{"$f":"'1D Vectors Transposed'!H7+'1D Vectors Transposed'!I7*'Risk-return'!AK3","v":-0.11987692591631093},{"$f":"'1D Vectors Transposed'!H7+'1D Vectors Transposed'!I7*'Risk-return'!AL3","v":-0.11815195162146641},{"$f":"'1D Vectors Transposed'!H7+'1D Vectors Transposed'!I7*'Risk-return'!AM3","v":-0.11642697732662191},{"$f":"'1D Vectors Transposed'!H7+'1D Vectors Transposed'!I7*'Risk-return'!AN3","v":-0.1147020030317774},{"$f":"'1D Vectors Transposed'!H7+'1D Vectors Transposed'!I7*'Risk-return'!AO3","v":-0.1129770287369329},{"$f":"'1D Vectors Transposed'!H7+'1D Vectors Transposed'!I7*'Risk-return'!AP3","v":-0.11125205845835462},{"$f":"'1D Vectors Transposed'!H7+'1D Vectors Transposed'!I7*'Risk-return'!AQ3","v":-0.10952708817977633},{"$f":"'1D Vectors Transposed'!H7+'1D Vectors Transposed'!I7*'Risk-return'!AR3","v":-0.10780211790119805},{"$f":"'1D Vectors Transposed'!H7+'1D Vectors Transposed'!I7*'Risk-return'!AS3","v":-0.10607714762261977},{"$f":"'1D Vectors Transposed'!H7+'1D Vectors Transposed'!I7*'Risk-return'!AT3","v":-0.10435217734404149},{"$f":"'1D Vectors Transposed'!H7+'1D Vectors Transposed'!I7*'Risk-return'!AU3","v":-0.1026272070654632},{"$f":"'1D Vectors Transposed'!H7+'1D Vectors Transposed'!I7*'Risk-return'!AV3","v":-0.10090223678688492},{"$f":"'1D Vectors Transposed'!H7+'1D Vectors Transposed'!I7*'Risk-return'!AW3","v":-9.9177266508306647E-2},{"$f":"'1D Vectors Transposed'!H7+'1D Vectors Transposed'!I7*'Risk-return'!AX3","v":-9.7452296229728355E-2},{"$f":"'1D Vectors Transposed'!H7+'1D Vectors Transposed'!I7*'Risk-return'!AY3","v":-9.5727325951150077E-2},{"$f":"'1D Vectors Transposed'!H7+'1D Vectors Transposed'!I7*'Risk-return'!AZ3","v":-9.40023556725718E-2},{"$f":"'1D Vectors Transposed'!H7+'1D Vectors Transposed'!I7*'Risk-return'!BA3","v":-9.2277385393993522E-2},{"$f":"'1D Vectors Transposed'!H7+'1D Vectors Transposed'!I7*'Risk-return'!BB3","v":-9.055241511541523E-2},{"$f":"'1D Vectors Transposed'!H7+'1D Vectors Transposed'!I7*'Risk-return'!BC3","v":-8.8827444836836952E-2},{"$f":"'1D Vectors Transposed'!H7+'1D Vectors Transposed'!I7*'Risk-return'!BD3","v":-8.7102474558258675E-2},{"$f":"'1D Vectors Transposed'!H7+'1D Vectors Transposed'!I7*'Risk-return'!BE3","v":-8.5377504279680383E-2},{"$f":"'1D Vectors Transposed'!H7+'1D Vectors Transposed'!I7*'Risk-return'!BF3","v":-8.3652534001102105E-2},{"$f":"'1D Vectors Transposed'!H7+'1D Vectors Transposed'!I7*'Risk-return'!BG3","v":-8.1927563722523827E-2},{"$f":"'1D Vectors Transposed'!H7+'1D Vectors Transposed'!I7*'Risk-return'!BH3","v":-8.020259344394555E-2},{"$f":"'1D Vectors Transposed'!H7+'1D Vectors Transposed'!I7*'Risk-return'!BI3","v":-7.8477623165367258E-2},{"$f":"'1D Vectors Transposed'!H7+'1D Vectors Transposed'!I7*'Risk-return'!BJ3","v":-7.675265288678898E-2},{"$f":"'1D Vectors Transposed'!H7+'1D Vectors Transposed'!I7*'Risk-return'!BK3","v":-7.5027682608210702E-2},{"$f":"'1D Vectors Transposed'!H7+'1D Vectors Transposed'!I7*'Risk-return'!BL3","v":-7.3302712329632425E-2},{"$f":"'1D Vectors Transposed'!H7+'1D Vectors Transposed'!I7*'Risk-return'!BM3","v":-7.1577742051054133E-2},{"$f":"'1D Vectors Transposed'!H7+'1D Vectors Transposed'!I7*'Risk-return'!BN3","v":-6.9852771772475855E-2},{"$f":"'1D Vectors Transposed'!H7+'1D Vectors Transposed'!I7*'Risk-return'!BO3","v":-6.8127801493897577E-2},{"$f":"'1D Vectors Transposed'!H7+'1D Vectors Transposed'!I7*'Risk-return'!BP3","v":-6.6402831215319286E-2},{"$f":"'1D Vectors Transposed'!H7+'1D Vectors Transposed'!I7*'Risk-return'!BQ3","v":-6.4677860936741008E-2},{"$f":"'1D Vectors Transposed'!H7+'1D Vectors Transposed'!I7*'Risk-return'!BR3","v":-6.295289065816273E-2},{"$f":"'1D Vectors Transposed'!H7+'1D Vectors Transposed'!I7*'Risk-return'!BS3","v":-6.1227920379584452E-2},{"$f":"'1D Vectors Transposed'!H7+'1D Vectors Transposed'!I7*'Risk-return'!BT3","v":-5.9502950101006161E-2},{"$f":"'1D Vectors Transposed'!H7+'1D Vectors Transposed'!I7*'Risk-return'!BU3","v":-5.7777979822427883E-2},{"$f":"'1D Vectors Transposed'!H7+'1D Vectors Transposed'!I7*'Risk-return'!BV3","v":-5.6053009543849591E-2},{"$f":"'1D Vectors Transposed'!H7+'1D Vectors Transposed'!I7*'Risk-return'!BW3","v":-5.4328039265271327E-2},{"$f":"'1D Vectors Transposed'!H7+'1D Vectors Transposed'!I7*'Risk-return'!BX3","v":-5.2603068986693036E-2},{"$f":"'1D Vectors Transposed'!H7+'1D Vectors Transposed'!I7*'Risk-return'!BY3","v":-5.0878098708114744E-2},{"$f":"'1D Vectors Transposed'!H7+'1D Vectors Transposed'!I7*'Risk-return'!BZ3","v":-4.915312842953648E-2},{"$f":"'1D Vectors Transposed'!H7+'1D Vectors Transposed'!I7*'Risk-return'!CA3","v":-4.7428158150958188E-2},{"$f":"'1D Vectors Transposed'!H7+'1D Vectors Transposed'!I7*'Risk-return'!CB3","v":-4.5703187872379925E-2},{"$f":"'1D Vectors Transposed'!H7+'1D Vectors Transposed'!I7*'Risk-return'!CC3","v":-4.3978217593801633E-2},{"$f":"'1D Vectors Transposed'!H7+'1D Vectors Transposed'!I7*'Risk-return'!CD3","v":-4.2253247315223341E-2},{"$f":"'1D Vectors Transposed'!H7+'1D Vectors Transposed'!I7*'Risk-return'!CE3","v":-4.0528277036645077E-2},{"$f":"'1D Vectors Transposed'!H7+'1D Vectors Transposed'!I7*'Risk-return'!CF3","v":-3.8803306758066786E-2},{"$f":"'1D Vectors Transposed'!H7+'1D Vectors Transposed'!I7*'Risk-return'!CG3","v":-3.7078336479488494E-2},{"$f":"'1D Vectors Transposed'!H7+'1D Vectors Transposed'!I7*'Risk-return'!CH3","v":-3.535336620091023E-2},{"$f":"'1D Vectors Transposed'!H7+'1D Vectors Transposed'!I7*'Risk-return'!CI3","v":-3.3628395922331938E-2},{"$f":"'1D Vectors Transposed'!H7+'1D Vectors Transposed'!I7*'Risk-return'!CJ3","v":-3.1903425643753647E-2},{"$f":"'1D Vectors Transposed'!H7+'1D Vectors Transposed'!I7*'Risk-return'!CK3","v":-3.0178455365175383E-2},{"$f":"'1D Vectors Transposed'!H7+'1D Vectors Transposed'!I7*'Risk-return'!CL3","v":-2.8453485086597091E-2},{"$f":"'1D Vectors Transposed'!H7+'1D Vectors Transposed'!I7*'Risk-return'!CM3","v":-2.6728514808018827E-2},{"$f":"'1D Vectors Transposed'!H7+'1D Vectors Transposed'!I7*'Risk-return'!CN3","v":-2.5003544529440536E-2},{"$f":"'1D Vectors Transposed'!H7+'1D Vectors Transposed'!I7*'Risk-return'!CO3","v":-2.3278574250862244E-2},{"$f":"'1D Vectors Transposed'!H7+'1D Vectors Transposed'!I7*'Risk-return'!CP3","v":-2.155360397228398E-2},{"$f":"'1D Vectors Transposed'!H7+'1D Vectors Transposed'!I7*'Risk-return'!CQ3","v":-1.9828633693705688E-2},{"$f":"'1D Vectors Transposed'!H7+'1D Vectors Transposed'!I7*'Risk-return'!CR3","v":-1.8103663415127397E-2},{"$f":"'1D Vectors Transposed'!H7+'1D Vectors Transposed'!I7*'Risk-return'!CS3","v":-1.6378693136549133E-2},{"$f":"'1D Vectors Transposed'!H7+'1D Vectors Transposed'!I7*'Risk-return'!CT3","v":-1.4653722857970841E-2},{"$f":"'1D Vectors Transposed'!H7+'1D Vectors Transposed'!I7*'Risk-return'!CU3","v":-1.292875257939255E-2},{"$f":"'1D Vectors Transposed'!H7+'1D Vectors Transposed'!I7*'Risk-return'!CV3","v":-1.1203782300814286E-2},{"$f":"'1D Vectors Transposed'!H7+'1D Vectors Transposed'!I7*'Risk-return'!CW3","v":-9.478812022235994E-3},{"$f":"'1D Vectors Transposed'!H7+'1D Vectors Transposed'!I7*'Risk-return'!CX3","v":-7.75384174365773E-3},{"$f":"'1D Vectors Transposed'!H7+'1D Vectors Transposed'!I7*'Risk-return'!CY3","v":-6.0288714650794384E-3},{"$f":"'1D Vectors Transposed'!H7+'1D Vectors Transposed'!I7*'Risk-return'!CZ3","v":-4.3039011865011467E-3},{"$f":"'1D Vectors Transposed'!H7+'1D Vectors Transposed'!I7*'Risk-return'!DA3","v":-2.5789309079228828E-3},{"$f":"'1D Vectors Transposed'!H7+'1D Vectors Transposed'!I7*'Risk-return'!DB3","v":-8.5396062934459116E-4},{"$f":"'1D Vectors Transposed'!H7+'1D Vectors Transposed'!I7*'Risk-return'!DC3","v":8.710096492337005E-4},{"$f":"'1D Vectors Transposed'!H7+'1D Vectors Transposed'!I7*'Risk-return'!DD3","v":2.5959799278119644E-3},{"$f":"'1D Vectors Transposed'!H7+'1D Vectors Transposed'!I7*'Risk-return'!DE3","v":4.3209502063902561E-3},{"$f":"'1D Vectors Transposed'!H7+'1D Vectors Transposed'!I7*'Risk-return'!DF3","v":6.0459204849685477E-3},{"$f":"'1D Vectors Transposed'!H7+'1D Vectors Transposed'!I7*'Risk-return'!DG3","v":7.7708907635468116E-3},{"$f":"'1D Vectors Transposed'!H7+'1D Vectors Transposed'!I7*'Risk-return'!DH3","v":9.4958610421251033E-3},{"$f":"'1D Vectors Transposed'!H7+'1D Vectors Transposed'!I7*'Risk-return'!DI3","v":1.1220831320703367E-2},{"$f":"'1D Vectors Transposed'!H7+'1D Vectors Transposed'!I7*'Risk-return'!DJ3","v":1.2945801599281659E-2},{"$f":"'1D Vectors Transposed'!H7+'1D Vectors Transposed'!I7*'Risk-return'!DK3","v":1.4670771877859951E-2},{"$f":"'1D Vectors Transposed'!H7+'1D Vectors Transposed'!I7*'Risk-return'!DL3","v":1.6395742156438214E-2},{"$f":"'1D Vectors Transposed'!H7+'1D Vectors Transposed'!I7*'Risk-return'!DM3","v":1.8120712435016506E-2},{"$f":"'1D Vectors Transposed'!H7+'1D Vectors Transposed'!I7*'Risk-return'!DN3","v":1.9845682713594798E-2},{"$f":"'1D Vectors Transposed'!H7+'1D Vectors Transposed'!I7*'Risk-return'!DO3","v":2.1570652992173062E-2},{"$f":"'1D Vectors Transposed'!H7+'1D Vectors Transposed'!I7*'Risk-return'!DP3","v":2.3295623270751353E-2},{"$f":"'1D Vectors Transposed'!H7+'1D Vectors Transposed'!I7*'Risk-return'!DQ3","v":2.5020593549329645E-2},{"$f":"'1D Vectors Transposed'!H7+'1D Vectors Transposed'!I7*'Risk-return'!DR3","v":2.6745563827907909E-2},{"$f":"'1D Vectors Transposed'!H7+'1D Vectors Transposed'!I7*'Risk-return'!DS3","v":2.8470534106486201E-2},{"$f":"'1D Vectors Transposed'!H7+'1D Vectors Transposed'!I7*'Risk-return'!DT3","v":3.0195504385064464E-2},{"$f":"'1D Vectors Transposed'!H7+'1D Vectors Transposed'!I7*'Risk-return'!DU3","v":3.1920474663642756E-2},{"$f":"'1D Vectors Transposed'!H7+'1D Vectors Transposed'!I7*'Risk-return'!DV3","v":3.3645444942221048E-2},{"$f":"'1D Vectors Transposed'!H7+'1D Vectors Transposed'!I7*'Risk-return'!DW3","v":3.5370415220799312E-2},{"$f":"'1D Vectors Transposed'!H7+'1D Vectors Transposed'!I7*'Risk-return'!DX3","v":3.7095385499377603E-2},{"$f":"'1D Vectors Transposed'!H7+'1D Vectors Transposed'!I7*'Risk-return'!DY3","v":3.8820355777955895E-2},{"$f":"'1D Vectors Transposed'!H7+'1D Vectors Transposed'!I7*'Risk-return'!DZ3","v":4.0545326056534159E-2},{"$f":"'1D Vectors Transposed'!H7+'1D Vectors Transposed'!I7*'Risk-return'!EA3","v":4.2270296335112451E-2},{"$f":"'1D Vectors Transposed'!H7+'1D Vectors Transposed'!I7*'Risk-return'!EB3","v":4.3995266613690742E-2},{"$f":"'1D Vectors Transposed'!H7+'1D Vectors Transposed'!I7*'Risk-return'!EC3","v":4.5720236892269006E-2},{"$f":"'1D Vectors Transposed'!H7+'1D Vectors Transposed'!I7*'Risk-return'!ED3","v":4.7445207170847298E-2},{"$f":"'1D Vectors Transposed'!H7+'1D Vectors Transposed'!I7*'Risk-return'!EE3","v":4.9170177449425589E-2},{"$f":"'1D Vectors Transposed'!H7+'1D Vectors Transposed'!I7*'Risk-return'!EF3","v":5.0895147728003853E-2},{"$f":"'1D Vectors Transposed'!H7+'1D Vectors Transposed'!I7*'Risk-return'!EG3","v":5.2620118006582145E-2},{"$f":"'1D Vectors Transposed'!H7+'1D Vectors Transposed'!I7*'Risk-return'!EH3","v":5.4345088285160409E-2},{"$f":"'1D Vectors Transposed'!H7+'1D Vectors Transposed'!I7*'Risk-return'!EI3","v":5.6070058563738701E-2},{"$f":"'1D Vectors Transposed'!H7+'1D Vectors Transposed'!I7*'Risk-return'!EJ3","v":5.7795028842316992E-2},{"$f":"'1D Vectors Transposed'!H7+'1D Vectors Transposed'!I7*'Risk-return'!EK3","v":5.9519999120895256E-2},{"$f":"'1D Vectors Transposed'!H7+'1D Vectors Transposed'!I7*'Risk-return'!EL3","v":6.1244969399473548E-2},{"$f":"'1D Vectors Transposed'!H7+'1D Vectors Transposed'!I7*'Risk-return'!EM3","v":6.2969939678051839E-2},{"$f":"'1D Vectors Transposed'!H7+'1D Vectors Transposed'!I7*'Risk-return'!EN3","v":6.4694909956630103E-2},{"$f":"'1D Vectors Transposed'!H7+'1D Vectors Transposed'!I7*'Risk-return'!EO3","v":6.6419880235208395E-2},{"$f":"'1D Vectors Transposed'!H7+'1D Vectors Transposed'!I7*'Risk-return'!EP3","v":6.8144850513786687E-2},{"$f":"'1D Vectors Transposed'!H7+'1D Vectors Transposed'!I7*'Risk-return'!EQ3","v":6.9869820792364951E-2},{"$f":"'1D Vectors Transposed'!H7+'1D Vectors Transposed'!I7*'Risk-return'!ER3","v":7.1594791070943214E-2},{"$f":"'1D Vectors Transposed'!H7+'1D Vectors Transposed'!I7*'Risk-return'!ES3","v":7.3319761349521534E-2},{"$f":"'1D Vectors Transposed'!H7+'1D Vectors Transposed'!I7*'Risk-return'!ET3","v":7.5044731628099798E-2},{"$f":"'1D Vectors Transposed'!H7+'1D Vectors Transposed'!I7*'Risk-return'!EU3","v":7.6769701906678062E-2},{"$f":"'1D Vectors Transposed'!H7+'1D Vectors Transposed'!I7*'Risk-return'!EV3","v":7.8494672185256381E-2},{"$f":"'1D Vectors Transposed'!H7+'1D Vectors Transposed'!I7*'Risk-return'!EW3","v":8.0219642463834645E-2},{"$f":"'1D Vectors Transposed'!H7+'1D Vectors Transposed'!I7*'Risk-return'!EX3","v":8.1944612742412909E-2},{"$f":"'1D Vectors Transposed'!H7+'1D Vectors Transposed'!I7*'Risk-return'!EY3","v":8.3669583020991228E-2},{"$f":"'1D Vectors Transposed'!H7+'1D Vectors Transposed'!I7*'Risk-return'!EZ3","v":8.5394553299569492E-2},{"$f":"'1D Vectors Transposed'!H7+'1D Vectors Transposed'!I7*'Risk-return'!FA3","v":8.7119523578147756E-2},{"$f":"'1D Vectors Transposed'!H7+'1D Vectors Transposed'!I7*'Risk-return'!FB3","v":8.8844493856726076E-2},{"$f":"'1D Vectors Transposed'!H7+'1D Vectors Transposed'!I7*'Risk-return'!FC3","v":9.0569464135304339E-2},{"$f":"'1D Vectors Transposed'!H7+'1D Vectors Transposed'!I7*'Risk-return'!FD3","v":9.2294434413882603E-2},{"$f":"'1D Vectors Transposed'!H7+'1D Vectors Transposed'!I7*'Risk-return'!FE3","v":9.4019404692460923E-2},{"$f":"'1D Vectors Transposed'!H7+'1D Vectors Transposed'!I7*'Risk-return'!FF3","v":9.5744374971039187E-2},{"$f":"'1D Vectors Transposed'!H7+'1D Vectors Transposed'!I7*'Risk-return'!FG3","v":9.7469345249617451E-2},{"$f":"'1D Vectors Transposed'!H7+'1D Vectors Transposed'!I7*'Risk-return'!FH3","v":9.919431552819577E-2},{"$f":"'1D Vectors Transposed'!H7+'1D Vectors Transposed'!I7*'Risk-return'!FI3","v":0.10091928580677403},{"$f":"'1D Vectors Transposed'!H7+'1D Vectors Transposed'!I7*'Risk-return'!FJ3","v":0.1026442560853523},{"$f":"'1D Vectors Transposed'!H7+'1D Vectors Transposed'!I7*'Risk-return'!FK3","v":0.10436922636393056},{"$f":"'1D Vectors Transposed'!H7+'1D Vectors Transposed'!I7*'Risk-return'!FL3","v":0.10609419664250888},{"$f":"'1D Vectors Transposed'!H7+'1D Vectors Transposed'!I7*'Risk-return'!FM3","v":0.10781916692108715},{"$f":"'1D Vectors Transposed'!H7+'1D Vectors Transposed'!I7*'Risk-return'!FN3","v":0.10954413719966541},{"$f":"'1D Vectors Transposed'!H7+'1D Vectors Transposed'!I7*'Risk-return'!FO3","v":0.11126910747824373},{"$f":"'1D Vectors Transposed'!H7+'1D Vectors Transposed'!I7*'Risk-return'!FP3","v":0.11299407775682199},{"$f":"'1D Vectors Transposed'!H7+'1D Vectors Transposed'!I7*'Risk-return'!FQ3","v":0.11471904803540026},{"$f":"'1D Vectors Transposed'!H7+'1D Vectors Transposed'!I7*'Risk-return'!FR3","v":0.11644401831397858},{"$f":"'1D Vectors Transposed'!H7+'1D Vectors Transposed'!I7*'Risk-return'!FS3","v":0.11816898859255684},{"$f":"'1D Vectors Transposed'!H7+'1D Vectors Transposed'!I7*'Risk-return'!FT3","v":0.1198939588711351},{"$f":"'1D Vectors Transposed'!H7+'1D Vectors Transposed'!I7*'Risk-return'!FU3","v":0.12161892914971342},{"$f":"'1D Vectors Transposed'!H7+'1D Vectors Transposed'!I7*'Risk-return'!FV3","v":0.12334389942829169},{"$f":"'1D Vectors Transposed'!H7+'1D Vectors Transposed'!I7*'Risk-return'!FW3","v":0.12506886970686995},{"$f":"'1D Vectors Transposed'!H7+'1D Vectors Transposed'!I7*'Risk-return'!FX3","v":0.12679383998544827},{"$f":"'1D Vectors Transposed'!H7+'1D Vectors Transposed'!I7*'Risk-return'!FY3","v":0.12851881026402653},{"$f":"'1D Vectors Transposed'!H7+'1D Vectors Transposed'!I7*'Risk-return'!FZ3","v":0.1302437805426048},{"$f":"'1D Vectors Transposed'!H7+'1D Vectors Transposed'!I7*'Risk-return'!GA3","v":0.13196875082118312},{"$f":"'1D Vectors Transposed'!H7+'1D Vectors Transposed'!I7*'Risk-return'!GB3","v":0.13369372109976138},{"$f":"'1D Vectors Transposed'!H7+'1D Vectors Transposed'!I7*'Risk-return'!GC3","v":0.13541869137833965},{"$f":"'1D Vectors Transposed'!H7+'1D Vectors Transposed'!I7*'Risk-return'!GD3","v":0.13714366165691796},{"$f":"'1D Vectors Transposed'!H7+'1D Vectors Transposed'!I7*'Risk-return'!GE3","v":0.13886863193549623},{"$f":"'1D Vectors Transposed'!H7+'1D Vectors Transposed'!I7*'Risk-return'!GF3","v":0.14059360221407449},{"$f":"'1D Vectors Transposed'!H7+'1D Vectors Transposed'!I7*'Risk-return'!GG3","v":0.14231857249265276},{"$f":"'1D Vectors Transposed'!H7+'1D Vectors Transposed'!I7*'Risk-return'!GH3","v":0.14404354277123108},{"$f":"'1D Vectors Transposed'!H7+'1D Vectors Transposed'!I7*'Risk-return'!GI3","v":0.14576851304980934},{"$f":"'1D Vectors Transposed'!H7+'1D Vectors Transposed'!I7*'Risk-return'!GJ3","v":0.1474934833283876},{"$f":"'1D Vectors Transposed'!H7+'1D Vectors Transposed'!I7*'Risk-return'!GK3","v":0.14921845360696592},{"$f":"'1D Vectors Transposed'!H7+'1D Vectors Transposed'!I7*'Risk-return'!GL3","v":0.15094342388554419},{"$f":"'1D Vectors Transposed'!H7+'1D Vectors Transposed'!I7*'Risk-return'!GM3","v":0.15266839416412245},{"$f":"'1D Vectors Transposed'!H7+'1D Vectors Transposed'!I7*'Risk-return'!GN3","v":0.15439336444270077},{"$f":"'1D Vectors Transposed'!H7+'1D Vectors Transposed'!I7*'Risk-return'!GO3","v":0.15611833472127903},{"$f":"'1D Vectors Transposed'!H7+'1D Vectors Transposed'!I7*'Risk-return'!GP3","v":0.1578433049998573},{"$f":"'1D Vectors Transposed'!H7+'1D Vectors Transposed'!I7*'Risk-return'!GQ3","v":0.15956827527843562},{"$f":"'1D Vectors Transposed'!H7+'1D Vectors Transposed'!I7*'Risk-return'!GR3","v":0.16129324555701388},{"$f":"'1D Vectors Transposed'!H7+'1D Vectors Transposed'!I7*'Risk-return'!GS3","v":0.16301821583559215},{"$f":"'1D Vectors Transposed'!H7+'1D Vectors Transposed'!I7*'Risk-return'!GT3","v":0.16474318611417046},{"$f":"'1D Vectors Transposed'!H7+'1D Vectors Transposed'!I7*'Risk-return'!GU3","v":0.16646815639274873},{"$f":"'1D Vectors Transposed'!H7+'1D Vectors Transposed'!I7*'Risk-return'!GV3","v":0.16819312667132699},{"$f":"'1D Vectors Transposed'!H7+'1D Vectors Transposed'!I7*'Risk-return'!GW3","v":0.16991809694990531},{"$f":"'1D Vectors Transposed'!H7+'1D Vectors Transposed'!I7*'Risk-return'!GX3","v":0.17164306722848358},{"$f":"'1D Vectors Transposed'!H7+'1D Vectors Transposed'!I7*'Risk-return'!GY3","v":0.17336803750706184},{"$f":"'1D Vectors Transposed'!H7+'1D Vectors Transposed'!I7*'Risk-return'!GZ3","v":0.17509300778564016},{"$f":"'1D Vectors Transposed'!H7+'1D Vectors Transposed'!I7*'Risk-return'!HA3","v":0.17681797806421842},{"$f":"'1D Vectors Transposed'!H7+'1D Vectors Transposed'!I7*'Risk-return'!HB3","v":0.17854294834279669},{"$f":"'1D Vectors Transposed'!H7+'1D Vectors Transposed'!I7*'Risk-return'!HC3","v":0.18026791862137495},{"$f":"'1D Vectors Transposed'!H7+'1D Vectors Transposed'!I7*'Risk-return'!HD3","v":0.18199288889995327},{"$f":"'1D Vectors Transposed'!H7+'1D Vectors Transposed'!I7*'Risk-return'!HE3","v":0.18371785917853153},{"$f":"'1D Vectors Transposed'!H7+'1D Vectors Transposed'!I7*'Risk-return'!HF3","v":0.1854428294571098},{"$f":"'1D Vectors Transposed'!H7+'1D Vectors Transposed'!I7*'Risk-return'!HG3","v":0.18716779973568812},{"$f":"'1D Vectors Transposed'!H7+'1D Vectors Transposed'!I7*'Risk-return'!HH3","v":0.18889277001426638},{"$f":"'1D Vectors Transposed'!H7+'1D Vectors Transposed'!I7*'Risk-return'!HI3","v":0.19061774029284465},{"$f":"'1D Vectors Transposed'!H7+'1D Vectors Transposed'!I7*'Risk-return'!HJ3","v":0.19234271057142296},{"$f":"'1D Vectors Transposed'!H7+'1D Vectors Transposed'!I7*'Risk-return'!HK3","v":0.19406768085000123},{"$f":"'1D Vectors Transposed'!H7+'1D Vectors Transposed'!I7*'Risk-return'!HL3","v":0.19579265112857949},{"$f":"'1D Vectors Transposed'!H7+'1D Vectors Transposed'!I7*'Risk-return'!HM3","v":0.19751762140715781},{"$f":"'1D Vectors Transposed'!H7+'1D Vectors Transposed'!I7*'Risk-return'!HN3","v":0.19924259168573608},{"$f":"'1D Vectors Transposed'!H7+'1D Vectors Transposed'!I7*'Risk-return'!HO3","v":0.20096756196431434},{"$f":"'1D Vectors Transposed'!H7+'1D Vectors Transposed'!I7*'Risk-return'!HP3","v":0.20269253224289266},{"$f":"'1D Vectors Transposed'!H7+'1D Vectors Transposed'!I7*'Risk-return'!HQ3","v":0.20441750252147092},{"$f":"'1D Vectors Transposed'!H7+'1D Vectors Transposed'!I7*'Risk-return'!HR3","v":0.20614247280004919},{"$f":"'1D Vectors Transposed'!H7+'1D Vectors Transposed'!I7*'Risk-return'!HS3","v":0.20786744307862751},{"$f":"'1D Vectors Transposed'!H7+'1D Vectors Transposed'!I7*'Risk-return'!HT3","v":0.20959241335720577},{"$f":"'1D Vectors Transposed'!H7+'1D Vectors Transposed'!I7*'Risk-return'!HU3","v":0.21131738363578403},{"$f":"'1D Vectors Transposed'!H7+'1D Vectors Transposed'!I7*'Risk-return'!HV3","v":0.21304235391436235},{"$f":"'1D Vectors Transposed'!H7+'1D Vectors Transposed'!I7*'Risk-return'!HW3","v":0.21476732419294062},{"$f":"'1D Vectors Transposed'!H7+'1D Vectors Transposed'!I7*'Risk-return'!HX3","v":0.21649229447151888},{"$f":"'1D Vectors Transposed'!H7+'1D Vectors Transposed'!I7*'Risk-return'!HY3","v":0.2182172647500972},{"$f":"'1D Vectors Transposed'!H7+'1D Vectors Transposed'!I7*'Risk-return'!HZ3","v":0.21994223502867546},{"$f":"'1D Vectors Transposed'!H7+'1D Vectors Transposed'!I7*'Risk-return'!IA3","v":0.22166720530725373},{"$f":"'1D Vectors Transposed'!H7+'1D Vectors Transposed'!I7*'Risk-return'!IB3","v":0.22339217558583199},{"$f":"'1D Vectors Transposed'!H7+'1D Vectors Transposed'!I7*'Risk-return'!IC3","v":0.22511714586441031},{"$f":"'1D Vectors Transposed'!H7+'1D Vectors Transposed'!I7*'Risk-return'!ID3","v":0.22684211614298858},{"$f":"'1D Vectors Transposed'!H7+'1D Vectors Transposed'!I7*'Risk-return'!IE3","v":0.22856708642156684},{"$f":"'1D Vectors Transposed'!H7+'1D Vectors Transposed'!I7*'Risk-return'!IF3","v":0.23029205670014516},{"$f":"'1D Vectors Transposed'!H7+'1D Vectors Transposed'!I7*'Risk-return'!IG3","v":0.23201702697872342},{"$f":"'1D Vectors Transposed'!H7+'1D Vectors Transposed'!I7*'Risk-return'!IH3","v":0.23374199725730169},{"$f":"'1D Vectors Transposed'!H7+'1D Vectors Transposed'!I7*'Risk-return'!II3","v":0.23546696753588001},{"$f":"'1D Vectors Transposed'!H7+'1D Vectors Transposed'!I7*'Risk-return'!IJ3","v":0.23719193781445827},{"$f":"'1D Vectors Transposed'!H7+'1D Vectors Transposed'!I7*'Risk-return'!IK3","v":0.23891690809303653},{"$f":"'1D Vectors Transposed'!H7+'1D Vectors Transposed'!I7*'Risk-return'!IL3","v":0.24064187837161485},{"$f":"'1D Vectors Transposed'!H7+'1D Vectors Transposed'!I7*'Risk-return'!IM3","v":0.24236684865019312},{"$f":"'1D Vectors Transposed'!H7+'1D Vectors Transposed'!I7*'Risk-return'!IN3","v":0.24409181892877138},{"$f":"'1D Vectors Transposed'!H7+'1D Vectors Transposed'!I7*'Risk-return'!IO3","v":0.2458167892073497},{"$f":"'1D Vectors Transposed'!H7+'1D Vectors Transposed'!I7*'Risk-return'!IP3","v":0.24754175948592796},{"$f":"'1D Vectors Transposed'!H7+'1D Vectors Transposed'!I7*'Risk-return'!IQ3","v":0.24926672976450623},{"$f":"'1D Vectors Transposed'!H7+'1D Vectors Transposed'!I7*'Risk-return'!IR3","v":0.25099170004308458},{"$f":"'1D Vectors Transposed'!H7+'1D Vectors Transposed'!I7*'Risk-return'!IS3","v":0.25271667032166278},{"$f":"'1D Vectors Transposed'!H7+'1D Vectors Transposed'!I7*'Risk-return'!IT3","v":0.2544416406002411},{"$f":"'1D Vectors Transposed'!H7+'1D Vectors Transposed'!I7*'Risk-return'!IU3","v":0.25616661087881942},{"$f":"'1D Vectors Transposed'!H7+'1D Vectors Transposed'!I7*'Risk-return'!IV3","v":0.25789158115739763},{"$f":"'1D Vectors Transposed'!H7+'1D Vectors Transposed'!I7*'Risk-return'!IW3","v":0.25961655143597595},{"$f":"'1D Vectors Transposed'!H7+'1D Vectors Transposed'!I7*'Risk-return'!IX3","v":0.26134152171455416},{"$f":"'1D Vectors Transposed'!H7+'1D Vectors Transposed'!I7*'Risk-return'!IY3","v":0.26306649199313248},{"$f":"'1D Vectors Transposed'!H7+'1D Vectors Transposed'!I7*'Risk-return'!IZ3","v":0.2647914622717108},{"$f":"'1D Vectors Transposed'!H7+'1D Vectors Transposed'!I7*'Risk-return'!JA3","v":0.26651643255028901},{"$f":"'1D Vectors Transposed'!H7+'1D Vectors Transposed'!I7*'Risk-return'!JB3","v":0.26824140282886733},{"$f":"'1D Vectors Transposed'!H7+'1D Vectors Transposed'!I7*'Risk-return'!JC3","v":0.26996637310744565},{"$f":"'1D Vectors Transposed'!H7+'1D Vectors Transposed'!I7*'Risk-return'!JD3","v":0.27169134338602385},{"$f":"'1D Vectors Transposed'!H7+'1D Vectors Transposed'!I7*'Risk-return'!JE3","v":0.27341631366460217},{"$f":"'1D Vectors Transposed'!H7+'1D Vectors Transposed'!I7*'Risk-return'!JF3","v":0.27514128394318049},{"$f":"'1D Vectors Transposed'!H7+'1D Vectors Transposed'!I7*'Risk-return'!JG3","v":0.2768662542217587},{"$f":"'1D Vectors Transposed'!H7+'1D Vectors Transposed'!I7*'Risk-return'!JH3","v":0.27859122450033702},{"$f":"'1D Vectors Transposed'!H7+'1D Vectors Transposed'!I7*'Risk-return'!JI3","v":0.28031619477891534},{"$f":"'1D Vectors Transposed'!H7+'1D Vectors Transposed'!I7*'Risk-return'!JJ3","v":0.28204116505749355},{"$f":"'1D Vectors Transposed'!H7+'1D Vectors Transposed'!I7*'Risk-return'!JK3","v":0.28376613533607187},{"$f":"'1D Vectors Transposed'!H7+'1D Vectors Transposed'!I7*'Risk-return'!JL3","v":0.28549110561465019},{"$f":"'1D Vectors Transposed'!H7+'1D Vectors Transposed'!I7*'Risk-return'!JM3","v":0.2872160758932284},{"$f":"'1D Vectors Transposed'!H7+'1D Vectors Transposed'!I7*'Risk-return'!JN3","v":0.28894104617180671},{"$f":"'1D Vectors Transposed'!H7+'1D Vectors Transposed'!I7*'Risk-return'!JO3","v":0.29066601645038503},{"$f":"'1D Vectors Transposed'!H7+'1D Vectors Transposed'!I7*'Risk-return'!JP3","v":0.29239098672896324},{"$f":"'1D Vectors Transposed'!H7+'1D Vectors Transposed'!I7*'Risk-return'!JQ3","v":0.29411595700754156},{"$f":"'1D Vectors Transposed'!H7+'1D Vectors Transposed'!I7*'Risk-return'!JR3","v":0.29584092728611988},{"$f":"'1D Vectors Transposed'!H7+'1D Vectors Transposed'!I7*'Risk-return'!JS3","v":0.29756589756469809},{"$f":"'1D Vectors Transposed'!H7+'1D Vectors Transposed'!I7*'Risk-return'!JT3","v":0.29929086784327641},{"$f":"'1D Vectors Transposed'!H7+'1D Vectors Transposed'!I7*'Risk-return'!JU3","v":0.30101583812185473},{"$f":"'1D Vectors Transposed'!H7+'1D Vectors Transposed'!I7*'Risk-return'!JV3","v":0.30274080840043294},{"$f":"'1D Vectors Transposed'!H7+'1D Vectors Transposed'!I7*'Risk-return'!JW3","v":0.30446577867901126},{"$f":"'1D Vectors Transposed'!H7+'1D Vectors Transposed'!I7*'Risk-return'!JX3","v":0.30619074895758958},{"$f":"'1D Vectors Transposed'!H7+'1D Vectors Transposed'!I7*'Risk-return'!JY3","v":0.30791571923616778},{"$f":"'1D Vectors Transposed'!H7+'1D Vectors Transposed'!I7*'Risk-return'!JZ3","v":0.3096406895147461},{"$f":"'1D Vectors Transposed'!H7+'1D Vectors Transposed'!I7*'Risk-return'!KA3","v":0.31136565979332442},{"$f":"'1D Vectors Transposed'!H7+'1D Vectors Transposed'!I7*'Risk-return'!KB3","v":0.31309063007190263},{"$f":"'1D Vectors Transposed'!H7+'1D Vectors Transposed'!I7*'Risk-return'!KC3","v":0.31481560035048095},{"$f":"'1D Vectors Transposed'!H7+'1D Vectors Transposed'!I7*'Risk-return'!KD3","v":0.31654057062905927},{"$f":"'1D Vectors Transposed'!H7+'1D Vectors Transposed'!I7*'Risk-return'!KE3","v":0.31826554090763748},{"$f":"'1D Vectors Transposed'!H7+'1D Vectors Transposed'!I7*'Risk-return'!KF3","v":0.3199905111862158},{"$f":"'1D Vectors Transposed'!H7+'1D Vectors Transposed'!I7*'Risk-return'!KG3","v":0.32171548146479401},{"$f":"'1D Vectors Transposed'!H7+'1D Vectors Transposed'!I7*'Risk-return'!KH3","v":0.32344045174337233},{"$f":"'1D Vectors Transposed'!H7+'1D Vectors Transposed'!I7*'Risk-return'!KI3","v":0.32516542202195065},{"$f":"'1D Vectors Transposed'!H7+'1D Vectors Transposed'!I7*'Risk-return'!KJ3","v":0.32689039230052885},{"$f":"'1D Vectors Transposed'!H7+'1D Vectors Transposed'!I7*'Risk-return'!KK3","v":0.32861536257910717},{"$f":"'1D Vectors Transposed'!H7+'1D Vectors Transposed'!I7*'Risk-return'!KL3","v":0.33034033285768549},{"$f":"'1D Vectors Transposed'!H7+'1D Vectors Transposed'!I7*'Risk-return'!KM3","v":0.3320653031362637},{"$f":"'1D Vectors Transposed'!H7+'1D Vectors Transposed'!I7*'Risk-return'!KN3","v":0.33379027341484202},{"$f":"'1D Vectors Transposed'!H7+'1D Vectors Transposed'!I7*'Risk-return'!KO3","v":0.33551524369342034},{"$f":"'1D Vectors Transposed'!H7+'1D Vectors Transposed'!I7*'Risk-return'!KP3","v":0.33724021397199855},{"$f":"'1D Vectors Transposed'!H7+'1D Vectors Transposed'!I7*'Risk-return'!KQ3","v":0.33896518425057687},{"$f":"'1D Vectors Transposed'!H7+'1D Vectors Transposed'!I7*'Risk-return'!KR3","v":0.34069015452915519},{"$f":"'1D Vectors Transposed'!H7+'1D Vectors Transposed'!I7*'Risk-return'!KS3","v":0.3424151248077334},{"$f":"'1D Vectors Transposed'!H7+'1D Vectors Transposed'!I7*'Risk-return'!KT3","v":0.34414009508631171},{"$f":"'1D Vectors Transposed'!H7+'1D Vectors Transposed'!I7*'Risk-return'!KU3","v":0.34586506536489003},{"$f":"'1D Vectors Transposed'!H7+'1D Vectors Transposed'!I7*'Risk-return'!KV3","v":0.34759003564346824},{"$f":"'1D Vectors Transposed'!H7+'1D Vectors Transposed'!I7*'Risk-return'!KW3","v":0.34931500592204656},{"$f":"'1D Vectors Transposed'!H7+'1D Vectors Transposed'!I7*'Risk-return'!KX3","v":0.35103997620062488},{"$f":"'1D Vectors Transposed'!H7+'1D Vectors Transposed'!I7*'Risk-return'!KY3","v":0.35276494647920309},{"$f":"'1D Vectors Transposed'!H7+'1D Vectors Transposed'!I7*'Risk-return'!KZ3","v":0.35448991675778141},{"$f":"'1D Vectors Transposed'!H7+'1D Vectors Transposed'!I7*'Risk-return'!LA3","v":0.35621488703635973},{"$f":"'1D Vectors Transposed'!H7+'1D Vectors Transposed'!I7*'Risk-return'!LB3","v":0.35793988944506772},{"$f":"'1D Vectors Transposed'!H7+'1D Vectors Transposed'!I7*'Risk-return'!LC3","v":0.35966489185377581},{"$f":"'1D Vectors Transposed'!H7+'1D Vectors Transposed'!I7*'Risk-return'!LD3","v":0.36138989426248391},{"$f":"'1D Vectors Transposed'!H7+'1D Vectors Transposed'!I7*'Risk-return'!LE3","v":0.36311489667119201},{"$f":"'1D Vectors Transposed'!H7+'1D Vectors Transposed'!I7*'Risk-return'!LF3","v":0.36483989907990011},{"$f":"'1D Vectors Transposed'!H7+'1D Vectors Transposed'!I7*'Risk-return'!LG3","v":0.36656490148860821},{"$f":"'1D Vectors Transposed'!H7+'1D Vectors Transposed'!I7*'Risk-return'!LH3","v":0.3682899038973162},{"$f":"'1D Vectors Transposed'!H7+'1D Vectors Transposed'!I7*'Risk-return'!LI3","v":0.37001490630602429},{"$f":"'1D Vectors Transposed'!H7+'1D Vectors Transposed'!I7*'Risk-return'!LJ3","v":0.37173990871473239},{"$f":"'1D Vectors Transposed'!H7+'1D Vectors Transposed'!I7*'Risk-return'!LK3","v":0.37346491112344049},{"$f":"'1D Vectors Transposed'!H7+'1D Vectors Transposed'!I7*'Risk-return'!LL3","v":0.37518991353214859},{"$f":"'1D Vectors Transposed'!H7+'1D Vectors Transposed'!I7*'Risk-return'!LM3","v":0.37691491594085669},{"$f":"'1D Vectors Transposed'!H7+'1D Vectors Transposed'!I7*'Risk-return'!LN3","v":0.37863991834956479},{"$f":"'1D Vectors Transposed'!H7+'1D Vectors Transposed'!I7*'Risk-return'!LO3","v":0.38036492075827277},{"$f":"'1D Vectors Transposed'!H7+'1D Vectors Transposed'!I7*'Risk-return'!LP3","v":0.38208992316698087},{"$f":"'1D Vectors Transposed'!H7+'1D Vectors Transposed'!I7*'Risk-return'!LQ3","v":0.38381492557568897},{"$f":"'1D Vectors Transposed'!H7+'1D Vectors Transposed'!I7*'Risk-return'!LR3","v":0.38553992798439707},{"$f":"'1D Vectors Transposed'!H7+'1D Vectors Transposed'!I7*'Risk-return'!LS3","v":0.38726493039310517},{"$f":"'1D Vectors Transposed'!H7+'1D Vectors Transposed'!I7*'Risk-return'!LT3","v":0.38898993280181327},{"$f":"'1D Vectors Transposed'!H7+'1D Vectors Transposed'!I7*'Risk-return'!LU3","v":0.39071493521052136},{"$f":"'1D Vectors Transposed'!H7+'1D Vectors Transposed'!I7*'Risk-return'!LV3","v":0.39243993761922935},{"$f":"'1D Vectors Transposed'!H7+'1D Vectors Transposed'!I7*'Risk-return'!LW3","v":0.39416494002793745},{"$f":"'1D Vectors Transposed'!H7+'1D Vectors Transposed'!I7*'Risk-return'!LX3","v":0.39588994243664555},{"$f":"'1D Vectors Transposed'!H7+'1D Vectors Transposed'!I7*'Risk-return'!LY3","v":0.39761494484535365},{"$f":"'1D Vectors Transposed'!H7+'1D Vectors Transposed'!I7*'Risk-return'!LZ3","v":0.39933994725406174},{"$f":"'1D Vectors Transposed'!H7+'1D Vectors Transposed'!I7*'Risk-return'!MA3","v":0.40106494966276984},{"$f":"'1D Vectors Transposed'!H7+'1D Vectors Transposed'!I7*'Risk-return'!MB3","v":0.40278995207147783},{"$f":"'1D Vectors Transposed'!H7+'1D Vectors Transposed'!I7*'Risk-return'!MC3","v":0.40451495448018593},{"$f":"'1D Vectors Transposed'!H7+'1D Vectors Transposed'!I7*'Risk-return'!MD3","v":0.40623995688889403},{"$f":"'1D Vectors Transposed'!H7+'1D Vectors Transposed'!I7*'Risk-return'!ME3","v":0.40796495929760213},{"$f":"'1D Vectors Transposed'!H7+'1D Vectors Transposed'!I7*'Risk-return'!MF3","v":0.40968996170631022},{"$f":"'1D Vectors Transposed'!H7+'1D Vectors Transposed'!I7*'Risk-return'!MG3","v":0.41141496411501832},{"$f":"'1D Vectors Transposed'!H7+'1D Vectors Transposed'!I7*'Risk-return'!MH3","v":0.41313996652372642},{"$f":"'1D Vectors Transposed'!H7+'1D Vectors Transposed'!I7*'Risk-return'!MI3","v":0.41486496893243441},{"$f":"'1D Vectors Transposed'!H7+'1D Vectors Transposed'!I7*'Risk-return'!MJ3","v":0.41658997134114251},{"$f":"'1D Vectors Transposed'!H7+'1D Vectors Transposed'!I7*'Risk-return'!MK3","v":0.4183149737498506},{"$f":"'1D Vectors Transposed'!H7+'1D Vectors Transposed'!I7*'Risk-return'!ML3","v":0.4200399761585587},{"$f":"'1D Vectors Transposed'!H7+'1D Vectors Transposed'!I7*'Risk-return'!MM3","v":0.4217649785672668},{"$f":"'1D Vectors Transposed'!H7+'1D Vectors Transposed'!I7*'Risk-return'!MN3","v":0.4234899809759749},{"$f":"'1D Vectors Transposed'!H7+'1D Vectors Transposed'!I7*'Risk-return'!MO3","v":0.42521498338468289},{"$f":"'1D Vectors Transposed'!H7+'1D Vectors Transposed'!I7*'Risk-return'!MP3","v":0.42693998579339099},{"$f":"'1D Vectors Transposed'!H7+'1D Vectors Transposed'!I7*'Risk-return'!MQ3","v":0.42866498820209908},{"$f":"'1D Vectors Transposed'!H7+'1D Vectors Transposed'!I7*'Risk-return'!MR3","v":0.43038999061080718},{"$f":"'1D Vectors Transposed'!H7+'1D Vectors Transposed'!I7*'Risk-return'!MS3","v":0.43211499301951528},{"$f":"'1D Vectors Transposed'!H7+'1D Vectors Transposed'!I7*'Risk-return'!MT3","v":0.43383999542822338},{"$f":"'1D Vectors Transposed'!H7+'1D Vectors Transposed'!I7*'Risk-return'!MU3","v":0.43556499783693148},{"$f":"'1D Vectors Transposed'!H7+'1D Vectors Transposed'!I7*'Risk-return'!MV3","v":0.43729000024563947},{"$f":"'1D Vectors Transposed'!H7+'1D Vectors Transposed'!I7*'Risk-return'!MW3","v":0.43901500265434756},{"$f":"'1D Vectors Transposed'!H7+'1D Vectors Transposed'!I7*'Risk-return'!MX3","v":0.44074000506305566},{"$f":"'1D Vectors Transposed'!H7+'1D Vectors Transposed'!I7*'Risk-return'!MY3","v":0.44246500747176376},{"$f":"'1D Vectors Transposed'!H7+'1D Vectors Transposed'!I7*'Risk-return'!MZ3","v":0.44419000988047186},{"$f":"'1D Vectors Transposed'!H7+'1D Vectors Transposed'!I7*'Risk-return'!NA3","v":0.44591501228917996},{"$f":"'1D Vectors Transposed'!H7+'1D Vectors Transposed'!I7*'Risk-return'!NB3","v":0.44764001469788806},{"$f":"'1D Vectors Transposed'!H7+'1D Vectors Transposed'!I7*'Risk-return'!NC3","v":0.44936501710659604},{"$f":"'1D Vectors Transposed'!H7+'1D Vectors Transposed'!I7*'Risk-return'!ND3","v":0.45109001951530414},{"$f":"'1D Vectors Transposed'!H7+'1D Vectors Transposed'!I7*'Risk-return'!NE3","v":0.45281502192401224},{"$f":"'1D Vectors Transposed'!H7+'1D Vectors Transposed'!I7*'Risk-return'!NF3","v":0.45454002433272034},{"$f":"'1D Vectors Transposed'!H7+'1D Vectors Transposed'!I7*'Risk-return'!NG3","v":0.45626502674142844},{"$f":"'1D Vectors Transposed'!H7+'1D Vectors Transposed'!I7*'Risk-return'!NH3","v":0.45799002915013654},{"$f":"'1D Vectors Transposed'!H7+'1D Vectors Transposed'!I7*'Risk-return'!NI3","v":0.45971503155884452},{"$f":"'1D Vectors Transposed'!H7+'1D Vectors Transposed'!I7*'Risk-return'!NJ3","v":0.46144003396755262},{"$f":"'1D Vectors Transposed'!H7+'1D Vectors Transposed'!I7*'Risk-return'!NK3","v":0.46316503637626072},{"$f":"'1D Vectors Transposed'!H7+'1D Vectors Transposed'!I7*'Risk-return'!NL3","v":0.46489003878496882},{"$f":"'1D Vectors Transposed'!H7+'1D Vectors Transposed'!I7*'Risk-return'!NM3","v":0.46661504119367692},{"$f":"'1D Vectors Transposed'!H7+'1D Vectors Transposed'!I7*'Risk-return'!NN3","v":0.46834004360238501},{"$f":"'1D Vectors Transposed'!H7+'1D Vectors Transposed'!I7*'Risk-return'!NO3","v":0.47006504601109311},{"$f":"'1D Vectors Transposed'!H7+'1D Vectors Transposed'!I7*'Risk-return'!NP3","v":0.4717900484198011},{"$f":"'1D Vectors Transposed'!H7+'1D Vectors Transposed'!I7*'Risk-return'!NQ3","v":0.4735150508285092},{"$f":"'1D Vectors Transposed'!H7+'1D Vectors Transposed'!I7*'Risk-return'!NR3","v":0.4752400532372173},{"$f":"'1D Vectors Transposed'!H7+'1D Vectors Transposed'!I7*'Risk-return'!NS3","v":0.4769650556459254},{"$f":"'1D Vectors Transposed'!H7+'1D Vectors Transposed'!I7*'Risk-return'!NT3","v":0.47869005805463349},{"$f":"'1D Vectors Transposed'!H7+'1D Vectors Transposed'!I7*'Risk-return'!NU3","v":0.48041506046334159},{"$f":"'1D Vectors Transposed'!H7+'1D Vectors Transposed'!I7*'Risk-return'!NV3","v":0.48214006287204969},{"$f":"'1D Vectors Transposed'!H7+'1D Vectors Transposed'!I7*'Risk-return'!NW3","v":0.48386506528075768},{"$f":"'1D Vectors Transposed'!H7+'1D Vectors Transposed'!I7*'Risk-return'!NX3","v":0.48559006768946578},{"$f":"'1D Vectors Transposed'!H7+'1D Vectors Transposed'!I7*'Risk-return'!NY3","v":0.48731507009817387},{"$f":"'1D Vectors Transposed'!H7+'1D Vectors Transposed'!I7*'Risk-return'!NZ3","v":0.48904007250688197},{"$f":"'1D Vectors Transposed'!H7+'1D Vectors Transposed'!I7*'Risk-return'!OA3","v":0.49076507491559007},{"$f":"'1D Vectors Transposed'!H7+'1D Vectors Transposed'!I7*'Risk-return'!OB3","v":0.49249007732429817},{"$f":"'1D Vectors Transposed'!H7+'1D Vectors Transposed'!I7*'Risk-return'!OC3","v":0.49421507973300616},{"$f":"'1D Vectors Transposed'!H7+'1D Vectors Transposed'!I7*'Risk-return'!OD3","v":0.49594008214171426},{"$f":"'1D Vectors Transposed'!H7+'1D Vectors Transposed'!I7*'Risk-return'!OE3","v":0.49766508455042235},{"$f":"'1D Vectors Transposed'!H7+'1D Vectors Transposed'!I7*'Risk-return'!OF3","v":0.49939008695913045},{"$f":"'1D Vectors Transposed'!H7+'1D Vectors Transposed'!I7*'Risk-return'!OG3","v":0.50111508936783855},{"$f":"'1D Vectors Transposed'!H7+'1D Vectors Transposed'!I7*'Risk-return'!OH3","v":0.50284009177654665},{"$f":"'1D Vectors Transposed'!H7+'1D Vectors Transposed'!I7*'Risk-return'!OI3","v":0.50456509418525475},{"$f":"'1D Vectors Transposed'!H7+'1D Vectors Transposed'!I7*'Risk-return'!OJ3","v":0.50629009659396274},{"$f":"'1D Vectors Transposed'!H7+'1D Vectors Transposed'!I7*'Risk-return'!OK3","v":0.50801509900267083},{"$f":"'1D Vectors Transposed'!H7+'1D Vectors Transposed'!I7*'Risk-return'!OL3","v":0.50974010141137893},{"$f":"'1D Vectors Transposed'!H7+'1D Vectors Transposed'!I7*'Risk-return'!OM3","v":0.51146510382008703},{"$f":"'1D Vectors Transposed'!H7+'1D Vectors Transposed'!I7*'Risk-return'!ON3","v":0.51319010622879513},{"$f":"'1D Vectors Transposed'!H7+'1D Vectors Transposed'!I7*'Risk-return'!OO3","v":0.51491510863750323},{"$f":"'1D Vectors Transposed'!H7+'1D Vectors Transposed'!I7*'Risk-return'!OP3","v":0.51664011104621133},{"$f":"'1D Vectors Transposed'!H7+'1D Vectors Transposed'!I7*'Risk-return'!OQ3","v":0.51836511345491931},{"$f":"'1D Vectors Transposed'!H7+'1D Vectors Transposed'!I7*'Risk-return'!OR3","v":0.52009011586362741},{"$f":"'1D Vectors Transposed'!H7+'1D Vectors Transposed'!I7*'Risk-return'!OS3","v":0.52181511827233551},{"$f":"'1D Vectors Transposed'!H7+'1D Vectors Transposed'!I7*'Risk-return'!OT3","v":0.52354012068104361},{"$f":"'1D Vectors Transposed'!H7+'1D Vectors Transposed'!I7*'Risk-return'!OU3","v":0.52526512308975171},{"$f":"'1D Vectors Transposed'!H7+'1D Vectors Transposed'!I7*'Risk-return'!OV3","v":0.5269901254984598},{"$f":"'1D Vectors Transposed'!H7+'1D Vectors Transposed'!I7*'Risk-return'!OW3","v":0.52871512790716779},{"$f":"'1D Vectors Transposed'!H7+'1D Vectors Transposed'!I7*'Risk-return'!OX3","v":0.53044013031587589},{"$f":"'1D Vectors Transposed'!H7+'1D Vectors Transposed'!I7*'Risk-return'!OY3","v":0.53216513272458399},{"$f":"'1D Vectors Transposed'!H7+'1D Vectors Transposed'!I7*'Risk-return'!OZ3","v":0.53389013513329209},{"$f":"'1D Vectors Transposed'!H7+'1D Vectors Transposed'!I7*'Risk-return'!PA3","v":0.53561513754200019},{"$f":"'1D Vectors Transposed'!H7+'1D Vectors Transposed'!I7*'Risk-return'!PB3","v":0.53734013995070828},{"$f":"'1D Vectors Transposed'!H7+'1D Vectors Transposed'!I7*'Risk-return'!PC3","v":0.53906514235941638},{"$f":"'1D Vectors Transposed'!H7+'1D Vectors Transposed'!I7*'Risk-return'!PD3","v":0.54079014476812437},{"$f":"'1D Vectors Transposed'!H7+'1D Vectors Transposed'!I7*'Risk-return'!PE3","v":0.54251514717683247},{"$f":"'1D Vectors Transposed'!H7+'1D Vectors Transposed'!I7*'Risk-return'!PF3","v":0.54424014958554057},{"$f":"'1D Vectors Transposed'!H7+'1D Vectors Transposed'!I7*'Risk-return'!PG3","v":0.54596515199424867},{"$f":"'1D Vectors Transposed'!H7+'1D Vectors Transposed'!I7*'Risk-return'!PH3","v":0.54769015440295676},{"$f":"'1D Vectors Transposed'!H7+'1D Vectors Transposed'!I7*'Risk-return'!PI3","v":0.54941515681166486},{"$f":"'1D Vectors Transposed'!H7+'1D Vectors Transposed'!I7*'Risk-return'!PJ3","v":0.55114015922037296},{"$f":"'1D Vectors Transposed'!H7+'1D Vectors Transposed'!I7*'Risk-return'!PK3","v":0.55286516162908095},{"$f":"'1D Vectors Transposed'!H7+'1D Vectors Transposed'!I7*'Risk-return'!PL3","v":0.55459016403778905},{"$f":"'1D Vectors Transposed'!H7+'1D Vectors Transposed'!I7*'Risk-return'!PM3","v":0.55631516644649714},{"$f":"'1D Vectors Transposed'!H7+'1D Vectors Transposed'!I7*'Risk-return'!PN3","v":0.55804016885520524},{"$f":"'1D Vectors Transposed'!H7+'1D Vectors Transposed'!I7*'Risk-return'!PO3","v":0.55976517126391334},{"$f":"'1D Vectors Transposed'!H7+'1D Vectors Transposed'!I7*'Risk-return'!PP3","v":0.56149017367262144},{"$f":"'1D Vectors Transposed'!H7+'1D Vectors Transposed'!I7*'Risk-return'!PQ3","v":0.56321517608132943},{"$f":"'1D Vectors Transposed'!H7+'1D Vectors Transposed'!I7*'Risk-return'!PR3","v":0.56494017849003753},{"$f":"'1D Vectors Transposed'!H7+'1D Vectors Transposed'!I7*'Risk-return'!PS3","v":0.56666518089874562},{"$f":"'1D Vectors Transposed'!H7+'1D Vectors Transposed'!I7*'Risk-return'!PT3","v":0.56839018330745372},{"$f":"'1D Vectors Transposed'!H7+'1D Vectors Transposed'!I7*'Risk-return'!PU3","v":0.57011518571616182},{"$f":"'1D Vectors Transposed'!H7+'1D Vectors Transposed'!I7*'Risk-return'!PV3","v":0.57184018812486992},{"$f":"'1D Vectors Transposed'!H7+'1D Vectors Transposed'!I7*'Risk-return'!PW3","v":0.57356519053357802},{"$f":"'1D Vectors Transposed'!H7+'1D Vectors Transposed'!I7*'Risk-return'!PX3","v":0.57529019294228601},{"$f":"'1D Vectors Transposed'!H7+'1D Vectors Transposed'!I7*'Risk-return'!PY3","v":0.5770151953509941},{"$f":"'1D Vectors Transposed'!H7+'1D Vectors Transposed'!I7*'Risk-return'!PZ3","v":0.5787401977597022},{"$f":"'1D Vectors Transposed'!H7+'1D Vectors Transposed'!I7*'Risk-return'!QA3","v":0.5804652001684103},{"$f":"'1D Vectors Transposed'!H7+'1D Vectors Transposed'!I7*'Risk-return'!QB3","v":0.5821902025771184},{"$f":"'1D Vectors Transposed'!H7+'1D Vectors Transposed'!I7*'Risk-return'!QC3","v":0.5839152049858265},{"$f":"'1D Vectors Transposed'!H7+'1D Vectors Transposed'!I7*'Risk-return'!QD3","v":0.5856402073945346},{"$f":"'1D Vectors Transposed'!H7+'1D Vectors Transposed'!I7*'Risk-return'!QE3","v":0.58736520980324258},{"$f":"'1D Vectors Transposed'!H7+'1D Vectors Transposed'!I7*'Risk-return'!QF3","v":0.58909021221195068},{"$f":"'1D Vectors Transposed'!H7+'1D Vectors Transposed'!I7*'Risk-return'!QG3","v":0.59081521462065878},{"$f":"'1D Vectors Transposed'!H7+'1D Vectors Transposed'!I7*'Risk-return'!QH3","v":0.59254021702936688},{"$f":"'1D Vectors Transposed'!H7+'1D Vectors Transposed'!I7*'Risk-return'!QI3","v":0.59426521943807498},{"$f":"'1D Vectors Transposed'!H7+'1D Vectors Transposed'!I7*'Risk-return'!QJ3","v":0.59599022184678307},{"$f":"'1D Vectors Transposed'!H7+'1D Vectors Transposed'!I7*'Risk-return'!QK3","v":0.59771522425549106},{"$f":"'1D Vectors Transposed'!H7+'1D Vectors Transposed'!I7*'Risk-return'!QL3","v":0.59944022666419916},{"$f":"'1D Vectors Transposed'!H7+'1D Vectors Transposed'!I7*'Risk-return'!QM3","v":0.60116522907290726},{"$f":"'1D Vectors Transposed'!H7+'1D Vectors Transposed'!I7*'Risk-return'!QN3","v":0.60289023148161536},{"$f":"'1D Vectors Transposed'!H7+'1D Vectors Transposed'!I7*'Risk-return'!QO3","v":0.60461523389032346},{"$f":"'1D Vectors Transposed'!H7+'1D Vectors Transposed'!I7*'Risk-return'!QP3","v":0.60634023629903155},{"$f":"'1D Vectors Transposed'!H7+'1D Vectors Transposed'!I7*'Risk-return'!QQ3","v":0.60806523870773965},{"$f":"'1D Vectors Transposed'!H7+'1D Vectors Transposed'!I7*'Risk-return'!QR3","v":0.60979024111644764},{"$f":"'1D Vectors Transposed'!H7+'1D Vectors Transposed'!I7*'Risk-return'!QS3","v":0.61151524352515574},{"$f":"'1D Vectors Transposed'!H7+'1D Vectors Transposed'!I7*'Risk-return'!QT3","v":0.61324024593386384},{"$f":"'1D Vectors Transposed'!H7+'1D Vectors Transposed'!I7*'Risk-return'!QU3","v":0.61496524834257194},{"$f":"'1D Vectors Transposed'!H7+'1D Vectors Transposed'!I7*'Risk-return'!QV3","v":0.61669025075128003},{"$f":"'1D Vectors Transposed'!H7+'1D Vectors Transposed'!I7*'Risk-return'!QW3","v":0.61841525315998813},{"$f":"'1D Vectors Transposed'!H7+'1D Vectors Transposed'!I7*'Risk-return'!QX3","v":0.62014025556869623},{"$f":"'1D Vectors Transposed'!H7+'1D Vectors Transposed'!I7*'Risk-return'!QY3","v":0.62186525797740422},{"$f":"'1D Vectors Transposed'!H7+'1D Vectors Transposed'!I7*'Risk-return'!QZ3","v":0.62359026038611232},{"$f":"'1D Vectors Transposed'!H7+'1D Vectors Transposed'!I7*'Risk-return'!RA3","v":0.62531526279482041},{"$f":"'1D Vectors Transposed'!H7+'1D Vectors Transposed'!I7*'Risk-return'!RB3","v":0.62704026520352851},{"$f":"'1D Vectors Transposed'!H7+'1D Vectors Transposed'!I7*'Risk-return'!RC3","v":0.62876526761223661},{"$f":"'1D Vectors Transposed'!H7+'1D Vectors Transposed'!I7*'Risk-return'!RD3","v":0.63049027002094471},{"$f":"'1D Vectors Transposed'!H7+'1D Vectors Transposed'!I7*'Risk-return'!RE3","v":0.6322152724296527},{"$f":"'1D Vectors Transposed'!H7+'1D Vectors Transposed'!I7*'Risk-return'!RF3","v":0.6339402748383608},{"$f":"'1D Vectors Transposed'!H7+'1D Vectors Transposed'!I7*'Risk-return'!RG3","v":0.63566527724706889},{"$f":"'1D Vectors Transposed'!H7+'1D Vectors Transposed'!I7*'Risk-return'!RH3","v":0.63739027965577699},{"$f":"'1D Vectors Transposed'!H7+'1D Vectors Transposed'!I7*'Risk-return'!RI3","v":0.63911528206448509},{"$f":"'1D Vectors Transposed'!H7+'1D Vectors Transposed'!I7*'Risk-return'!RJ3","v":0.64084028447319319},{"$f":"'1D Vectors Transposed'!H7+'1D Vectors Transposed'!I7*'Risk-return'!RK3","v":0.64256528688190129},{"$f":"'1D Vectors Transposed'!H7+'1D Vectors Transposed'!I7*'Risk-return'!RL3","v":0.64429028929060927},{"$f":"'1D Vectors Transposed'!H7+'1D Vectors Transposed'!I7*'Risk-return'!RM3","v":0.64601529169931737},{"$f":"'1D Vectors Transposed'!H7+'1D Vectors Transposed'!I7*'Risk-return'!RN3","v":0.64774029410802547},{"$f":"'1D Vectors Transposed'!H7+'1D Vectors Transposed'!I7*'Risk-return'!RO3","v":0.64946529651673357},{"$f":"'1D Vectors Transposed'!H7+'1D Vectors Transposed'!I7*'Risk-return'!RP3","v":0.65119029892544167},{"$f":"'1D Vectors Transposed'!H7+'1D Vectors Transposed'!I7*'Risk-return'!RQ3","v":0.65291530133414977},{"$f":"'1D Vectors Transposed'!H7+'1D Vectors Transposed'!I7*'Risk-return'!RR3","v":0.65464030374285787},{"$f":"'1D Vectors Transposed'!H7+'1D Vectors Transposed'!I7*'Risk-return'!RS3","v":0.65636530615156585},{"$f":"'1D Vectors Transposed'!H7+'1D Vectors Transposed'!I7*'Risk-return'!RT3","v":0.65809030856027395},{"$f":"'1D Vectors Transposed'!H7+'1D Vectors Transposed'!I7*'Risk-return'!RU3","v":0.65981531096898205},{"$f":"'1D Vectors Transposed'!H7+'1D Vectors Transposed'!I7*'Risk-return'!RV3","v":0.66154031337769015},{"$f":"'1D Vectors Transposed'!H7+'1D Vectors Transposed'!I7*'Risk-return'!RW3","v":0.66326531578639825},{"$f":"'1D Vectors Transposed'!H7+'1D Vectors Transposed'!I7*'Risk-return'!RX3","v":0.66499031819510634},{"$f":"'1D Vectors Transposed'!H7+'1D Vectors Transposed'!I7*'Risk-return'!RY3","v":0.66671532060381433},{"$f":"'1D Vectors Transposed'!H7+'1D Vectors Transposed'!I7*'Risk-return'!RZ3","v":0.66844032301252243},{"$f":"'1D Vectors Transposed'!H7+'1D Vectors Transposed'!I7*'Risk-return'!SA3","v":0.67016532542123053},{"$f":"'1D Vectors Transposed'!H7+'1D Vectors Transposed'!I7*'Risk-return'!SB3","v":0.67189032782993863},{"$f":"'1D Vectors Transposed'!H7+'1D Vectors Transposed'!I7*'Risk-return'!SC3","v":0.67361533023864673},{"$f":"'1D Vectors Transposed'!H7+'1D Vectors Transposed'!I7*'Risk-return'!SD3","v":0.67534033264735482},{"$f":"'1D Vectors Transposed'!H7+'1D Vectors Transposed'!I7*'Risk-return'!SE3","v":0.67706533505606292},{"$f":"'1D Vectors Transposed'!H7+'1D Vectors Transposed'!I7*'Risk-return'!SF3","v":0.67879033746477091},{"$f":"'1D Vectors Transposed'!H7+'1D Vectors Transposed'!I7*'Risk-return'!SG3","v":-0.18197596840058336}]
["SPASTT01CNM661N",{"$f":"'1D Vectors Transposed'!H8+'1D Vectors Transposed'!I8*'Risk-return'!B3","v":0.14281060814809363},{"$f":"'1D Vectors Transposed'!H8+'1D Vectors Transposed'!I8*'Risk-return'!C3","v":0.142673227412873},{"$f":"'1D Vectors Transposed'!H8+'1D Vectors Transposed'!I8*'Risk-return'!D3","v":0.14253584668764815},{"$f":"'1D Vectors Transposed'!H8+'1D Vectors Transposed'!I8*'Risk-return'!E3","v":0.14239846594243175},{"$f":"'1D Vectors Transposed'!H8+'1D Vectors Transposed'!I8*'Risk-return'!F3","v":0.14226108523719844},{"$f":"'1D Vectors Transposed'!H8+'1D Vectors Transposed'!I8*'Risk-return'!G3","v":0.14212370449198203},{"$f":"'1D Vectors Transposed'!H8+'1D Vectors Transposed'!I8*'Risk-return'!H3","v":0.14198632374676565},{"$f":"'1D Vectors Transposed'!H8+'1D Vectors Transposed'!I8*'Risk-return'!I3","v":0.14184894300154927},{"$f":"'1D Vectors Transposed'!H8+'1D Vectors Transposed'!I8*'Risk-return'!J3","v":0.14171156225633286},{"$f":"'1D Vectors Transposed'!H8+'1D Vectors Transposed'!I8*'Risk-return'!K3","v":0.14157418159108259},{"$f":"'1D Vectors Transposed'!H8+'1D Vectors Transposed'!I8*'Risk-return'!L3","v":0.14143680092583233},{"$f":"'1D Vectors Transposed'!H8+'1D Vectors Transposed'!I8*'Risk-return'!M3","v":0.14129942026058204},{"$f":"'1D Vectors Transposed'!H8+'1D Vectors Transposed'!I8*'Risk-return'!N3","v":0.14116203959533177},{"$f":"'1D Vectors Transposed'!H8+'1D Vectors Transposed'!I8*'Risk-return'!O3","v":0.14102465893008151},{"$f":"'1D Vectors Transposed'!H8+'1D Vectors Transposed'!I8*'Risk-return'!P3","v":0.14088727826483122},{"$f":"'1D Vectors Transposed'!H8+'1D Vectors Transposed'!I8*'Risk-return'!Q3","v":0.14074989759958095},{"$f":"'1D Vectors Transposed'!H8+'1D Vectors Transposed'!I8*'Risk-return'!R3","v":0.14061251693433069},{"$f":"'1D Vectors Transposed'!H8+'1D Vectors Transposed'!I8*'Risk-return'!S3","v":0.1404751362690804},{"$f":"'1D Vectors Transposed'!H8+'1D Vectors Transposed'!I8*'Risk-return'!T3","v":0.14033775560383013},{"$f":"'1D Vectors Transposed'!H8+'1D Vectors Transposed'!I8*'Risk-return'!U3","v":0.14020037493857984},{"$f":"'1D Vectors Transposed'!H8+'1D Vectors Transposed'!I8*'Risk-return'!V3","v":0.14006299411339734},{"$f":"'1D Vectors Transposed'!H8+'1D Vectors Transposed'!I8*'Risk-return'!W3","v":0.13992561328821485},{"$f":"'1D Vectors Transposed'!H8+'1D Vectors Transposed'!I8*'Risk-return'!X3","v":0.13978823246303235},{"$f":"'1D Vectors Transposed'!H8+'1D Vectors Transposed'!I8*'Risk-return'!Y3","v":0.13965085163784985},{"$f":"'1D Vectors Transposed'!H8+'1D Vectors Transposed'!I8*'Risk-return'!Z3","v":0.13951347081266735},{"$f":"'1D Vectors Transposed'!H8+'1D Vectors Transposed'!I8*'Risk-return'!AA3","v":0.13937608998748482},{"$f":"'1D Vectors Transposed'!H8+'1D Vectors Transposed'!I8*'Risk-return'!AB3","v":0.13923870916230233},{"$f":"'1D Vectors Transposed'!H8+'1D Vectors Transposed'!I8*'Risk-return'!AC3","v":0.13910132833711983},{"$f":"'1D Vectors Transposed'!H8+'1D Vectors Transposed'!I8*'Risk-return'!AD3","v":0.13896394751193733},{"$f":"'1D Vectors Transposed'!H8+'1D Vectors Transposed'!I8*'Risk-return'!AE3","v":0.13882656668675483},{"$f":"'1D Vectors Transposed'!H8+'1D Vectors Transposed'!I8*'Risk-return'!AF3","v":0.13868918586157231},{"$f":"'1D Vectors Transposed'!H8+'1D Vectors Transposed'!I8*'Risk-return'!AG3","v":0.13855180503638981},{"$f":"'1D Vectors Transposed'!H8+'1D Vectors Transposed'!I8*'Risk-return'!AH3","v":0.13841442421120731},{"$f":"'1D Vectors Transposed'!H8+'1D Vectors Transposed'!I8*'Risk-return'!AI3","v":0.13827704338602481},{"$f":"'1D Vectors Transposed'!H8+'1D Vectors Transposed'!I8*'Risk-return'!AJ3","v":0.13813966256084231},{"$f":"'1D Vectors Transposed'!H8+'1D Vectors Transposed'!I8*'Risk-return'!AK3","v":0.13800228173565982},{"$f":"'1D Vectors Transposed'!H8+'1D Vectors Transposed'!I8*'Risk-return'!AL3","v":0.13786490091047729},{"$f":"'1D Vectors Transposed'!H8+'1D Vectors Transposed'!I8*'Risk-return'!AM3","v":0.13772752008529479},{"$f":"'1D Vectors Transposed'!H8+'1D Vectors Transposed'!I8*'Risk-return'!AN3","v":0.13759013926011229},{"$f":"'1D Vectors Transposed'!H8+'1D Vectors Transposed'!I8*'Risk-return'!AO3","v":0.13745275843492979},{"$f":"'1D Vectors Transposed'!H8+'1D Vectors Transposed'!I8*'Risk-return'!AP3","v":0.13731537792961174},{"$f":"'1D Vectors Transposed'!H8+'1D Vectors Transposed'!I8*'Risk-return'!AQ3","v":0.13717799742429371},{"$f":"'1D Vectors Transposed'!H8+'1D Vectors Transposed'!I8*'Risk-return'!AR3","v":0.13704061691897565},{"$f":"'1D Vectors Transposed'!H8+'1D Vectors Transposed'!I8*'Risk-return'!AS3","v":0.13690323641365762},{"$f":"'1D Vectors Transposed'!H8+'1D Vectors Transposed'!I8*'Risk-return'!AT3","v":0.13676585590833956},{"$f":"'1D Vectors Transposed'!H8+'1D Vectors Transposed'!I8*'Risk-return'!AU3","v":0.13662847540302153},{"$f":"'1D Vectors Transposed'!H8+'1D Vectors Transposed'!I8*'Risk-return'!AV3","v":0.13649109489770347},{"$f":"'1D Vectors Transposed'!H8+'1D Vectors Transposed'!I8*'Risk-return'!AW3","v":0.13635371439238544},{"$f":"'1D Vectors Transposed'!H8+'1D Vectors Transposed'!I8*'Risk-return'!AX3","v":0.13621633388706739},{"$f":"'1D Vectors Transposed'!H8+'1D Vectors Transposed'!I8*'Risk-return'!AY3","v":0.13607895338174933},{"$f":"'1D Vectors Transposed'!H8+'1D Vectors Transposed'!I8*'Risk-return'!AZ3","v":0.1359415728764313},{"$f":"'1D Vectors Transposed'!H8+'1D Vectors Transposed'!I8*'Risk-return'!BA3","v":0.13580419237111324},{"$f":"'1D Vectors Transposed'!H8+'1D Vectors Transposed'!I8*'Risk-return'!BB3","v":0.13566681186579521},{"$f":"'1D Vectors Transposed'!H8+'1D Vectors Transposed'!I8*'Risk-return'!BC3","v":0.13552943136047715},{"$f":"'1D Vectors Transposed'!H8+'1D Vectors Transposed'!I8*'Risk-return'!BD3","v":0.13539205085515912},{"$f":"'1D Vectors Transposed'!H8+'1D Vectors Transposed'!I8*'Risk-return'!BE3","v":0.13525467034984107},{"$f":"'1D Vectors Transposed'!H8+'1D Vectors Transposed'!I8*'Risk-return'!BF3","v":0.13511728984452304},{"$f":"'1D Vectors Transposed'!H8+'1D Vectors Transposed'!I8*'Risk-return'!BG3","v":0.13497990933920498},{"$f":"'1D Vectors Transposed'!H8+'1D Vectors Transposed'!I8*'Risk-return'!BH3","v":0.13484252883388695},{"$f":"'1D Vectors Transposed'!H8+'1D Vectors Transposed'!I8*'Risk-return'!BI3","v":0.13470514832856889},{"$f":"'1D Vectors Transposed'!H8+'1D Vectors Transposed'!I8*'Risk-return'!BJ3","v":0.13456776782325086},{"$f":"'1D Vectors Transposed'!H8+'1D Vectors Transposed'!I8*'Risk-return'!BK3","v":0.1344303873179328},{"$f":"'1D Vectors Transposed'!H8+'1D Vectors Transposed'!I8*'Risk-return'!BL3","v":0.13429300681261475},{"$f":"'1D Vectors Transposed'!H8+'1D Vectors Transposed'!I8*'Risk-return'!BM3","v":0.13415562630729672},{"$f":"'1D Vectors Transposed'!H8+'1D Vectors Transposed'!I8*'Risk-return'!BN3","v":0.13401824580197866},{"$f":"'1D Vectors Transposed'!H8+'1D Vectors Transposed'!I8*'Risk-return'!BO3","v":0.13388086529666063},{"$f":"'1D Vectors Transposed'!H8+'1D Vectors Transposed'!I8*'Risk-return'!BP3","v":0.13374348479134257},{"$f":"'1D Vectors Transposed'!H8+'1D Vectors Transposed'!I8*'Risk-return'!BQ3","v":0.13360610428602454},{"$f":"'1D Vectors Transposed'!H8+'1D Vectors Transposed'!I8*'Risk-return'!BR3","v":0.13346872378070648},{"$f":"'1D Vectors Transposed'!H8+'1D Vectors Transposed'!I8*'Risk-return'!BS3","v":0.13333134327538845},{"$f":"'1D Vectors Transposed'!H8+'1D Vectors Transposed'!I8*'Risk-return'!BT3","v":0.1331939627700704},{"$f":"'1D Vectors Transposed'!H8+'1D Vectors Transposed'!I8*'Risk-return'!BU3","v":0.13305658226475237},{"$f":"'1D Vectors Transposed'!H8+'1D Vectors Transposed'!I8*'Risk-return'!BV3","v":0.13291920175943431},{"$f":"'1D Vectors Transposed'!H8+'1D Vectors Transposed'!I8*'Risk-return'!BW3","v":0.13278182125411625},{"$f":"'1D Vectors Transposed'!H8+'1D Vectors Transposed'!I8*'Risk-return'!BX3","v":0.13264444074879822},{"$f":"'1D Vectors Transposed'!H8+'1D Vectors Transposed'!I8*'Risk-return'!BY3","v":0.13250706024348016},{"$f":"'1D Vectors Transposed'!H8+'1D Vectors Transposed'!I8*'Risk-return'!BZ3","v":0.13236967973816213},{"$f":"'1D Vectors Transposed'!H8+'1D Vectors Transposed'!I8*'Risk-return'!CA3","v":0.13223229923284407},{"$f":"'1D Vectors Transposed'!H8+'1D Vectors Transposed'!I8*'Risk-return'!CB3","v":0.13209491872752605},{"$f":"'1D Vectors Transposed'!H8+'1D Vectors Transposed'!I8*'Risk-return'!CC3","v":0.13195753822220799},{"$f":"'1D Vectors Transposed'!H8+'1D Vectors Transposed'!I8*'Risk-return'!CD3","v":0.13182015771688996},{"$f":"'1D Vectors Transposed'!H8+'1D Vectors Transposed'!I8*'Risk-return'!CE3","v":0.1316827772115719},{"$f":"'1D Vectors Transposed'!H8+'1D Vectors Transposed'!I8*'Risk-return'!CF3","v":0.13154539670625387},{"$f":"'1D Vectors Transposed'!H8+'1D Vectors Transposed'!I8*'Risk-return'!CG3","v":0.13140801620093581},{"$f":"'1D Vectors Transposed'!H8+'1D Vectors Transposed'!I8*'Risk-return'!CH3","v":0.13127063569561775},{"$f":"'1D Vectors Transposed'!H8+'1D Vectors Transposed'!I8*'Risk-return'!CI3","v":0.13113325519029972},{"$f":"'1D Vectors Transposed'!H8+'1D Vectors Transposed'!I8*'Risk-return'!CJ3","v":0.13099587468498167},{"$f":"'1D Vectors Transposed'!H8+'1D Vectors Transposed'!I8*'Risk-return'!CK3","v":0.13085849417966364},{"$f":"'1D Vectors Transposed'!H8+'1D Vectors Transposed'!I8*'Risk-return'!CL3","v":0.13072111367434558},{"$f":"'1D Vectors Transposed'!H8+'1D Vectors Transposed'!I8*'Risk-return'!CM3","v":0.13058373316902755},{"$f":"'1D Vectors Transposed'!H8+'1D Vectors Transposed'!I8*'Risk-return'!CN3","v":0.13044635266370949},{"$f":"'1D Vectors Transposed'!H8+'1D Vectors Transposed'!I8*'Risk-return'!CO3","v":0.13030897215839146},{"$f":"'1D Vectors Transposed'!H8+'1D Vectors Transposed'!I8*'Risk-return'!CP3","v":0.1301715916530734},{"$f":"'1D Vectors Transposed'!H8+'1D Vectors Transposed'!I8*'Risk-return'!CQ3","v":0.13003421114775537},{"$f":"'1D Vectors Transposed'!H8+'1D Vectors Transposed'!I8*'Risk-return'!CR3","v":0.12989683064243732},{"$f":"'1D Vectors Transposed'!H8+'1D Vectors Transposed'!I8*'Risk-return'!CS3","v":0.12975945013711926},{"$f":"'1D Vectors Transposed'!H8+'1D Vectors Transposed'!I8*'Risk-return'!CT3","v":0.12962206963180123},{"$f":"'1D Vectors Transposed'!H8+'1D Vectors Transposed'!I8*'Risk-return'!CU3","v":0.12948468912648317},{"$f":"'1D Vectors Transposed'!H8+'1D Vectors Transposed'!I8*'Risk-return'!CV3","v":0.12934730862116514},{"$f":"'1D Vectors Transposed'!H8+'1D Vectors Transposed'!I8*'Risk-return'!CW3","v":0.12920992811584708},{"$f":"'1D Vectors Transposed'!H8+'1D Vectors Transposed'!I8*'Risk-return'!CX3","v":0.12907254761052905},{"$f":"'1D Vectors Transposed'!H8+'1D Vectors Transposed'!I8*'Risk-return'!CY3","v":0.128935167105211},{"$f":"'1D Vectors Transposed'!H8+'1D Vectors Transposed'!I8*'Risk-return'!CZ3","v":0.12879778659989297},{"$f":"'1D Vectors Transposed'!H8+'1D Vectors Transposed'!I8*'Risk-return'!DA3","v":0.12866040609457491},{"$f":"'1D Vectors Transposed'!H8+'1D Vectors Transposed'!I8*'Risk-return'!DB3","v":0.12852302558925688},{"$f":"'1D Vectors Transposed'!H8+'1D Vectors Transposed'!I8*'Risk-return'!DC3","v":0.12838564508393882},{"$f":"'1D Vectors Transposed'!H8+'1D Vectors Transposed'!I8*'Risk-return'!DD3","v":0.12824826457862076},{"$f":"'1D Vectors Transposed'!H8+'1D Vectors Transposed'!I8*'Risk-return'!DE3","v":0.12811088407330273},{"$f":"'1D Vectors Transposed'!H8+'1D Vectors Transposed'!I8*'Risk-return'!DF3","v":0.12797350356798468},{"$f":"'1D Vectors Transposed'!H8+'1D Vectors Transposed'!I8*'Risk-return'!DG3","v":0.12783612306266665},{"$f":"'1D Vectors Transposed'!H8+'1D Vectors Transposed'!I8*'Risk-return'!DH3","v":0.12769874255734859},{"$f":"'1D Vectors Transposed'!H8+'1D Vectors Transposed'!I8*'Risk-return'!DI3","v":0.12756136205203056},{"$f":"'1D Vectors Transposed'!H8+'1D Vectors Transposed'!I8*'Risk-return'!DJ3","v":0.1274239815467125},{"$f":"'1D Vectors Transposed'!H8+'1D Vectors Transposed'!I8*'Risk-return'!DK3","v":0.12728660104139447},{"$f":"'1D Vectors Transposed'!H8+'1D Vectors Transposed'!I8*'Risk-return'!DL3","v":0.12714922053607641},{"$f":"'1D Vectors Transposed'!H8+'1D Vectors Transposed'!I8*'Risk-return'!DM3","v":0.12701184003075838},{"$f":"'1D Vectors Transposed'!H8+'1D Vectors Transposed'!I8*'Risk-return'!DN3","v":0.12687445952544033},{"$f":"'1D Vectors Transposed'!H8+'1D Vectors Transposed'!I8*'Risk-return'!DO3","v":0.12673707902012227},{"$f":"'1D Vectors Transposed'!H8+'1D Vectors Transposed'!I8*'Risk-return'!DP3","v":0.12659969851480424},{"$f":"'1D Vectors Transposed'!H8+'1D Vectors Transposed'!I8*'Risk-return'!DQ3","v":0.12646231800948618},{"$f":"'1D Vectors Transposed'!H8+'1D Vectors Transposed'!I8*'Risk-return'!DR3","v":0.12632493750416815},{"$f":"'1D Vectors Transposed'!H8+'1D Vectors Transposed'!I8*'Risk-return'!DS3","v":0.12618755699885009},{"$f":"'1D Vectors Transposed'!H8+'1D Vectors Transposed'!I8*'Risk-return'!DT3","v":0.12605017649353206},{"$f":"'1D Vectors Transposed'!H8+'1D Vectors Transposed'!I8*'Risk-return'!DU3","v":0.125912795988214},{"$f":"'1D Vectors Transposed'!H8+'1D Vectors Transposed'!I8*'Risk-return'!DV3","v":0.12577541548289597},{"$f":"'1D Vectors Transposed'!H8+'1D Vectors Transposed'!I8*'Risk-return'!DW3","v":0.12563803497757792},{"$f":"'1D Vectors Transposed'!H8+'1D Vectors Transposed'!I8*'Risk-return'!DX3","v":0.12550065447225989},{"$f":"'1D Vectors Transposed'!H8+'1D Vectors Transposed'!I8*'Risk-return'!DY3","v":0.12536327396694183},{"$f":"'1D Vectors Transposed'!H8+'1D Vectors Transposed'!I8*'Risk-return'!DZ3","v":0.12522589346162377},{"$f":"'1D Vectors Transposed'!H8+'1D Vectors Transposed'!I8*'Risk-return'!EA3","v":0.12508851295630574},{"$f":"'1D Vectors Transposed'!H8+'1D Vectors Transposed'!I8*'Risk-return'!EB3","v":0.1249511324509877},{"$f":"'1D Vectors Transposed'!H8+'1D Vectors Transposed'!I8*'Risk-return'!EC3","v":0.12481375194566965},{"$f":"'1D Vectors Transposed'!H8+'1D Vectors Transposed'!I8*'Risk-return'!ED3","v":0.12467637144035161},{"$f":"'1D Vectors Transposed'!H8+'1D Vectors Transposed'!I8*'Risk-return'!EE3","v":0.12453899093503357},{"$f":"'1D Vectors Transposed'!H8+'1D Vectors Transposed'!I8*'Risk-return'!EF3","v":0.12440161042971551},{"$f":"'1D Vectors Transposed'!H8+'1D Vectors Transposed'!I8*'Risk-return'!EG3","v":0.12426422992439748},{"$f":"'1D Vectors Transposed'!H8+'1D Vectors Transposed'!I8*'Risk-return'!EH3","v":0.12412684941907942},{"$f":"'1D Vectors Transposed'!H8+'1D Vectors Transposed'!I8*'Risk-return'!EI3","v":0.12398946891376138},{"$f":"'1D Vectors Transposed'!H8+'1D Vectors Transposed'!I8*'Risk-return'!EJ3","v":0.12385208840844333},{"$f":"'1D Vectors Transposed'!H8+'1D Vectors Transposed'!I8*'Risk-return'!EK3","v":0.12371470790312529},{"$f":"'1D Vectors Transposed'!H8+'1D Vectors Transposed'!I8*'Risk-return'!EL3","v":0.12357732739780725},{"$f":"'1D Vectors Transposed'!H8+'1D Vectors Transposed'!I8*'Risk-return'!EM3","v":0.1234399468924892},{"$f":"'1D Vectors Transposed'!H8+'1D Vectors Transposed'!I8*'Risk-return'!EN3","v":0.12330256638717116},{"$f":"'1D Vectors Transposed'!H8+'1D Vectors Transposed'!I8*'Risk-return'!EO3","v":0.12316518588185311},{"$f":"'1D Vectors Transposed'!H8+'1D Vectors Transposed'!I8*'Risk-return'!EP3","v":0.12302780537653507},{"$f":"'1D Vectors Transposed'!H8+'1D Vectors Transposed'!I8*'Risk-return'!EQ3","v":0.12289042487121701},{"$f":"'1D Vectors Transposed'!H8+'1D Vectors Transposed'!I8*'Risk-return'!ER3","v":0.12275304436589898},{"$f":"'1D Vectors Transposed'!H8+'1D Vectors Transposed'!I8*'Risk-return'!ES3","v":0.12261566386058093},{"$f":"'1D Vectors Transposed'!H8+'1D Vectors Transposed'!I8*'Risk-return'!ET3","v":0.12247828335526288},{"$f":"'1D Vectors Transposed'!H8+'1D Vectors Transposed'!I8*'Risk-return'!EU3","v":0.12234090284994484},{"$f":"'1D Vectors Transposed'!H8+'1D Vectors Transposed'!I8*'Risk-return'!EV3","v":0.12220352234462679},{"$f":"'1D Vectors Transposed'!H8+'1D Vectors Transposed'!I8*'Risk-return'!EW3","v":0.12206614183930875},{"$f":"'1D Vectors Transposed'!H8+'1D Vectors Transposed'!I8*'Risk-return'!EX3","v":0.12192876133399071},{"$f":"'1D Vectors Transposed'!H8+'1D Vectors Transposed'!I8*'Risk-return'!EY3","v":0.12179138082867266},{"$f":"'1D Vectors Transposed'!H8+'1D Vectors Transposed'!I8*'Risk-return'!EZ3","v":0.12165400032335462},{"$f":"'1D Vectors Transposed'!H8+'1D Vectors Transposed'!I8*'Risk-return'!FA3","v":0.12151661981803658},{"$f":"'1D Vectors Transposed'!H8+'1D Vectors Transposed'!I8*'Risk-return'!FB3","v":0.12137923931271852},{"$f":"'1D Vectors Transposed'!H8+'1D Vectors Transposed'!I8*'Risk-return'!FC3","v":0.12124185880740049},{"$f":"'1D Vectors Transposed'!H8+'1D Vectors Transposed'!I8*'Risk-return'!FD3","v":0.12110447830208243},{"$f":"'1D Vectors Transposed'!H8+'1D Vectors Transposed'!I8*'Risk-return'!FE3","v":0.12096709779676439},{"$f":"'1D Vectors Transposed'!H8+'1D Vectors Transposed'!I8*'Risk-return'!FF3","v":0.12082971729144634},{"$f":"'1D Vectors Transposed'!H8+'1D Vectors Transposed'!I8*'Risk-return'!FG3","v":0.1206923367861283},{"$f":"'1D Vectors Transposed'!H8+'1D Vectors Transposed'!I8*'Risk-return'!FH3","v":0.12055495628081025},{"$f":"'1D Vectors Transposed'!H8+'1D Vectors Transposed'!I8*'Risk-return'!FI3","v":0.12041757577549221},{"$f":"'1D Vectors Transposed'!H8+'1D Vectors Transposed'!I8*'Risk-return'!FJ3","v":0.12028019527017417},{"$f":"'1D Vectors Transposed'!H8+'1D Vectors Transposed'!I8*'Risk-return'!FK3","v":0.12014281476485612},{"$f":"'1D Vectors Transposed'!H8+'1D Vectors Transposed'!I8*'Risk-return'!FL3","v":0.12000543425953808},{"$f":"'1D Vectors Transposed'!H8+'1D Vectors Transposed'!I8*'Risk-return'!FM3","v":0.11986805375422002},{"$f":"'1D Vectors Transposed'!H8+'1D Vectors Transposed'!I8*'Risk-return'!FN3","v":0.11973067324890199},{"$f":"'1D Vectors Transposed'!H8+'1D Vectors Transposed'!I8*'Risk-return'!FO3","v":0.11959329274358393},{"$f":"'1D Vectors Transposed'!H8+'1D Vectors Transposed'!I8*'Risk-return'!FP3","v":0.11945591223826589},{"$f":"'1D Vectors Transposed'!H8+'1D Vectors Transposed'!I8*'Risk-return'!FQ3","v":0.11931853173294785},{"$f":"'1D Vectors Transposed'!H8+'1D Vectors Transposed'!I8*'Risk-return'!FR3","v":0.1191811512276298},{"$f":"'1D Vectors Transposed'!H8+'1D Vectors Transposed'!I8*'Risk-return'!FS3","v":0.11904377072231176},{"$f":"'1D Vectors Transposed'!H8+'1D Vectors Transposed'!I8*'Risk-return'!FT3","v":0.11890639021699372},{"$f":"'1D Vectors Transposed'!H8+'1D Vectors Transposed'!I8*'Risk-return'!FU3","v":0.11876900971167567},{"$f":"'1D Vectors Transposed'!H8+'1D Vectors Transposed'!I8*'Risk-return'!FV3","v":0.11863162920635763},{"$f":"'1D Vectors Transposed'!H8+'1D Vectors Transposed'!I8*'Risk-return'!FW3","v":0.11849424870103958},{"$f":"'1D Vectors Transposed'!H8+'1D Vectors Transposed'!I8*'Risk-return'!FX3","v":0.11835686819572153},{"$f":"'1D Vectors Transposed'!H8+'1D Vectors Transposed'!I8*'Risk-return'!FY3","v":0.1182194876904035},{"$f":"'1D Vectors Transposed'!H8+'1D Vectors Transposed'!I8*'Risk-return'!FZ3","v":0.11808210718508544},{"$f":"'1D Vectors Transposed'!H8+'1D Vectors Transposed'!I8*'Risk-return'!GA3","v":0.11794472667976739},{"$f":"'1D Vectors Transposed'!H8+'1D Vectors Transposed'!I8*'Risk-return'!GB3","v":0.11780734617444935},{"$f":"'1D Vectors Transposed'!H8+'1D Vectors Transposed'!I8*'Risk-return'!GC3","v":0.11766996566913131},{"$f":"'1D Vectors Transposed'!H8+'1D Vectors Transposed'!I8*'Risk-return'!GD3","v":0.11753258516381326},{"$f":"'1D Vectors Transposed'!H8+'1D Vectors Transposed'!I8*'Risk-return'!GE3","v":0.11739520465849522},{"$f":"'1D Vectors Transposed'!H8+'1D Vectors Transposed'!I8*'Risk-return'!GF3","v":0.11725782415317718},{"$f":"'1D Vectors Transposed'!H8+'1D Vectors Transposed'!I8*'Risk-return'!GG3","v":0.11712044364785913},{"$f":"'1D Vectors Transposed'!H8+'1D Vectors Transposed'!I8*'Risk-return'!GH3","v":0.11698306314254109},{"$f":"'1D Vectors Transposed'!H8+'1D Vectors Transposed'!I8*'Risk-return'!GI3","v":0.11684568263722304},{"$f":"'1D Vectors Transposed'!H8+'1D Vectors Transposed'!I8*'Risk-return'!GJ3","v":0.116708302131905},{"$f":"'1D Vectors Transposed'!H8+'1D Vectors Transposed'!I8*'Risk-return'!GK3","v":0.11657092162658694},{"$f":"'1D Vectors Transposed'!H8+'1D Vectors Transposed'!I8*'Risk-return'!GL3","v":0.11643354112126891},{"$f":"'1D Vectors Transposed'!H8+'1D Vectors Transposed'!I8*'Risk-return'!GM3","v":0.11629616061595086},{"$f":"'1D Vectors Transposed'!H8+'1D Vectors Transposed'!I8*'Risk-return'!GN3","v":0.11615878011063281},{"$f":"'1D Vectors Transposed'!H8+'1D Vectors Transposed'!I8*'Risk-return'!GO3","v":0.11602139960531477},{"$f":"'1D Vectors Transposed'!H8+'1D Vectors Transposed'!I8*'Risk-return'!GP3","v":0.11588401909999672},{"$f":"'1D Vectors Transposed'!H8+'1D Vectors Transposed'!I8*'Risk-return'!GQ3","v":0.11574663859467868},{"$f":"'1D Vectors Transposed'!H8+'1D Vectors Transposed'!I8*'Risk-return'!GR3","v":0.11560925808936064},{"$f":"'1D Vectors Transposed'!H8+'1D Vectors Transposed'!I8*'Risk-return'!GS3","v":0.11547187758404259},{"$f":"'1D Vectors Transposed'!H8+'1D Vectors Transposed'!I8*'Risk-return'!GT3","v":0.11533449707872455},{"$f":"'1D Vectors Transposed'!H8+'1D Vectors Transposed'!I8*'Risk-return'!GU3","v":0.11519711657340651},{"$f":"'1D Vectors Transposed'!H8+'1D Vectors Transposed'!I8*'Risk-return'!GV3","v":0.11505973606808845},{"$f":"'1D Vectors Transposed'!H8+'1D Vectors Transposed'!I8*'Risk-return'!GW3","v":0.11492235556277042},{"$f":"'1D Vectors Transposed'!H8+'1D Vectors Transposed'!I8*'Risk-return'!GX3","v":0.11478497505745236},{"$f":"'1D Vectors Transposed'!H8+'1D Vectors Transposed'!I8*'Risk-return'!GY3","v":0.11464759455213432},{"$f":"'1D Vectors Transposed'!H8+'1D Vectors Transposed'!I8*'Risk-return'!GZ3","v":0.11451021404681627},{"$f":"'1D Vectors Transposed'!H8+'1D Vectors Transposed'!I8*'Risk-return'!HA3","v":0.11437283354149823},{"$f":"'1D Vectors Transposed'!H8+'1D Vectors Transposed'!I8*'Risk-return'!HB3","v":0.11423545303618018},{"$f":"'1D Vectors Transposed'!H8+'1D Vectors Transposed'!I8*'Risk-return'!HC3","v":0.11409807253086214},{"$f":"'1D Vectors Transposed'!H8+'1D Vectors Transposed'!I8*'Risk-return'!HD3","v":0.1139606920255441},{"$f":"'1D Vectors Transposed'!H8+'1D Vectors Transposed'!I8*'Risk-return'!HE3","v":0.11382331152022605},{"$f":"'1D Vectors Transposed'!H8+'1D Vectors Transposed'!I8*'Risk-return'!HF3","v":0.11368593101490801},{"$f":"'1D Vectors Transposed'!H8+'1D Vectors Transposed'!I8*'Risk-return'!HG3","v":0.11354855050958995},{"$f":"'1D Vectors Transposed'!H8+'1D Vectors Transposed'!I8*'Risk-return'!HH3","v":0.11341117000427192},{"$f":"'1D Vectors Transposed'!H8+'1D Vectors Transposed'!I8*'Risk-return'!HI3","v":0.11327378949895386},{"$f":"'1D Vectors Transposed'!H8+'1D Vectors Transposed'!I8*'Risk-return'!HJ3","v":0.11313640899363582},{"$f":"'1D Vectors Transposed'!H8+'1D Vectors Transposed'!I8*'Risk-return'!HK3","v":0.11299902848831778},{"$f":"'1D Vectors Transposed'!H8+'1D Vectors Transposed'!I8*'Risk-return'!HL3","v":0.11286164798299973},{"$f":"'1D Vectors Transposed'!H8+'1D Vectors Transposed'!I8*'Risk-return'!HM3","v":0.11272426747768169},{"$f":"'1D Vectors Transposed'!H8+'1D Vectors Transposed'!I8*'Risk-return'!HN3","v":0.11258688697236365},{"$f":"'1D Vectors Transposed'!H8+'1D Vectors Transposed'!I8*'Risk-return'!HO3","v":0.1124495064670456},{"$f":"'1D Vectors Transposed'!H8+'1D Vectors Transposed'!I8*'Risk-return'!HP3","v":0.11231212596172756},{"$f":"'1D Vectors Transposed'!H8+'1D Vectors Transposed'!I8*'Risk-return'!HQ3","v":0.11217474545640951},{"$f":"'1D Vectors Transposed'!H8+'1D Vectors Transposed'!I8*'Risk-return'!HR3","v":0.11203736495109146},{"$f":"'1D Vectors Transposed'!H8+'1D Vectors Transposed'!I8*'Risk-return'!HS3","v":0.11189998444577343},{"$f":"'1D Vectors Transposed'!H8+'1D Vectors Transposed'!I8*'Risk-return'!HT3","v":0.11176260394045537},{"$f":"'1D Vectors Transposed'!H8+'1D Vectors Transposed'!I8*'Risk-return'!HU3","v":0.11162522343513734},{"$f":"'1D Vectors Transposed'!H8+'1D Vectors Transposed'!I8*'Risk-return'!HV3","v":0.11148784292981928},{"$f":"'1D Vectors Transposed'!H8+'1D Vectors Transposed'!I8*'Risk-return'!HW3","v":0.11135046242450124},{"$f":"'1D Vectors Transposed'!H8+'1D Vectors Transposed'!I8*'Risk-return'!HX3","v":0.11121308191918319},{"$f":"'1D Vectors Transposed'!H8+'1D Vectors Transposed'!I8*'Risk-return'!HY3","v":0.11107570141386515},{"$f":"'1D Vectors Transposed'!H8+'1D Vectors Transposed'!I8*'Risk-return'!HZ3","v":0.11093832090854711},{"$f":"'1D Vectors Transposed'!H8+'1D Vectors Transposed'!I8*'Risk-return'!IA3","v":0.11080094040322906},{"$f":"'1D Vectors Transposed'!H8+'1D Vectors Transposed'!I8*'Risk-return'!IB3","v":0.11066355989791102},{"$f":"'1D Vectors Transposed'!H8+'1D Vectors Transposed'!I8*'Risk-return'!IC3","v":0.11052617939259296},{"$f":"'1D Vectors Transposed'!H8+'1D Vectors Transposed'!I8*'Risk-return'!ID3","v":0.11038879888727493},{"$f":"'1D Vectors Transposed'!H8+'1D Vectors Transposed'!I8*'Risk-return'!IE3","v":0.11025141838195687},{"$f":"'1D Vectors Transposed'!H8+'1D Vectors Transposed'!I8*'Risk-return'!IF3","v":0.11011403787663884},{"$f":"'1D Vectors Transposed'!H8+'1D Vectors Transposed'!I8*'Risk-return'!IG3","v":0.10997665737132079},{"$f":"'1D Vectors Transposed'!H8+'1D Vectors Transposed'!I8*'Risk-return'!IH3","v":0.10983927686600274},{"$f":"'1D Vectors Transposed'!H8+'1D Vectors Transposed'!I8*'Risk-return'!II3","v":0.1097018963606847},{"$f":"'1D Vectors Transposed'!H8+'1D Vectors Transposed'!I8*'Risk-return'!IJ3","v":0.10956451585536665},{"$f":"'1D Vectors Transposed'!H8+'1D Vectors Transposed'!I8*'Risk-return'!IK3","v":0.10942713535004861},{"$f":"'1D Vectors Transposed'!H8+'1D Vectors Transposed'!I8*'Risk-return'!IL3","v":0.10928975484473057},{"$f":"'1D Vectors Transposed'!H8+'1D Vectors Transposed'!I8*'Risk-return'!IM3","v":0.10915237433941252},{"$f":"'1D Vectors Transposed'!H8+'1D Vectors Transposed'!I8*'Risk-return'!IN3","v":0.10901499383409446},{"$f":"'1D Vectors Transposed'!H8+'1D Vectors Transposed'!I8*'Risk-return'!IO3","v":0.10887761332877643},{"$f":"'1D Vectors Transposed'!H8+'1D Vectors Transposed'!I8*'Risk-return'!IP3","v":0.10874023282345838},{"$f":"'1D Vectors Transposed'!H8+'1D Vectors Transposed'!I8*'Risk-return'!IQ3","v":0.10860285231814035},{"$f":"'1D Vectors Transposed'!H8+'1D Vectors Transposed'!I8*'Risk-return'!IR3","v":0.10846547181282229},{"$f":"'1D Vectors Transposed'!H8+'1D Vectors Transposed'!I8*'Risk-return'!IS3","v":0.10832809130750425},{"$f":"'1D Vectors Transposed'!H8+'1D Vectors Transposed'!I8*'Risk-return'!IT3","v":0.1081907108021862},{"$f":"'1D Vectors Transposed'!H8+'1D Vectors Transposed'!I8*'Risk-return'!IU3","v":0.10805333029686816},{"$f":"'1D Vectors Transposed'!H8+'1D Vectors Transposed'!I8*'Risk-return'!IV3","v":0.10791594979155011},{"$f":"'1D Vectors Transposed'!H8+'1D Vectors Transposed'!I8*'Risk-return'!IW3","v":0.10777856928623207},{"$f":"'1D Vectors Transposed'!H8+'1D Vectors Transposed'!I8*'Risk-return'!IX3","v":0.10764118878091403},{"$f":"'1D Vectors Transposed'!H8+'1D Vectors Transposed'!I8*'Risk-return'!IY3","v":0.10750380827559597},{"$f":"'1D Vectors Transposed'!H8+'1D Vectors Transposed'!I8*'Risk-return'!IZ3","v":0.10736642777027794},{"$f":"'1D Vectors Transposed'!H8+'1D Vectors Transposed'!I8*'Risk-return'!JA3","v":0.10722904726495988},{"$f":"'1D Vectors Transposed'!H8+'1D Vectors Transposed'!I8*'Risk-return'!JB3","v":0.10709166675964185},{"$f":"'1D Vectors Transposed'!H8+'1D Vectors Transposed'!I8*'Risk-return'!JC3","v":0.10695428625432379},{"$f":"'1D Vectors Transposed'!H8+'1D Vectors Transposed'!I8*'Risk-return'!JD3","v":0.10681690574900576},{"$f":"'1D Vectors Transposed'!H8+'1D Vectors Transposed'!I8*'Risk-return'!JE3","v":0.10667952524368771},{"$f":"'1D Vectors Transposed'!H8+'1D Vectors Transposed'!I8*'Risk-return'!JF3","v":0.10654214473836966},{"$f":"'1D Vectors Transposed'!H8+'1D Vectors Transposed'!I8*'Risk-return'!JG3","v":0.10640476423305162},{"$f":"'1D Vectors Transposed'!H8+'1D Vectors Transposed'!I8*'Risk-return'!JH3","v":0.10626738372773357},{"$f":"'1D Vectors Transposed'!H8+'1D Vectors Transposed'!I8*'Risk-return'!JI3","v":0.10613000322241553},{"$f":"'1D Vectors Transposed'!H8+'1D Vectors Transposed'!I8*'Risk-return'!JJ3","v":0.10599262271709747},{"$f":"'1D Vectors Transposed'!H8+'1D Vectors Transposed'!I8*'Risk-return'!JK3","v":0.10585524221177944},{"$f":"'1D Vectors Transposed'!H8+'1D Vectors Transposed'!I8*'Risk-return'!JL3","v":0.10571786170646139},{"$f":"'1D Vectors Transposed'!H8+'1D Vectors Transposed'!I8*'Risk-return'!JM3","v":0.10558048120114336},{"$f":"'1D Vectors Transposed'!H8+'1D Vectors Transposed'!I8*'Risk-return'!JN3","v":0.1054431006958253},{"$f":"'1D Vectors Transposed'!H8+'1D Vectors Transposed'!I8*'Risk-return'!JO3","v":0.10530572019050727},{"$f":"'1D Vectors Transposed'!H8+'1D Vectors Transposed'!I8*'Risk-return'!JP3","v":0.10516833968518921},{"$f":"'1D Vectors Transposed'!H8+'1D Vectors Transposed'!I8*'Risk-return'!JQ3","v":0.10503095917987117},{"$f":"'1D Vectors Transposed'!H8+'1D Vectors Transposed'!I8*'Risk-return'!JR3","v":0.10489357867455312},{"$f":"'1D Vectors Transposed'!H8+'1D Vectors Transposed'!I8*'Risk-return'!JS3","v":0.10475619816923508},{"$f":"'1D Vectors Transposed'!H8+'1D Vectors Transposed'!I8*'Risk-return'!JT3","v":0.10461881766391704},{"$f":"'1D Vectors Transposed'!H8+'1D Vectors Transposed'!I8*'Risk-return'!JU3","v":0.10448143715859899},{"$f":"'1D Vectors Transposed'!H8+'1D Vectors Transposed'!I8*'Risk-return'!JV3","v":0.10434405665328095},{"$f":"'1D Vectors Transposed'!H8+'1D Vectors Transposed'!I8*'Risk-return'!JW3","v":0.10420667614796289},{"$f":"'1D Vectors Transposed'!H8+'1D Vectors Transposed'!I8*'Risk-return'!JX3","v":0.10406929564264486},{"$f":"'1D Vectors Transposed'!H8+'1D Vectors Transposed'!I8*'Risk-return'!JY3","v":0.1039319151373268},{"$f":"'1D Vectors Transposed'!H8+'1D Vectors Transposed'!I8*'Risk-return'!JZ3","v":0.10379453463200877},{"$f":"'1D Vectors Transposed'!H8+'1D Vectors Transposed'!I8*'Risk-return'!KA3","v":0.10365715412669071},{"$f":"'1D Vectors Transposed'!H8+'1D Vectors Transposed'!I8*'Risk-return'!KB3","v":0.10351977362137267},{"$f":"'1D Vectors Transposed'!H8+'1D Vectors Transposed'!I8*'Risk-return'!KC3","v":0.10338239311605463},{"$f":"'1D Vectors Transposed'!H8+'1D Vectors Transposed'!I8*'Risk-return'!KD3","v":0.10324501261073658},{"$f":"'1D Vectors Transposed'!H8+'1D Vectors Transposed'!I8*'Risk-return'!KE3","v":0.10310763210541854},{"$f":"'1D Vectors Transposed'!H8+'1D Vectors Transposed'!I8*'Risk-return'!KF3","v":0.1029702516001005},{"$f":"'1D Vectors Transposed'!H8+'1D Vectors Transposed'!I8*'Risk-return'!KG3","v":0.10283287109478245},{"$f":"'1D Vectors Transposed'!H8+'1D Vectors Transposed'!I8*'Risk-return'!KH3","v":0.10269549058946439},{"$f":"'1D Vectors Transposed'!H8+'1D Vectors Transposed'!I8*'Risk-return'!KI3","v":0.10255811008414636},{"$f":"'1D Vectors Transposed'!H8+'1D Vectors Transposed'!I8*'Risk-return'!KJ3","v":0.10242072957882831},{"$f":"'1D Vectors Transposed'!H8+'1D Vectors Transposed'!I8*'Risk-return'!KK3","v":0.10228334907351028},{"$f":"'1D Vectors Transposed'!H8+'1D Vectors Transposed'!I8*'Risk-return'!KL3","v":0.10214596856819222},{"$f":"'1D Vectors Transposed'!H8+'1D Vectors Transposed'!I8*'Risk-return'!KM3","v":0.10200858806287418},{"$f":"'1D Vectors Transposed'!H8+'1D Vectors Transposed'!I8*'Risk-return'!KN3","v":0.10187120755755613},{"$f":"'1D Vectors Transposed'!H8+'1D Vectors Transposed'!I8*'Risk-return'!KO3","v":0.10173382705223809},{"$f":"'1D Vectors Transposed'!H8+'1D Vectors Transposed'!I8*'Risk-return'!KP3","v":0.10159644654692004},{"$f":"'1D Vectors Transposed'!H8+'1D Vectors Transposed'!I8*'Risk-return'!KQ3","v":0.101459066041602},{"$f":"'1D Vectors Transposed'!H8+'1D Vectors Transposed'!I8*'Risk-return'!KR3","v":0.10132168553628396},{"$f":"'1D Vectors Transposed'!H8+'1D Vectors Transposed'!I8*'Risk-return'!KS3","v":0.1011843050309659},{"$f":"'1D Vectors Transposed'!H8+'1D Vectors Transposed'!I8*'Risk-return'!KT3","v":0.10104692452564787},{"$f":"'1D Vectors Transposed'!H8+'1D Vectors Transposed'!I8*'Risk-return'!KU3","v":0.10090954402032981},{"$f":"'1D Vectors Transposed'!H8+'1D Vectors Transposed'!I8*'Risk-return'!KV3","v":0.10077216351501178},{"$f":"'1D Vectors Transposed'!H8+'1D Vectors Transposed'!I8*'Risk-return'!KW3","v":0.10063478300969372},{"$f":"'1D Vectors Transposed'!H8+'1D Vectors Transposed'!I8*'Risk-return'!KX3","v":0.10049740250437568},{"$f":"'1D Vectors Transposed'!H8+'1D Vectors Transposed'!I8*'Risk-return'!KY3","v":0.10036002199905764},{"$f":"'1D Vectors Transposed'!H8+'1D Vectors Transposed'!I8*'Risk-return'!KZ3","v":0.10022264149373959},{"$f":"'1D Vectors Transposed'!H8+'1D Vectors Transposed'!I8*'Risk-return'!LA3","v":0.10008526098842155},{"$f":"'1D Vectors Transposed'!H8+'1D Vectors Transposed'!I8*'Risk-return'!LB3","v":9.9947877924187828E-2},{"$f":"'1D Vectors Transposed'!H8+'1D Vectors Transposed'!I8*'Risk-return'!LC3","v":9.9810494859954135E-2},{"$f":"'1D Vectors Transposed'!H8+'1D Vectors Transposed'!I8*'Risk-return'!LD3","v":9.9673111795720415E-2},{"$f":"'1D Vectors Transposed'!H8+'1D Vectors Transposed'!I8*'Risk-return'!LE3","v":9.9535728731486708E-2},{"$f":"'1D Vectors Transposed'!H8+'1D Vectors Transposed'!I8*'Risk-return'!LF3","v":9.9398345667253002E-2},{"$f":"'1D Vectors Transposed'!H8+'1D Vectors Transposed'!I8*'Risk-return'!LG3","v":9.9260962603019282E-2},{"$f":"'1D Vectors Transposed'!H8+'1D Vectors Transposed'!I8*'Risk-return'!LH3","v":9.9123579538785575E-2},{"$f":"'1D Vectors Transposed'!H8+'1D Vectors Transposed'!I8*'Risk-return'!LI3","v":9.8986196474551869E-2},{"$f":"'1D Vectors Transposed'!H8+'1D Vectors Transposed'!I8*'Risk-return'!LJ3","v":9.8848813410318148E-2},{"$f":"'1D Vectors Transposed'!H8+'1D Vectors Transposed'!I8*'Risk-return'!LK3","v":9.8711430346084456E-2},{"$f":"'1D Vectors Transposed'!H8+'1D Vectors Transposed'!I8*'Risk-return'!LL3","v":9.8574047281850735E-2},{"$f":"'1D Vectors Transposed'!H8+'1D Vectors Transposed'!I8*'Risk-return'!LM3","v":9.8436664217617029E-2},{"$f":"'1D Vectors Transposed'!H8+'1D Vectors Transposed'!I8*'Risk-return'!LN3","v":9.8299281153383322E-2},{"$f":"'1D Vectors Transposed'!H8+'1D Vectors Transposed'!I8*'Risk-return'!LO3","v":9.8161898089149602E-2},{"$f":"'1D Vectors Transposed'!H8+'1D Vectors Transposed'!I8*'Risk-return'!LP3","v":9.8024515024915895E-2},{"$f":"'1D Vectors Transposed'!H8+'1D Vectors Transposed'!I8*'Risk-return'!LQ3","v":9.7887131960682189E-2},{"$f":"'1D Vectors Transposed'!H8+'1D Vectors Transposed'!I8*'Risk-return'!LR3","v":9.7749748896448468E-2},{"$f":"'1D Vectors Transposed'!H8+'1D Vectors Transposed'!I8*'Risk-return'!LS3","v":9.7612365832214762E-2},{"$f":"'1D Vectors Transposed'!H8+'1D Vectors Transposed'!I8*'Risk-return'!LT3","v":9.7474982767981055E-2},{"$f":"'1D Vectors Transposed'!H8+'1D Vectors Transposed'!I8*'Risk-return'!LU3","v":9.7337599703747335E-2},{"$f":"'1D Vectors Transposed'!H8+'1D Vectors Transposed'!I8*'Risk-return'!LV3","v":9.7200216639513642E-2},{"$f":"'1D Vectors Transposed'!H8+'1D Vectors Transposed'!I8*'Risk-return'!LW3","v":9.7062833575279922E-2},{"$f":"'1D Vectors Transposed'!H8+'1D Vectors Transposed'!I8*'Risk-return'!LX3","v":9.6925450511046216E-2},{"$f":"'1D Vectors Transposed'!H8+'1D Vectors Transposed'!I8*'Risk-return'!LY3","v":9.6788067446812509E-2},{"$f":"'1D Vectors Transposed'!H8+'1D Vectors Transposed'!I8*'Risk-return'!LZ3","v":9.6650684382578789E-2},{"$f":"'1D Vectors Transposed'!H8+'1D Vectors Transposed'!I8*'Risk-return'!MA3","v":9.6513301318345082E-2},{"$f":"'1D Vectors Transposed'!H8+'1D Vectors Transposed'!I8*'Risk-return'!MB3","v":9.6375918254111376E-2},{"$f":"'1D Vectors Transposed'!H8+'1D Vectors Transposed'!I8*'Risk-return'!MC3","v":9.6238535189877655E-2},{"$f":"'1D Vectors Transposed'!H8+'1D Vectors Transposed'!I8*'Risk-return'!MD3","v":9.6101152125643949E-2},{"$f":"'1D Vectors Transposed'!H8+'1D Vectors Transposed'!I8*'Risk-return'!ME3","v":9.5963769061410242E-2},{"$f":"'1D Vectors Transposed'!H8+'1D Vectors Transposed'!I8*'Risk-return'!MF3","v":9.5826385997176522E-2},{"$f":"'1D Vectors Transposed'!H8+'1D Vectors Transposed'!I8*'Risk-return'!MG3","v":9.5689002932942829E-2},{"$f":"'1D Vectors Transposed'!H8+'1D Vectors Transposed'!I8*'Risk-return'!MH3","v":9.5551619868709109E-2},{"$f":"'1D Vectors Transposed'!H8+'1D Vectors Transposed'!I8*'Risk-return'!MI3","v":9.5414236804475402E-2},{"$f":"'1D Vectors Transposed'!H8+'1D Vectors Transposed'!I8*'Risk-return'!MJ3","v":9.5276853740241696E-2},{"$f":"'1D Vectors Transposed'!H8+'1D Vectors Transposed'!I8*'Risk-return'!MK3","v":9.5139470676007976E-2},{"$f":"'1D Vectors Transposed'!H8+'1D Vectors Transposed'!I8*'Risk-return'!ML3","v":9.5002087611774269E-2},{"$f":"'1D Vectors Transposed'!H8+'1D Vectors Transposed'!I8*'Risk-return'!MM3","v":9.4864704547540563E-2},{"$f":"'1D Vectors Transposed'!H8+'1D Vectors Transposed'!I8*'Risk-return'!MN3","v":9.4727321483306842E-2},{"$f":"'1D Vectors Transposed'!H8+'1D Vectors Transposed'!I8*'Risk-return'!MO3","v":9.4589938419073136E-2},{"$f":"'1D Vectors Transposed'!H8+'1D Vectors Transposed'!I8*'Risk-return'!MP3","v":9.4452555354839429E-2},{"$f":"'1D Vectors Transposed'!H8+'1D Vectors Transposed'!I8*'Risk-return'!MQ3","v":9.4315172290605709E-2},{"$f":"'1D Vectors Transposed'!H8+'1D Vectors Transposed'!I8*'Risk-return'!MR3","v":9.4177789226372016E-2},{"$f":"'1D Vectors Transposed'!H8+'1D Vectors Transposed'!I8*'Risk-return'!MS3","v":9.4040406162138296E-2},{"$f":"'1D Vectors Transposed'!H8+'1D Vectors Transposed'!I8*'Risk-return'!MT3","v":9.3903023097904589E-2},{"$f":"'1D Vectors Transposed'!H8+'1D Vectors Transposed'!I8*'Risk-return'!MU3","v":9.3765640033670883E-2},{"$f":"'1D Vectors Transposed'!H8+'1D Vectors Transposed'!I8*'Risk-return'!MV3","v":9.3628256969437162E-2},{"$f":"'1D Vectors Transposed'!H8+'1D Vectors Transposed'!I8*'Risk-return'!MW3","v":9.3490873905203456E-2},{"$f":"'1D Vectors Transposed'!H8+'1D Vectors Transposed'!I8*'Risk-return'!MX3","v":9.3353490840969749E-2},{"$f":"'1D Vectors Transposed'!H8+'1D Vectors Transposed'!I8*'Risk-return'!MY3","v":9.3216107776736029E-2},{"$f":"'1D Vectors Transposed'!H8+'1D Vectors Transposed'!I8*'Risk-return'!MZ3","v":9.3078724712502336E-2},{"$f":"'1D Vectors Transposed'!H8+'1D Vectors Transposed'!I8*'Risk-return'!NA3","v":9.2941341648268616E-2},{"$f":"'1D Vectors Transposed'!H8+'1D Vectors Transposed'!I8*'Risk-return'!NB3","v":9.280395858403491E-2},{"$f":"'1D Vectors Transposed'!H8+'1D Vectors Transposed'!I8*'Risk-return'!NC3","v":9.2666575519801203E-2},{"$f":"'1D Vectors Transposed'!H8+'1D Vectors Transposed'!I8*'Risk-return'!ND3","v":9.2529192455567483E-2},{"$f":"'1D Vectors Transposed'!H8+'1D Vectors Transposed'!I8*'Risk-return'!NE3","v":9.2391809391333776E-2},{"$f":"'1D Vectors Transposed'!H8+'1D Vectors Transposed'!I8*'Risk-return'!NF3","v":9.225442632710007E-2},{"$f":"'1D Vectors Transposed'!H8+'1D Vectors Transposed'!I8*'Risk-return'!NG3","v":9.2117043262866349E-2},{"$f":"'1D Vectors Transposed'!H8+'1D Vectors Transposed'!I8*'Risk-return'!NH3","v":9.1979660198632643E-2},{"$f":"'1D Vectors Transposed'!H8+'1D Vectors Transposed'!I8*'Risk-return'!NI3","v":9.1842277134398936E-2},{"$f":"'1D Vectors Transposed'!H8+'1D Vectors Transposed'!I8*'Risk-return'!NJ3","v":9.1704894070165216E-2},{"$f":"'1D Vectors Transposed'!H8+'1D Vectors Transposed'!I8*'Risk-return'!NK3","v":9.1567511005931523E-2},{"$f":"'1D Vectors Transposed'!H8+'1D Vectors Transposed'!I8*'Risk-return'!NL3","v":9.1430127941697803E-2},{"$f":"'1D Vectors Transposed'!H8+'1D Vectors Transposed'!I8*'Risk-return'!NM3","v":9.1292744877464096E-2},{"$f":"'1D Vectors Transposed'!H8+'1D Vectors Transposed'!I8*'Risk-return'!NN3","v":9.115536181323039E-2},{"$f":"'1D Vectors Transposed'!H8+'1D Vectors Transposed'!I8*'Risk-return'!NO3","v":9.101797874899667E-2},{"$f":"'1D Vectors Transposed'!H8+'1D Vectors Transposed'!I8*'Risk-return'!NP3","v":9.0880595684762963E-2},{"$f":"'1D Vectors Transposed'!H8+'1D Vectors Transposed'!I8*'Risk-return'!NQ3","v":9.0743212620529257E-2},{"$f":"'1D Vectors Transposed'!H8+'1D Vectors Transposed'!I8*'Risk-return'!NR3","v":9.0605829556295536E-2},{"$f":"'1D Vectors Transposed'!H8+'1D Vectors Transposed'!I8*'Risk-return'!NS3","v":9.046844649206183E-2},{"$f":"'1D Vectors Transposed'!H8+'1D Vectors Transposed'!I8*'Risk-return'!NT3","v":9.0331063427828123E-2},{"$f":"'1D Vectors Transposed'!H8+'1D Vectors Transposed'!I8*'Risk-return'!NU3","v":9.0193680363594403E-2},{"$f":"'1D Vectors Transposed'!H8+'1D Vectors Transposed'!I8*'Risk-return'!NV3","v":9.005629729936071E-2},{"$f":"'1D Vectors Transposed'!H8+'1D Vectors Transposed'!I8*'Risk-return'!NW3","v":8.991891423512699E-2},{"$f":"'1D Vectors Transposed'!H8+'1D Vectors Transposed'!I8*'Risk-return'!NX3","v":8.9781531170893283E-2},{"$f":"'1D Vectors Transposed'!H8+'1D Vectors Transposed'!I8*'Risk-return'!NY3","v":8.9644148106659577E-2},{"$f":"'1D Vectors Transposed'!H8+'1D Vectors Transposed'!I8*'Risk-return'!NZ3","v":8.9506765042425857E-2},{"$f":"'1D Vectors Transposed'!H8+'1D Vectors Transposed'!I8*'Risk-return'!OA3","v":8.936938197819215E-2},{"$f":"'1D Vectors Transposed'!H8+'1D Vectors Transposed'!I8*'Risk-return'!OB3","v":8.9231998913958444E-2},{"$f":"'1D Vectors Transposed'!H8+'1D Vectors Transposed'!I8*'Risk-return'!OC3","v":8.9094615849724723E-2},{"$f":"'1D Vectors Transposed'!H8+'1D Vectors Transposed'!I8*'Risk-return'!OD3","v":8.8957232785491017E-2},{"$f":"'1D Vectors Transposed'!H8+'1D Vectors Transposed'!I8*'Risk-return'!OE3","v":8.881984972125731E-2},{"$f":"'1D Vectors Transposed'!H8+'1D Vectors Transposed'!I8*'Risk-return'!OF3","v":8.868246665702359E-2},{"$f":"'1D Vectors Transposed'!H8+'1D Vectors Transposed'!I8*'Risk-return'!OG3","v":8.8545083592789897E-2},{"$f":"'1D Vectors Transposed'!H8+'1D Vectors Transposed'!I8*'Risk-return'!OH3","v":8.8407700528556177E-2},{"$f":"'1D Vectors Transposed'!H8+'1D Vectors Transposed'!I8*'Risk-return'!OI3","v":8.827031746432247E-2},{"$f":"'1D Vectors Transposed'!H8+'1D Vectors Transposed'!I8*'Risk-return'!OJ3","v":8.8132934400088764E-2},{"$f":"'1D Vectors Transposed'!H8+'1D Vectors Transposed'!I8*'Risk-return'!OK3","v":8.7995551335855043E-2},{"$f":"'1D Vectors Transposed'!H8+'1D Vectors Transposed'!I8*'Risk-return'!OL3","v":8.7858168271621337E-2},{"$f":"'1D Vectors Transposed'!H8+'1D Vectors Transposed'!I8*'Risk-return'!OM3","v":8.772078520738763E-2},{"$f":"'1D Vectors Transposed'!H8+'1D Vectors Transposed'!I8*'Risk-return'!ON3","v":8.758340214315391E-2},{"$f":"'1D Vectors Transposed'!H8+'1D Vectors Transposed'!I8*'Risk-return'!OO3","v":8.7446019078920217E-2},{"$f":"'1D Vectors Transposed'!H8+'1D Vectors Transposed'!I8*'Risk-return'!OP3","v":8.7308636014686497E-2},{"$f":"'1D Vectors Transposed'!H8+'1D Vectors Transposed'!I8*'Risk-return'!OQ3","v":8.7171252950452777E-2},{"$f":"'1D Vectors Transposed'!H8+'1D Vectors Transposed'!I8*'Risk-return'!OR3","v":8.7033869886219084E-2},{"$f":"'1D Vectors Transposed'!H8+'1D Vectors Transposed'!I8*'Risk-return'!OS3","v":8.6896486821985364E-2},{"$f":"'1D Vectors Transposed'!H8+'1D Vectors Transposed'!I8*'Risk-return'!OT3","v":8.6759103757751657E-2},{"$f":"'1D Vectors Transposed'!H8+'1D Vectors Transposed'!I8*'Risk-return'!OU3","v":8.6621720693517951E-2},{"$f":"'1D Vectors Transposed'!H8+'1D Vectors Transposed'!I8*'Risk-return'!OV3","v":8.648433762928423E-2},{"$f":"'1D Vectors Transposed'!H8+'1D Vectors Transposed'!I8*'Risk-return'!OW3","v":8.6346954565050524E-2},{"$f":"'1D Vectors Transposed'!H8+'1D Vectors Transposed'!I8*'Risk-return'!OX3","v":8.6209571500816817E-2},{"$f":"'1D Vectors Transposed'!H8+'1D Vectors Transposed'!I8*'Risk-return'!OY3","v":8.6072188436583097E-2},{"$f":"'1D Vectors Transposed'!H8+'1D Vectors Transposed'!I8*'Risk-return'!OZ3","v":8.5934805372349404E-2},{"$f":"'1D Vectors Transposed'!H8+'1D Vectors Transposed'!I8*'Risk-return'!PA3","v":8.5797422308115684E-2},{"$f":"'1D Vectors Transposed'!H8+'1D Vectors Transposed'!I8*'Risk-return'!PB3","v":8.5660039243881977E-2},{"$f":"'1D Vectors Transposed'!H8+'1D Vectors Transposed'!I8*'Risk-return'!PC3","v":8.5522656179648271E-2},{"$f":"'1D Vectors Transposed'!H8+'1D Vectors Transposed'!I8*'Risk-return'!PD3","v":8.5385273115414551E-2},{"$f":"'1D Vectors Transposed'!H8+'1D Vectors Transposed'!I8*'Risk-return'!PE3","v":8.5247890051180844E-2},{"$f":"'1D Vectors Transposed'!H8+'1D Vectors Transposed'!I8*'Risk-return'!PF3","v":8.5110506986947138E-2},{"$f":"'1D Vectors Transposed'!H8+'1D Vectors Transposed'!I8*'Risk-return'!PG3","v":8.4973123922713417E-2},{"$f":"'1D Vectors Transposed'!H8+'1D Vectors Transposed'!I8*'Risk-return'!PH3","v":8.4835740858479711E-2},{"$f":"'1D Vectors Transposed'!H8+'1D Vectors Transposed'!I8*'Risk-return'!PI3","v":8.4698357794246004E-2},{"$f":"'1D Vectors Transposed'!H8+'1D Vectors Transposed'!I8*'Risk-return'!PJ3","v":8.4560974730012284E-2},{"$f":"'1D Vectors Transposed'!H8+'1D Vectors Transposed'!I8*'Risk-return'!PK3","v":8.4423591665778591E-2},{"$f":"'1D Vectors Transposed'!H8+'1D Vectors Transposed'!I8*'Risk-return'!PL3","v":8.4286208601544871E-2},{"$f":"'1D Vectors Transposed'!H8+'1D Vectors Transposed'!I8*'Risk-return'!PM3","v":8.4148825537311164E-2},{"$f":"'1D Vectors Transposed'!H8+'1D Vectors Transposed'!I8*'Risk-return'!PN3","v":8.4011442473077458E-2},{"$f":"'1D Vectors Transposed'!H8+'1D Vectors Transposed'!I8*'Risk-return'!PO3","v":8.3874059408843737E-2},{"$f":"'1D Vectors Transposed'!H8+'1D Vectors Transposed'!I8*'Risk-return'!PP3","v":8.3736676344610031E-2},{"$f":"'1D Vectors Transposed'!H8+'1D Vectors Transposed'!I8*'Risk-return'!PQ3","v":8.3599293280376324E-2},{"$f":"'1D Vectors Transposed'!H8+'1D Vectors Transposed'!I8*'Risk-return'!PR3","v":8.3461910216142604E-2},{"$f":"'1D Vectors Transposed'!H8+'1D Vectors Transposed'!I8*'Risk-return'!PS3","v":8.3324527151908898E-2},{"$f":"'1D Vectors Transposed'!H8+'1D Vectors Transposed'!I8*'Risk-return'!PT3","v":8.3187144087675191E-2},{"$f":"'1D Vectors Transposed'!H8+'1D Vectors Transposed'!I8*'Risk-return'!PU3","v":8.3049761023441471E-2},{"$f":"'1D Vectors Transposed'!H8+'1D Vectors Transposed'!I8*'Risk-return'!PV3","v":8.2912377959207778E-2},{"$f":"'1D Vectors Transposed'!H8+'1D Vectors Transposed'!I8*'Risk-return'!PW3","v":8.2774994894974058E-2},{"$f":"'1D Vectors Transposed'!H8+'1D Vectors Transposed'!I8*'Risk-return'!PX3","v":8.2637611830740351E-2},{"$f":"'1D Vectors Transposed'!H8+'1D Vectors Transposed'!I8*'Risk-return'!PY3","v":8.2500228766506645E-2},{"$f":"'1D Vectors Transposed'!H8+'1D Vectors Transposed'!I8*'Risk-return'!PZ3","v":8.2362845702272924E-2},{"$f":"'1D Vectors Transposed'!H8+'1D Vectors Transposed'!I8*'Risk-return'!QA3","v":8.2225462638039218E-2},{"$f":"'1D Vectors Transposed'!H8+'1D Vectors Transposed'!I8*'Risk-return'!QB3","v":8.2088079573805511E-2},{"$f":"'1D Vectors Transposed'!H8+'1D Vectors Transposed'!I8*'Risk-return'!QC3","v":8.1950696509571791E-2},{"$f":"'1D Vectors Transposed'!H8+'1D Vectors Transposed'!I8*'Risk-return'!QD3","v":8.1813313445338098E-2},{"$f":"'1D Vectors Transposed'!H8+'1D Vectors Transposed'!I8*'Risk-return'!QE3","v":8.1675930381104378E-2},{"$f":"'1D Vectors Transposed'!H8+'1D Vectors Transposed'!I8*'Risk-return'!QF3","v":8.1538547316870658E-2},{"$f":"'1D Vectors Transposed'!H8+'1D Vectors Transposed'!I8*'Risk-return'!QG3","v":8.1401164252636965E-2},{"$f":"'1D Vectors Transposed'!H8+'1D Vectors Transposed'!I8*'Risk-return'!QH3","v":8.1263781188403245E-2},{"$f":"'1D Vectors Transposed'!H8+'1D Vectors Transposed'!I8*'Risk-return'!QI3","v":8.1126398124169538E-2},{"$f":"'1D Vectors Transposed'!H8+'1D Vectors Transposed'!I8*'Risk-return'!QJ3","v":8.0989015059935832E-2},{"$f":"'1D Vectors Transposed'!H8+'1D Vectors Transposed'!I8*'Risk-return'!QK3","v":8.0851631995702111E-2},{"$f":"'1D Vectors Transposed'!H8+'1D Vectors Transposed'!I8*'Risk-return'!QL3","v":8.0714248931468405E-2},{"$f":"'1D Vectors Transposed'!H8+'1D Vectors Transposed'!I8*'Risk-return'!QM3","v":8.0576865867234698E-2},{"$f":"'1D Vectors Transposed'!H8+'1D Vectors Transposed'!I8*'Risk-return'!QN3","v":8.0439482803000992E-2},{"$f":"'1D Vectors Transposed'!H8+'1D Vectors Transposed'!I8*'Risk-return'!QO3","v":8.0302099738767271E-2},{"$f":"'1D Vectors Transposed'!H8+'1D Vectors Transposed'!I8*'Risk-return'!QP3","v":8.0164716674533565E-2},{"$f":"'1D Vectors Transposed'!H8+'1D Vectors Transposed'!I8*'Risk-return'!QQ3","v":8.0027333610299858E-2},{"$f":"'1D Vectors Transposed'!H8+'1D Vectors Transposed'!I8*'Risk-return'!QR3","v":7.9889950546066152E-2},{"$f":"'1D Vectors Transposed'!H8+'1D Vectors Transposed'!I8*'Risk-return'!QS3","v":7.9752567481832431E-2},{"$f":"'1D Vectors Transposed'!H8+'1D Vectors Transposed'!I8*'Risk-return'!QT3","v":7.9615184417598725E-2},{"$f":"'1D Vectors Transposed'!H8+'1D Vectors Transposed'!I8*'Risk-return'!QU3","v":7.9477801353365018E-2},{"$f":"'1D Vectors Transposed'!H8+'1D Vectors Transposed'!I8*'Risk-return'!QV3","v":7.9340418289131298E-2},{"$f":"'1D Vectors Transposed'!H8+'1D Vectors Transposed'!I8*'Risk-return'!QW3","v":7.9203035224897592E-2},{"$f":"'1D Vectors Transposed'!H8+'1D Vectors Transposed'!I8*'Risk-return'!QX3","v":7.9065652160663885E-2},{"$f":"'1D Vectors Transposed'!H8+'1D Vectors Transposed'!I8*'Risk-return'!QY3","v":7.8928269096430179E-2},{"$f":"'1D Vectors Transposed'!H8+'1D Vectors Transposed'!I8*'Risk-return'!QZ3","v":7.8790886032196458E-2},{"$f":"'1D Vectors Transposed'!H8+'1D Vectors Transposed'!I8*'Risk-return'!RA3","v":7.8653502967962752E-2},{"$f":"'1D Vectors Transposed'!H8+'1D Vectors Transposed'!I8*'Risk-return'!RB3","v":7.8516119903729045E-2},{"$f":"'1D Vectors Transposed'!H8+'1D Vectors Transposed'!I8*'Risk-return'!RC3","v":7.8378736839495339E-2},{"$f":"'1D Vectors Transposed'!H8+'1D Vectors Transposed'!I8*'Risk-return'!RD3","v":7.8241353775261618E-2},{"$f":"'1D Vectors Transposed'!H8+'1D Vectors Transposed'!I8*'Risk-return'!RE3","v":7.8103970711027912E-2},{"$f":"'1D Vectors Transposed'!H8+'1D Vectors Transposed'!I8*'Risk-return'!RF3","v":7.7966587646794205E-2},{"$f":"'1D Vectors Transposed'!H8+'1D Vectors Transposed'!I8*'Risk-return'!RG3","v":7.7829204582560485E-2},{"$f":"'1D Vectors Transposed'!H8+'1D Vectors Transposed'!I8*'Risk-return'!RH3","v":7.7691821518326779E-2},{"$f":"'1D Vectors Transposed'!H8+'1D Vectors Transposed'!I8*'Risk-return'!RI3","v":7.7554438454093072E-2},{"$f":"'1D Vectors Transposed'!H8+'1D Vectors Transposed'!I8*'Risk-return'!RJ3","v":7.7417055389859366E-2},{"$f":"'1D Vectors Transposed'!H8+'1D Vectors Transposed'!I8*'Risk-return'!RK3","v":7.7279672325625645E-2},{"$f":"'1D Vectors Transposed'!H8+'1D Vectors Transposed'!I8*'Risk-return'!RL3","v":7.7142289261391939E-2},{"$f":"'1D Vectors Transposed'!H8+'1D Vectors Transposed'!I8*'Risk-return'!RM3","v":7.7004906197158232E-2},{"$f":"'1D Vectors Transposed'!H8+'1D Vectors Transposed'!I8*'Risk-return'!RN3","v":7.6867523132924526E-2},{"$f":"'1D Vectors Transposed'!H8+'1D Vectors Transposed'!I8*'Risk-return'!RO3","v":7.6730140068690805E-2},{"$f":"'1D Vectors Transposed'!H8+'1D Vectors Transposed'!I8*'Risk-return'!RP3","v":7.6592757004457099E-2},{"$f":"'1D Vectors Transposed'!H8+'1D Vectors Transposed'!I8*'Risk-return'!RQ3","v":7.6455373940223392E-2},{"$f":"'1D Vectors Transposed'!H8+'1D Vectors Transposed'!I8*'Risk-return'!RR3","v":7.6317990875989686E-2},{"$f":"'1D Vectors Transposed'!H8+'1D Vectors Transposed'!I8*'Risk-return'!RS3","v":7.6180607811755965E-2},{"$f":"'1D Vectors Transposed'!H8+'1D Vectors Transposed'!I8*'Risk-return'!RT3","v":7.6043224747522259E-2},{"$f":"'1D Vectors Transposed'!H8+'1D Vectors Transposed'!I8*'Risk-return'!RU3","v":7.5905841683288552E-2},{"$f":"'1D Vectors Transposed'!H8+'1D Vectors Transposed'!I8*'Risk-return'!RV3","v":7.5768458619054832E-2},{"$f":"'1D Vectors Transposed'!H8+'1D Vectors Transposed'!I8*'Risk-return'!RW3","v":7.5631075554821126E-2},{"$f":"'1D Vectors Transposed'!H8+'1D Vectors Transposed'!I8*'Risk-return'!RX3","v":7.5493692490587419E-2},{"$f":"'1D Vectors Transposed'!H8+'1D Vectors Transposed'!I8*'Risk-return'!RY3","v":7.5356309426353713E-2},{"$f":"'1D Vectors Transposed'!H8+'1D Vectors Transposed'!I8*'Risk-return'!RZ3","v":7.5218926362119992E-2},{"$f":"'1D Vectors Transposed'!H8+'1D Vectors Transposed'!I8*'Risk-return'!SA3","v":7.5081543297886286E-2},{"$f":"'1D Vectors Transposed'!H8+'1D Vectors Transposed'!I8*'Risk-return'!SB3","v":7.4944160233652579E-2},{"$f":"'1D Vectors Transposed'!H8+'1D Vectors Transposed'!I8*'Risk-return'!SC3","v":7.4806777169418873E-2},{"$f":"'1D Vectors Transposed'!H8+'1D Vectors Transposed'!I8*'Risk-return'!SD3","v":7.4669394105185152E-2},{"$f":"'1D Vectors Transposed'!H8+'1D Vectors Transposed'!I8*'Risk-return'!SE3","v":7.4532011040951446E-2},{"$f":"'1D Vectors Transposed'!H8+'1D Vectors Transposed'!I8*'Risk-return'!SF3","v":7.4394627976717739E-2},{"$f":"'1D Vectors Transposed'!H8+'1D Vectors Transposed'!I8*'Risk-return'!SG3","v":0.14294798888331425}]
["SPASTT01RUM661N",{"$f":"'1D Vectors Transposed'!H9+'1D Vectors Transposed'!I9*'Risk-return'!B3","v":-6.1608121854775606E-2},{"$f":"'1D Vectors Transposed'!H9+'1D Vectors Transposed'!I9*'Risk-return'!C3","v":-6.0736977241557237E-2},{"$f":"'1D Vectors Transposed'!H9+'1D Vectors Transposed'!I9*'Risk-return'!D3","v":-5.9865832691722971E-2},{"$f":"'1D Vectors Transposed'!H9+'1D Vectors Transposed'!I9*'Risk-return'!E3","v":-5.8994688015120485E-2},{"$f":"'1D Vectors Transposed'!H9+'1D Vectors Transposed'!I9*'Risk-return'!F3","v":-5.8123543592054454E-2},{"$f":"'1D Vectors Transposed'!H9+'1D Vectors Transposed'!I9*'Risk-return'!G3","v":-5.7252398915451967E-2},{"$f":"'1D Vectors Transposed'!H9+'1D Vectors Transposed'!I9*'Risk-return'!H3","v":-5.6381254238849474E-2},{"$f":"'1D Vectors Transposed'!H9+'1D Vectors Transposed'!I9*'Risk-return'!I3","v":-5.5510109562246987E-2},{"$f":"'1D Vectors Transposed'!H9+'1D Vectors Transposed'!I9*'Risk-return'!J3","v":-5.46389648856445E-2},{"$f":"'1D Vectors Transposed'!H9+'1D Vectors Transposed'!I9*'Risk-return'!K3","v":-5.3767820716114925E-2},{"$f":"'1D Vectors Transposed'!H9+'1D Vectors Transposed'!I9*'Risk-return'!L3","v":-5.289667654658535E-2},{"$f":"'1D Vectors Transposed'!H9+'1D Vectors Transposed'!I9*'Risk-return'!M3","v":-5.2025532377055782E-2},{"$f":"'1D Vectors Transposed'!H9+'1D Vectors Transposed'!I9*'Risk-return'!N3","v":-5.1154388207526207E-2},{"$f":"'1D Vectors Transposed'!H9+'1D Vectors Transposed'!I9*'Risk-return'!O3","v":-5.0283244037996631E-2},{"$f":"'1D Vectors Transposed'!H9+'1D Vectors Transposed'!I9*'Risk-return'!P3","v":-4.9412099868467063E-2},{"$f":"'1D Vectors Transposed'!H9+'1D Vectors Transposed'!I9*'Risk-return'!Q3","v":-4.8540955698937488E-2},{"$f":"'1D Vectors Transposed'!H9+'1D Vectors Transposed'!I9*'Risk-return'!R3","v":-4.7669811529407913E-2},{"$f":"'1D Vectors Transposed'!H9+'1D Vectors Transposed'!I9*'Risk-return'!S3","v":-4.6798667359878338E-2},{"$f":"'1D Vectors Transposed'!H9+'1D Vectors Transposed'!I9*'Risk-return'!T3","v":-4.5927523190348762E-2},{"$f":"'1D Vectors Transposed'!H9+'1D Vectors Transposed'!I9*'Risk-return'!U3","v":-4.5056379020819194E-2},{"$f":"'1D Vectors Transposed'!H9+'1D Vectors Transposed'!I9*'Risk-return'!V3","v":-4.4185233837143789E-2},{"$f":"'1D Vectors Transposed'!H9+'1D Vectors Transposed'!I9*'Risk-return'!W3","v":-4.3314088653468384E-2},{"$f":"'1D Vectors Transposed'!H9+'1D Vectors Transposed'!I9*'Risk-return'!X3","v":-4.2442943469792979E-2},{"$f":"'1D Vectors Transposed'!H9+'1D Vectors Transposed'!I9*'Risk-return'!Y3","v":-4.1571798286117581E-2},{"$f":"'1D Vectors Transposed'!H9+'1D Vectors Transposed'!I9*'Risk-return'!Z3","v":-4.0700653102442169E-2},{"$f":"'1D Vectors Transposed'!H9+'1D Vectors Transposed'!I9*'Risk-return'!AA3","v":-3.9829507918766771E-2},{"$f":"'1D Vectors Transposed'!H9+'1D Vectors Transposed'!I9*'Risk-return'!AB3","v":-3.8958362735091366E-2},{"$f":"'1D Vectors Transposed'!H9+'1D Vectors Transposed'!I9*'Risk-return'!AC3","v":-3.8087217551415961E-2},{"$f":"'1D Vectors Transposed'!H9+'1D Vectors Transposed'!I9*'Risk-return'!AD3","v":-3.7216072367740556E-2},{"$f":"'1D Vectors Transposed'!H9+'1D Vectors Transposed'!I9*'Risk-return'!AE3","v":-3.6344927184065151E-2},{"$f":"'1D Vectors Transposed'!H9+'1D Vectors Transposed'!I9*'Risk-return'!AF3","v":-3.5473782000389753E-2},{"$f":"'1D Vectors Transposed'!H9+'1D Vectors Transposed'!I9*'Risk-return'!AG3","v":-3.4602636816714341E-2},{"$f":"'1D Vectors Transposed'!H9+'1D Vectors Transposed'!I9*'Risk-return'!AH3","v":-3.3731491633038943E-2},{"$f":"'1D Vectors Transposed'!H9+'1D Vectors Transposed'!I9*'Risk-return'!AI3","v":-3.2860346449363538E-2},{"$f":"'1D Vectors Transposed'!H9+'1D Vectors Transposed'!I9*'Risk-return'!AJ3","v":-3.1989201265688133E-2},{"$f":"'1D Vectors Transposed'!H9+'1D Vectors Transposed'!I9*'Risk-return'!AK3","v":-3.1118056082012728E-2},{"$f":"'1D Vectors Transposed'!H9+'1D Vectors Transposed'!I9*'Risk-return'!AL3","v":-3.0246910898337323E-2},{"$f":"'1D Vectors Transposed'!H9+'1D Vectors Transposed'!I9*'Risk-return'!AM3","v":-2.9375765714661918E-2},{"$f":"'1D Vectors Transposed'!H9+'1D Vectors Transposed'!I9*'Risk-return'!AN3","v":-2.850462053098652E-2},{"$f":"'1D Vectors Transposed'!H9+'1D Vectors Transposed'!I9*'Risk-return'!AO3","v":-2.7633475347311115E-2},{"$f":"'1D Vectors Transposed'!H9+'1D Vectors Transposed'!I9*'Risk-return'!AP3","v":-2.676233219192737E-2},{"$f":"'1D Vectors Transposed'!H9+'1D Vectors Transposed'!I9*'Risk-return'!AQ3","v":-2.5891189036543624E-2},{"$f":"'1D Vectors Transposed'!H9+'1D Vectors Transposed'!I9*'Risk-return'!AR3","v":-2.5020045881159886E-2},{"$f":"'1D Vectors Transposed'!H9+'1D Vectors Transposed'!I9*'Risk-return'!AS3","v":-2.414890272577614E-2},{"$f":"'1D Vectors Transposed'!H9+'1D Vectors Transposed'!I9*'Risk-return'!AT3","v":-2.3277759570392402E-2},{"$f":"'1D Vectors Transposed'!H9+'1D Vectors Transposed'!I9*'Risk-return'!AU3","v":-2.2406616415008657E-2},{"$f":"'1D Vectors Transposed'!H9+'1D Vectors Transposed'!I9*'Risk-return'!AV3","v":-2.1535473259624911E-2},{"$f":"'1D Vectors Transposed'!H9+'1D Vectors Transposed'!I9*'Risk-return'!AW3","v":-2.0664330104241173E-2},{"$f":"'1D Vectors Transposed'!H9+'1D Vectors Transposed'!I9*'Risk-return'!AX3","v":-1.9793186948857427E-2},{"$f":"'1D Vectors Transposed'!H9+'1D Vectors Transposed'!I9*'Risk-return'!AY3","v":-1.8922043793473689E-2},{"$f":"'1D Vectors Transposed'!H9+'1D Vectors Transposed'!I9*'Risk-return'!AZ3","v":-1.8050900638089944E-2},{"$f":"'1D Vectors Transposed'!H9+'1D Vectors Transposed'!I9*'Risk-return'!BA3","v":-1.7179757482706198E-2},{"$f":"'1D Vectors Transposed'!H9+'1D Vectors Transposed'!I9*'Risk-return'!BB3","v":-1.630861432732246E-2},{"$f":"'1D Vectors Transposed'!H9+'1D Vectors Transposed'!I9*'Risk-return'!BC3","v":-1.5437471171938714E-2},{"$f":"'1D Vectors Transposed'!H9+'1D Vectors Transposed'!I9*'Risk-return'!BD3","v":-1.4566328016554976E-2},{"$f":"'1D Vectors Transposed'!H9+'1D Vectors Transposed'!I9*'Risk-return'!BE3","v":-1.3695184861171231E-2},{"$f":"'1D Vectors Transposed'!H9+'1D Vectors Transposed'!I9*'Risk-return'!BF3","v":-1.2824041705787485E-2},{"$f":"'1D Vectors Transposed'!H9+'1D Vectors Transposed'!I9*'Risk-return'!BG3","v":-1.1952898550403747E-2},{"$f":"'1D Vectors Transposed'!H9+'1D Vectors Transposed'!I9*'Risk-return'!BH3","v":-1.1081755395020002E-2},{"$f":"'1D Vectors Transposed'!H9+'1D Vectors Transposed'!I9*'Risk-return'!BI3","v":-1.0210612239636263E-2},{"$f":"'1D Vectors Transposed'!H9+'1D Vectors Transposed'!I9*'Risk-return'!BJ3","v":-9.3394690842525177E-3},{"$f":"'1D Vectors Transposed'!H9+'1D Vectors Transposed'!I9*'Risk-return'!BK3","v":-8.4683259288687723E-3},{"$f":"'1D Vectors Transposed'!H9+'1D Vectors Transposed'!I9*'Risk-return'!BL3","v":-7.5971827734850339E-3},{"$f":"'1D Vectors Transposed'!H9+'1D Vectors Transposed'!I9*'Risk-return'!BM3","v":-6.7260396181012885E-3},{"$f":"'1D Vectors Transposed'!H9+'1D Vectors Transposed'!I9*'Risk-return'!BN3","v":-5.8548964627175432E-3},{"$f":"'1D Vectors Transposed'!H9+'1D Vectors Transposed'!I9*'Risk-return'!BO3","v":-4.9837533073338047E-3},{"$f":"'1D Vectors Transposed'!H9+'1D Vectors Transposed'!I9*'Risk-return'!BP3","v":-4.1126101519500594E-3},{"$f":"'1D Vectors Transposed'!H9+'1D Vectors Transposed'!I9*'Risk-return'!BQ3","v":-3.2414669965663209E-3},{"$f":"'1D Vectors Transposed'!H9+'1D Vectors Transposed'!I9*'Risk-return'!BR3","v":-2.3703238411825756E-3},{"$f":"'1D Vectors Transposed'!H9+'1D Vectors Transposed'!I9*'Risk-return'!BS3","v":-1.4991806857988302E-3},{"$f":"'1D Vectors Transposed'!H9+'1D Vectors Transposed'!I9*'Risk-return'!BT3","v":-6.2803753041509175E-4},{"$f":"'1D Vectors Transposed'!H9+'1D Vectors Transposed'!I9*'Risk-return'!BU3","v":2.4310562496865362E-4},{"$f":"'1D Vectors Transposed'!H9+'1D Vectors Transposed'!I9*'Risk-return'!BV3","v":1.1142487803523921E-3},{"$f":"'1D Vectors Transposed'!H9+'1D Vectors Transposed'!I9*'Risk-return'!BW3","v":1.9853919357361444E-3},{"$f":"'1D Vectors Transposed'!H9+'1D Vectors Transposed'!I9*'Risk-return'!BX3","v":2.8565350911198828E-3},{"$f":"'1D Vectors Transposed'!H9+'1D Vectors Transposed'!I9*'Risk-return'!BY3","v":3.7276782465036212E-3},{"$f":"'1D Vectors Transposed'!H9+'1D Vectors Transposed'!I9*'Risk-return'!BZ3","v":4.5988214018873597E-3},{"$f":"'1D Vectors Transposed'!H9+'1D Vectors Transposed'!I9*'Risk-return'!CA3","v":5.469964557271112E-3},{"$f":"'1D Vectors Transposed'!H9+'1D Vectors Transposed'!I9*'Risk-return'!CB3","v":6.3411077126548504E-3},{"$f":"'1D Vectors Transposed'!H9+'1D Vectors Transposed'!I9*'Risk-return'!CC3","v":7.2122508680385888E-3},{"$f":"'1D Vectors Transposed'!H9+'1D Vectors Transposed'!I9*'Risk-return'!CD3","v":8.0833940234223411E-3},{"$f":"'1D Vectors Transposed'!H9+'1D Vectors Transposed'!I9*'Risk-return'!CE3","v":8.9545371788060796E-3},{"$f":"'1D Vectors Transposed'!H9+'1D Vectors Transposed'!I9*'Risk-return'!CF3","v":9.825680334189818E-3},{"$f":"'1D Vectors Transposed'!H9+'1D Vectors Transposed'!I9*'Risk-return'!CG3","v":1.069682348957357E-2},{"$f":"'1D Vectors Transposed'!H9+'1D Vectors Transposed'!I9*'Risk-return'!CH3","v":1.1567966644957309E-2},{"$f":"'1D Vectors Transposed'!H9+'1D Vectors Transposed'!I9*'Risk-return'!CI3","v":1.2439109800341047E-2},{"$f":"'1D Vectors Transposed'!H9+'1D Vectors Transposed'!I9*'Risk-return'!CJ3","v":1.3310252955724786E-2},{"$f":"'1D Vectors Transposed'!H9+'1D Vectors Transposed'!I9*'Risk-return'!CK3","v":1.4181396111108538E-2},{"$f":"'1D Vectors Transposed'!H9+'1D Vectors Transposed'!I9*'Risk-return'!CL3","v":1.5052539266492276E-2},{"$f":"'1D Vectors Transposed'!H9+'1D Vectors Transposed'!I9*'Risk-return'!CM3","v":1.5923682421876015E-2},{"$f":"'1D Vectors Transposed'!H9+'1D Vectors Transposed'!I9*'Risk-return'!CN3","v":1.6794825577259767E-2},{"$f":"'1D Vectors Transposed'!H9+'1D Vectors Transposed'!I9*'Risk-return'!CO3","v":1.7665968732643506E-2},{"$f":"'1D Vectors Transposed'!H9+'1D Vectors Transposed'!I9*'Risk-return'!CP3","v":1.8537111888027244E-2},{"$f":"'1D Vectors Transposed'!H9+'1D Vectors Transposed'!I9*'Risk-return'!CQ3","v":1.9408255043410996E-2},{"$f":"'1D Vectors Transposed'!H9+'1D Vectors Transposed'!I9*'Risk-return'!CR3","v":2.0279398198794735E-2},{"$f":"'1D Vectors Transposed'!H9+'1D Vectors Transposed'!I9*'Risk-return'!CS3","v":2.1150541354178473E-2},{"$f":"'1D Vectors Transposed'!H9+'1D Vectors Transposed'!I9*'Risk-return'!CT3","v":2.2021684509562225E-2},{"$f":"'1D Vectors Transposed'!H9+'1D Vectors Transposed'!I9*'Risk-return'!CU3","v":2.2892827664945964E-2},{"$f":"'1D Vectors Transposed'!H9+'1D Vectors Transposed'!I9*'Risk-return'!CV3","v":2.3763970820329702E-2},{"$f":"'1D Vectors Transposed'!H9+'1D Vectors Transposed'!I9*'Risk-return'!CW3","v":2.4635113975713441E-2},{"$f":"'1D Vectors Transposed'!H9+'1D Vectors Transposed'!I9*'Risk-return'!CX3","v":2.5506257131097193E-2},{"$f":"'1D Vectors Transposed'!H9+'1D Vectors Transposed'!I9*'Risk-return'!CY3","v":2.6377400286480931E-2},{"$f":"'1D Vectors Transposed'!H9+'1D Vectors Transposed'!I9*'Risk-return'!CZ3","v":2.724854344186467E-2},{"$f":"'1D Vectors Transposed'!H9+'1D Vectors Transposed'!I9*'Risk-return'!DA3","v":2.8119686597248422E-2},{"$f":"'1D Vectors Transposed'!H9+'1D Vectors Transposed'!I9*'Risk-return'!DB3","v":2.8990829752632161E-2},{"$f":"'1D Vectors Transposed'!H9+'1D Vectors Transposed'!I9*'Risk-return'!DC3","v":2.9861972908015899E-2},{"$f":"'1D Vectors Transposed'!H9+'1D Vectors Transposed'!I9*'Risk-return'!DD3","v":3.0733116063399651E-2},{"$f":"'1D Vectors Transposed'!H9+'1D Vectors Transposed'!I9*'Risk-return'!DE3","v":3.160425921878339E-2},{"$f":"'1D Vectors Transposed'!H9+'1D Vectors Transposed'!I9*'Risk-return'!DF3","v":3.2475402374167128E-2},{"$f":"'1D Vectors Transposed'!H9+'1D Vectors Transposed'!I9*'Risk-return'!DG3","v":3.3346545529550867E-2},{"$f":"'1D Vectors Transposed'!H9+'1D Vectors Transposed'!I9*'Risk-return'!DH3","v":3.4217688684934619E-2},{"$f":"'1D Vectors Transposed'!H9+'1D Vectors Transposed'!I9*'Risk-return'!DI3","v":3.5088831840318357E-2},{"$f":"'1D Vectors Transposed'!H9+'1D Vectors Transposed'!I9*'Risk-return'!DJ3","v":3.5959974995702096E-2},{"$f":"'1D Vectors Transposed'!H9+'1D Vectors Transposed'!I9*'Risk-return'!DK3","v":3.6831118151085848E-2},{"$f":"'1D Vectors Transposed'!H9+'1D Vectors Transposed'!I9*'Risk-return'!DL3","v":3.7702261306469587E-2},{"$f":"'1D Vectors Transposed'!H9+'1D Vectors Transposed'!I9*'Risk-return'!DM3","v":3.8573404461853325E-2},{"$f":"'1D Vectors Transposed'!H9+'1D Vectors Transposed'!I9*'Risk-return'!DN3","v":3.9444547617237077E-2},{"$f":"'1D Vectors Transposed'!H9+'1D Vectors Transposed'!I9*'Risk-return'!DO3","v":4.0315690772620816E-2},{"$f":"'1D Vectors Transposed'!H9+'1D Vectors Transposed'!I9*'Risk-return'!DP3","v":4.1186833928004554E-2},{"$f":"'1D Vectors Transposed'!H9+'1D Vectors Transposed'!I9*'Risk-return'!DQ3","v":4.2057977083388307E-2},{"$f":"'1D Vectors Transposed'!H9+'1D Vectors Transposed'!I9*'Risk-return'!DR3","v":4.2929120238772045E-2},{"$f":"'1D Vectors Transposed'!H9+'1D Vectors Transposed'!I9*'Risk-return'!DS3","v":4.3800263394155783E-2},{"$f":"'1D Vectors Transposed'!H9+'1D Vectors Transposed'!I9*'Risk-return'!DT3","v":4.4671406549539522E-2},{"$f":"'1D Vectors Transposed'!H9+'1D Vectors Transposed'!I9*'Risk-return'!DU3","v":4.5542549704923274E-2},{"$f":"'1D Vectors Transposed'!H9+'1D Vectors Transposed'!I9*'Risk-return'!DV3","v":4.6413692860307013E-2},{"$f":"'1D Vectors Transposed'!H9+'1D Vectors Transposed'!I9*'Risk-return'!DW3","v":4.7284836015690751E-2},{"$f":"'1D Vectors Transposed'!H9+'1D Vectors Transposed'!I9*'Risk-return'!DX3","v":4.8155979171074503E-2},{"$f":"'1D Vectors Transposed'!H9+'1D Vectors Transposed'!I9*'Risk-return'!DY3","v":4.9027122326458242E-2},{"$f":"'1D Vectors Transposed'!H9+'1D Vectors Transposed'!I9*'Risk-return'!DZ3","v":4.989826548184198E-2},{"$f":"'1D Vectors Transposed'!H9+'1D Vectors Transposed'!I9*'Risk-return'!EA3","v":5.0769408637225732E-2},{"$f":"'1D Vectors Transposed'!H9+'1D Vectors Transposed'!I9*'Risk-return'!EB3","v":5.1640551792609471E-2},{"$f":"'1D Vectors Transposed'!H9+'1D Vectors Transposed'!I9*'Risk-return'!EC3","v":5.2511694947993209E-2},{"$f":"'1D Vectors Transposed'!H9+'1D Vectors Transposed'!I9*'Risk-return'!ED3","v":5.3382838103376948E-2},{"$f":"'1D Vectors Transposed'!H9+'1D Vectors Transposed'!I9*'Risk-return'!EE3","v":5.42539812587607E-2},{"$f":"'1D Vectors Transposed'!H9+'1D Vectors Transposed'!I9*'Risk-return'!EF3","v":5.5125124414144439E-2},{"$f":"'1D Vectors Transposed'!H9+'1D Vectors Transposed'!I9*'Risk-return'!EG3","v":5.5996267569528177E-2},{"$f":"'1D Vectors Transposed'!H9+'1D Vectors Transposed'!I9*'Risk-return'!EH3","v":5.6867410724911929E-2},{"$f":"'1D Vectors Transposed'!H9+'1D Vectors Transposed'!I9*'Risk-return'!EI3","v":5.7738553880295668E-2},{"$f":"'1D Vectors Transposed'!H9+'1D Vectors Transposed'!I9*'Risk-return'!EJ3","v":5.8609697035679406E-2},{"$f":"'1D Vectors Transposed'!H9+'1D Vectors Transposed'!I9*'Risk-return'!EK3","v":5.9480840191063158E-2},{"$f":"'1D Vectors Transposed'!H9+'1D Vectors Transposed'!I9*'Risk-return'!EL3","v":6.0351983346446897E-2},{"$f":"'1D Vectors Transposed'!H9+'1D Vectors Transposed'!I9*'Risk-return'!EM3","v":6.1223126501830635E-2},{"$f":"'1D Vectors Transposed'!H9+'1D Vectors Transposed'!I9*'Risk-return'!EN3","v":6.2094269657214388E-2},{"$f":"'1D Vectors Transposed'!H9+'1D Vectors Transposed'!I9*'Risk-return'!EO3","v":6.2965412812598126E-2},{"$f":"'1D Vectors Transposed'!H9+'1D Vectors Transposed'!I9*'Risk-return'!EP3","v":6.3836555967981878E-2},{"$f":"'1D Vectors Transposed'!H9+'1D Vectors Transposed'!I9*'Risk-return'!EQ3","v":6.4707699123365603E-2},{"$f":"'1D Vectors Transposed'!H9+'1D Vectors Transposed'!I9*'Risk-return'!ER3","v":6.5578842278749355E-2},{"$f":"'1D Vectors Transposed'!H9+'1D Vectors Transposed'!I9*'Risk-return'!ES3","v":6.6449985434133108E-2},{"$f":"'1D Vectors Transposed'!H9+'1D Vectors Transposed'!I9*'Risk-return'!ET3","v":6.7321128589516832E-2},{"$f":"'1D Vectors Transposed'!H9+'1D Vectors Transposed'!I9*'Risk-return'!EU3","v":6.8192271744900584E-2},{"$f":"'1D Vectors Transposed'!H9+'1D Vectors Transposed'!I9*'Risk-return'!EV3","v":6.9063414900284309E-2},{"$f":"'1D Vectors Transposed'!H9+'1D Vectors Transposed'!I9*'Risk-return'!EW3","v":6.9934558055668061E-2},{"$f":"'1D Vectors Transposed'!H9+'1D Vectors Transposed'!I9*'Risk-return'!EX3","v":7.0805701211051814E-2},{"$f":"'1D Vectors Transposed'!H9+'1D Vectors Transposed'!I9*'Risk-return'!EY3","v":7.1676844366435538E-2},{"$f":"'1D Vectors Transposed'!H9+'1D Vectors Transposed'!I9*'Risk-return'!EZ3","v":7.254798752181929E-2},{"$f":"'1D Vectors Transposed'!H9+'1D Vectors Transposed'!I9*'Risk-return'!FA3","v":7.3419130677203043E-2},{"$f":"'1D Vectors Transposed'!H9+'1D Vectors Transposed'!I9*'Risk-return'!FB3","v":7.4290273832586767E-2},{"$f":"'1D Vectors Transposed'!H9+'1D Vectors Transposed'!I9*'Risk-return'!FC3","v":7.516141698797052E-2},{"$f":"'1D Vectors Transposed'!H9+'1D Vectors Transposed'!I9*'Risk-return'!FD3","v":7.6032560143354272E-2},{"$f":"'1D Vectors Transposed'!H9+'1D Vectors Transposed'!I9*'Risk-return'!FE3","v":7.6903703298737996E-2},{"$f":"'1D Vectors Transposed'!H9+'1D Vectors Transposed'!I9*'Risk-return'!FF3","v":7.7774846454121749E-2},{"$f":"'1D Vectors Transposed'!H9+'1D Vectors Transposed'!I9*'Risk-return'!FG3","v":7.8645989609505501E-2},{"$f":"'1D Vectors Transposed'!H9+'1D Vectors Transposed'!I9*'Risk-return'!FH3","v":7.9517132764889226E-2},{"$f":"'1D Vectors Transposed'!H9+'1D Vectors Transposed'!I9*'Risk-return'!FI3","v":8.0388275920272978E-2},{"$f":"'1D Vectors Transposed'!H9+'1D Vectors Transposed'!I9*'Risk-return'!FJ3","v":8.125941907565673E-2},{"$f":"'1D Vectors Transposed'!H9+'1D Vectors Transposed'!I9*'Risk-return'!FK3","v":8.2130562231040455E-2},{"$f":"'1D Vectors Transposed'!H9+'1D Vectors Transposed'!I9*'Risk-return'!FL3","v":8.3001705386424207E-2},{"$f":"'1D Vectors Transposed'!H9+'1D Vectors Transposed'!I9*'Risk-return'!FM3","v":8.3872848541807959E-2},{"$f":"'1D Vectors Transposed'!H9+'1D Vectors Transposed'!I9*'Risk-return'!FN3","v":8.4743991697191684E-2},{"$f":"'1D Vectors Transposed'!H9+'1D Vectors Transposed'!I9*'Risk-return'!FO3","v":8.5615134852575436E-2},{"$f":"'1D Vectors Transposed'!H9+'1D Vectors Transposed'!I9*'Risk-return'!FP3","v":8.6486278007959189E-2},{"$f":"'1D Vectors Transposed'!H9+'1D Vectors Transposed'!I9*'Risk-return'!FQ3","v":8.7357421163342913E-2},{"$f":"'1D Vectors Transposed'!H9+'1D Vectors Transposed'!I9*'Risk-return'!FR3","v":8.8228564318726665E-2},{"$f":"'1D Vectors Transposed'!H9+'1D Vectors Transposed'!I9*'Risk-return'!FS3","v":8.909970747411039E-2},{"$f":"'1D Vectors Transposed'!H9+'1D Vectors Transposed'!I9*'Risk-return'!FT3","v":8.9970850629494142E-2},{"$f":"'1D Vectors Transposed'!H9+'1D Vectors Transposed'!I9*'Risk-return'!FU3","v":9.0841993784877895E-2},{"$f":"'1D Vectors Transposed'!H9+'1D Vectors Transposed'!I9*'Risk-return'!FV3","v":9.1713136940261619E-2},{"$f":"'1D Vectors Transposed'!H9+'1D Vectors Transposed'!I9*'Risk-return'!FW3","v":9.2584280095645372E-2},{"$f":"'1D Vectors Transposed'!H9+'1D Vectors Transposed'!I9*'Risk-return'!FX3","v":9.3455423251029124E-2},{"$f":"'1D Vectors Transposed'!H9+'1D Vectors Transposed'!I9*'Risk-return'!FY3","v":9.4326566406412848E-2},{"$f":"'1D Vectors Transposed'!H9+'1D Vectors Transposed'!I9*'Risk-return'!FZ3","v":9.5197709561796601E-2},{"$f":"'1D Vectors Transposed'!H9+'1D Vectors Transposed'!I9*'Risk-return'!GA3","v":9.6068852717180353E-2},{"$f":"'1D Vectors Transposed'!H9+'1D Vectors Transposed'!I9*'Risk-return'!GB3","v":9.6939995872564078E-2},{"$f":"'1D Vectors Transposed'!H9+'1D Vectors Transposed'!I9*'Risk-return'!GC3","v":9.781113902794783E-2},{"$f":"'1D Vectors Transposed'!H9+'1D Vectors Transposed'!I9*'Risk-return'!GD3","v":9.8682282183331582E-2},{"$f":"'1D Vectors Transposed'!H9+'1D Vectors Transposed'!I9*'Risk-return'!GE3","v":9.9553425338715307E-2},{"$f":"'1D Vectors Transposed'!H9+'1D Vectors Transposed'!I9*'Risk-return'!GF3","v":0.10042456849409906},{"$f":"'1D Vectors Transposed'!H9+'1D Vectors Transposed'!I9*'Risk-return'!GG3","v":0.10129571164948281},{"$f":"'1D Vectors Transposed'!H9+'1D Vectors Transposed'!I9*'Risk-return'!GH3","v":0.10216685480486654},{"$f":"'1D Vectors Transposed'!H9+'1D Vectors Transposed'!I9*'Risk-return'!GI3","v":0.10303799796025029},{"$f":"'1D Vectors Transposed'!H9+'1D Vectors Transposed'!I9*'Risk-return'!GJ3","v":0.10390914111563404},{"$f":"'1D Vectors Transposed'!H9+'1D Vectors Transposed'!I9*'Risk-return'!GK3","v":0.10478028427101777},{"$f":"'1D Vectors Transposed'!H9+'1D Vectors Transposed'!I9*'Risk-return'!GL3","v":0.10565142742640152},{"$f":"'1D Vectors Transposed'!H9+'1D Vectors Transposed'!I9*'Risk-return'!GM3","v":0.10652257058178527},{"$f":"'1D Vectors Transposed'!H9+'1D Vectors Transposed'!I9*'Risk-return'!GN3","v":0.10739371373716899},{"$f":"'1D Vectors Transposed'!H9+'1D Vectors Transposed'!I9*'Risk-return'!GO3","v":0.10826485689255275},{"$f":"'1D Vectors Transposed'!H9+'1D Vectors Transposed'!I9*'Risk-return'!GP3","v":0.10913600004793647},{"$f":"'1D Vectors Transposed'!H9+'1D Vectors Transposed'!I9*'Risk-return'!GQ3","v":0.11000714320332022},{"$f":"'1D Vectors Transposed'!H9+'1D Vectors Transposed'!I9*'Risk-return'!GR3","v":0.11087828635870398},{"$f":"'1D Vectors Transposed'!H9+'1D Vectors Transposed'!I9*'Risk-return'!GS3","v":0.1117494295140877},{"$f":"'1D Vectors Transposed'!H9+'1D Vectors Transposed'!I9*'Risk-return'!GT3","v":0.11262057266947145},{"$f":"'1D Vectors Transposed'!H9+'1D Vectors Transposed'!I9*'Risk-return'!GU3","v":0.1134917158248552},{"$f":"'1D Vectors Transposed'!H9+'1D Vectors Transposed'!I9*'Risk-return'!GV3","v":0.11436285898023893},{"$f":"'1D Vectors Transposed'!H9+'1D Vectors Transposed'!I9*'Risk-return'!GW3","v":0.11523400213562268},{"$f":"'1D Vectors Transposed'!H9+'1D Vectors Transposed'!I9*'Risk-return'!GX3","v":0.11610514529100643},{"$f":"'1D Vectors Transposed'!H9+'1D Vectors Transposed'!I9*'Risk-return'!GY3","v":0.11697628844639016},{"$f":"'1D Vectors Transposed'!H9+'1D Vectors Transposed'!I9*'Risk-return'!GZ3","v":0.11784743160177391},{"$f":"'1D Vectors Transposed'!H9+'1D Vectors Transposed'!I9*'Risk-return'!HA3","v":0.11871857475715766},{"$f":"'1D Vectors Transposed'!H9+'1D Vectors Transposed'!I9*'Risk-return'!HB3","v":0.11958971791254139},{"$f":"'1D Vectors Transposed'!H9+'1D Vectors Transposed'!I9*'Risk-return'!HC3","v":0.12046086106792514},{"$f":"'1D Vectors Transposed'!H9+'1D Vectors Transposed'!I9*'Risk-return'!HD3","v":0.12133200422330889},{"$f":"'1D Vectors Transposed'!H9+'1D Vectors Transposed'!I9*'Risk-return'!HE3","v":0.12220314737869262},{"$f":"'1D Vectors Transposed'!H9+'1D Vectors Transposed'!I9*'Risk-return'!HF3","v":0.12307429053407637},{"$f":"'1D Vectors Transposed'!H9+'1D Vectors Transposed'!I9*'Risk-return'!HG3","v":0.12394543368946012},{"$f":"'1D Vectors Transposed'!H9+'1D Vectors Transposed'!I9*'Risk-return'!HH3","v":0.12481657684484385},{"$f":"'1D Vectors Transposed'!H9+'1D Vectors Transposed'!I9*'Risk-return'!HI3","v":0.1256877200002276},{"$f":"'1D Vectors Transposed'!H9+'1D Vectors Transposed'!I9*'Risk-return'!HJ3","v":0.12655886315561135},{"$f":"'1D Vectors Transposed'!H9+'1D Vectors Transposed'!I9*'Risk-return'!HK3","v":0.12743000631099508},{"$f":"'1D Vectors Transposed'!H9+'1D Vectors Transposed'!I9*'Risk-return'!HL3","v":0.12830114946637883},{"$f":"'1D Vectors Transposed'!H9+'1D Vectors Transposed'!I9*'Risk-return'!HM3","v":0.12917229262176255},{"$f":"'1D Vectors Transposed'!H9+'1D Vectors Transposed'!I9*'Risk-return'!HN3","v":0.1300434357771463},{"$f":"'1D Vectors Transposed'!H9+'1D Vectors Transposed'!I9*'Risk-return'!HO3","v":0.13091457893253006},{"$f":"'1D Vectors Transposed'!H9+'1D Vectors Transposed'!I9*'Risk-return'!HP3","v":0.13178572208791378},{"$f":"'1D Vectors Transposed'!H9+'1D Vectors Transposed'!I9*'Risk-return'!HQ3","v":0.13265686524329753},{"$f":"'1D Vectors Transposed'!H9+'1D Vectors Transposed'!I9*'Risk-return'!HR3","v":0.13352800839868129},{"$f":"'1D Vectors Transposed'!H9+'1D Vectors Transposed'!I9*'Risk-return'!HS3","v":0.13439915155406501},{"$f":"'1D Vectors Transposed'!H9+'1D Vectors Transposed'!I9*'Risk-return'!HT3","v":0.13527029470944876},{"$f":"'1D Vectors Transposed'!H9+'1D Vectors Transposed'!I9*'Risk-return'!HU3","v":0.13614143786483252},{"$f":"'1D Vectors Transposed'!H9+'1D Vectors Transposed'!I9*'Risk-return'!HV3","v":0.13701258102021624},{"$f":"'1D Vectors Transposed'!H9+'1D Vectors Transposed'!I9*'Risk-return'!HW3","v":0.13788372417559999},{"$f":"'1D Vectors Transposed'!H9+'1D Vectors Transposed'!I9*'Risk-return'!HX3","v":0.13875486733098374},{"$f":"'1D Vectors Transposed'!H9+'1D Vectors Transposed'!I9*'Risk-return'!HY3","v":0.13962601048636747},{"$f":"'1D Vectors Transposed'!H9+'1D Vectors Transposed'!I9*'Risk-return'!HZ3","v":0.14049715364175122},{"$f":"'1D Vectors Transposed'!H9+'1D Vectors Transposed'!I9*'Risk-return'!IA3","v":0.14136829679713497},{"$f":"'1D Vectors Transposed'!H9+'1D Vectors Transposed'!I9*'Risk-return'!IB3","v":0.1422394399525187},{"$f":"'1D Vectors Transposed'!H9+'1D Vectors Transposed'!I9*'Risk-return'!IC3","v":0.14311058310790245},{"$f":"'1D Vectors Transposed'!H9+'1D Vectors Transposed'!I9*'Risk-return'!ID3","v":0.1439817262632862},{"$f":"'1D Vectors Transposed'!H9+'1D Vectors Transposed'!I9*'Risk-return'!IE3","v":0.14485286941866993},{"$f":"'1D Vectors Transposed'!H9+'1D Vectors Transposed'!I9*'Risk-return'!IF3","v":0.14572401257405368},{"$f":"'1D Vectors Transposed'!H9+'1D Vectors Transposed'!I9*'Risk-return'!IG3","v":0.14659515572943743},{"$f":"'1D Vectors Transposed'!H9+'1D Vectors Transposed'!I9*'Risk-return'!IH3","v":0.14746629888482116},{"$f":"'1D Vectors Transposed'!H9+'1D Vectors Transposed'!I9*'Risk-return'!II3","v":0.14833744204020491},{"$f":"'1D Vectors Transposed'!H9+'1D Vectors Transposed'!I9*'Risk-return'!IJ3","v":0.14920858519558863},{"$f":"'1D Vectors Transposed'!H9+'1D Vectors Transposed'!I9*'Risk-return'!IK3","v":0.15007972835097239},{"$f":"'1D Vectors Transposed'!H9+'1D Vectors Transposed'!I9*'Risk-return'!IL3","v":0.15095087150635614},{"$f":"'1D Vectors Transposed'!H9+'1D Vectors Transposed'!I9*'Risk-return'!IM3","v":0.15182201466173986},{"$f":"'1D Vectors Transposed'!H9+'1D Vectors Transposed'!I9*'Risk-return'!IN3","v":0.15269315781712361},{"$f":"'1D Vectors Transposed'!H9+'1D Vectors Transposed'!I9*'Risk-return'!IO3","v":0.15356430097250737},{"$f":"'1D Vectors Transposed'!H9+'1D Vectors Transposed'!I9*'Risk-return'!IP3","v":0.15443544412789109},{"$f":"'1D Vectors Transposed'!H9+'1D Vectors Transposed'!I9*'Risk-return'!IQ3","v":0.15530658728327484},{"$f":"'1D Vectors Transposed'!H9+'1D Vectors Transposed'!I9*'Risk-return'!IR3","v":0.1561777304386586},{"$f":"'1D Vectors Transposed'!H9+'1D Vectors Transposed'!I9*'Risk-return'!IS3","v":0.15704887359404232},{"$f":"'1D Vectors Transposed'!H9+'1D Vectors Transposed'!I9*'Risk-return'!IT3","v":0.15792001674942607},{"$f":"'1D Vectors Transposed'!H9+'1D Vectors Transposed'!I9*'Risk-return'!IU3","v":0.15879115990480983},{"$f":"'1D Vectors Transposed'!H9+'1D Vectors Transposed'!I9*'Risk-return'!IV3","v":0.15966230306019355},{"$f":"'1D Vectors Transposed'!H9+'1D Vectors Transposed'!I9*'Risk-return'!IW3","v":0.1605334462155773},{"$f":"'1D Vectors Transposed'!H9+'1D Vectors Transposed'!I9*'Risk-return'!IX3","v":0.16140458937096105},{"$f":"'1D Vectors Transposed'!H9+'1D Vectors Transposed'!I9*'Risk-return'!IY3","v":0.16227573252634478},{"$f":"'1D Vectors Transposed'!H9+'1D Vectors Transposed'!I9*'Risk-return'!IZ3","v":0.16314687568172853},{"$f":"'1D Vectors Transposed'!H9+'1D Vectors Transposed'!I9*'Risk-return'!JA3","v":0.16401801883711228},{"$f":"'1D Vectors Transposed'!H9+'1D Vectors Transposed'!I9*'Risk-return'!JB3","v":0.16488916199249601},{"$f":"'1D Vectors Transposed'!H9+'1D Vectors Transposed'!I9*'Risk-return'!JC3","v":0.16576030514787976},{"$f":"'1D Vectors Transposed'!H9+'1D Vectors Transposed'!I9*'Risk-return'!JD3","v":0.16663144830326351},{"$f":"'1D Vectors Transposed'!H9+'1D Vectors Transposed'!I9*'Risk-return'!JE3","v":0.16750259145864724},{"$f":"'1D Vectors Transposed'!H9+'1D Vectors Transposed'!I9*'Risk-return'!JF3","v":0.16837373461403099},{"$f":"'1D Vectors Transposed'!H9+'1D Vectors Transposed'!I9*'Risk-return'!JG3","v":0.16924487776941471},{"$f":"'1D Vectors Transposed'!H9+'1D Vectors Transposed'!I9*'Risk-return'!JH3","v":0.17011602092479847},{"$f":"'1D Vectors Transposed'!H9+'1D Vectors Transposed'!I9*'Risk-return'!JI3","v":0.17098716408018222},{"$f":"'1D Vectors Transposed'!H9+'1D Vectors Transposed'!I9*'Risk-return'!JJ3","v":0.17185830723556594},{"$f":"'1D Vectors Transposed'!H9+'1D Vectors Transposed'!I9*'Risk-return'!JK3","v":0.1727294503909497},{"$f":"'1D Vectors Transposed'!H9+'1D Vectors Transposed'!I9*'Risk-return'!JL3","v":0.17360059354633345},{"$f":"'1D Vectors Transposed'!H9+'1D Vectors Transposed'!I9*'Risk-return'!JM3","v":0.17447173670171717},{"$f":"'1D Vectors Transposed'!H9+'1D Vectors Transposed'!I9*'Risk-return'!JN3","v":0.17534287985710093},{"$f":"'1D Vectors Transposed'!H9+'1D Vectors Transposed'!I9*'Risk-return'!JO3","v":0.17621402301248468},{"$f":"'1D Vectors Transposed'!H9+'1D Vectors Transposed'!I9*'Risk-return'!JP3","v":0.1770851661678684},{"$f":"'1D Vectors Transposed'!H9+'1D Vectors Transposed'!I9*'Risk-return'!JQ3","v":0.17795630932325215},{"$f":"'1D Vectors Transposed'!H9+'1D Vectors Transposed'!I9*'Risk-return'!JR3","v":0.17882745247863591},{"$f":"'1D Vectors Transposed'!H9+'1D Vectors Transposed'!I9*'Risk-return'!JS3","v":0.17969859563401963},{"$f":"'1D Vectors Transposed'!H9+'1D Vectors Transposed'!I9*'Risk-return'!JT3","v":0.18056973878940338},{"$f":"'1D Vectors Transposed'!H9+'1D Vectors Transposed'!I9*'Risk-return'!JU3","v":0.18144088194478714},{"$f":"'1D Vectors Transposed'!H9+'1D Vectors Transposed'!I9*'Risk-return'!JV3","v":0.18231202510017086},{"$f":"'1D Vectors Transposed'!H9+'1D Vectors Transposed'!I9*'Risk-return'!JW3","v":0.18318316825555461},{"$f":"'1D Vectors Transposed'!H9+'1D Vectors Transposed'!I9*'Risk-return'!JX3","v":0.18405431141093836},{"$f":"'1D Vectors Transposed'!H9+'1D Vectors Transposed'!I9*'Risk-return'!JY3","v":0.18492545456632209},{"$f":"'1D Vectors Transposed'!H9+'1D Vectors Transposed'!I9*'Risk-return'!JZ3","v":0.18579659772170584},{"$f":"'1D Vectors Transposed'!H9+'1D Vectors Transposed'!I9*'Risk-return'!KA3","v":0.18666774087708959},{"$f":"'1D Vectors Transposed'!H9+'1D Vectors Transposed'!I9*'Risk-return'!KB3","v":0.18753888403247335},{"$f":"'1D Vectors Transposed'!H9+'1D Vectors Transposed'!I9*'Risk-return'!KC3","v":0.18841002718785707},{"$f":"'1D Vectors Transposed'!H9+'1D Vectors Transposed'!I9*'Risk-return'!KD3","v":0.1892811703432408},{"$f":"'1D Vectors Transposed'!H9+'1D Vectors Transposed'!I9*'Risk-return'!KE3","v":0.19015231349862458},{"$f":"'1D Vectors Transposed'!H9+'1D Vectors Transposed'!I9*'Risk-return'!KF3","v":0.1910234566540083},{"$f":"'1D Vectors Transposed'!H9+'1D Vectors Transposed'!I9*'Risk-return'!KG3","v":0.19189459980939202},{"$f":"'1D Vectors Transposed'!H9+'1D Vectors Transposed'!I9*'Risk-return'!KH3","v":0.1927657429647758},{"$f":"'1D Vectors Transposed'!H9+'1D Vectors Transposed'!I9*'Risk-return'!KI3","v":0.19363688612015953},{"$f":"'1D Vectors Transposed'!H9+'1D Vectors Transposed'!I9*'Risk-return'!KJ3","v":0.19450802927554325},{"$f":"'1D Vectors Transposed'!H9+'1D Vectors Transposed'!I9*'Risk-return'!KK3","v":0.19537917243092703},{"$f":"'1D Vectors Transposed'!H9+'1D Vectors Transposed'!I9*'Risk-return'!KL3","v":0.19625031558631076},{"$f":"'1D Vectors Transposed'!H9+'1D Vectors Transposed'!I9*'Risk-return'!KM3","v":0.19712145874169448},{"$f":"'1D Vectors Transposed'!H9+'1D Vectors Transposed'!I9*'Risk-return'!KN3","v":0.19799260189707826},{"$f":"'1D Vectors Transposed'!H9+'1D Vectors Transposed'!I9*'Risk-return'!KO3","v":0.19886374505246199},{"$f":"'1D Vectors Transposed'!H9+'1D Vectors Transposed'!I9*'Risk-return'!KP3","v":0.19973488820784571},{"$f":"'1D Vectors Transposed'!H9+'1D Vectors Transposed'!I9*'Risk-return'!KQ3","v":0.20060603136322944},{"$f":"'1D Vectors Transposed'!H9+'1D Vectors Transposed'!I9*'Risk-return'!KR3","v":0.20147717451861322},{"$f":"'1D Vectors Transposed'!H9+'1D Vectors Transposed'!I9*'Risk-return'!KS3","v":0.20234831767399694},{"$f":"'1D Vectors Transposed'!H9+'1D Vectors Transposed'!I9*'Risk-return'!KT3","v":0.20321946082938067},{"$f":"'1D Vectors Transposed'!H9+'1D Vectors Transposed'!I9*'Risk-return'!KU3","v":0.20409060398476445},{"$f":"'1D Vectors Transposed'!H9+'1D Vectors Transposed'!I9*'Risk-return'!KV3","v":0.20496174714014817},{"$f":"'1D Vectors Transposed'!H9+'1D Vectors Transposed'!I9*'Risk-return'!KW3","v":0.2058328902955319},{"$f":"'1D Vectors Transposed'!H9+'1D Vectors Transposed'!I9*'Risk-return'!KX3","v":0.20670403345091568},{"$f":"'1D Vectors Transposed'!H9+'1D Vectors Transposed'!I9*'Risk-return'!KY3","v":0.2075751766062994},{"$f":"'1D Vectors Transposed'!H9+'1D Vectors Transposed'!I9*'Risk-return'!KZ3","v":0.20844631976168312},{"$f":"'1D Vectors Transposed'!H9+'1D Vectors Transposed'!I9*'Risk-return'!LA3","v":0.2093174629170669},{"$f":"'1D Vectors Transposed'!H9+'1D Vectors Transposed'!I9*'Risk-return'!LB3","v":0.21018862229878391},{"$f":"'1D Vectors Transposed'!H9+'1D Vectors Transposed'!I9*'Risk-return'!LC3","v":0.21105978168050096},{"$f":"'1D Vectors Transposed'!H9+'1D Vectors Transposed'!I9*'Risk-return'!LD3","v":0.21193094106221796},{"$f":"'1D Vectors Transposed'!H9+'1D Vectors Transposed'!I9*'Risk-return'!LE3","v":0.21280210044393502},{"$f":"'1D Vectors Transposed'!H9+'1D Vectors Transposed'!I9*'Risk-return'!LF3","v":0.21367325982565208},{"$f":"'1D Vectors Transposed'!H9+'1D Vectors Transposed'!I9*'Risk-return'!LG3","v":0.21454441920736908},{"$f":"'1D Vectors Transposed'!H9+'1D Vectors Transposed'!I9*'Risk-return'!LH3","v":0.21541557858908614},{"$f":"'1D Vectors Transposed'!H9+'1D Vectors Transposed'!I9*'Risk-return'!LI3","v":0.21628673797080314},{"$f":"'1D Vectors Transposed'!H9+'1D Vectors Transposed'!I9*'Risk-return'!LJ3","v":0.2171578973525202},{"$f":"'1D Vectors Transposed'!H9+'1D Vectors Transposed'!I9*'Risk-return'!LK3","v":0.2180290567342372},{"$f":"'1D Vectors Transposed'!H9+'1D Vectors Transposed'!I9*'Risk-return'!LL3","v":0.21890021611595425},{"$f":"'1D Vectors Transposed'!H9+'1D Vectors Transposed'!I9*'Risk-return'!LM3","v":0.21977137549767131},{"$f":"'1D Vectors Transposed'!H9+'1D Vectors Transposed'!I9*'Risk-return'!LN3","v":0.22064253487938831},{"$f":"'1D Vectors Transposed'!H9+'1D Vectors Transposed'!I9*'Risk-return'!LO3","v":0.22151369426110537},{"$f":"'1D Vectors Transposed'!H9+'1D Vectors Transposed'!I9*'Risk-return'!LP3","v":0.22238485364282237},{"$f":"'1D Vectors Transposed'!H9+'1D Vectors Transposed'!I9*'Risk-return'!LQ3","v":0.22325601302453943},{"$f":"'1D Vectors Transposed'!H9+'1D Vectors Transposed'!I9*'Risk-return'!LR3","v":0.22412717240625649},{"$f":"'1D Vectors Transposed'!H9+'1D Vectors Transposed'!I9*'Risk-return'!LS3","v":0.22499833178797349},{"$f":"'1D Vectors Transposed'!H9+'1D Vectors Transposed'!I9*'Risk-return'!LT3","v":0.22586949116969054},{"$f":"'1D Vectors Transposed'!H9+'1D Vectors Transposed'!I9*'Risk-return'!LU3","v":0.22674065055140755},{"$f":"'1D Vectors Transposed'!H9+'1D Vectors Transposed'!I9*'Risk-return'!LV3","v":0.2276118099331246},{"$f":"'1D Vectors Transposed'!H9+'1D Vectors Transposed'!I9*'Risk-return'!LW3","v":0.22848296931484161},{"$f":"'1D Vectors Transposed'!H9+'1D Vectors Transposed'!I9*'Risk-return'!LX3","v":0.22935412869655866},{"$f":"'1D Vectors Transposed'!H9+'1D Vectors Transposed'!I9*'Risk-return'!LY3","v":0.23022528807827572},{"$f":"'1D Vectors Transposed'!H9+'1D Vectors Transposed'!I9*'Risk-return'!LZ3","v":0.23109644745999272},{"$f":"'1D Vectors Transposed'!H9+'1D Vectors Transposed'!I9*'Risk-return'!MA3","v":0.23196760684170978},{"$f":"'1D Vectors Transposed'!H9+'1D Vectors Transposed'!I9*'Risk-return'!MB3","v":0.23283876622342678},{"$f":"'1D Vectors Transposed'!H9+'1D Vectors Transposed'!I9*'Risk-return'!MC3","v":0.23370992560514384},{"$f":"'1D Vectors Transposed'!H9+'1D Vectors Transposed'!I9*'Risk-return'!MD3","v":0.23458108498686084},{"$f":"'1D Vectors Transposed'!H9+'1D Vectors Transposed'!I9*'Risk-return'!ME3","v":0.2354522443685779},{"$f":"'1D Vectors Transposed'!H9+'1D Vectors Transposed'!I9*'Risk-return'!MF3","v":0.23632340375029495},{"$f":"'1D Vectors Transposed'!H9+'1D Vectors Transposed'!I9*'Risk-return'!MG3","v":0.23719456313201195},{"$f":"'1D Vectors Transposed'!H9+'1D Vectors Transposed'!I9*'Risk-return'!MH3","v":0.23806572251372901},{"$f":"'1D Vectors Transposed'!H9+'1D Vectors Transposed'!I9*'Risk-return'!MI3","v":0.23893688189544601},{"$f":"'1D Vectors Transposed'!H9+'1D Vectors Transposed'!I9*'Risk-return'!MJ3","v":0.23980804127716307},{"$f":"'1D Vectors Transposed'!H9+'1D Vectors Transposed'!I9*'Risk-return'!MK3","v":0.24067920065888007},{"$f":"'1D Vectors Transposed'!H9+'1D Vectors Transposed'!I9*'Risk-return'!ML3","v":0.24155036004059713},{"$f":"'1D Vectors Transposed'!H9+'1D Vectors Transposed'!I9*'Risk-return'!MM3","v":0.24242151942231419},{"$f":"'1D Vectors Transposed'!H9+'1D Vectors Transposed'!I9*'Risk-return'!MN3","v":0.24329267880403119},{"$f":"'1D Vectors Transposed'!H9+'1D Vectors Transposed'!I9*'Risk-return'!MO3","v":0.24416383818574824},{"$f":"'1D Vectors Transposed'!H9+'1D Vectors Transposed'!I9*'Risk-return'!MP3","v":0.24503499756746525},{"$f":"'1D Vectors Transposed'!H9+'1D Vectors Transposed'!I9*'Risk-return'!MQ3","v":0.2459061569491823},{"$f":"'1D Vectors Transposed'!H9+'1D Vectors Transposed'!I9*'Risk-return'!MR3","v":0.2467773163308993},{"$f":"'1D Vectors Transposed'!H9+'1D Vectors Transposed'!I9*'Risk-return'!MS3","v":0.24764847571261636},{"$f":"'1D Vectors Transposed'!H9+'1D Vectors Transposed'!I9*'Risk-return'!MT3","v":0.24851963509433342},{"$f":"'1D Vectors Transposed'!H9+'1D Vectors Transposed'!I9*'Risk-return'!MU3","v":0.24939079447605042},{"$f":"'1D Vectors Transposed'!H9+'1D Vectors Transposed'!I9*'Risk-return'!MV3","v":0.25026195385776751},{"$f":"'1D Vectors Transposed'!H9+'1D Vectors Transposed'!I9*'Risk-return'!MW3","v":0.25113311323948451},{"$f":"'1D Vectors Transposed'!H9+'1D Vectors Transposed'!I9*'Risk-return'!MX3","v":0.25200427262120151},{"$f":"'1D Vectors Transposed'!H9+'1D Vectors Transposed'!I9*'Risk-return'!MY3","v":0.25287543200291851},{"$f":"'1D Vectors Transposed'!H9+'1D Vectors Transposed'!I9*'Risk-return'!MZ3","v":0.25374659138463562},{"$f":"'1D Vectors Transposed'!H9+'1D Vectors Transposed'!I9*'Risk-return'!NA3","v":0.25461775076635262},{"$f":"'1D Vectors Transposed'!H9+'1D Vectors Transposed'!I9*'Risk-return'!NB3","v":0.25548891014806963},{"$f":"'1D Vectors Transposed'!H9+'1D Vectors Transposed'!I9*'Risk-return'!NC3","v":0.25636006952978674},{"$f":"'1D Vectors Transposed'!H9+'1D Vectors Transposed'!I9*'Risk-return'!ND3","v":0.25723122891150374},{"$f":"'1D Vectors Transposed'!H9+'1D Vectors Transposed'!I9*'Risk-return'!NE3","v":0.25810238829322074},{"$f":"'1D Vectors Transposed'!H9+'1D Vectors Transposed'!I9*'Risk-return'!NF3","v":0.25897354767493774},{"$f":"'1D Vectors Transposed'!H9+'1D Vectors Transposed'!I9*'Risk-return'!NG3","v":0.25984470705665486},{"$f":"'1D Vectors Transposed'!H9+'1D Vectors Transposed'!I9*'Risk-return'!NH3","v":0.26071586643837186},{"$f":"'1D Vectors Transposed'!H9+'1D Vectors Transposed'!I9*'Risk-return'!NI3","v":0.26158702582008886},{"$f":"'1D Vectors Transposed'!H9+'1D Vectors Transposed'!I9*'Risk-return'!NJ3","v":0.26245818520180597},{"$f":"'1D Vectors Transposed'!H9+'1D Vectors Transposed'!I9*'Risk-return'!NK3","v":0.26332934458352297},{"$f":"'1D Vectors Transposed'!H9+'1D Vectors Transposed'!I9*'Risk-return'!NL3","v":0.26420050396523997},{"$f":"'1D Vectors Transposed'!H9+'1D Vectors Transposed'!I9*'Risk-return'!NM3","v":0.26507166334695709},{"$f":"'1D Vectors Transposed'!H9+'1D Vectors Transposed'!I9*'Risk-return'!NN3","v":0.26594282272867409},{"$f":"'1D Vectors Transposed'!H9+'1D Vectors Transposed'!I9*'Risk-return'!NO3","v":0.26681398211039109},{"$f":"'1D Vectors Transposed'!H9+'1D Vectors Transposed'!I9*'Risk-return'!NP3","v":0.26768514149210809},{"$f":"'1D Vectors Transposed'!H9+'1D Vectors Transposed'!I9*'Risk-return'!NQ3","v":0.2685563008738252},{"$f":"'1D Vectors Transposed'!H9+'1D Vectors Transposed'!I9*'Risk-return'!NR3","v":0.26942746025554221},{"$f":"'1D Vectors Transposed'!H9+'1D Vectors Transposed'!I9*'Risk-return'!NS3","v":0.27029861963725921},{"$f":"'1D Vectors Transposed'!H9+'1D Vectors Transposed'!I9*'Risk-return'!NT3","v":0.27116977901897632},{"$f":"'1D Vectors Transposed'!H9+'1D Vectors Transposed'!I9*'Risk-return'!NU3","v":0.27204093840069332},{"$f":"'1D Vectors Transposed'!H9+'1D Vectors Transposed'!I9*'Risk-return'!NV3","v":0.27291209778241032},{"$f":"'1D Vectors Transposed'!H9+'1D Vectors Transposed'!I9*'Risk-return'!NW3","v":0.27378325716412732},{"$f":"'1D Vectors Transposed'!H9+'1D Vectors Transposed'!I9*'Risk-return'!NX3","v":0.27465441654584444},{"$f":"'1D Vectors Transposed'!H9+'1D Vectors Transposed'!I9*'Risk-return'!NY3","v":0.27552557592756144},{"$f":"'1D Vectors Transposed'!H9+'1D Vectors Transposed'!I9*'Risk-return'!NZ3","v":0.27639673530927844},{"$f":"'1D Vectors Transposed'!H9+'1D Vectors Transposed'!I9*'Risk-return'!OA3","v":0.27726789469099555},{"$f":"'1D Vectors Transposed'!H9+'1D Vectors Transposed'!I9*'Risk-return'!OB3","v":0.27813905407271255},{"$f":"'1D Vectors Transposed'!H9+'1D Vectors Transposed'!I9*'Risk-return'!OC3","v":0.27901021345442956},{"$f":"'1D Vectors Transposed'!H9+'1D Vectors Transposed'!I9*'Risk-return'!OD3","v":0.27988137283614656},{"$f":"'1D Vectors Transposed'!H9+'1D Vectors Transposed'!I9*'Risk-return'!OE3","v":0.28075253221786367},{"$f":"'1D Vectors Transposed'!H9+'1D Vectors Transposed'!I9*'Risk-return'!OF3","v":0.28162369159958067},{"$f":"'1D Vectors Transposed'!H9+'1D Vectors Transposed'!I9*'Risk-return'!OG3","v":0.28249485098129767},{"$f":"'1D Vectors Transposed'!H9+'1D Vectors Transposed'!I9*'Risk-return'!OH3","v":0.28336601036301479},{"$f":"'1D Vectors Transposed'!H9+'1D Vectors Transposed'!I9*'Risk-return'!OI3","v":0.28423716974473179},{"$f":"'1D Vectors Transposed'!H9+'1D Vectors Transposed'!I9*'Risk-return'!OJ3","v":0.28510832912644879},{"$f":"'1D Vectors Transposed'!H9+'1D Vectors Transposed'!I9*'Risk-return'!OK3","v":0.28597948850816579},{"$f":"'1D Vectors Transposed'!H9+'1D Vectors Transposed'!I9*'Risk-return'!OL3","v":0.2868506478898829},{"$f":"'1D Vectors Transposed'!H9+'1D Vectors Transposed'!I9*'Risk-return'!OM3","v":0.28772180727159991},{"$f":"'1D Vectors Transposed'!H9+'1D Vectors Transposed'!I9*'Risk-return'!ON3","v":0.28859296665331691},{"$f":"'1D Vectors Transposed'!H9+'1D Vectors Transposed'!I9*'Risk-return'!OO3","v":0.28946412603503402},{"$f":"'1D Vectors Transposed'!H9+'1D Vectors Transposed'!I9*'Risk-return'!OP3","v":0.29033528541675102},{"$f":"'1D Vectors Transposed'!H9+'1D Vectors Transposed'!I9*'Risk-return'!OQ3","v":0.29120644479846802},{"$f":"'1D Vectors Transposed'!H9+'1D Vectors Transposed'!I9*'Risk-return'!OR3","v":0.29207760418018502},{"$f":"'1D Vectors Transposed'!H9+'1D Vectors Transposed'!I9*'Risk-return'!OS3","v":0.29294876356190214},{"$f":"'1D Vectors Transposed'!H9+'1D Vectors Transposed'!I9*'Risk-return'!OT3","v":0.29381992294361914},{"$f":"'1D Vectors Transposed'!H9+'1D Vectors Transposed'!I9*'Risk-return'!OU3","v":0.29469108232533614},{"$f":"'1D Vectors Transposed'!H9+'1D Vectors Transposed'!I9*'Risk-return'!OV3","v":0.29556224170705325},{"$f":"'1D Vectors Transposed'!H9+'1D Vectors Transposed'!I9*'Risk-return'!OW3","v":0.29643340108877025},{"$f":"'1D Vectors Transposed'!H9+'1D Vectors Transposed'!I9*'Risk-return'!OX3","v":0.29730456047048726},{"$f":"'1D Vectors Transposed'!H9+'1D Vectors Transposed'!I9*'Risk-return'!OY3","v":0.29817571985220426},{"$f":"'1D Vectors Transposed'!H9+'1D Vectors Transposed'!I9*'Risk-return'!OZ3","v":0.29904687923392137},{"$f":"'1D Vectors Transposed'!H9+'1D Vectors Transposed'!I9*'Risk-return'!PA3","v":0.29991803861563837},{"$f":"'1D Vectors Transposed'!H9+'1D Vectors Transposed'!I9*'Risk-return'!PB3","v":0.30078919799735537},{"$f":"'1D Vectors Transposed'!H9+'1D Vectors Transposed'!I9*'Risk-return'!PC3","v":0.30166035737907249},{"$f":"'1D Vectors Transposed'!H9+'1D Vectors Transposed'!I9*'Risk-return'!PD3","v":0.30253151676078949},{"$f":"'1D Vectors Transposed'!H9+'1D Vectors Transposed'!I9*'Risk-return'!PE3","v":0.30340267614250649},{"$f":"'1D Vectors Transposed'!H9+'1D Vectors Transposed'!I9*'Risk-return'!PF3","v":0.30427383552422349},{"$f":"'1D Vectors Transposed'!H9+'1D Vectors Transposed'!I9*'Risk-return'!PG3","v":0.3051449949059406},{"$f":"'1D Vectors Transposed'!H9+'1D Vectors Transposed'!I9*'Risk-return'!PH3","v":0.3060161542876576},{"$f":"'1D Vectors Transposed'!H9+'1D Vectors Transposed'!I9*'Risk-return'!PI3","v":0.30688731366937461},{"$f":"'1D Vectors Transposed'!H9+'1D Vectors Transposed'!I9*'Risk-return'!PJ3","v":0.30775847305109172},{"$f":"'1D Vectors Transposed'!H9+'1D Vectors Transposed'!I9*'Risk-return'!PK3","v":0.30862963243280872},{"$f":"'1D Vectors Transposed'!H9+'1D Vectors Transposed'!I9*'Risk-return'!PL3","v":0.30950079181452572},{"$f":"'1D Vectors Transposed'!H9+'1D Vectors Transposed'!I9*'Risk-return'!PM3","v":0.31037195119624272},{"$f":"'1D Vectors Transposed'!H9+'1D Vectors Transposed'!I9*'Risk-return'!PN3","v":0.31124311057795984},{"$f":"'1D Vectors Transposed'!H9+'1D Vectors Transposed'!I9*'Risk-return'!PO3","v":0.31211426995967684},{"$f":"'1D Vectors Transposed'!H9+'1D Vectors Transposed'!I9*'Risk-return'!PP3","v":0.31298542934139384},{"$f":"'1D Vectors Transposed'!H9+'1D Vectors Transposed'!I9*'Risk-return'!PQ3","v":0.31385658872311095},{"$f":"'1D Vectors Transposed'!H9+'1D Vectors Transposed'!I9*'Risk-return'!PR3","v":0.31472774810482795},{"$f":"'1D Vectors Transposed'!H9+'1D Vectors Transposed'!I9*'Risk-return'!PS3","v":0.31559890748654496},{"$f":"'1D Vectors Transposed'!H9+'1D Vectors Transposed'!I9*'Risk-return'!PT3","v":0.31647006686826196},{"$f":"'1D Vectors Transposed'!H9+'1D Vectors Transposed'!I9*'Risk-return'!PU3","v":0.31734122624997907},{"$f":"'1D Vectors Transposed'!H9+'1D Vectors Transposed'!I9*'Risk-return'!PV3","v":0.31821238563169607},{"$f":"'1D Vectors Transposed'!H9+'1D Vectors Transposed'!I9*'Risk-return'!PW3","v":0.31908354501341307},{"$f":"'1D Vectors Transposed'!H9+'1D Vectors Transposed'!I9*'Risk-return'!PX3","v":0.31995470439513019},{"$f":"'1D Vectors Transposed'!H9+'1D Vectors Transposed'!I9*'Risk-return'!PY3","v":0.32082586377684719},{"$f":"'1D Vectors Transposed'!H9+'1D Vectors Transposed'!I9*'Risk-return'!PZ3","v":0.32169702315856419},{"$f":"'1D Vectors Transposed'!H9+'1D Vectors Transposed'!I9*'Risk-return'!QA3","v":0.32256818254028119},{"$f":"'1D Vectors Transposed'!H9+'1D Vectors Transposed'!I9*'Risk-return'!QB3","v":0.3234393419219983},{"$f":"'1D Vectors Transposed'!H9+'1D Vectors Transposed'!I9*'Risk-return'!QC3","v":0.3243105013037153},{"$f":"'1D Vectors Transposed'!H9+'1D Vectors Transposed'!I9*'Risk-return'!QD3","v":0.32518166068543231},{"$f":"'1D Vectors Transposed'!H9+'1D Vectors Transposed'!I9*'Risk-return'!QE3","v":0.32605282006714942},{"$f":"'1D Vectors Transposed'!H9+'1D Vectors Transposed'!I9*'Risk-return'!QF3","v":0.32692397944886642},{"$f":"'1D Vectors Transposed'!H9+'1D Vectors Transposed'!I9*'Risk-return'!QG3","v":0.32779513883058342},{"$f":"'1D Vectors Transposed'!H9+'1D Vectors Transposed'!I9*'Risk-return'!QH3","v":0.32866629821230042},{"$f":"'1D Vectors Transposed'!H9+'1D Vectors Transposed'!I9*'Risk-return'!QI3","v":0.32953745759401754},{"$f":"'1D Vectors Transposed'!H9+'1D Vectors Transposed'!I9*'Risk-return'!QJ3","v":0.33040861697573454},{"$f":"'1D Vectors Transposed'!H9+'1D Vectors Transposed'!I9*'Risk-return'!QK3","v":0.33127977635745154},{"$f":"'1D Vectors Transposed'!H9+'1D Vectors Transposed'!I9*'Risk-return'!QL3","v":0.33215093573916865},{"$f":"'1D Vectors Transposed'!H9+'1D Vectors Transposed'!I9*'Risk-return'!QM3","v":0.33302209512088565},{"$f":"'1D Vectors Transposed'!H9+'1D Vectors Transposed'!I9*'Risk-return'!QN3","v":0.33389325450260265},{"$f":"'1D Vectors Transposed'!H9+'1D Vectors Transposed'!I9*'Risk-return'!QO3","v":0.33476441388431966},{"$f":"'1D Vectors Transposed'!H9+'1D Vectors Transposed'!I9*'Risk-return'!QP3","v":0.33563557326603677},{"$f":"'1D Vectors Transposed'!H9+'1D Vectors Transposed'!I9*'Risk-return'!QQ3","v":0.33650673264775377},{"$f":"'1D Vectors Transposed'!H9+'1D Vectors Transposed'!I9*'Risk-return'!QR3","v":0.33737789202947077},{"$f":"'1D Vectors Transposed'!H9+'1D Vectors Transposed'!I9*'Risk-return'!QS3","v":0.33824905141118788},{"$f":"'1D Vectors Transposed'!H9+'1D Vectors Transposed'!I9*'Risk-return'!QT3","v":0.33912021079290489},{"$f":"'1D Vectors Transposed'!H9+'1D Vectors Transposed'!I9*'Risk-return'!QU3","v":0.33999137017462189},{"$f":"'1D Vectors Transposed'!H9+'1D Vectors Transposed'!I9*'Risk-return'!QV3","v":0.340862529556339},{"$f":"'1D Vectors Transposed'!H9+'1D Vectors Transposed'!I9*'Risk-return'!QW3","v":0.341733688938056},{"$f":"'1D Vectors Transposed'!H9+'1D Vectors Transposed'!I9*'Risk-return'!QX3","v":0.342604848319773},{"$f":"'1D Vectors Transposed'!H9+'1D Vectors Transposed'!I9*'Risk-return'!QY3","v":0.34347600770149},{"$f":"'1D Vectors Transposed'!H9+'1D Vectors Transposed'!I9*'Risk-return'!QZ3","v":0.34434716708320712},{"$f":"'1D Vectors Transposed'!H9+'1D Vectors Transposed'!I9*'Risk-return'!RA3","v":0.34521832646492412},{"$f":"'1D Vectors Transposed'!H9+'1D Vectors Transposed'!I9*'Risk-return'!RB3","v":0.34608948584664112},{"$f":"'1D Vectors Transposed'!H9+'1D Vectors Transposed'!I9*'Risk-return'!RC3","v":0.34696064522835823},{"$f":"'1D Vectors Transposed'!H9+'1D Vectors Transposed'!I9*'Risk-return'!RD3","v":0.34783180461007523},{"$f":"'1D Vectors Transposed'!H9+'1D Vectors Transposed'!I9*'Risk-return'!RE3","v":0.34870296399179224},{"$f":"'1D Vectors Transposed'!H9+'1D Vectors Transposed'!I9*'Risk-return'!RF3","v":0.34957412337350924},{"$f":"'1D Vectors Transposed'!H9+'1D Vectors Transposed'!I9*'Risk-return'!RG3","v":0.35044528275522635},{"$f":"'1D Vectors Transposed'!H9+'1D Vectors Transposed'!I9*'Risk-return'!RH3","v":0.35131644213694335},{"$f":"'1D Vectors Transposed'!H9+'1D Vectors Transposed'!I9*'Risk-return'!RI3","v":0.35218760151866035},{"$f":"'1D Vectors Transposed'!H9+'1D Vectors Transposed'!I9*'Risk-return'!RJ3","v":0.35305876090037747},{"$f":"'1D Vectors Transposed'!H9+'1D Vectors Transposed'!I9*'Risk-return'!RK3","v":0.35392992028209447},{"$f":"'1D Vectors Transposed'!H9+'1D Vectors Transposed'!I9*'Risk-return'!RL3","v":0.35480107966381147},{"$f":"'1D Vectors Transposed'!H9+'1D Vectors Transposed'!I9*'Risk-return'!RM3","v":0.35567223904552847},{"$f":"'1D Vectors Transposed'!H9+'1D Vectors Transposed'!I9*'Risk-return'!RN3","v":0.35654339842724558},{"$f":"'1D Vectors Transposed'!H9+'1D Vectors Transposed'!I9*'Risk-return'!RO3","v":0.35741455780896259},{"$f":"'1D Vectors Transposed'!H9+'1D Vectors Transposed'!I9*'Risk-return'!RP3","v":0.35828571719067959},{"$f":"'1D Vectors Transposed'!H9+'1D Vectors Transposed'!I9*'Risk-return'!RQ3","v":0.3591568765723967},{"$f":"'1D Vectors Transposed'!H9+'1D Vectors Transposed'!I9*'Risk-return'!RR3","v":0.3600280359541137},{"$f":"'1D Vectors Transposed'!H9+'1D Vectors Transposed'!I9*'Risk-return'!RS3","v":0.3608991953358307},{"$f":"'1D Vectors Transposed'!H9+'1D Vectors Transposed'!I9*'Risk-return'!RT3","v":0.3617703547175477},{"$f":"'1D Vectors Transposed'!H9+'1D Vectors Transposed'!I9*'Risk-return'!RU3","v":0.36264151409926482},{"$f":"'1D Vectors Transposed'!H9+'1D Vectors Transposed'!I9*'Risk-return'!RV3","v":0.36351267348098182},{"$f":"'1D Vectors Transposed'!H9+'1D Vectors Transposed'!I9*'Risk-return'!RW3","v":0.36438383286269882},{"$f":"'1D Vectors Transposed'!H9+'1D Vectors Transposed'!I9*'Risk-return'!RX3","v":0.36525499224441593},{"$f":"'1D Vectors Transposed'!H9+'1D Vectors Transposed'!I9*'Risk-return'!RY3","v":0.36612615162613293},{"$f":"'1D Vectors Transposed'!H9+'1D Vectors Transposed'!I9*'Risk-return'!RZ3","v":0.36699731100784994},{"$f":"'1D Vectors Transposed'!H9+'1D Vectors Transposed'!I9*'Risk-return'!SA3","v":0.36786847038956694},{"$f":"'1D Vectors Transposed'!H9+'1D Vectors Transposed'!I9*'Risk-return'!SB3","v":0.36873962977128405},{"$f":"'1D Vectors Transposed'!H9+'1D Vectors Transposed'!I9*'Risk-return'!SC3","v":0.36961078915300105},{"$f":"'1D Vectors Transposed'!H9+'1D Vectors Transposed'!I9*'Risk-return'!SD3","v":0.37048194853471805},{"$f":"'1D Vectors Transposed'!H9+'1D Vectors Transposed'!I9*'Risk-return'!SE3","v":0.37135310791643517},{"$f":"'1D Vectors Transposed'!H9+'1D Vectors Transposed'!I9*'Risk-return'!SF3","v":0.37222426729815217},{"$f":"'1D Vectors Transposed'!H9+'1D Vectors Transposed'!I9*'Risk-return'!SG3","v":-6.2479266467993982E-2}]
["SPASTT01INM661N",{"$f":"'1D Vectors Transposed'!H10+'1D Vectors Transposed'!I10*'Risk-return'!B3","v":-2.2066080741590045E-2},{"$f":"'1D Vectors Transposed'!H10+'1D Vectors Transposed'!I10*'Risk-return'!C3","v":-2.0308939230538108E-2},{"$f":"'1D Vectors Transposed'!H10+'1D Vectors Transposed'!I10*'Risk-return'!D3","v":-1.8551797847335051E-2},{"$f":"'1D Vectors Transposed'!H10+'1D Vectors Transposed'!I10*'Risk-return'!E3","v":-1.679465620843424E-2},{"$f":"'1D Vectors Transposed'!H10+'1D Vectors Transposed'!I10*'Risk-return'!F3","v":-1.503751508092893E-2},{"$f":"'1D Vectors Transposed'!H10+'1D Vectors Transposed'!I10*'Risk-return'!G3","v":-1.3280373442028121E-2},{"$f":"'1D Vectors Transposed'!H10+'1D Vectors Transposed'!I10*'Risk-return'!H3","v":-1.1523231803127311E-2},{"$f":"'1D Vectors Transposed'!H10+'1D Vectors Transposed'!I10*'Risk-return'!I3","v":-9.766090164226502E-3},{"$f":"'1D Vectors Transposed'!H10+'1D Vectors Transposed'!I10*'Risk-return'!J3","v":-8.0089485253256945E-3},{"$f":"'1D Vectors Transposed'!H10+'1D Vectors Transposed'!I10*'Risk-return'!K3","v":-6.2518079092158813E-3},{"$f":"'1D Vectors Transposed'!H10+'1D Vectors Transposed'!I10*'Risk-return'!L3","v":-4.4946672931060715E-3},{"$f":"'1D Vectors Transposed'!H10+'1D Vectors Transposed'!I10*'Risk-return'!M3","v":-2.7375266769962617E-3},{"$f":"'1D Vectors Transposed'!H10+'1D Vectors Transposed'!I10*'Risk-return'!N3","v":-9.8038606088644842E-4},{"$f":"'1D Vectors Transposed'!H10+'1D Vectors Transposed'!I10*'Risk-return'!O3","v":7.7675455522336137E-4},{"$f":"'1D Vectors Transposed'!H10+'1D Vectors Transposed'!I10*'Risk-return'!P3","v":2.5338951713331712E-3},{"$f":"'1D Vectors Transposed'!H10+'1D Vectors Transposed'!I10*'Risk-return'!Q3","v":4.2910357874429844E-3},{"$f":"'1D Vectors Transposed'!H10+'1D Vectors Transposed'!I10*'Risk-return'!R3","v":6.0481764035527942E-3},{"$f":"'1D Vectors Transposed'!H10+'1D Vectors Transposed'!I10*'Risk-return'!S3","v":7.8053170196626075E-3},{"$f":"'1D Vectors Transposed'!H10+'1D Vectors Transposed'!I10*'Risk-return'!T3","v":9.5624576357724138E-3},{"$f":"'1D Vectors Transposed'!H10+'1D Vectors Transposed'!I10*'Risk-return'!U3","v":1.1319598251882227E-2},{"$f":"'1D Vectors Transposed'!H10+'1D Vectors Transposed'!I10*'Risk-return'!V3","v":1.3076740913574036E-2},{"$f":"'1D Vectors Transposed'!H10+'1D Vectors Transposed'!I10*'Risk-return'!W3","v":1.4833883575265844E-2},{"$f":"'1D Vectors Transposed'!H10+'1D Vectors Transposed'!I10*'Risk-return'!X3","v":1.6591026236957653E-2},{"$f":"'1D Vectors Transposed'!H10+'1D Vectors Transposed'!I10*'Risk-return'!Y3","v":1.8348168898649455E-2},{"$f":"'1D Vectors Transposed'!H10+'1D Vectors Transposed'!I10*'Risk-return'!Z3","v":2.0105311560341264E-2},{"$f":"'1D Vectors Transposed'!H10+'1D Vectors Transposed'!I10*'Risk-return'!AA3","v":2.1862454222033072E-2},{"$f":"'1D Vectors Transposed'!H10+'1D Vectors Transposed'!I10*'Risk-return'!AB3","v":2.3619596883724881E-2},{"$f":"'1D Vectors Transposed'!H10+'1D Vectors Transposed'!I10*'Risk-return'!AC3","v":2.537673954541669E-2},{"$f":"'1D Vectors Transposed'!H10+'1D Vectors Transposed'!I10*'Risk-return'!AD3","v":2.7133882207108499E-2},{"$f":"'1D Vectors Transposed'!H10+'1D Vectors Transposed'!I10*'Risk-return'!AE3","v":2.8891024868800307E-2},{"$f":"'1D Vectors Transposed'!H10+'1D Vectors Transposed'!I10*'Risk-return'!AF3","v":3.0648167530492109E-2},{"$f":"'1D Vectors Transposed'!H10+'1D Vectors Transposed'!I10*'Risk-return'!AG3","v":3.2405310192183914E-2},{"$f":"'1D Vectors Transposed'!H10+'1D Vectors Transposed'!I10*'Risk-return'!AH3","v":3.416245285387573E-2},{"$f":"'1D Vectors Transposed'!H10+'1D Vectors Transposed'!I10*'Risk-return'!AI3","v":3.5919595515567532E-2},{"$f":"'1D Vectors Transposed'!H10+'1D Vectors Transposed'!I10*'Risk-return'!AJ3","v":3.7676738177259347E-2},{"$f":"'1D Vectors Transposed'!H10+'1D Vectors Transposed'!I10*'Risk-return'!AK3","v":3.9433880838951149E-2},{"$f":"'1D Vectors Transposed'!H10+'1D Vectors Transposed'!I10*'Risk-return'!AL3","v":4.1191023500642951E-2},{"$f":"'1D Vectors Transposed'!H10+'1D Vectors Transposed'!I10*'Risk-return'!AM3","v":4.2948166162334767E-2},{"$f":"'1D Vectors Transposed'!H10+'1D Vectors Transposed'!I10*'Risk-return'!AN3","v":4.4705308824026568E-2},{"$f":"'1D Vectors Transposed'!H10+'1D Vectors Transposed'!I10*'Risk-return'!AO3","v":4.646245148571837E-2},{"$f":"'1D Vectors Transposed'!H10+'1D Vectors Transposed'!I10*'Risk-return'!AP3","v":4.8219590056246195E-2},{"$f":"'1D Vectors Transposed'!H10+'1D Vectors Transposed'!I10*'Risk-return'!AQ3","v":4.9976728626774006E-2},{"$f":"'1D Vectors Transposed'!H10+'1D Vectors Transposed'!I10*'Risk-return'!AR3","v":5.1733867197301817E-2},{"$f":"'1D Vectors Transposed'!H10+'1D Vectors Transposed'!I10*'Risk-return'!AS3","v":5.3491005767829627E-2},{"$f":"'1D Vectors Transposed'!H10+'1D Vectors Transposed'!I10*'Risk-return'!AT3","v":5.5248144338357452E-2},{"$f":"'1D Vectors Transposed'!H10+'1D Vectors Transposed'!I10*'Risk-return'!AU3","v":5.7005282908885263E-2},{"$f":"'1D Vectors Transposed'!H10+'1D Vectors Transposed'!I10*'Risk-return'!AV3","v":5.8762421479413074E-2},{"$f":"'1D Vectors Transposed'!H10+'1D Vectors Transposed'!I10*'Risk-return'!AW3","v":6.0519560049940885E-2},{"$f":"'1D Vectors Transposed'!H10+'1D Vectors Transposed'!I10*'Risk-return'!AX3","v":6.227669862046871E-2},{"$f":"'1D Vectors Transposed'!H10+'1D Vectors Transposed'!I10*'Risk-return'!AY3","v":6.403383719099652E-2},{"$f":"'1D Vectors Transposed'!H10+'1D Vectors Transposed'!I10*'Risk-return'!AZ3","v":6.5790975761524331E-2},{"$f":"'1D Vectors Transposed'!H10+'1D Vectors Transposed'!I10*'Risk-return'!BA3","v":6.7548114332052142E-2},{"$f":"'1D Vectors Transposed'!H10+'1D Vectors Transposed'!I10*'Risk-return'!BB3","v":6.9305252902579967E-2},{"$f":"'1D Vectors Transposed'!H10+'1D Vectors Transposed'!I10*'Risk-return'!BC3","v":7.1062391473107778E-2},{"$f":"'1D Vectors Transposed'!H10+'1D Vectors Transposed'!I10*'Risk-return'!BD3","v":7.2819530043635589E-2},{"$f":"'1D Vectors Transposed'!H10+'1D Vectors Transposed'!I10*'Risk-return'!BE3","v":7.4576668614163399E-2},{"$f":"'1D Vectors Transposed'!H10+'1D Vectors Transposed'!I10*'Risk-return'!BF3","v":7.6333807184691224E-2},{"$f":"'1D Vectors Transposed'!H10+'1D Vectors Transposed'!I10*'Risk-return'!BG3","v":7.8090945755219035E-2},{"$f":"'1D Vectors Transposed'!H10+'1D Vectors Transposed'!I10*'Risk-return'!BH3","v":7.9848084325746846E-2},{"$f":"'1D Vectors Transposed'!H10+'1D Vectors Transposed'!I10*'Risk-return'!BI3","v":8.1605222896274657E-2},{"$f":"'1D Vectors Transposed'!H10+'1D Vectors Transposed'!I10*'Risk-return'!BJ3","v":8.3362361466802481E-2},{"$f":"'1D Vectors Transposed'!H10+'1D Vectors Transposed'!I10*'Risk-return'!BK3","v":8.5119500037330292E-2},{"$f":"'1D Vectors Transposed'!H10+'1D Vectors Transposed'!I10*'Risk-return'!BL3","v":8.6876638607858103E-2},{"$f":"'1D Vectors Transposed'!H10+'1D Vectors Transposed'!I10*'Risk-return'!BM3","v":8.8633777178385914E-2},{"$f":"'1D Vectors Transposed'!H10+'1D Vectors Transposed'!I10*'Risk-return'!BN3","v":9.0390915748913739E-2},{"$f":"'1D Vectors Transposed'!H10+'1D Vectors Transposed'!I10*'Risk-return'!BO3","v":9.214805431944155E-2},{"$f":"'1D Vectors Transposed'!H10+'1D Vectors Transposed'!I10*'Risk-return'!BP3","v":9.3905192889969361E-2},{"$f":"'1D Vectors Transposed'!H10+'1D Vectors Transposed'!I10*'Risk-return'!BQ3","v":9.5662331460497171E-2},{"$f":"'1D Vectors Transposed'!H10+'1D Vectors Transposed'!I10*'Risk-return'!BR3","v":9.7419470031024982E-2},{"$f":"'1D Vectors Transposed'!H10+'1D Vectors Transposed'!I10*'Risk-return'!BS3","v":9.9176608601552807E-2},{"$f":"'1D Vectors Transposed'!H10+'1D Vectors Transposed'!I10*'Risk-return'!BT3","v":0.10093374717208062},{"$f":"'1D Vectors Transposed'!H10+'1D Vectors Transposed'!I10*'Risk-return'!BU3","v":0.10269088574260844},{"$f":"'1D Vectors Transposed'!H10+'1D Vectors Transposed'!I10*'Risk-return'!BV3","v":0.10444802431313625},{"$f":"'1D Vectors Transposed'!H10+'1D Vectors Transposed'!I10*'Risk-return'!BW3","v":0.10620516288366406},{"$f":"'1D Vectors Transposed'!H10+'1D Vectors Transposed'!I10*'Risk-return'!BX3","v":0.10796230145419188},{"$f":"'1D Vectors Transposed'!H10+'1D Vectors Transposed'!I10*'Risk-return'!BY3","v":0.10971944002471969},{"$f":"'1D Vectors Transposed'!H10+'1D Vectors Transposed'!I10*'Risk-return'!BZ3","v":0.1114765785952475},{"$f":"'1D Vectors Transposed'!H10+'1D Vectors Transposed'!I10*'Risk-return'!CA3","v":0.11323371716577531},{"$f":"'1D Vectors Transposed'!H10+'1D Vectors Transposed'!I10*'Risk-return'!CB3","v":0.11499085573630312},{"$f":"'1D Vectors Transposed'!H10+'1D Vectors Transposed'!I10*'Risk-return'!CC3","v":0.11674799430683096},{"$f":"'1D Vectors Transposed'!H10+'1D Vectors Transposed'!I10*'Risk-return'!CD3","v":0.11850513287735877},{"$f":"'1D Vectors Transposed'!H10+'1D Vectors Transposed'!I10*'Risk-return'!CE3","v":0.12026227144788658},{"$f":"'1D Vectors Transposed'!H10+'1D Vectors Transposed'!I10*'Risk-return'!CF3","v":0.12201941001841439},{"$f":"'1D Vectors Transposed'!H10+'1D Vectors Transposed'!I10*'Risk-return'!CG3","v":0.1237765485889422},{"$f":"'1D Vectors Transposed'!H10+'1D Vectors Transposed'!I10*'Risk-return'!CH3","v":0.12553368715947003},{"$f":"'1D Vectors Transposed'!H10+'1D Vectors Transposed'!I10*'Risk-return'!CI3","v":0.12729082572999784},{"$f":"'1D Vectors Transposed'!H10+'1D Vectors Transposed'!I10*'Risk-return'!CJ3","v":0.12904796430052565},{"$f":"'1D Vectors Transposed'!H10+'1D Vectors Transposed'!I10*'Risk-return'!CK3","v":0.13080510287105349},{"$f":"'1D Vectors Transposed'!H10+'1D Vectors Transposed'!I10*'Risk-return'!CL3","v":0.1325622414415813},{"$f":"'1D Vectors Transposed'!H10+'1D Vectors Transposed'!I10*'Risk-return'!CM3","v":0.13431938001210911},{"$f":"'1D Vectors Transposed'!H10+'1D Vectors Transposed'!I10*'Risk-return'!CN3","v":0.13607651858263692},{"$f":"'1D Vectors Transposed'!H10+'1D Vectors Transposed'!I10*'Risk-return'!CO3","v":0.13783365715316473},{"$f":"'1D Vectors Transposed'!H10+'1D Vectors Transposed'!I10*'Risk-return'!CP3","v":0.13959079572369254},{"$f":"'1D Vectors Transposed'!H10+'1D Vectors Transposed'!I10*'Risk-return'!CQ3","v":0.14134793429422035},{"$f":"'1D Vectors Transposed'!H10+'1D Vectors Transposed'!I10*'Risk-return'!CR3","v":0.14310507286474816},{"$f":"'1D Vectors Transposed'!H10+'1D Vectors Transposed'!I10*'Risk-return'!CS3","v":0.144862211435276},{"$f":"'1D Vectors Transposed'!H10+'1D Vectors Transposed'!I10*'Risk-return'!CT3","v":0.14661935000580381},{"$f":"'1D Vectors Transposed'!H10+'1D Vectors Transposed'!I10*'Risk-return'!CU3","v":0.14837648857633162},{"$f":"'1D Vectors Transposed'!H10+'1D Vectors Transposed'!I10*'Risk-return'!CV3","v":0.15013362714685943},{"$f":"'1D Vectors Transposed'!H10+'1D Vectors Transposed'!I10*'Risk-return'!CW3","v":0.15189076571738724},{"$f":"'1D Vectors Transposed'!H10+'1D Vectors Transposed'!I10*'Risk-return'!CX3","v":0.15364790428791505},{"$f":"'1D Vectors Transposed'!H10+'1D Vectors Transposed'!I10*'Risk-return'!CY3","v":0.15540504285844287},{"$f":"'1D Vectors Transposed'!H10+'1D Vectors Transposed'!I10*'Risk-return'!CZ3","v":0.15716218142897068},{"$f":"'1D Vectors Transposed'!H10+'1D Vectors Transposed'!I10*'Risk-return'!DA3","v":0.15891931999949849},{"$f":"'1D Vectors Transposed'!H10+'1D Vectors Transposed'!I10*'Risk-return'!DB3","v":0.16067645857002633},{"$f":"'1D Vectors Transposed'!H10+'1D Vectors Transposed'!I10*'Risk-return'!DC3","v":0.16243359714055414},{"$f":"'1D Vectors Transposed'!H10+'1D Vectors Transposed'!I10*'Risk-return'!DD3","v":0.16419073571108195},{"$f":"'1D Vectors Transposed'!H10+'1D Vectors Transposed'!I10*'Risk-return'!DE3","v":0.16594787428160976},{"$f":"'1D Vectors Transposed'!H10+'1D Vectors Transposed'!I10*'Risk-return'!DF3","v":0.16770501285213757},{"$f":"'1D Vectors Transposed'!H10+'1D Vectors Transposed'!I10*'Risk-return'!DG3","v":0.16946215142266538},{"$f":"'1D Vectors Transposed'!H10+'1D Vectors Transposed'!I10*'Risk-return'!DH3","v":0.17121928999319319},{"$f":"'1D Vectors Transposed'!H10+'1D Vectors Transposed'!I10*'Risk-return'!DI3","v":0.172976428563721},{"$f":"'1D Vectors Transposed'!H10+'1D Vectors Transposed'!I10*'Risk-return'!DJ3","v":0.17473356713424884},{"$f":"'1D Vectors Transposed'!H10+'1D Vectors Transposed'!I10*'Risk-return'!DK3","v":0.17649070570477665},{"$f":"'1D Vectors Transposed'!H10+'1D Vectors Transposed'!I10*'Risk-return'!DL3","v":0.17824784427530446},{"$f":"'1D Vectors Transposed'!H10+'1D Vectors Transposed'!I10*'Risk-return'!DM3","v":0.18000498284583227},{"$f":"'1D Vectors Transposed'!H10+'1D Vectors Transposed'!I10*'Risk-return'!DN3","v":0.18176212141636008},{"$f":"'1D Vectors Transposed'!H10+'1D Vectors Transposed'!I10*'Risk-return'!DO3","v":0.18351925998688789},{"$f":"'1D Vectors Transposed'!H10+'1D Vectors Transposed'!I10*'Risk-return'!DP3","v":0.18527639855741571},{"$f":"'1D Vectors Transposed'!H10+'1D Vectors Transposed'!I10*'Risk-return'!DQ3","v":0.18703353712794352},{"$f":"'1D Vectors Transposed'!H10+'1D Vectors Transposed'!I10*'Risk-return'!DR3","v":0.18879067569847136},{"$f":"'1D Vectors Transposed'!H10+'1D Vectors Transposed'!I10*'Risk-return'!DS3","v":0.19054781426899917},{"$f":"'1D Vectors Transposed'!H10+'1D Vectors Transposed'!I10*'Risk-return'!DT3","v":0.19230495283952698},{"$f":"'1D Vectors Transposed'!H10+'1D Vectors Transposed'!I10*'Risk-return'!DU3","v":0.19406209141005479},{"$f":"'1D Vectors Transposed'!H10+'1D Vectors Transposed'!I10*'Risk-return'!DV3","v":0.1958192299805826},{"$f":"'1D Vectors Transposed'!H10+'1D Vectors Transposed'!I10*'Risk-return'!DW3","v":0.19757636855111041},{"$f":"'1D Vectors Transposed'!H10+'1D Vectors Transposed'!I10*'Risk-return'!DX3","v":0.19933350712163822},{"$f":"'1D Vectors Transposed'!H10+'1D Vectors Transposed'!I10*'Risk-return'!DY3","v":0.20109064569216603},{"$f":"'1D Vectors Transposed'!H10+'1D Vectors Transposed'!I10*'Risk-return'!DZ3","v":0.20284778426269384},{"$f":"'1D Vectors Transposed'!H10+'1D Vectors Transposed'!I10*'Risk-return'!EA3","v":0.20460492283322168},{"$f":"'1D Vectors Transposed'!H10+'1D Vectors Transposed'!I10*'Risk-return'!EB3","v":0.20636206140374949},{"$f":"'1D Vectors Transposed'!H10+'1D Vectors Transposed'!I10*'Risk-return'!EC3","v":0.2081191999742773},{"$f":"'1D Vectors Transposed'!H10+'1D Vectors Transposed'!I10*'Risk-return'!ED3","v":0.20987633854480511},{"$f":"'1D Vectors Transposed'!H10+'1D Vectors Transposed'!I10*'Risk-return'!EE3","v":0.21163347711533292},{"$f":"'1D Vectors Transposed'!H10+'1D Vectors Transposed'!I10*'Risk-return'!EF3","v":0.21339061568586074},{"$f":"'1D Vectors Transposed'!H10+'1D Vectors Transposed'!I10*'Risk-return'!EG3","v":0.21514775425638855},{"$f":"'1D Vectors Transposed'!H10+'1D Vectors Transposed'!I10*'Risk-return'!EH3","v":0.21690489282691636},{"$f":"'1D Vectors Transposed'!H10+'1D Vectors Transposed'!I10*'Risk-return'!EI3","v":0.2186620313974442},{"$f":"'1D Vectors Transposed'!H10+'1D Vectors Transposed'!I10*'Risk-return'!EJ3","v":0.22041916996797201},{"$f":"'1D Vectors Transposed'!H10+'1D Vectors Transposed'!I10*'Risk-return'!EK3","v":0.22217630853849982},{"$f":"'1D Vectors Transposed'!H10+'1D Vectors Transposed'!I10*'Risk-return'!EL3","v":0.22393344710902763},{"$f":"'1D Vectors Transposed'!H10+'1D Vectors Transposed'!I10*'Risk-return'!EM3","v":0.22569058567955544},{"$f":"'1D Vectors Transposed'!H10+'1D Vectors Transposed'!I10*'Risk-return'!EN3","v":0.22744772425008328},{"$f":"'1D Vectors Transposed'!H10+'1D Vectors Transposed'!I10*'Risk-return'!EO3","v":0.22920486282061106},{"$f":"'1D Vectors Transposed'!H10+'1D Vectors Transposed'!I10*'Risk-return'!EP3","v":0.2309620013911389},{"$f":"'1D Vectors Transposed'!H10+'1D Vectors Transposed'!I10*'Risk-return'!EQ3","v":0.23271913996166668},{"$f":"'1D Vectors Transposed'!H10+'1D Vectors Transposed'!I10*'Risk-return'!ER3","v":0.23447627853219452},{"$f":"'1D Vectors Transposed'!H10+'1D Vectors Transposed'!I10*'Risk-return'!ES3","v":0.2362334171027223},{"$f":"'1D Vectors Transposed'!H10+'1D Vectors Transposed'!I10*'Risk-return'!ET3","v":0.23799055567325014},{"$f":"'1D Vectors Transposed'!H10+'1D Vectors Transposed'!I10*'Risk-return'!EU3","v":0.23974769424377798},{"$f":"'1D Vectors Transposed'!H10+'1D Vectors Transposed'!I10*'Risk-return'!EV3","v":0.24150483281430576},{"$f":"'1D Vectors Transposed'!H10+'1D Vectors Transposed'!I10*'Risk-return'!EW3","v":0.2432619713848336},{"$f":"'1D Vectors Transposed'!H10+'1D Vectors Transposed'!I10*'Risk-return'!EX3","v":0.24501910995536139},{"$f":"'1D Vectors Transposed'!H10+'1D Vectors Transposed'!I10*'Risk-return'!EY3","v":0.24677624852588922},{"$f":"'1D Vectors Transposed'!H10+'1D Vectors Transposed'!I10*'Risk-return'!EZ3","v":0.24853338709641701},{"$f":"'1D Vectors Transposed'!H10+'1D Vectors Transposed'!I10*'Risk-return'!FA3","v":0.25029052566694482},{"$f":"'1D Vectors Transposed'!H10+'1D Vectors Transposed'!I10*'Risk-return'!FB3","v":0.2520476642374726},{"$f":"'1D Vectors Transposed'!H10+'1D Vectors Transposed'!I10*'Risk-return'!FC3","v":0.25380480280800044},{"$f":"'1D Vectors Transposed'!H10+'1D Vectors Transposed'!I10*'Risk-return'!FD3","v":0.25556194137852828},{"$f":"'1D Vectors Transposed'!H10+'1D Vectors Transposed'!I10*'Risk-return'!FE3","v":0.25731907994905606},{"$f":"'1D Vectors Transposed'!H10+'1D Vectors Transposed'!I10*'Risk-return'!FF3","v":0.2590762185195839},{"$f":"'1D Vectors Transposed'!H10+'1D Vectors Transposed'!I10*'Risk-return'!FG3","v":0.26083335709011168},{"$f":"'1D Vectors Transposed'!H10+'1D Vectors Transposed'!I10*'Risk-return'!FH3","v":0.26259049566063952},{"$f":"'1D Vectors Transposed'!H10+'1D Vectors Transposed'!I10*'Risk-return'!FI3","v":0.26434763423116731},{"$f":"'1D Vectors Transposed'!H10+'1D Vectors Transposed'!I10*'Risk-return'!FJ3","v":0.26610477280169514},{"$f":"'1D Vectors Transposed'!H10+'1D Vectors Transposed'!I10*'Risk-return'!FK3","v":0.26786191137222293},{"$f":"'1D Vectors Transposed'!H10+'1D Vectors Transposed'!I10*'Risk-return'!FL3","v":0.26961904994275077},{"$f":"'1D Vectors Transposed'!H10+'1D Vectors Transposed'!I10*'Risk-return'!FM3","v":0.2713761885132786},{"$f":"'1D Vectors Transposed'!H10+'1D Vectors Transposed'!I10*'Risk-return'!FN3","v":0.27313332708380639},{"$f":"'1D Vectors Transposed'!H10+'1D Vectors Transposed'!I10*'Risk-return'!FO3","v":0.27489046565433423},{"$f":"'1D Vectors Transposed'!H10+'1D Vectors Transposed'!I10*'Risk-return'!FP3","v":0.27664760422486201},{"$f":"'1D Vectors Transposed'!H10+'1D Vectors Transposed'!I10*'Risk-return'!FQ3","v":0.27840474279538985},{"$f":"'1D Vectors Transposed'!H10+'1D Vectors Transposed'!I10*'Risk-return'!FR3","v":0.28016188136591763},{"$f":"'1D Vectors Transposed'!H10+'1D Vectors Transposed'!I10*'Risk-return'!FS3","v":0.28191901993644547},{"$f":"'1D Vectors Transposed'!H10+'1D Vectors Transposed'!I10*'Risk-return'!FT3","v":0.28367615850697331},{"$f":"'1D Vectors Transposed'!H10+'1D Vectors Transposed'!I10*'Risk-return'!FU3","v":0.28543329707750109},{"$f":"'1D Vectors Transposed'!H10+'1D Vectors Transposed'!I10*'Risk-return'!FV3","v":0.28719043564802893},{"$f":"'1D Vectors Transposed'!H10+'1D Vectors Transposed'!I10*'Risk-return'!FW3","v":0.28894757421855671},{"$f":"'1D Vectors Transposed'!H10+'1D Vectors Transposed'!I10*'Risk-return'!FX3","v":0.29070471278908455},{"$f":"'1D Vectors Transposed'!H10+'1D Vectors Transposed'!I10*'Risk-return'!FY3","v":0.29246185135961233},{"$f":"'1D Vectors Transposed'!H10+'1D Vectors Transposed'!I10*'Risk-return'!FZ3","v":0.29421898993014017},{"$f":"'1D Vectors Transposed'!H10+'1D Vectors Transposed'!I10*'Risk-return'!GA3","v":0.29597612850066796},{"$f":"'1D Vectors Transposed'!H10+'1D Vectors Transposed'!I10*'Risk-return'!GB3","v":0.2977332670711958},{"$f":"'1D Vectors Transposed'!H10+'1D Vectors Transposed'!I10*'Risk-return'!GC3","v":0.29949040564172363},{"$f":"'1D Vectors Transposed'!H10+'1D Vectors Transposed'!I10*'Risk-return'!GD3","v":0.30124754421225142},{"$f":"'1D Vectors Transposed'!H10+'1D Vectors Transposed'!I10*'Risk-return'!GE3","v":0.30300468278277926},{"$f":"'1D Vectors Transposed'!H10+'1D Vectors Transposed'!I10*'Risk-return'!GF3","v":0.30476182135330704},{"$f":"'1D Vectors Transposed'!H10+'1D Vectors Transposed'!I10*'Risk-return'!GG3","v":0.30651895992383488},{"$f":"'1D Vectors Transposed'!H10+'1D Vectors Transposed'!I10*'Risk-return'!GH3","v":0.30827609849436266},{"$f":"'1D Vectors Transposed'!H10+'1D Vectors Transposed'!I10*'Risk-return'!GI3","v":0.3100332370648905},{"$f":"'1D Vectors Transposed'!H10+'1D Vectors Transposed'!I10*'Risk-return'!GJ3","v":0.31179037563541828},{"$f":"'1D Vectors Transposed'!H10+'1D Vectors Transposed'!I10*'Risk-return'!GK3","v":0.31354751420594612},{"$f":"'1D Vectors Transposed'!H10+'1D Vectors Transposed'!I10*'Risk-return'!GL3","v":0.31530465277647396},{"$f":"'1D Vectors Transposed'!H10+'1D Vectors Transposed'!I10*'Risk-return'!GM3","v":0.31706179134700174},{"$f":"'1D Vectors Transposed'!H10+'1D Vectors Transposed'!I10*'Risk-return'!GN3","v":0.31881892991752958},{"$f":"'1D Vectors Transposed'!H10+'1D Vectors Transposed'!I10*'Risk-return'!GO3","v":0.32057606848805736},{"$f":"'1D Vectors Transposed'!H10+'1D Vectors Transposed'!I10*'Risk-return'!GP3","v":0.3223332070585852},{"$f":"'1D Vectors Transposed'!H10+'1D Vectors Transposed'!I10*'Risk-return'!GQ3","v":0.32409034562911299},{"$f":"'1D Vectors Transposed'!H10+'1D Vectors Transposed'!I10*'Risk-return'!GR3","v":0.32584748419964082},{"$f":"'1D Vectors Transposed'!H10+'1D Vectors Transposed'!I10*'Risk-return'!GS3","v":0.32760462277016866},{"$f":"'1D Vectors Transposed'!H10+'1D Vectors Transposed'!I10*'Risk-return'!GT3","v":0.32936176134069645},{"$f":"'1D Vectors Transposed'!H10+'1D Vectors Transposed'!I10*'Risk-return'!GU3","v":0.33111889991122428},{"$f":"'1D Vectors Transposed'!H10+'1D Vectors Transposed'!I10*'Risk-return'!GV3","v":0.33287603848175207},{"$f":"'1D Vectors Transposed'!H10+'1D Vectors Transposed'!I10*'Risk-return'!GW3","v":0.33463317705227991},{"$f":"'1D Vectors Transposed'!H10+'1D Vectors Transposed'!I10*'Risk-return'!GX3","v":0.33639031562280769},{"$f":"'1D Vectors Transposed'!H10+'1D Vectors Transposed'!I10*'Risk-return'!GY3","v":0.33814745419333553},{"$f":"'1D Vectors Transposed'!H10+'1D Vectors Transposed'!I10*'Risk-return'!GZ3","v":0.33990459276386331},{"$f":"'1D Vectors Transposed'!H10+'1D Vectors Transposed'!I10*'Risk-return'!HA3","v":0.34166173133439115},{"$f":"'1D Vectors Transposed'!H10+'1D Vectors Transposed'!I10*'Risk-return'!HB3","v":0.34341886990491899},{"$f":"'1D Vectors Transposed'!H10+'1D Vectors Transposed'!I10*'Risk-return'!HC3","v":0.34517600847544677},{"$f":"'1D Vectors Transposed'!H10+'1D Vectors Transposed'!I10*'Risk-return'!HD3","v":0.34693314704597461},{"$f":"'1D Vectors Transposed'!H10+'1D Vectors Transposed'!I10*'Risk-return'!HE3","v":0.34869028561650239},{"$f":"'1D Vectors Transposed'!H10+'1D Vectors Transposed'!I10*'Risk-return'!HF3","v":0.35044742418703023},{"$f":"'1D Vectors Transposed'!H10+'1D Vectors Transposed'!I10*'Risk-return'!HG3","v":0.35220456275755802},{"$f":"'1D Vectors Transposed'!H10+'1D Vectors Transposed'!I10*'Risk-return'!HH3","v":0.35396170132808585},{"$f":"'1D Vectors Transposed'!H10+'1D Vectors Transposed'!I10*'Risk-return'!HI3","v":0.35571883989861364},{"$f":"'1D Vectors Transposed'!H10+'1D Vectors Transposed'!I10*'Risk-return'!HJ3","v":0.35747597846914148},{"$f":"'1D Vectors Transposed'!H10+'1D Vectors Transposed'!I10*'Risk-return'!HK3","v":0.35923311703966931},{"$f":"'1D Vectors Transposed'!H10+'1D Vectors Transposed'!I10*'Risk-return'!HL3","v":0.3609902556101971},{"$f":"'1D Vectors Transposed'!H10+'1D Vectors Transposed'!I10*'Risk-return'!HM3","v":0.36274739418072494},{"$f":"'1D Vectors Transposed'!H10+'1D Vectors Transposed'!I10*'Risk-return'!HN3","v":0.36450453275125272},{"$f":"'1D Vectors Transposed'!H10+'1D Vectors Transposed'!I10*'Risk-return'!HO3","v":0.36626167132178056},{"$f":"'1D Vectors Transposed'!H10+'1D Vectors Transposed'!I10*'Risk-return'!HP3","v":0.36801880989230834},{"$f":"'1D Vectors Transposed'!H10+'1D Vectors Transposed'!I10*'Risk-return'!HQ3","v":0.36977594846283618},{"$f":"'1D Vectors Transposed'!H10+'1D Vectors Transposed'!I10*'Risk-return'!HR3","v":0.37153308703336402},{"$f":"'1D Vectors Transposed'!H10+'1D Vectors Transposed'!I10*'Risk-return'!HS3","v":0.3732902256038918},{"$f":"'1D Vectors Transposed'!H10+'1D Vectors Transposed'!I10*'Risk-return'!HT3","v":0.37504736417441964},{"$f":"'1D Vectors Transposed'!H10+'1D Vectors Transposed'!I10*'Risk-return'!HU3","v":0.37680450274494742},{"$f":"'1D Vectors Transposed'!H10+'1D Vectors Transposed'!I10*'Risk-return'!HV3","v":0.37856164131547526},{"$f":"'1D Vectors Transposed'!H10+'1D Vectors Transposed'!I10*'Risk-return'!HW3","v":0.38031877988600304},{"$f":"'1D Vectors Transposed'!H10+'1D Vectors Transposed'!I10*'Risk-return'!HX3","v":0.38207591845653088},{"$f":"'1D Vectors Transposed'!H10+'1D Vectors Transposed'!I10*'Risk-return'!HY3","v":0.38383305702705867},{"$f":"'1D Vectors Transposed'!H10+'1D Vectors Transposed'!I10*'Risk-return'!HZ3","v":0.3855901955975865},{"$f":"'1D Vectors Transposed'!H10+'1D Vectors Transposed'!I10*'Risk-return'!IA3","v":0.38734733416811434},{"$f":"'1D Vectors Transposed'!H10+'1D Vectors Transposed'!I10*'Risk-return'!IB3","v":0.38910447273864213},{"$f":"'1D Vectors Transposed'!H10+'1D Vectors Transposed'!I10*'Risk-return'!IC3","v":0.39086161130916997},{"$f":"'1D Vectors Transposed'!H10+'1D Vectors Transposed'!I10*'Risk-return'!ID3","v":0.39261874987969775},{"$f":"'1D Vectors Transposed'!H10+'1D Vectors Transposed'!I10*'Risk-return'!IE3","v":0.39437588845022559},{"$f":"'1D Vectors Transposed'!H10+'1D Vectors Transposed'!I10*'Risk-return'!IF3","v":0.39613302702075337},{"$f":"'1D Vectors Transposed'!H10+'1D Vectors Transposed'!I10*'Risk-return'!IG3","v":0.39789016559128121},{"$f":"'1D Vectors Transposed'!H10+'1D Vectors Transposed'!I10*'Risk-return'!IH3","v":0.39964730416180905},{"$f":"'1D Vectors Transposed'!H10+'1D Vectors Transposed'!I10*'Risk-return'!II3","v":0.40140444273233683},{"$f":"'1D Vectors Transposed'!H10+'1D Vectors Transposed'!I10*'Risk-return'!IJ3","v":0.40316158130286467},{"$f":"'1D Vectors Transposed'!H10+'1D Vectors Transposed'!I10*'Risk-return'!IK3","v":0.40491871987339245},{"$f":"'1D Vectors Transposed'!H10+'1D Vectors Transposed'!I10*'Risk-return'!IL3","v":0.40667585844392029},{"$f":"'1D Vectors Transposed'!H10+'1D Vectors Transposed'!I10*'Risk-return'!IM3","v":0.40843299701444807},{"$f":"'1D Vectors Transposed'!H10+'1D Vectors Transposed'!I10*'Risk-return'!IN3","v":0.41019013558497591},{"$f":"'1D Vectors Transposed'!H10+'1D Vectors Transposed'!I10*'Risk-return'!IO3","v":0.4119472741555037},{"$f":"'1D Vectors Transposed'!H10+'1D Vectors Transposed'!I10*'Risk-return'!IP3","v":0.41370441272603153},{"$f":"'1D Vectors Transposed'!H10+'1D Vectors Transposed'!I10*'Risk-return'!IQ3","v":0.41546155129655937},{"$f":"'1D Vectors Transposed'!H10+'1D Vectors Transposed'!I10*'Risk-return'!IR3","v":0.41721868986708716},{"$f":"'1D Vectors Transposed'!H10+'1D Vectors Transposed'!I10*'Risk-return'!IS3","v":0.41897582843761499},{"$f":"'1D Vectors Transposed'!H10+'1D Vectors Transposed'!I10*'Risk-return'!IT3","v":0.42073296700814278},{"$f":"'1D Vectors Transposed'!H10+'1D Vectors Transposed'!I10*'Risk-return'!IU3","v":0.42249010557867062},{"$f":"'1D Vectors Transposed'!H10+'1D Vectors Transposed'!I10*'Risk-return'!IV3","v":0.4242472441491984},{"$f":"'1D Vectors Transposed'!H10+'1D Vectors Transposed'!I10*'Risk-return'!IW3","v":0.42600438271972624},{"$f":"'1D Vectors Transposed'!H10+'1D Vectors Transposed'!I10*'Risk-return'!IX3","v":0.42776152129025402},{"$f":"'1D Vectors Transposed'!H10+'1D Vectors Transposed'!I10*'Risk-return'!IY3","v":0.42951865986078186},{"$f":"'1D Vectors Transposed'!H10+'1D Vectors Transposed'!I10*'Risk-return'!IZ3","v":0.4312757984313097},{"$f":"'1D Vectors Transposed'!H10+'1D Vectors Transposed'!I10*'Risk-return'!JA3","v":0.43303293700183748},{"$f":"'1D Vectors Transposed'!H10+'1D Vectors Transposed'!I10*'Risk-return'!JB3","v":0.43479007557236532},{"$f":"'1D Vectors Transposed'!H10+'1D Vectors Transposed'!I10*'Risk-return'!JC3","v":0.4365472141428931},{"$f":"'1D Vectors Transposed'!H10+'1D Vectors Transposed'!I10*'Risk-return'!JD3","v":0.43830435271342094},{"$f":"'1D Vectors Transposed'!H10+'1D Vectors Transposed'!I10*'Risk-return'!JE3","v":0.44006149128394872},{"$f":"'1D Vectors Transposed'!H10+'1D Vectors Transposed'!I10*'Risk-return'!JF3","v":0.44181862985447656},{"$f":"'1D Vectors Transposed'!H10+'1D Vectors Transposed'!I10*'Risk-return'!JG3","v":0.4435757684250044},{"$f":"'1D Vectors Transposed'!H10+'1D Vectors Transposed'!I10*'Risk-return'!JH3","v":0.44533290699553219},{"$f":"'1D Vectors Transposed'!H10+'1D Vectors Transposed'!I10*'Risk-return'!JI3","v":0.44709004556606002},{"$f":"'1D Vectors Transposed'!H10+'1D Vectors Transposed'!I10*'Risk-return'!JJ3","v":0.44884718413658781},{"$f":"'1D Vectors Transposed'!H10+'1D Vectors Transposed'!I10*'Risk-return'!JK3","v":0.45060432270711565},{"$f":"'1D Vectors Transposed'!H10+'1D Vectors Transposed'!I10*'Risk-return'!JL3","v":0.45236146127764343},{"$f":"'1D Vectors Transposed'!H10+'1D Vectors Transposed'!I10*'Risk-return'!JM3","v":0.45411859984817127},{"$f":"'1D Vectors Transposed'!H10+'1D Vectors Transposed'!I10*'Risk-return'!JN3","v":0.45587573841869905},{"$f":"'1D Vectors Transposed'!H10+'1D Vectors Transposed'!I10*'Risk-return'!JO3","v":0.45763287698922689},{"$f":"'1D Vectors Transposed'!H10+'1D Vectors Transposed'!I10*'Risk-return'!JP3","v":0.45939001555975473},{"$f":"'1D Vectors Transposed'!H10+'1D Vectors Transposed'!I10*'Risk-return'!JQ3","v":0.46114715413028251},{"$f":"'1D Vectors Transposed'!H10+'1D Vectors Transposed'!I10*'Risk-return'!JR3","v":0.46290429270081035},{"$f":"'1D Vectors Transposed'!H10+'1D Vectors Transposed'!I10*'Risk-return'!JS3","v":0.46466143127133813},{"$f":"'1D Vectors Transposed'!H10+'1D Vectors Transposed'!I10*'Risk-return'!JT3","v":0.46641856984186597},{"$f":"'1D Vectors Transposed'!H10+'1D Vectors Transposed'!I10*'Risk-return'!JU3","v":0.46817570841239375},{"$f":"'1D Vectors Transposed'!H10+'1D Vectors Transposed'!I10*'Risk-return'!JV3","v":0.46993284698292159},{"$f":"'1D Vectors Transposed'!H10+'1D Vectors Transposed'!I10*'Risk-return'!JW3","v":0.47168998555344938},{"$f":"'1D Vectors Transposed'!H10+'1D Vectors Transposed'!I10*'Risk-return'!JX3","v":0.47344712412397721},{"$f":"'1D Vectors Transposed'!H10+'1D Vectors Transposed'!I10*'Risk-return'!JY3","v":0.47520426269450505},{"$f":"'1D Vectors Transposed'!H10+'1D Vectors Transposed'!I10*'Risk-return'!JZ3","v":0.47696140126503284},{"$f":"'1D Vectors Transposed'!H10+'1D Vectors Transposed'!I10*'Risk-return'!KA3","v":0.47871853983556067},{"$f":"'1D Vectors Transposed'!H10+'1D Vectors Transposed'!I10*'Risk-return'!KB3","v":0.48047567840608851},{"$f":"'1D Vectors Transposed'!H10+'1D Vectors Transposed'!I10*'Risk-return'!KC3","v":0.48223281697661624},{"$f":"'1D Vectors Transposed'!H10+'1D Vectors Transposed'!I10*'Risk-return'!KD3","v":0.48398995554714408},{"$f":"'1D Vectors Transposed'!H10+'1D Vectors Transposed'!I10*'Risk-return'!KE3","v":0.48574709411767192},{"$f":"'1D Vectors Transposed'!H10+'1D Vectors Transposed'!I10*'Risk-return'!KF3","v":0.48750423268819976},{"$f":"'1D Vectors Transposed'!H10+'1D Vectors Transposed'!I10*'Risk-return'!KG3","v":0.4892613712587276},{"$f":"'1D Vectors Transposed'!H10+'1D Vectors Transposed'!I10*'Risk-return'!KH3","v":0.49101850982925532},{"$f":"'1D Vectors Transposed'!H10+'1D Vectors Transposed'!I10*'Risk-return'!KI3","v":0.49277564839978316},{"$f":"'1D Vectors Transposed'!H10+'1D Vectors Transposed'!I10*'Risk-return'!KJ3","v":0.494532786970311},{"$f":"'1D Vectors Transposed'!H10+'1D Vectors Transposed'!I10*'Risk-return'!KK3","v":0.49628992554083884},{"$f":"'1D Vectors Transposed'!H10+'1D Vectors Transposed'!I10*'Risk-return'!KL3","v":0.49804706411136657},{"$f":"'1D Vectors Transposed'!H10+'1D Vectors Transposed'!I10*'Risk-return'!KM3","v":0.49980420268189441},{"$f":"'1D Vectors Transposed'!H10+'1D Vectors Transposed'!I10*'Risk-return'!KN3","v":0.50156134125242224},{"$f":"'1D Vectors Transposed'!H10+'1D Vectors Transposed'!I10*'Risk-return'!KO3","v":0.50331847982295008},{"$f":"'1D Vectors Transposed'!H10+'1D Vectors Transposed'!I10*'Risk-return'!KP3","v":0.50507561839347792},{"$f":"'1D Vectors Transposed'!H10+'1D Vectors Transposed'!I10*'Risk-return'!KQ3","v":0.50683275696400565},{"$f":"'1D Vectors Transposed'!H10+'1D Vectors Transposed'!I10*'Risk-return'!KR3","v":0.50858989553453349},{"$f":"'1D Vectors Transposed'!H10+'1D Vectors Transposed'!I10*'Risk-return'!KS3","v":0.51034703410506133},{"$f":"'1D Vectors Transposed'!H10+'1D Vectors Transposed'!I10*'Risk-return'!KT3","v":0.51210417267558916},{"$f":"'1D Vectors Transposed'!H10+'1D Vectors Transposed'!I10*'Risk-return'!KU3","v":0.51386131124611689},{"$f":"'1D Vectors Transposed'!H10+'1D Vectors Transposed'!I10*'Risk-return'!KV3","v":0.51561844981664473},{"$f":"'1D Vectors Transposed'!H10+'1D Vectors Transposed'!I10*'Risk-return'!KW3","v":0.51737558838717257},{"$f":"'1D Vectors Transposed'!H10+'1D Vectors Transposed'!I10*'Risk-return'!KX3","v":0.51913272695770041},{"$f":"'1D Vectors Transposed'!H10+'1D Vectors Transposed'!I10*'Risk-return'!KY3","v":0.52088986552822825},{"$f":"'1D Vectors Transposed'!H10+'1D Vectors Transposed'!I10*'Risk-return'!KZ3","v":0.52264700409875597},{"$f":"'1D Vectors Transposed'!H10+'1D Vectors Transposed'!I10*'Risk-return'!LA3","v":0.52440414266928381},{"$f":"'1D Vectors Transposed'!H10+'1D Vectors Transposed'!I10*'Risk-return'!LB3","v":0.52616131396912358},{"$f":"'1D Vectors Transposed'!H10+'1D Vectors Transposed'!I10*'Risk-return'!LC3","v":0.52791848526896334},{"$f":"'1D Vectors Transposed'!H10+'1D Vectors Transposed'!I10*'Risk-return'!LD3","v":0.52967565656880311},{"$f":"'1D Vectors Transposed'!H10+'1D Vectors Transposed'!I10*'Risk-return'!LE3","v":0.53143282786864288},{"$f":"'1D Vectors Transposed'!H10+'1D Vectors Transposed'!I10*'Risk-return'!LF3","v":0.53318999916848264},{"$f":"'1D Vectors Transposed'!H10+'1D Vectors Transposed'!I10*'Risk-return'!LG3","v":0.53494717046832241},{"$f":"'1D Vectors Transposed'!H10+'1D Vectors Transposed'!I10*'Risk-return'!LH3","v":0.53670434176816217},{"$f":"'1D Vectors Transposed'!H10+'1D Vectors Transposed'!I10*'Risk-return'!LI3","v":0.53846151306800194},{"$f":"'1D Vectors Transposed'!H10+'1D Vectors Transposed'!I10*'Risk-return'!LJ3","v":0.54021868436784171},{"$f":"'1D Vectors Transposed'!H10+'1D Vectors Transposed'!I10*'Risk-return'!LK3","v":0.54197585566768147},{"$f":"'1D Vectors Transposed'!H10+'1D Vectors Transposed'!I10*'Risk-return'!LL3","v":0.54373302696752124},{"$f":"'1D Vectors Transposed'!H10+'1D Vectors Transposed'!I10*'Risk-return'!LM3","v":0.545490198267361},{"$f":"'1D Vectors Transposed'!H10+'1D Vectors Transposed'!I10*'Risk-return'!LN3","v":0.54724736956720077},{"$f":"'1D Vectors Transposed'!H10+'1D Vectors Transposed'!I10*'Risk-return'!LO3","v":0.54900454086704054},{"$f":"'1D Vectors Transposed'!H10+'1D Vectors Transposed'!I10*'Risk-return'!LP3","v":0.5507617121668803},{"$f":"'1D Vectors Transposed'!H10+'1D Vectors Transposed'!I10*'Risk-return'!LQ3","v":0.55251888346672007},{"$f":"'1D Vectors Transposed'!H10+'1D Vectors Transposed'!I10*'Risk-return'!LR3","v":0.55427605476655983},{"$f":"'1D Vectors Transposed'!H10+'1D Vectors Transposed'!I10*'Risk-return'!LS3","v":0.55603322606639949},{"$f":"'1D Vectors Transposed'!H10+'1D Vectors Transposed'!I10*'Risk-return'!LT3","v":0.55779039736623925},{"$f":"'1D Vectors Transposed'!H10+'1D Vectors Transposed'!I10*'Risk-return'!LU3","v":0.55954756866607902},{"$f":"'1D Vectors Transposed'!H10+'1D Vectors Transposed'!I10*'Risk-return'!LV3","v":0.56130473996591879},{"$f":"'1D Vectors Transposed'!H10+'1D Vectors Transposed'!I10*'Risk-return'!LW3","v":0.56306191126575855},{"$f":"'1D Vectors Transposed'!H10+'1D Vectors Transposed'!I10*'Risk-return'!LX3","v":0.56481908256559832},{"$f":"'1D Vectors Transposed'!H10+'1D Vectors Transposed'!I10*'Risk-return'!LY3","v":0.56657625386543808},{"$f":"'1D Vectors Transposed'!H10+'1D Vectors Transposed'!I10*'Risk-return'!LZ3","v":0.56833342516527785},{"$f":"'1D Vectors Transposed'!H10+'1D Vectors Transposed'!I10*'Risk-return'!MA3","v":0.57009059646511762},{"$f":"'1D Vectors Transposed'!H10+'1D Vectors Transposed'!I10*'Risk-return'!MB3","v":0.57184776776495738},{"$f":"'1D Vectors Transposed'!H10+'1D Vectors Transposed'!I10*'Risk-return'!MC3","v":0.57360493906479715},{"$f":"'1D Vectors Transposed'!H10+'1D Vectors Transposed'!I10*'Risk-return'!MD3","v":0.57536211036463691},{"$f":"'1D Vectors Transposed'!H10+'1D Vectors Transposed'!I10*'Risk-return'!ME3","v":0.57711928166447668},{"$f":"'1D Vectors Transposed'!H10+'1D Vectors Transposed'!I10*'Risk-return'!MF3","v":0.57887645296431645},{"$f":"'1D Vectors Transposed'!H10+'1D Vectors Transposed'!I10*'Risk-return'!MG3","v":0.58063362426415621},{"$f":"'1D Vectors Transposed'!H10+'1D Vectors Transposed'!I10*'Risk-return'!MH3","v":0.58239079556399598},{"$f":"'1D Vectors Transposed'!H10+'1D Vectors Transposed'!I10*'Risk-return'!MI3","v":0.58414796686383574},{"$f":"'1D Vectors Transposed'!H10+'1D Vectors Transposed'!I10*'Risk-return'!MJ3","v":0.58590513816367551},{"$f":"'1D Vectors Transposed'!H10+'1D Vectors Transposed'!I10*'Risk-return'!MK3","v":0.58766230946351528},{"$f":"'1D Vectors Transposed'!H10+'1D Vectors Transposed'!I10*'Risk-return'!ML3","v":0.58941948076335504},{"$f":"'1D Vectors Transposed'!H10+'1D Vectors Transposed'!I10*'Risk-return'!MM3","v":0.59117665206319481},{"$f":"'1D Vectors Transposed'!H10+'1D Vectors Transposed'!I10*'Risk-return'!MN3","v":0.59293382336303457},{"$f":"'1D Vectors Transposed'!H10+'1D Vectors Transposed'!I10*'Risk-return'!MO3","v":0.59469099466287434},{"$f":"'1D Vectors Transposed'!H10+'1D Vectors Transposed'!I10*'Risk-return'!MP3","v":0.59644816596271411},{"$f":"'1D Vectors Transposed'!H10+'1D Vectors Transposed'!I10*'Risk-return'!MQ3","v":0.59820533726255387},{"$f":"'1D Vectors Transposed'!H10+'1D Vectors Transposed'!I10*'Risk-return'!MR3","v":0.59996250856239364},{"$f":"'1D Vectors Transposed'!H10+'1D Vectors Transposed'!I10*'Risk-return'!MS3","v":0.60171967986223329},{"$f":"'1D Vectors Transposed'!H10+'1D Vectors Transposed'!I10*'Risk-return'!MT3","v":0.60347685116207306},{"$f":"'1D Vectors Transposed'!H10+'1D Vectors Transposed'!I10*'Risk-return'!MU3","v":0.60523402246191282},{"$f":"'1D Vectors Transposed'!H10+'1D Vectors Transposed'!I10*'Risk-return'!MV3","v":0.60699119376175259},{"$f":"'1D Vectors Transposed'!H10+'1D Vectors Transposed'!I10*'Risk-return'!MW3","v":0.60874836506159236},{"$f":"'1D Vectors Transposed'!H10+'1D Vectors Transposed'!I10*'Risk-return'!MX3","v":0.61050553636143212},{"$f":"'1D Vectors Transposed'!H10+'1D Vectors Transposed'!I10*'Risk-return'!MY3","v":0.61226270766127189},{"$f":"'1D Vectors Transposed'!H10+'1D Vectors Transposed'!I10*'Risk-return'!MZ3","v":0.61401987896111165},{"$f":"'1D Vectors Transposed'!H10+'1D Vectors Transposed'!I10*'Risk-return'!NA3","v":0.61577705026095142},{"$f":"'1D Vectors Transposed'!H10+'1D Vectors Transposed'!I10*'Risk-return'!NB3","v":0.61753422156079119},{"$f":"'1D Vectors Transposed'!H10+'1D Vectors Transposed'!I10*'Risk-return'!NC3","v":0.61929139286063095},{"$f":"'1D Vectors Transposed'!H10+'1D Vectors Transposed'!I10*'Risk-return'!ND3","v":0.62104856416047072},{"$f":"'1D Vectors Transposed'!H10+'1D Vectors Transposed'!I10*'Risk-return'!NE3","v":0.62280573546031048},{"$f":"'1D Vectors Transposed'!H10+'1D Vectors Transposed'!I10*'Risk-return'!NF3","v":0.62456290676015025},{"$f":"'1D Vectors Transposed'!H10+'1D Vectors Transposed'!I10*'Risk-return'!NG3","v":0.62632007805999002},{"$f":"'1D Vectors Transposed'!H10+'1D Vectors Transposed'!I10*'Risk-return'!NH3","v":0.62807724935982978},{"$f":"'1D Vectors Transposed'!H10+'1D Vectors Transposed'!I10*'Risk-return'!NI3","v":0.62983442065966955},{"$f":"'1D Vectors Transposed'!H10+'1D Vectors Transposed'!I10*'Risk-return'!NJ3","v":0.63159159195950931},{"$f":"'1D Vectors Transposed'!H10+'1D Vectors Transposed'!I10*'Risk-return'!NK3","v":0.63334876325934908},{"$f":"'1D Vectors Transposed'!H10+'1D Vectors Transposed'!I10*'Risk-return'!NL3","v":0.63510593455918884},{"$f":"'1D Vectors Transposed'!H10+'1D Vectors Transposed'!I10*'Risk-return'!NM3","v":0.63686310585902861},{"$f":"'1D Vectors Transposed'!H10+'1D Vectors Transposed'!I10*'Risk-return'!NN3","v":0.63862027715886838},{"$f":"'1D Vectors Transposed'!H10+'1D Vectors Transposed'!I10*'Risk-return'!NO3","v":0.64037744845870814},{"$f":"'1D Vectors Transposed'!H10+'1D Vectors Transposed'!I10*'Risk-return'!NP3","v":0.64213461975854791},{"$f":"'1D Vectors Transposed'!H10+'1D Vectors Transposed'!I10*'Risk-return'!NQ3","v":0.64389179105838767},{"$f":"'1D Vectors Transposed'!H10+'1D Vectors Transposed'!I10*'Risk-return'!NR3","v":0.64564896235822744},{"$f":"'1D Vectors Transposed'!H10+'1D Vectors Transposed'!I10*'Risk-return'!NS3","v":0.64740613365806721},{"$f":"'1D Vectors Transposed'!H10+'1D Vectors Transposed'!I10*'Risk-return'!NT3","v":0.64916330495790686},{"$f":"'1D Vectors Transposed'!H10+'1D Vectors Transposed'!I10*'Risk-return'!NU3","v":0.65092047625774663},{"$f":"'1D Vectors Transposed'!H10+'1D Vectors Transposed'!I10*'Risk-return'!NV3","v":0.65267764755758639},{"$f":"'1D Vectors Transposed'!H10+'1D Vectors Transposed'!I10*'Risk-return'!NW3","v":0.65443481885742616},{"$f":"'1D Vectors Transposed'!H10+'1D Vectors Transposed'!I10*'Risk-return'!NX3","v":0.65619199015726593},{"$f":"'1D Vectors Transposed'!H10+'1D Vectors Transposed'!I10*'Risk-return'!NY3","v":0.65794916145710569},{"$f":"'1D Vectors Transposed'!H10+'1D Vectors Transposed'!I10*'Risk-return'!NZ3","v":0.65970633275694546},{"$f":"'1D Vectors Transposed'!H10+'1D Vectors Transposed'!I10*'Risk-return'!OA3","v":0.66146350405678522},{"$f":"'1D Vectors Transposed'!H10+'1D Vectors Transposed'!I10*'Risk-return'!OB3","v":0.66322067535662499},{"$f":"'1D Vectors Transposed'!H10+'1D Vectors Transposed'!I10*'Risk-return'!OC3","v":0.66497784665646475},{"$f":"'1D Vectors Transposed'!H10+'1D Vectors Transposed'!I10*'Risk-return'!OD3","v":0.66673501795630452},{"$f":"'1D Vectors Transposed'!H10+'1D Vectors Transposed'!I10*'Risk-return'!OE3","v":0.66849218925614429},{"$f":"'1D Vectors Transposed'!H10+'1D Vectors Transposed'!I10*'Risk-return'!OF3","v":0.67024936055598405},{"$f":"'1D Vectors Transposed'!H10+'1D Vectors Transposed'!I10*'Risk-return'!OG3","v":0.67200653185582382},{"$f":"'1D Vectors Transposed'!H10+'1D Vectors Transposed'!I10*'Risk-return'!OH3","v":0.67376370315566358},{"$f":"'1D Vectors Transposed'!H10+'1D Vectors Transposed'!I10*'Risk-return'!OI3","v":0.67552087445550335},{"$f":"'1D Vectors Transposed'!H10+'1D Vectors Transposed'!I10*'Risk-return'!OJ3","v":0.67727804575534312},{"$f":"'1D Vectors Transposed'!H10+'1D Vectors Transposed'!I10*'Risk-return'!OK3","v":0.67903521705518288},{"$f":"'1D Vectors Transposed'!H10+'1D Vectors Transposed'!I10*'Risk-return'!OL3","v":0.68079238835502265},{"$f":"'1D Vectors Transposed'!H10+'1D Vectors Transposed'!I10*'Risk-return'!OM3","v":0.68254955965486241},{"$f":"'1D Vectors Transposed'!H10+'1D Vectors Transposed'!I10*'Risk-return'!ON3","v":0.68430673095470218},{"$f":"'1D Vectors Transposed'!H10+'1D Vectors Transposed'!I10*'Risk-return'!OO3","v":0.68606390225454195},{"$f":"'1D Vectors Transposed'!H10+'1D Vectors Transposed'!I10*'Risk-return'!OP3","v":0.68782107355438171},{"$f":"'1D Vectors Transposed'!H10+'1D Vectors Transposed'!I10*'Risk-return'!OQ3","v":0.68957824485422148},{"$f":"'1D Vectors Transposed'!H10+'1D Vectors Transposed'!I10*'Risk-return'!OR3","v":0.69133541615406124},{"$f":"'1D Vectors Transposed'!H10+'1D Vectors Transposed'!I10*'Risk-return'!OS3","v":0.69309258745390101},{"$f":"'1D Vectors Transposed'!H10+'1D Vectors Transposed'!I10*'Risk-return'!OT3","v":0.69484975875374067},{"$f":"'1D Vectors Transposed'!H10+'1D Vectors Transposed'!I10*'Risk-return'!OU3","v":0.69660693005358043},{"$f":"'1D Vectors Transposed'!H10+'1D Vectors Transposed'!I10*'Risk-return'!OV3","v":0.6983641013534202},{"$f":"'1D Vectors Transposed'!H10+'1D Vectors Transposed'!I10*'Risk-return'!OW3","v":0.70012127265325996},{"$f":"'1D Vectors Transposed'!H10+'1D Vectors Transposed'!I10*'Risk-return'!OX3","v":0.70187844395309973},{"$f":"'1D Vectors Transposed'!H10+'1D Vectors Transposed'!I10*'Risk-return'!OY3","v":0.70363561525293949},{"$f":"'1D Vectors Transposed'!H10+'1D Vectors Transposed'!I10*'Risk-return'!OZ3","v":0.70539278655277926},{"$f":"'1D Vectors Transposed'!H10+'1D Vectors Transposed'!I10*'Risk-return'!PA3","v":0.70714995785261903},{"$f":"'1D Vectors Transposed'!H10+'1D Vectors Transposed'!I10*'Risk-return'!PB3","v":0.70890712915245879},{"$f":"'1D Vectors Transposed'!H10+'1D Vectors Transposed'!I10*'Risk-return'!PC3","v":0.71066430045229856},{"$f":"'1D Vectors Transposed'!H10+'1D Vectors Transposed'!I10*'Risk-return'!PD3","v":0.71242147175213832},{"$f":"'1D Vectors Transposed'!H10+'1D Vectors Transposed'!I10*'Risk-return'!PE3","v":0.71417864305197809},{"$f":"'1D Vectors Transposed'!H10+'1D Vectors Transposed'!I10*'Risk-return'!PF3","v":0.71593581435181786},{"$f":"'1D Vectors Transposed'!H10+'1D Vectors Transposed'!I10*'Risk-return'!PG3","v":0.71769298565165762},{"$f":"'1D Vectors Transposed'!H10+'1D Vectors Transposed'!I10*'Risk-return'!PH3","v":0.71945015695149739},{"$f":"'1D Vectors Transposed'!H10+'1D Vectors Transposed'!I10*'Risk-return'!PI3","v":0.72120732825133715},{"$f":"'1D Vectors Transposed'!H10+'1D Vectors Transposed'!I10*'Risk-return'!PJ3","v":0.72296449955117692},{"$f":"'1D Vectors Transposed'!H10+'1D Vectors Transposed'!I10*'Risk-return'!PK3","v":0.72472167085101669},{"$f":"'1D Vectors Transposed'!H10+'1D Vectors Transposed'!I10*'Risk-return'!PL3","v":0.72647884215085645},{"$f":"'1D Vectors Transposed'!H10+'1D Vectors Transposed'!I10*'Risk-return'!PM3","v":0.72823601345069622},{"$f":"'1D Vectors Transposed'!H10+'1D Vectors Transposed'!I10*'Risk-return'!PN3","v":0.72999318475053598},{"$f":"'1D Vectors Transposed'!H10+'1D Vectors Transposed'!I10*'Risk-return'!PO3","v":0.73175035605037575},{"$f":"'1D Vectors Transposed'!H10+'1D Vectors Transposed'!I10*'Risk-return'!PP3","v":0.73350752735021552},{"$f":"'1D Vectors Transposed'!H10+'1D Vectors Transposed'!I10*'Risk-return'!PQ3","v":0.73526469865005528},{"$f":"'1D Vectors Transposed'!H10+'1D Vectors Transposed'!I10*'Risk-return'!PR3","v":0.73702186994989505},{"$f":"'1D Vectors Transposed'!H10+'1D Vectors Transposed'!I10*'Risk-return'!PS3","v":0.73877904124973481},{"$f":"'1D Vectors Transposed'!H10+'1D Vectors Transposed'!I10*'Risk-return'!PT3","v":0.74053621254957458},{"$f":"'1D Vectors Transposed'!H10+'1D Vectors Transposed'!I10*'Risk-return'!PU3","v":0.74229338384941423},{"$f":"'1D Vectors Transposed'!H10+'1D Vectors Transposed'!I10*'Risk-return'!PV3","v":0.744050555149254},{"$f":"'1D Vectors Transposed'!H10+'1D Vectors Transposed'!I10*'Risk-return'!PW3","v":0.74580772644909377},{"$f":"'1D Vectors Transposed'!H10+'1D Vectors Transposed'!I10*'Risk-return'!PX3","v":0.74756489774893353},{"$f":"'1D Vectors Transposed'!H10+'1D Vectors Transposed'!I10*'Risk-return'!PY3","v":0.7493220690487733},{"$f":"'1D Vectors Transposed'!H10+'1D Vectors Transposed'!I10*'Risk-return'!PZ3","v":0.75107924034861306},{"$f":"'1D Vectors Transposed'!H10+'1D Vectors Transposed'!I10*'Risk-return'!QA3","v":0.75283641164845283},{"$f":"'1D Vectors Transposed'!H10+'1D Vectors Transposed'!I10*'Risk-return'!QB3","v":0.7545935829482926},{"$f":"'1D Vectors Transposed'!H10+'1D Vectors Transposed'!I10*'Risk-return'!QC3","v":0.75635075424813236},{"$f":"'1D Vectors Transposed'!H10+'1D Vectors Transposed'!I10*'Risk-return'!QD3","v":0.75810792554797213},{"$f":"'1D Vectors Transposed'!H10+'1D Vectors Transposed'!I10*'Risk-return'!QE3","v":0.75986509684781189},{"$f":"'1D Vectors Transposed'!H10+'1D Vectors Transposed'!I10*'Risk-return'!QF3","v":0.76162226814765166},{"$f":"'1D Vectors Transposed'!H10+'1D Vectors Transposed'!I10*'Risk-return'!QG3","v":0.76337943944749143},{"$f":"'1D Vectors Transposed'!H10+'1D Vectors Transposed'!I10*'Risk-return'!QH3","v":0.76513661074733119},{"$f":"'1D Vectors Transposed'!H10+'1D Vectors Transposed'!I10*'Risk-return'!QI3","v":0.76689378204717096},{"$f":"'1D Vectors Transposed'!H10+'1D Vectors Transposed'!I10*'Risk-return'!QJ3","v":0.76865095334701072},{"$f":"'1D Vectors Transposed'!H10+'1D Vectors Transposed'!I10*'Risk-return'!QK3","v":0.77040812464685049},{"$f":"'1D Vectors Transposed'!H10+'1D Vectors Transposed'!I10*'Risk-return'!QL3","v":0.77216529594669026},{"$f":"'1D Vectors Transposed'!H10+'1D Vectors Transposed'!I10*'Risk-return'!QM3","v":0.77392246724653002},{"$f":"'1D Vectors Transposed'!H10+'1D Vectors Transposed'!I10*'Risk-return'!QN3","v":0.77567963854636979},{"$f":"'1D Vectors Transposed'!H10+'1D Vectors Transposed'!I10*'Risk-return'!QO3","v":0.77743680984620955},{"$f":"'1D Vectors Transposed'!H10+'1D Vectors Transposed'!I10*'Risk-return'!QP3","v":0.77919398114604932},{"$f":"'1D Vectors Transposed'!H10+'1D Vectors Transposed'!I10*'Risk-return'!QQ3","v":0.78095115244588909},{"$f":"'1D Vectors Transposed'!H10+'1D Vectors Transposed'!I10*'Risk-return'!QR3","v":0.78270832374572885},{"$f":"'1D Vectors Transposed'!H10+'1D Vectors Transposed'!I10*'Risk-return'!QS3","v":0.78446549504556862},{"$f":"'1D Vectors Transposed'!H10+'1D Vectors Transposed'!I10*'Risk-return'!QT3","v":0.78622266634540838},{"$f":"'1D Vectors Transposed'!H10+'1D Vectors Transposed'!I10*'Risk-return'!QU3","v":0.78797983764524804},{"$f":"'1D Vectors Transposed'!H10+'1D Vectors Transposed'!I10*'Risk-return'!QV3","v":0.7897370089450878},{"$f":"'1D Vectors Transposed'!H10+'1D Vectors Transposed'!I10*'Risk-return'!QW3","v":0.79149418024492757},{"$f":"'1D Vectors Transposed'!H10+'1D Vectors Transposed'!I10*'Risk-return'!QX3","v":0.79325135154476734},{"$f":"'1D Vectors Transposed'!H10+'1D Vectors Transposed'!I10*'Risk-return'!QY3","v":0.7950085228446071},{"$f":"'1D Vectors Transposed'!H10+'1D Vectors Transposed'!I10*'Risk-return'!QZ3","v":0.79676569414444687},{"$f":"'1D Vectors Transposed'!H10+'1D Vectors Transposed'!I10*'Risk-return'!RA3","v":0.79852286544428663},{"$f":"'1D Vectors Transposed'!H10+'1D Vectors Transposed'!I10*'Risk-return'!RB3","v":0.8002800367441264},{"$f":"'1D Vectors Transposed'!H10+'1D Vectors Transposed'!I10*'Risk-return'!RC3","v":0.80203720804396617},{"$f":"'1D Vectors Transposed'!H10+'1D Vectors Transposed'!I10*'Risk-return'!RD3","v":0.80379437934380593},{"$f":"'1D Vectors Transposed'!H10+'1D Vectors Transposed'!I10*'Risk-return'!RE3","v":0.8055515506436457},{"$f":"'1D Vectors Transposed'!H10+'1D Vectors Transposed'!I10*'Risk-return'!RF3","v":0.80730872194348546},{"$f":"'1D Vectors Transposed'!H10+'1D Vectors Transposed'!I10*'Risk-return'!RG3","v":0.80906589324332523},{"$f":"'1D Vectors Transposed'!H10+'1D Vectors Transposed'!I10*'Risk-return'!RH3","v":0.810823064543165},{"$f":"'1D Vectors Transposed'!H10+'1D Vectors Transposed'!I10*'Risk-return'!RI3","v":0.81258023584300476},{"$f":"'1D Vectors Transposed'!H10+'1D Vectors Transposed'!I10*'Risk-return'!RJ3","v":0.81433740714284453},{"$f":"'1D Vectors Transposed'!H10+'1D Vectors Transposed'!I10*'Risk-return'!RK3","v":0.81609457844268429},{"$f":"'1D Vectors Transposed'!H10+'1D Vectors Transposed'!I10*'Risk-return'!RL3","v":0.81785174974252406},{"$f":"'1D Vectors Transposed'!H10+'1D Vectors Transposed'!I10*'Risk-return'!RM3","v":0.81960892104236382},{"$f":"'1D Vectors Transposed'!H10+'1D Vectors Transposed'!I10*'Risk-return'!RN3","v":0.82136609234220359},{"$f":"'1D Vectors Transposed'!H10+'1D Vectors Transposed'!I10*'Risk-return'!RO3","v":0.82312326364204336},{"$f":"'1D Vectors Transposed'!H10+'1D Vectors Transposed'!I10*'Risk-return'!RP3","v":0.82488043494188312},{"$f":"'1D Vectors Transposed'!H10+'1D Vectors Transposed'!I10*'Risk-return'!RQ3","v":0.82663760624172289},{"$f":"'1D Vectors Transposed'!H10+'1D Vectors Transposed'!I10*'Risk-return'!RR3","v":0.82839477754156265},{"$f":"'1D Vectors Transposed'!H10+'1D Vectors Transposed'!I10*'Risk-return'!RS3","v":0.83015194884140242},{"$f":"'1D Vectors Transposed'!H10+'1D Vectors Transposed'!I10*'Risk-return'!RT3","v":0.83190912014124219},{"$f":"'1D Vectors Transposed'!H10+'1D Vectors Transposed'!I10*'Risk-return'!RU3","v":0.83366629144108195},{"$f":"'1D Vectors Transposed'!H10+'1D Vectors Transposed'!I10*'Risk-return'!RV3","v":0.83542346274092161},{"$f":"'1D Vectors Transposed'!H10+'1D Vectors Transposed'!I10*'Risk-return'!RW3","v":0.83718063404076137},{"$f":"'1D Vectors Transposed'!H10+'1D Vectors Transposed'!I10*'Risk-return'!RX3","v":0.83893780534060114},{"$f":"'1D Vectors Transposed'!H10+'1D Vectors Transposed'!I10*'Risk-return'!RY3","v":0.84069497664044091},{"$f":"'1D Vectors Transposed'!H10+'1D Vectors Transposed'!I10*'Risk-return'!RZ3","v":0.84245214794028067},{"$f":"'1D Vectors Transposed'!H10+'1D Vectors Transposed'!I10*'Risk-return'!SA3","v":0.84420931924012044},{"$f":"'1D Vectors Transposed'!H10+'1D Vectors Transposed'!I10*'Risk-return'!SB3","v":0.8459664905399602},{"$f":"'1D Vectors Transposed'!H10+'1D Vectors Transposed'!I10*'Risk-return'!SC3","v":0.84772366183979997},{"$f":"'1D Vectors Transposed'!H10+'1D Vectors Transposed'!I10*'Risk-return'!SD3","v":0.84948083313963973},{"$f":"'1D Vectors Transposed'!H10+'1D Vectors Transposed'!I10*'Risk-return'!SE3","v":0.8512380044394795},{"$f":"'1D Vectors Transposed'!H10+'1D Vectors Transposed'!I10*'Risk-return'!SF3","v":0.85299517573931927},{"$f":"'1D Vectors Transposed'!H10+'1D Vectors Transposed'!I10*'Risk-return'!SG3","v":-2.3823222252641978E-2}]
["SPASTT01NOM661N",{"$f":"'1D Vectors Transposed'!H11+'1D Vectors Transposed'!I11*'Risk-return'!B3","v":-0.23400171048940877},{"$f":"'1D Vectors Transposed'!H11+'1D Vectors Transposed'!I11*'Risk-return'!C3","v":-0.23052547856642963},{"$f":"'1D Vectors Transposed'!H11+'1D Vectors Transposed'!I11*'Risk-return'!D3","v":-0.22704924689637965},{"$f":"'1D Vectors Transposed'!H11+'1D Vectors Transposed'!I11*'Risk-return'!E3","v":-0.22357301472047131},{"$f":"'1D Vectors Transposed'!H11+'1D Vectors Transposed'!I11*'Risk-return'!F3","v":-0.22009678355627965},{"$f":"'1D Vectors Transposed'!H11+'1D Vectors Transposed'!I11*'Risk-return'!G3","v":-0.21662055138037134},{"$f":"'1D Vectors Transposed'!H11+'1D Vectors Transposed'!I11*'Risk-return'!H3","v":-0.21314431920446303},{"$f":"'1D Vectors Transposed'!H11+'1D Vectors Transposed'!I11*'Risk-return'!I3","v":-0.20966808702855472},{"$f":"'1D Vectors Transposed'!H11+'1D Vectors Transposed'!I11*'Risk-return'!J3","v":-0.20619185485264638},{"$f":"'1D Vectors Transposed'!H11+'1D Vectors Transposed'!I11*'Risk-return'!K3","v":-0.2027156247001714},{"$f":"'1D Vectors Transposed'!H11+'1D Vectors Transposed'!I11*'Risk-return'!L3","v":-0.19923939454769643},{"$f":"'1D Vectors Transposed'!H11+'1D Vectors Transposed'!I11*'Risk-return'!M3","v":-0.19576316439522146},{"$f":"'1D Vectors Transposed'!H11+'1D Vectors Transposed'!I11*'Risk-return'!N3","v":-0.19228693424274645},{"$f":"'1D Vectors Transposed'!H11+'1D Vectors Transposed'!I11*'Risk-return'!O3","v":-0.18881070409027148},{"$f":"'1D Vectors Transposed'!H11+'1D Vectors Transposed'!I11*'Risk-return'!P3","v":-0.18533447393779651},{"$f":"'1D Vectors Transposed'!H11+'1D Vectors Transposed'!I11*'Risk-return'!Q3","v":-0.18185824378532153},{"$f":"'1D Vectors Transposed'!H11+'1D Vectors Transposed'!I11*'Risk-return'!R3","v":-0.17838201363284656},{"$f":"'1D Vectors Transposed'!H11+'1D Vectors Transposed'!I11*'Risk-return'!S3","v":-0.17490578348037156},{"$f":"'1D Vectors Transposed'!H11+'1D Vectors Transposed'!I11*'Risk-return'!T3","v":-0.17142955332789661},{"$f":"'1D Vectors Transposed'!H11+'1D Vectors Transposed'!I11*'Risk-return'!U3","v":-0.16795332317542161},{"$f":"'1D Vectors Transposed'!H11+'1D Vectors Transposed'!I11*'Risk-return'!V3","v":-0.16447708897607993},{"$f":"'1D Vectors Transposed'!H11+'1D Vectors Transposed'!I11*'Risk-return'!W3","v":-0.16100085477673828},{"$f":"'1D Vectors Transposed'!H11+'1D Vectors Transposed'!I11*'Risk-return'!X3","v":-0.15752462057739663},{"$f":"'1D Vectors Transposed'!H11+'1D Vectors Transposed'!I11*'Risk-return'!Y3","v":-0.15404838637805496},{"$f":"'1D Vectors Transposed'!H11+'1D Vectors Transposed'!I11*'Risk-return'!Z3","v":-0.15057215217871328},{"$f":"'1D Vectors Transposed'!H11+'1D Vectors Transposed'!I11*'Risk-return'!AA3","v":-0.14709591797937166},{"$f":"'1D Vectors Transposed'!H11+'1D Vectors Transposed'!I11*'Risk-return'!AB3","v":-0.14361968378002998},{"$f":"'1D Vectors Transposed'!H11+'1D Vectors Transposed'!I11*'Risk-return'!AC3","v":-0.14014344958068831},{"$f":"'1D Vectors Transposed'!H11+'1D Vectors Transposed'!I11*'Risk-return'!AD3","v":-0.13666721538134666},{"$f":"'1D Vectors Transposed'!H11+'1D Vectors Transposed'!I11*'Risk-return'!AE3","v":-0.13319098118200501},{"$f":"'1D Vectors Transposed'!H11+'1D Vectors Transposed'!I11*'Risk-return'!AF3","v":-0.12971474698266333},{"$f":"'1D Vectors Transposed'!H11+'1D Vectors Transposed'!I11*'Risk-return'!AG3","v":-0.12623851278332165},{"$f":"'1D Vectors Transposed'!H11+'1D Vectors Transposed'!I11*'Risk-return'!AH3","v":-0.12276227858398001},{"$f":"'1D Vectors Transposed'!H11+'1D Vectors Transposed'!I11*'Risk-return'!AI3","v":-0.11928604438463834},{"$f":"'1D Vectors Transposed'!H11+'1D Vectors Transposed'!I11*'Risk-return'!AJ3","v":-0.11580981018529668},{"$f":"'1D Vectors Transposed'!H11+'1D Vectors Transposed'!I11*'Risk-return'!AK3","v":-0.11233357598595503},{"$f":"'1D Vectors Transposed'!H11+'1D Vectors Transposed'!I11*'Risk-return'!AL3","v":-0.10885734178661335},{"$f":"'1D Vectors Transposed'!H11+'1D Vectors Transposed'!I11*'Risk-return'!AM3","v":-0.10538110758727171},{"$f":"'1D Vectors Transposed'!H11+'1D Vectors Transposed'!I11*'Risk-return'!AN3","v":-0.10190487338793003},{"$f":"'1D Vectors Transposed'!H11+'1D Vectors Transposed'!I11*'Risk-return'!AO3","v":-9.8428639188588379E-2},{"$f":"'1D Vectors Transposed'!H11+'1D Vectors Transposed'!I11*'Risk-return'!AP3","v":-9.4952413082980081E-2},{"$f":"'1D Vectors Transposed'!H11+'1D Vectors Transposed'!I11*'Risk-return'!AQ3","v":-9.1476186977371782E-2},{"$f":"'1D Vectors Transposed'!H11+'1D Vectors Transposed'!I11*'Risk-return'!AR3","v":-8.7999960871763483E-2},{"$f":"'1D Vectors Transposed'!H11+'1D Vectors Transposed'!I11*'Risk-return'!AS3","v":-8.4523734766155184E-2},{"$f":"'1D Vectors Transposed'!H11+'1D Vectors Transposed'!I11*'Risk-return'!AT3","v":-8.1047508660546885E-2},{"$f":"'1D Vectors Transposed'!H11+'1D Vectors Transposed'!I11*'Risk-return'!AU3","v":-7.7571282554938586E-2},{"$f":"'1D Vectors Transposed'!H11+'1D Vectors Transposed'!I11*'Risk-return'!AV3","v":-7.4095056449330288E-2},{"$f":"'1D Vectors Transposed'!H11+'1D Vectors Transposed'!I11*'Risk-return'!AW3","v":-7.0618830343721989E-2},{"$f":"'1D Vectors Transposed'!H11+'1D Vectors Transposed'!I11*'Risk-return'!AX3","v":-6.714260423811369E-2},{"$f":"'1D Vectors Transposed'!H11+'1D Vectors Transposed'!I11*'Risk-return'!AY3","v":-6.3666378132505419E-2},{"$f":"'1D Vectors Transposed'!H11+'1D Vectors Transposed'!I11*'Risk-return'!AZ3","v":-6.019015202689712E-2},{"$f":"'1D Vectors Transposed'!H11+'1D Vectors Transposed'!I11*'Risk-return'!BA3","v":-5.6713925921288821E-2},{"$f":"'1D Vectors Transposed'!H11+'1D Vectors Transposed'!I11*'Risk-return'!BB3","v":-5.3237699815680523E-2},{"$f":"'1D Vectors Transposed'!H11+'1D Vectors Transposed'!I11*'Risk-return'!BC3","v":-4.9761473710072224E-2},{"$f":"'1D Vectors Transposed'!H11+'1D Vectors Transposed'!I11*'Risk-return'!BD3","v":-4.6285247604463925E-2},{"$f":"'1D Vectors Transposed'!H11+'1D Vectors Transposed'!I11*'Risk-return'!BE3","v":-4.2809021498855626E-2},{"$f":"'1D Vectors Transposed'!H11+'1D Vectors Transposed'!I11*'Risk-return'!BF3","v":-3.9332795393247327E-2},{"$f":"'1D Vectors Transposed'!H11+'1D Vectors Transposed'!I11*'Risk-return'!BG3","v":-3.5856569287639029E-2},{"$f":"'1D Vectors Transposed'!H11+'1D Vectors Transposed'!I11*'Risk-return'!BH3","v":-3.238034318203073E-2},{"$f":"'1D Vectors Transposed'!H11+'1D Vectors Transposed'!I11*'Risk-return'!BI3","v":-2.8904117076422431E-2},{"$f":"'1D Vectors Transposed'!H11+'1D Vectors Transposed'!I11*'Risk-return'!BJ3","v":-2.542789097081416E-2},{"$f":"'1D Vectors Transposed'!H11+'1D Vectors Transposed'!I11*'Risk-return'!BK3","v":-2.1951664865205861E-2},{"$f":"'1D Vectors Transposed'!H11+'1D Vectors Transposed'!I11*'Risk-return'!BL3","v":-1.8475438759597562E-2},{"$f":"'1D Vectors Transposed'!H11+'1D Vectors Transposed'!I11*'Risk-return'!BM3","v":-1.4999212653989263E-2},{"$f":"'1D Vectors Transposed'!H11+'1D Vectors Transposed'!I11*'Risk-return'!BN3","v":-1.1522986548380965E-2},{"$f":"'1D Vectors Transposed'!H11+'1D Vectors Transposed'!I11*'Risk-return'!BO3","v":-8.0467604427726658E-3},{"$f":"'1D Vectors Transposed'!H11+'1D Vectors Transposed'!I11*'Risk-return'!BP3","v":-4.570534337164367E-3},{"$f":"'1D Vectors Transposed'!H11+'1D Vectors Transposed'!I11*'Risk-return'!BQ3","v":-1.0943082315560682E-3},{"$f":"'1D Vectors Transposed'!H11+'1D Vectors Transposed'!I11*'Risk-return'!BR3","v":2.3819178740522307E-3},{"$f":"'1D Vectors Transposed'!H11+'1D Vectors Transposed'!I11*'Risk-return'!BS3","v":5.8581439796605295E-3},{"$f":"'1D Vectors Transposed'!H11+'1D Vectors Transposed'!I11*'Risk-return'!BT3","v":9.3343700852688283E-3},{"$f":"'1D Vectors Transposed'!H11+'1D Vectors Transposed'!I11*'Risk-return'!BU3","v":1.2810596190877127E-2},{"$f":"'1D Vectors Transposed'!H11+'1D Vectors Transposed'!I11*'Risk-return'!BV3","v":1.6286822296485398E-2},{"$f":"'1D Vectors Transposed'!H11+'1D Vectors Transposed'!I11*'Risk-return'!BW3","v":1.9763048402093725E-2},{"$f":"'1D Vectors Transposed'!H11+'1D Vectors Transposed'!I11*'Risk-return'!BX3","v":2.3239274507701996E-2},{"$f":"'1D Vectors Transposed'!H11+'1D Vectors Transposed'!I11*'Risk-return'!BY3","v":2.6715500613310322E-2},{"$f":"'1D Vectors Transposed'!H11+'1D Vectors Transposed'!I11*'Risk-return'!BZ3","v":3.0191726718918593E-2},{"$f":"'1D Vectors Transposed'!H11+'1D Vectors Transposed'!I11*'Risk-return'!CA3","v":3.3667952824526864E-2},{"$f":"'1D Vectors Transposed'!H11+'1D Vectors Transposed'!I11*'Risk-return'!CB3","v":3.7144178930135191E-2},{"$f":"'1D Vectors Transposed'!H11+'1D Vectors Transposed'!I11*'Risk-return'!CC3","v":4.0620405035743462E-2},{"$f":"'1D Vectors Transposed'!H11+'1D Vectors Transposed'!I11*'Risk-return'!CD3","v":4.4096631141351789E-2},{"$f":"'1D Vectors Transposed'!H11+'1D Vectors Transposed'!I11*'Risk-return'!CE3","v":4.757285724696006E-2},{"$f":"'1D Vectors Transposed'!H11+'1D Vectors Transposed'!I11*'Risk-return'!CF3","v":5.1049083352568386E-2},{"$f":"'1D Vectors Transposed'!H11+'1D Vectors Transposed'!I11*'Risk-return'!CG3","v":5.4525309458176657E-2},{"$f":"'1D Vectors Transposed'!H11+'1D Vectors Transposed'!I11*'Risk-return'!CH3","v":5.8001535563784984E-2},{"$f":"'1D Vectors Transposed'!H11+'1D Vectors Transposed'!I11*'Risk-return'!CI3","v":6.1477761669393255E-2},{"$f":"'1D Vectors Transposed'!H11+'1D Vectors Transposed'!I11*'Risk-return'!CJ3","v":6.4953987775001581E-2},{"$f":"'1D Vectors Transposed'!H11+'1D Vectors Transposed'!I11*'Risk-return'!CK3","v":6.8430213880609853E-2},{"$f":"'1D Vectors Transposed'!H11+'1D Vectors Transposed'!I11*'Risk-return'!CL3","v":7.1906439986218179E-2},{"$f":"'1D Vectors Transposed'!H11+'1D Vectors Transposed'!I11*'Risk-return'!CM3","v":7.538266609182645E-2},{"$f":"'1D Vectors Transposed'!H11+'1D Vectors Transposed'!I11*'Risk-return'!CN3","v":7.8858892197434721E-2},{"$f":"'1D Vectors Transposed'!H11+'1D Vectors Transposed'!I11*'Risk-return'!CO3","v":8.2335118303043048E-2},{"$f":"'1D Vectors Transposed'!H11+'1D Vectors Transposed'!I11*'Risk-return'!CP3","v":8.5811344408651319E-2},{"$f":"'1D Vectors Transposed'!H11+'1D Vectors Transposed'!I11*'Risk-return'!CQ3","v":8.9287570514259645E-2},{"$f":"'1D Vectors Transposed'!H11+'1D Vectors Transposed'!I11*'Risk-return'!CR3","v":9.2763796619867916E-2},{"$f":"'1D Vectors Transposed'!H11+'1D Vectors Transposed'!I11*'Risk-return'!CS3","v":9.6240022725476243E-2},{"$f":"'1D Vectors Transposed'!H11+'1D Vectors Transposed'!I11*'Risk-return'!CT3","v":9.9716248831084514E-2},{"$f":"'1D Vectors Transposed'!H11+'1D Vectors Transposed'!I11*'Risk-return'!CU3","v":0.10319247493669284},{"$f":"'1D Vectors Transposed'!H11+'1D Vectors Transposed'!I11*'Risk-return'!CV3","v":0.10666870104230111},{"$f":"'1D Vectors Transposed'!H11+'1D Vectors Transposed'!I11*'Risk-return'!CW3","v":0.11014492714790944},{"$f":"'1D Vectors Transposed'!H11+'1D Vectors Transposed'!I11*'Risk-return'!CX3","v":0.11362115325351771},{"$f":"'1D Vectors Transposed'!H11+'1D Vectors Transposed'!I11*'Risk-return'!CY3","v":0.11709737935912598},{"$f":"'1D Vectors Transposed'!H11+'1D Vectors Transposed'!I11*'Risk-return'!CZ3","v":0.12057360546473431},{"$f":"'1D Vectors Transposed'!H11+'1D Vectors Transposed'!I11*'Risk-return'!DA3","v":0.12404983157034258},{"$f":"'1D Vectors Transposed'!H11+'1D Vectors Transposed'!I11*'Risk-return'!DB3","v":0.1275260576759509},{"$f":"'1D Vectors Transposed'!H11+'1D Vectors Transposed'!I11*'Risk-return'!DC3","v":0.13100228378155918},{"$f":"'1D Vectors Transposed'!H11+'1D Vectors Transposed'!I11*'Risk-return'!DD3","v":0.1344785098871675},{"$f":"'1D Vectors Transposed'!H11+'1D Vectors Transposed'!I11*'Risk-return'!DE3","v":0.13795473599277577},{"$f":"'1D Vectors Transposed'!H11+'1D Vectors Transposed'!I11*'Risk-return'!DF3","v":0.1414309620983841},{"$f":"'1D Vectors Transposed'!H11+'1D Vectors Transposed'!I11*'Risk-return'!DG3","v":0.14490718820399237},{"$f":"'1D Vectors Transposed'!H11+'1D Vectors Transposed'!I11*'Risk-return'!DH3","v":0.1483834143096007},{"$f":"'1D Vectors Transposed'!H11+'1D Vectors Transposed'!I11*'Risk-return'!DI3","v":0.15185964041520897},{"$f":"'1D Vectors Transposed'!H11+'1D Vectors Transposed'!I11*'Risk-return'!DJ3","v":0.15533586652081724},{"$f":"'1D Vectors Transposed'!H11+'1D Vectors Transposed'!I11*'Risk-return'!DK3","v":0.15881209262642557},{"$f":"'1D Vectors Transposed'!H11+'1D Vectors Transposed'!I11*'Risk-return'!DL3","v":0.16228831873203384},{"$f":"'1D Vectors Transposed'!H11+'1D Vectors Transposed'!I11*'Risk-return'!DM3","v":0.16576454483764216},{"$f":"'1D Vectors Transposed'!H11+'1D Vectors Transposed'!I11*'Risk-return'!DN3","v":0.16924077094325043},{"$f":"'1D Vectors Transposed'!H11+'1D Vectors Transposed'!I11*'Risk-return'!DO3","v":0.17271699704885876},{"$f":"'1D Vectors Transposed'!H11+'1D Vectors Transposed'!I11*'Risk-return'!DP3","v":0.17619322315446703},{"$f":"'1D Vectors Transposed'!H11+'1D Vectors Transposed'!I11*'Risk-return'!DQ3","v":0.17966944926007536},{"$f":"'1D Vectors Transposed'!H11+'1D Vectors Transposed'!I11*'Risk-return'!DR3","v":0.18314567536568363},{"$f":"'1D Vectors Transposed'!H11+'1D Vectors Transposed'!I11*'Risk-return'!DS3","v":0.18662190147129196},{"$f":"'1D Vectors Transposed'!H11+'1D Vectors Transposed'!I11*'Risk-return'!DT3","v":0.19009812757690023},{"$f":"'1D Vectors Transposed'!H11+'1D Vectors Transposed'!I11*'Risk-return'!DU3","v":0.1935743536825085},{"$f":"'1D Vectors Transposed'!H11+'1D Vectors Transposed'!I11*'Risk-return'!DV3","v":0.19705057978811683},{"$f":"'1D Vectors Transposed'!H11+'1D Vectors Transposed'!I11*'Risk-return'!DW3","v":0.2005268058937251},{"$f":"'1D Vectors Transposed'!H11+'1D Vectors Transposed'!I11*'Risk-return'!DX3","v":0.20400303199933342},{"$f":"'1D Vectors Transposed'!H11+'1D Vectors Transposed'!I11*'Risk-return'!DY3","v":0.20747925810494169},{"$f":"'1D Vectors Transposed'!H11+'1D Vectors Transposed'!I11*'Risk-return'!DZ3","v":0.21095548421055002},{"$f":"'1D Vectors Transposed'!H11+'1D Vectors Transposed'!I11*'Risk-return'!EA3","v":0.21443171031615829},{"$f":"'1D Vectors Transposed'!H11+'1D Vectors Transposed'!I11*'Risk-return'!EB3","v":0.21790793642176662},{"$f":"'1D Vectors Transposed'!H11+'1D Vectors Transposed'!I11*'Risk-return'!EC3","v":0.22138416252737489},{"$f":"'1D Vectors Transposed'!H11+'1D Vectors Transposed'!I11*'Risk-return'!ED3","v":0.22486038863298322},{"$f":"'1D Vectors Transposed'!H11+'1D Vectors Transposed'!I11*'Risk-return'!EE3","v":0.22833661473859149},{"$f":"'1D Vectors Transposed'!H11+'1D Vectors Transposed'!I11*'Risk-return'!EF3","v":0.23181284084419976},{"$f":"'1D Vectors Transposed'!H11+'1D Vectors Transposed'!I11*'Risk-return'!EG3","v":0.23528906694980808},{"$f":"'1D Vectors Transposed'!H11+'1D Vectors Transposed'!I11*'Risk-return'!EH3","v":0.23876529305541636},{"$f":"'1D Vectors Transposed'!H11+'1D Vectors Transposed'!I11*'Risk-return'!EI3","v":0.24224151916102468},{"$f":"'1D Vectors Transposed'!H11+'1D Vectors Transposed'!I11*'Risk-return'!EJ3","v":0.24571774526663295},{"$f":"'1D Vectors Transposed'!H11+'1D Vectors Transposed'!I11*'Risk-return'!EK3","v":0.24919397137224128},{"$f":"'1D Vectors Transposed'!H11+'1D Vectors Transposed'!I11*'Risk-return'!EL3","v":0.25267019747784958},{"$f":"'1D Vectors Transposed'!H11+'1D Vectors Transposed'!I11*'Risk-return'!EM3","v":0.25614642358345785},{"$f":"'1D Vectors Transposed'!H11+'1D Vectors Transposed'!I11*'Risk-return'!EN3","v":0.25962264968906612},{"$f":"'1D Vectors Transposed'!H11+'1D Vectors Transposed'!I11*'Risk-return'!EO3","v":0.26309887579467439},{"$f":"'1D Vectors Transposed'!H11+'1D Vectors Transposed'!I11*'Risk-return'!EP3","v":0.26657510190028277},{"$f":"'1D Vectors Transposed'!H11+'1D Vectors Transposed'!I11*'Risk-return'!EQ3","v":0.27005132800589104},{"$f":"'1D Vectors Transposed'!H11+'1D Vectors Transposed'!I11*'Risk-return'!ER3","v":0.27352755411149932},{"$f":"'1D Vectors Transposed'!H11+'1D Vectors Transposed'!I11*'Risk-return'!ES3","v":0.27700378021710759},{"$f":"'1D Vectors Transposed'!H11+'1D Vectors Transposed'!I11*'Risk-return'!ET3","v":0.28048000632271586},{"$f":"'1D Vectors Transposed'!H11+'1D Vectors Transposed'!I11*'Risk-return'!EU3","v":0.28395623242832424},{"$f":"'1D Vectors Transposed'!H11+'1D Vectors Transposed'!I11*'Risk-return'!EV3","v":0.28743245853393251},{"$f":"'1D Vectors Transposed'!H11+'1D Vectors Transposed'!I11*'Risk-return'!EW3","v":0.29090868463954078},{"$f":"'1D Vectors Transposed'!H11+'1D Vectors Transposed'!I11*'Risk-return'!EX3","v":0.29438491074514905},{"$f":"'1D Vectors Transposed'!H11+'1D Vectors Transposed'!I11*'Risk-return'!EY3","v":0.29786113685075744},{"$f":"'1D Vectors Transposed'!H11+'1D Vectors Transposed'!I11*'Risk-return'!EZ3","v":0.30133736295636571},{"$f":"'1D Vectors Transposed'!H11+'1D Vectors Transposed'!I11*'Risk-return'!FA3","v":0.30481358906197398},{"$f":"'1D Vectors Transposed'!H11+'1D Vectors Transposed'!I11*'Risk-return'!FB3","v":0.30828981516758225},{"$f":"'1D Vectors Transposed'!H11+'1D Vectors Transposed'!I11*'Risk-return'!FC3","v":0.31176604127319052},{"$f":"'1D Vectors Transposed'!H11+'1D Vectors Transposed'!I11*'Risk-return'!FD3","v":0.3152422673787989},{"$f":"'1D Vectors Transposed'!H11+'1D Vectors Transposed'!I11*'Risk-return'!FE3","v":0.31871849348440717},{"$f":"'1D Vectors Transposed'!H11+'1D Vectors Transposed'!I11*'Risk-return'!FF3","v":0.32219471959001544},{"$f":"'1D Vectors Transposed'!H11+'1D Vectors Transposed'!I11*'Risk-return'!FG3","v":0.32567094569562371},{"$f":"'1D Vectors Transposed'!H11+'1D Vectors Transposed'!I11*'Risk-return'!FH3","v":0.3291471718012321},{"$f":"'1D Vectors Transposed'!H11+'1D Vectors Transposed'!I11*'Risk-return'!FI3","v":0.33262339790684037},{"$f":"'1D Vectors Transposed'!H11+'1D Vectors Transposed'!I11*'Risk-return'!FJ3","v":0.33609962401244864},{"$f":"'1D Vectors Transposed'!H11+'1D Vectors Transposed'!I11*'Risk-return'!FK3","v":0.33957585011805691},{"$f":"'1D Vectors Transposed'!H11+'1D Vectors Transposed'!I11*'Risk-return'!FL3","v":0.34305207622366529},{"$f":"'1D Vectors Transposed'!H11+'1D Vectors Transposed'!I11*'Risk-return'!FM3","v":0.34652830232927356},{"$f":"'1D Vectors Transposed'!H11+'1D Vectors Transposed'!I11*'Risk-return'!FN3","v":0.35000452843488183},{"$f":"'1D Vectors Transposed'!H11+'1D Vectors Transposed'!I11*'Risk-return'!FO3","v":0.35348075454049011},{"$f":"'1D Vectors Transposed'!H11+'1D Vectors Transposed'!I11*'Risk-return'!FP3","v":0.35695698064609838},{"$f":"'1D Vectors Transposed'!H11+'1D Vectors Transposed'!I11*'Risk-return'!FQ3","v":0.36043320675170676},{"$f":"'1D Vectors Transposed'!H11+'1D Vectors Transposed'!I11*'Risk-return'!FR3","v":0.36390943285731503},{"$f":"'1D Vectors Transposed'!H11+'1D Vectors Transposed'!I11*'Risk-return'!FS3","v":0.3673856589629233},{"$f":"'1D Vectors Transposed'!H11+'1D Vectors Transposed'!I11*'Risk-return'!FT3","v":0.37086188506853157},{"$f":"'1D Vectors Transposed'!H11+'1D Vectors Transposed'!I11*'Risk-return'!FU3","v":0.37433811117413995},{"$f":"'1D Vectors Transposed'!H11+'1D Vectors Transposed'!I11*'Risk-return'!FV3","v":0.37781433727974822},{"$f":"'1D Vectors Transposed'!H11+'1D Vectors Transposed'!I11*'Risk-return'!FW3","v":0.3812905633853565},{"$f":"'1D Vectors Transposed'!H11+'1D Vectors Transposed'!I11*'Risk-return'!FX3","v":0.38476678949096477},{"$f":"'1D Vectors Transposed'!H11+'1D Vectors Transposed'!I11*'Risk-return'!FY3","v":0.38824301559657315},{"$f":"'1D Vectors Transposed'!H11+'1D Vectors Transposed'!I11*'Risk-return'!FZ3","v":0.39171924170218142},{"$f":"'1D Vectors Transposed'!H11+'1D Vectors Transposed'!I11*'Risk-return'!GA3","v":0.39519546780778969},{"$f":"'1D Vectors Transposed'!H11+'1D Vectors Transposed'!I11*'Risk-return'!GB3","v":0.39867169391339796},{"$f":"'1D Vectors Transposed'!H11+'1D Vectors Transposed'!I11*'Risk-return'!GC3","v":0.40214792001900623},{"$f":"'1D Vectors Transposed'!H11+'1D Vectors Transposed'!I11*'Risk-return'!GD3","v":0.40562414612461462},{"$f":"'1D Vectors Transposed'!H11+'1D Vectors Transposed'!I11*'Risk-return'!GE3","v":0.40910037223022289},{"$f":"'1D Vectors Transposed'!H11+'1D Vectors Transposed'!I11*'Risk-return'!GF3","v":0.41257659833583116},{"$f":"'1D Vectors Transposed'!H11+'1D Vectors Transposed'!I11*'Risk-return'!GG3","v":0.41605282444143943},{"$f":"'1D Vectors Transposed'!H11+'1D Vectors Transposed'!I11*'Risk-return'!GH3","v":0.41952905054704781},{"$f":"'1D Vectors Transposed'!H11+'1D Vectors Transposed'!I11*'Risk-return'!GI3","v":0.42300527665265608},{"$f":"'1D Vectors Transposed'!H11+'1D Vectors Transposed'!I11*'Risk-return'!GJ3","v":0.42648150275826435},{"$f":"'1D Vectors Transposed'!H11+'1D Vectors Transposed'!I11*'Risk-return'!GK3","v":0.42995772886387262},{"$f":"'1D Vectors Transposed'!H11+'1D Vectors Transposed'!I11*'Risk-return'!GL3","v":0.43343395496948089},{"$f":"'1D Vectors Transposed'!H11+'1D Vectors Transposed'!I11*'Risk-return'!GM3","v":0.43691018107508928},{"$f":"'1D Vectors Transposed'!H11+'1D Vectors Transposed'!I11*'Risk-return'!GN3","v":0.44038640718069755},{"$f":"'1D Vectors Transposed'!H11+'1D Vectors Transposed'!I11*'Risk-return'!GO3","v":0.44386263328630582},{"$f":"'1D Vectors Transposed'!H11+'1D Vectors Transposed'!I11*'Risk-return'!GP3","v":0.44733885939191409},{"$f":"'1D Vectors Transposed'!H11+'1D Vectors Transposed'!I11*'Risk-return'!GQ3","v":0.45081508549752247},{"$f":"'1D Vectors Transposed'!H11+'1D Vectors Transposed'!I11*'Risk-return'!GR3","v":0.45429131160313074},{"$f":"'1D Vectors Transposed'!H11+'1D Vectors Transposed'!I11*'Risk-return'!GS3","v":0.45776753770873901},{"$f":"'1D Vectors Transposed'!H11+'1D Vectors Transposed'!I11*'Risk-return'!GT3","v":0.46124376381434729},{"$f":"'1D Vectors Transposed'!H11+'1D Vectors Transposed'!I11*'Risk-return'!GU3","v":0.46471998991995567},{"$f":"'1D Vectors Transposed'!H11+'1D Vectors Transposed'!I11*'Risk-return'!GV3","v":0.46819621602556394},{"$f":"'1D Vectors Transposed'!H11+'1D Vectors Transposed'!I11*'Risk-return'!GW3","v":0.47167244213117221},{"$f":"'1D Vectors Transposed'!H11+'1D Vectors Transposed'!I11*'Risk-return'!GX3","v":0.47514866823678048},{"$f":"'1D Vectors Transposed'!H11+'1D Vectors Transposed'!I11*'Risk-return'!GY3","v":0.47862489434238875},{"$f":"'1D Vectors Transposed'!H11+'1D Vectors Transposed'!I11*'Risk-return'!GZ3","v":0.48210112044799713},{"$f":"'1D Vectors Transposed'!H11+'1D Vectors Transposed'!I11*'Risk-return'!HA3","v":0.4855773465536054},{"$f":"'1D Vectors Transposed'!H11+'1D Vectors Transposed'!I11*'Risk-return'!HB3","v":0.48905357265921368},{"$f":"'1D Vectors Transposed'!H11+'1D Vectors Transposed'!I11*'Risk-return'!HC3","v":0.49252979876482195},{"$f":"'1D Vectors Transposed'!H11+'1D Vectors Transposed'!I11*'Risk-return'!HD3","v":0.49600602487043033},{"$f":"'1D Vectors Transposed'!H11+'1D Vectors Transposed'!I11*'Risk-return'!HE3","v":0.4994822509760386},{"$f":"'1D Vectors Transposed'!H11+'1D Vectors Transposed'!I11*'Risk-return'!HF3","v":0.50295847708164687},{"$f":"'1D Vectors Transposed'!H11+'1D Vectors Transposed'!I11*'Risk-return'!HG3","v":0.50643470318725514},{"$f":"'1D Vectors Transposed'!H11+'1D Vectors Transposed'!I11*'Risk-return'!HH3","v":0.50991092929286352},{"$f":"'1D Vectors Transposed'!H11+'1D Vectors Transposed'!I11*'Risk-return'!HI3","v":0.5133871553984718},{"$f":"'1D Vectors Transposed'!H11+'1D Vectors Transposed'!I11*'Risk-return'!HJ3","v":0.51686338150408007},{"$f":"'1D Vectors Transposed'!H11+'1D Vectors Transposed'!I11*'Risk-return'!HK3","v":0.52033960760968834},{"$f":"'1D Vectors Transposed'!H11+'1D Vectors Transposed'!I11*'Risk-return'!HL3","v":0.52381583371529661},{"$f":"'1D Vectors Transposed'!H11+'1D Vectors Transposed'!I11*'Risk-return'!HM3","v":0.52729205982090499},{"$f":"'1D Vectors Transposed'!H11+'1D Vectors Transposed'!I11*'Risk-return'!HN3","v":0.53076828592651326},{"$f":"'1D Vectors Transposed'!H11+'1D Vectors Transposed'!I11*'Risk-return'!HO3","v":0.53424451203212153},{"$f":"'1D Vectors Transposed'!H11+'1D Vectors Transposed'!I11*'Risk-return'!HP3","v":0.5377207381377298},{"$f":"'1D Vectors Transposed'!H11+'1D Vectors Transposed'!I11*'Risk-return'!HQ3","v":0.54119696424333819},{"$f":"'1D Vectors Transposed'!H11+'1D Vectors Transposed'!I11*'Risk-return'!HR3","v":0.54467319034894646},{"$f":"'1D Vectors Transposed'!H11+'1D Vectors Transposed'!I11*'Risk-return'!HS3","v":0.54814941645455473},{"$f":"'1D Vectors Transposed'!H11+'1D Vectors Transposed'!I11*'Risk-return'!HT3","v":0.551625642560163},{"$f":"'1D Vectors Transposed'!H11+'1D Vectors Transposed'!I11*'Risk-return'!HU3","v":0.55510186866577127},{"$f":"'1D Vectors Transposed'!H11+'1D Vectors Transposed'!I11*'Risk-return'!HV3","v":0.55857809477137965},{"$f":"'1D Vectors Transposed'!H11+'1D Vectors Transposed'!I11*'Risk-return'!HW3","v":0.56205432087698792},{"$f":"'1D Vectors Transposed'!H11+'1D Vectors Transposed'!I11*'Risk-return'!HX3","v":0.56553054698259619},{"$f":"'1D Vectors Transposed'!H11+'1D Vectors Transposed'!I11*'Risk-return'!HY3","v":0.56900677308820446},{"$f":"'1D Vectors Transposed'!H11+'1D Vectors Transposed'!I11*'Risk-return'!HZ3","v":0.57248299919381285},{"$f":"'1D Vectors Transposed'!H11+'1D Vectors Transposed'!I11*'Risk-return'!IA3","v":0.57595922529942112},{"$f":"'1D Vectors Transposed'!H11+'1D Vectors Transposed'!I11*'Risk-return'!IB3","v":0.57943545140502939},{"$f":"'1D Vectors Transposed'!H11+'1D Vectors Transposed'!I11*'Risk-return'!IC3","v":0.58291167751063766},{"$f":"'1D Vectors Transposed'!H11+'1D Vectors Transposed'!I11*'Risk-return'!ID3","v":0.58638790361624604},{"$f":"'1D Vectors Transposed'!H11+'1D Vectors Transposed'!I11*'Risk-return'!IE3","v":0.58986412972185431},{"$f":"'1D Vectors Transposed'!H11+'1D Vectors Transposed'!I11*'Risk-return'!IF3","v":0.59334035582746258},{"$f":"'1D Vectors Transposed'!H11+'1D Vectors Transposed'!I11*'Risk-return'!IG3","v":0.59681658193307086},{"$f":"'1D Vectors Transposed'!H11+'1D Vectors Transposed'!I11*'Risk-return'!IH3","v":0.60029280803867913},{"$f":"'1D Vectors Transposed'!H11+'1D Vectors Transposed'!I11*'Risk-return'!II3","v":0.60376903414428751},{"$f":"'1D Vectors Transposed'!H11+'1D Vectors Transposed'!I11*'Risk-return'!IJ3","v":0.60724526024989578},{"$f":"'1D Vectors Transposed'!H11+'1D Vectors Transposed'!I11*'Risk-return'!IK3","v":0.61072148635550405},{"$f":"'1D Vectors Transposed'!H11+'1D Vectors Transposed'!I11*'Risk-return'!IL3","v":0.61419771246111232},{"$f":"'1D Vectors Transposed'!H11+'1D Vectors Transposed'!I11*'Risk-return'!IM3","v":0.6176739385667207},{"$f":"'1D Vectors Transposed'!H11+'1D Vectors Transposed'!I11*'Risk-return'!IN3","v":0.62115016467232897},{"$f":"'1D Vectors Transposed'!H11+'1D Vectors Transposed'!I11*'Risk-return'!IO3","v":0.62462639077793725},{"$f":"'1D Vectors Transposed'!H11+'1D Vectors Transposed'!I11*'Risk-return'!IP3","v":0.62810261688354552},{"$f":"'1D Vectors Transposed'!H11+'1D Vectors Transposed'!I11*'Risk-return'!IQ3","v":0.63157884298915379},{"$f":"'1D Vectors Transposed'!H11+'1D Vectors Transposed'!I11*'Risk-return'!IR3","v":0.63505506909476217},{"$f":"'1D Vectors Transposed'!H11+'1D Vectors Transposed'!I11*'Risk-return'!IS3","v":0.63853129520037044},{"$f":"'1D Vectors Transposed'!H11+'1D Vectors Transposed'!I11*'Risk-return'!IT3","v":0.64200752130597871},{"$f":"'1D Vectors Transposed'!H11+'1D Vectors Transposed'!I11*'Risk-return'!IU3","v":0.64548374741158698},{"$f":"'1D Vectors Transposed'!H11+'1D Vectors Transposed'!I11*'Risk-return'!IV3","v":0.64895997351719537},{"$f":"'1D Vectors Transposed'!H11+'1D Vectors Transposed'!I11*'Risk-return'!IW3","v":0.65243619962280364},{"$f":"'1D Vectors Transposed'!H11+'1D Vectors Transposed'!I11*'Risk-return'!IX3","v":0.65591242572841191},{"$f":"'1D Vectors Transposed'!H11+'1D Vectors Transposed'!I11*'Risk-return'!IY3","v":0.65938865183402018},{"$f":"'1D Vectors Transposed'!H11+'1D Vectors Transposed'!I11*'Risk-return'!IZ3","v":0.66286487793962856},{"$f":"'1D Vectors Transposed'!H11+'1D Vectors Transposed'!I11*'Risk-return'!JA3","v":0.66634110404523683},{"$f":"'1D Vectors Transposed'!H11+'1D Vectors Transposed'!I11*'Risk-return'!JB3","v":0.6698173301508451},{"$f":"'1D Vectors Transposed'!H11+'1D Vectors Transposed'!I11*'Risk-return'!JC3","v":0.67329355625645337},{"$f":"'1D Vectors Transposed'!H11+'1D Vectors Transposed'!I11*'Risk-return'!JD3","v":0.67676978236206164},{"$f":"'1D Vectors Transposed'!H11+'1D Vectors Transposed'!I11*'Risk-return'!JE3","v":0.68024600846767003},{"$f":"'1D Vectors Transposed'!H11+'1D Vectors Transposed'!I11*'Risk-return'!JF3","v":0.6837222345732783},{"$f":"'1D Vectors Transposed'!H11+'1D Vectors Transposed'!I11*'Risk-return'!JG3","v":0.68719846067888657},{"$f":"'1D Vectors Transposed'!H11+'1D Vectors Transposed'!I11*'Risk-return'!JH3","v":0.69067468678449484},{"$f":"'1D Vectors Transposed'!H11+'1D Vectors Transposed'!I11*'Risk-return'!JI3","v":0.69415091289010322},{"$f":"'1D Vectors Transposed'!H11+'1D Vectors Transposed'!I11*'Risk-return'!JJ3","v":0.69762713899571149},{"$f":"'1D Vectors Transposed'!H11+'1D Vectors Transposed'!I11*'Risk-return'!JK3","v":0.70110336510131976},{"$f":"'1D Vectors Transposed'!H11+'1D Vectors Transposed'!I11*'Risk-return'!JL3","v":0.70457959120692804},{"$f":"'1D Vectors Transposed'!H11+'1D Vectors Transposed'!I11*'Risk-return'!JM3","v":0.70805581731253642},{"$f":"'1D Vectors Transposed'!H11+'1D Vectors Transposed'!I11*'Risk-return'!JN3","v":0.71153204341814469},{"$f":"'1D Vectors Transposed'!H11+'1D Vectors Transposed'!I11*'Risk-return'!JO3","v":0.71500826952375296},{"$f":"'1D Vectors Transposed'!H11+'1D Vectors Transposed'!I11*'Risk-return'!JP3","v":0.71848449562936123},{"$f":"'1D Vectors Transposed'!H11+'1D Vectors Transposed'!I11*'Risk-return'!JQ3","v":0.7219607217349695},{"$f":"'1D Vectors Transposed'!H11+'1D Vectors Transposed'!I11*'Risk-return'!JR3","v":0.72543694784057788},{"$f":"'1D Vectors Transposed'!H11+'1D Vectors Transposed'!I11*'Risk-return'!JS3","v":0.72891317394618615},{"$f":"'1D Vectors Transposed'!H11+'1D Vectors Transposed'!I11*'Risk-return'!JT3","v":0.73238940005179443},{"$f":"'1D Vectors Transposed'!H11+'1D Vectors Transposed'!I11*'Risk-return'!JU3","v":0.7358656261574027},{"$f":"'1D Vectors Transposed'!H11+'1D Vectors Transposed'!I11*'Risk-return'!JV3","v":0.73934185226301108},{"$f":"'1D Vectors Transposed'!H11+'1D Vectors Transposed'!I11*'Risk-return'!JW3","v":0.74281807836861935},{"$f":"'1D Vectors Transposed'!H11+'1D Vectors Transposed'!I11*'Risk-return'!JX3","v":0.74629430447422762},{"$f":"'1D Vectors Transposed'!H11+'1D Vectors Transposed'!I11*'Risk-return'!JY3","v":0.74977053057983589},{"$f":"'1D Vectors Transposed'!H11+'1D Vectors Transposed'!I11*'Risk-return'!JZ3","v":0.75324675668544416},{"$f":"'1D Vectors Transposed'!H11+'1D Vectors Transposed'!I11*'Risk-return'!KA3","v":0.75672298279105255},{"$f":"'1D Vectors Transposed'!H11+'1D Vectors Transposed'!I11*'Risk-return'!KB3","v":0.76019920889666082},{"$f":"'1D Vectors Transposed'!H11+'1D Vectors Transposed'!I11*'Risk-return'!KC3","v":0.76367543500226909},{"$f":"'1D Vectors Transposed'!H11+'1D Vectors Transposed'!I11*'Risk-return'!KD3","v":0.76715166110787736},{"$f":"'1D Vectors Transposed'!H11+'1D Vectors Transposed'!I11*'Risk-return'!KE3","v":0.77062788721348563},{"$f":"'1D Vectors Transposed'!H11+'1D Vectors Transposed'!I11*'Risk-return'!KF3","v":0.7741041133190939},{"$f":"'1D Vectors Transposed'!H11+'1D Vectors Transposed'!I11*'Risk-return'!KG3","v":0.77758033942470239},{"$f":"'1D Vectors Transposed'!H11+'1D Vectors Transposed'!I11*'Risk-return'!KH3","v":0.78105656553031066},{"$f":"'1D Vectors Transposed'!H11+'1D Vectors Transposed'!I11*'Risk-return'!KI3","v":0.78453279163591894},{"$f":"'1D Vectors Transposed'!H11+'1D Vectors Transposed'!I11*'Risk-return'!KJ3","v":0.78800901774152721},{"$f":"'1D Vectors Transposed'!H11+'1D Vectors Transposed'!I11*'Risk-return'!KK3","v":0.79148524384713548},{"$f":"'1D Vectors Transposed'!H11+'1D Vectors Transposed'!I11*'Risk-return'!KL3","v":0.79496146995274375},{"$f":"'1D Vectors Transposed'!H11+'1D Vectors Transposed'!I11*'Risk-return'!KM3","v":0.79843769605835202},{"$f":"'1D Vectors Transposed'!H11+'1D Vectors Transposed'!I11*'Risk-return'!KN3","v":0.80191392216396029},{"$f":"'1D Vectors Transposed'!H11+'1D Vectors Transposed'!I11*'Risk-return'!KO3","v":0.80539014826956856},{"$f":"'1D Vectors Transposed'!H11+'1D Vectors Transposed'!I11*'Risk-return'!KP3","v":0.80886637437517706},{"$f":"'1D Vectors Transposed'!H11+'1D Vectors Transposed'!I11*'Risk-return'!KQ3","v":0.81234260048078533},{"$f":"'1D Vectors Transposed'!H11+'1D Vectors Transposed'!I11*'Risk-return'!KR3","v":0.8158188265863936},{"$f":"'1D Vectors Transposed'!H11+'1D Vectors Transposed'!I11*'Risk-return'!KS3","v":0.81929505269200187},{"$f":"'1D Vectors Transposed'!H11+'1D Vectors Transposed'!I11*'Risk-return'!KT3","v":0.82277127879761014},{"$f":"'1D Vectors Transposed'!H11+'1D Vectors Transposed'!I11*'Risk-return'!KU3","v":0.82624750490321841},{"$f":"'1D Vectors Transposed'!H11+'1D Vectors Transposed'!I11*'Risk-return'!KV3","v":0.82972373100882668},{"$f":"'1D Vectors Transposed'!H11+'1D Vectors Transposed'!I11*'Risk-return'!KW3","v":0.83319995711443495},{"$f":"'1D Vectors Transposed'!H11+'1D Vectors Transposed'!I11*'Risk-return'!KX3","v":0.83667618322004322},{"$f":"'1D Vectors Transposed'!H11+'1D Vectors Transposed'!I11*'Risk-return'!KY3","v":0.84015240932565172},{"$f":"'1D Vectors Transposed'!H11+'1D Vectors Transposed'!I11*'Risk-return'!KZ3","v":0.84362863543125999},{"$f":"'1D Vectors Transposed'!H11+'1D Vectors Transposed'!I11*'Risk-return'!LA3","v":0.84710486153686826},{"$f":"'1D Vectors Transposed'!H11+'1D Vectors Transposed'!I11*'Risk-return'!LB3","v":0.85058115239234333},{"$f":"'1D Vectors Transposed'!H11+'1D Vectors Transposed'!I11*'Risk-return'!LC3","v":0.85405744324781863},{"$f":"'1D Vectors Transposed'!H11+'1D Vectors Transposed'!I11*'Risk-return'!LD3","v":0.85753373410329392},{"$f":"'1D Vectors Transposed'!H11+'1D Vectors Transposed'!I11*'Risk-return'!LE3","v":0.86101002495876899},{"$f":"'1D Vectors Transposed'!H11+'1D Vectors Transposed'!I11*'Risk-return'!LF3","v":0.86448631581424429},{"$f":"'1D Vectors Transposed'!H11+'1D Vectors Transposed'!I11*'Risk-return'!LG3","v":0.86796260666971958},{"$f":"'1D Vectors Transposed'!H11+'1D Vectors Transposed'!I11*'Risk-return'!LH3","v":0.87143889752519488},{"$f":"'1D Vectors Transposed'!H11+'1D Vectors Transposed'!I11*'Risk-return'!LI3","v":0.87491518838066995},{"$f":"'1D Vectors Transposed'!H11+'1D Vectors Transposed'!I11*'Risk-return'!LJ3","v":0.87839147923614525},{"$f":"'1D Vectors Transposed'!H11+'1D Vectors Transposed'!I11*'Risk-return'!LK3","v":0.88186777009162054},{"$f":"'1D Vectors Transposed'!H11+'1D Vectors Transposed'!I11*'Risk-return'!LL3","v":0.88534406094709561},{"$f":"'1D Vectors Transposed'!H11+'1D Vectors Transposed'!I11*'Risk-return'!LM3","v":0.88882035180257091},{"$f":"'1D Vectors Transposed'!H11+'1D Vectors Transposed'!I11*'Risk-return'!LN3","v":0.8922966426580462},{"$f":"'1D Vectors Transposed'!H11+'1D Vectors Transposed'!I11*'Risk-return'!LO3","v":0.89577293351352127},{"$f":"'1D Vectors Transposed'!H11+'1D Vectors Transposed'!I11*'Risk-return'!LP3","v":0.89924922436899657},{"$f":"'1D Vectors Transposed'!H11+'1D Vectors Transposed'!I11*'Risk-return'!LQ3","v":0.90272551522447186},{"$f":"'1D Vectors Transposed'!H11+'1D Vectors Transposed'!I11*'Risk-return'!LR3","v":0.90620180607994694},{"$f":"'1D Vectors Transposed'!H11+'1D Vectors Transposed'!I11*'Risk-return'!LS3","v":0.90967809693542223},{"$f":"'1D Vectors Transposed'!H11+'1D Vectors Transposed'!I11*'Risk-return'!LT3","v":0.91315438779089753},{"$f":"'1D Vectors Transposed'!H11+'1D Vectors Transposed'!I11*'Risk-return'!LU3","v":0.9166306786463726},{"$f":"'1D Vectors Transposed'!H11+'1D Vectors Transposed'!I11*'Risk-return'!LV3","v":0.92010696950184789},{"$f":"'1D Vectors Transposed'!H11+'1D Vectors Transposed'!I11*'Risk-return'!LW3","v":0.92358326035732319},{"$f":"'1D Vectors Transposed'!H11+'1D Vectors Transposed'!I11*'Risk-return'!LX3","v":0.92705955121279826},{"$f":"'1D Vectors Transposed'!H11+'1D Vectors Transposed'!I11*'Risk-return'!LY3","v":0.93053584206827356},{"$f":"'1D Vectors Transposed'!H11+'1D Vectors Transposed'!I11*'Risk-return'!LZ3","v":0.93401213292374885},{"$f":"'1D Vectors Transposed'!H11+'1D Vectors Transposed'!I11*'Risk-return'!MA3","v":0.93748842377922392},{"$f":"'1D Vectors Transposed'!H11+'1D Vectors Transposed'!I11*'Risk-return'!MB3","v":0.94096471463469922},{"$f":"'1D Vectors Transposed'!H11+'1D Vectors Transposed'!I11*'Risk-return'!MC3","v":0.94444100549017451},{"$f":"'1D Vectors Transposed'!H11+'1D Vectors Transposed'!I11*'Risk-return'!MD3","v":0.94791729634564958},{"$f":"'1D Vectors Transposed'!H11+'1D Vectors Transposed'!I11*'Risk-return'!ME3","v":0.95139358720112488},{"$f":"'1D Vectors Transposed'!H11+'1D Vectors Transposed'!I11*'Risk-return'!MF3","v":0.95486987805660017},{"$f":"'1D Vectors Transposed'!H11+'1D Vectors Transposed'!I11*'Risk-return'!MG3","v":0.95834616891207525},{"$f":"'1D Vectors Transposed'!H11+'1D Vectors Transposed'!I11*'Risk-return'!MH3","v":0.96182245976755054},{"$f":"'1D Vectors Transposed'!H11+'1D Vectors Transposed'!I11*'Risk-return'!MI3","v":0.96529875062302584},{"$f":"'1D Vectors Transposed'!H11+'1D Vectors Transposed'!I11*'Risk-return'!MJ3","v":0.96877504147850091},{"$f":"'1D Vectors Transposed'!H11+'1D Vectors Transposed'!I11*'Risk-return'!MK3","v":0.9722513323339762},{"$f":"'1D Vectors Transposed'!H11+'1D Vectors Transposed'!I11*'Risk-return'!ML3","v":0.9757276231894515},{"$f":"'1D Vectors Transposed'!H11+'1D Vectors Transposed'!I11*'Risk-return'!MM3","v":0.97920391404492657},{"$f":"'1D Vectors Transposed'!H11+'1D Vectors Transposed'!I11*'Risk-return'!MN3","v":0.98268020490040187},{"$f":"'1D Vectors Transposed'!H11+'1D Vectors Transposed'!I11*'Risk-return'!MO3","v":0.98615649575587716},{"$f":"'1D Vectors Transposed'!H11+'1D Vectors Transposed'!I11*'Risk-return'!MP3","v":0.98963278661135223},{"$f":"'1D Vectors Transposed'!H11+'1D Vectors Transposed'!I11*'Risk-return'!MQ3","v":0.99310907746682753},{"$f":"'1D Vectors Transposed'!H11+'1D Vectors Transposed'!I11*'Risk-return'!MR3","v":0.99658536832230282},{"$f":"'1D Vectors Transposed'!H11+'1D Vectors Transposed'!I11*'Risk-return'!MS3","v":1.000061659177778},{"$f":"'1D Vectors Transposed'!H11+'1D Vectors Transposed'!I11*'Risk-return'!MT3","v":1.0035379500332533},{"$f":"'1D Vectors Transposed'!H11+'1D Vectors Transposed'!I11*'Risk-return'!MU3","v":1.0070142408887286},{"$f":"'1D Vectors Transposed'!H11+'1D Vectors Transposed'!I11*'Risk-return'!MV3","v":1.0104905317442037},{"$f":"'1D Vectors Transposed'!H11+'1D Vectors Transposed'!I11*'Risk-return'!MW3","v":1.013966822599679},{"$f":"'1D Vectors Transposed'!H11+'1D Vectors Transposed'!I11*'Risk-return'!MX3","v":1.0174431134551543},{"$f":"'1D Vectors Transposed'!H11+'1D Vectors Transposed'!I11*'Risk-return'!MY3","v":1.0209194043106293},{"$f":"'1D Vectors Transposed'!H11+'1D Vectors Transposed'!I11*'Risk-return'!MZ3","v":1.0243956951661046},{"$f":"'1D Vectors Transposed'!H11+'1D Vectors Transposed'!I11*'Risk-return'!NA3","v":1.0278719860215799},{"$f":"'1D Vectors Transposed'!H11+'1D Vectors Transposed'!I11*'Risk-return'!NB3","v":1.031348276877055},{"$f":"'1D Vectors Transposed'!H11+'1D Vectors Transposed'!I11*'Risk-return'!NC3","v":1.0348245677325303},{"$f":"'1D Vectors Transposed'!H11+'1D Vectors Transposed'!I11*'Risk-return'!ND3","v":1.0383008585880056},{"$f":"'1D Vectors Transposed'!H11+'1D Vectors Transposed'!I11*'Risk-return'!NE3","v":1.0417771494434807},{"$f":"'1D Vectors Transposed'!H11+'1D Vectors Transposed'!I11*'Risk-return'!NF3","v":1.0452534402989559},{"$f":"'1D Vectors Transposed'!H11+'1D Vectors Transposed'!I11*'Risk-return'!NG3","v":1.0487297311544312},{"$f":"'1D Vectors Transposed'!H11+'1D Vectors Transposed'!I11*'Risk-return'!NH3","v":1.0522060220099063},{"$f":"'1D Vectors Transposed'!H11+'1D Vectors Transposed'!I11*'Risk-return'!NI3","v":1.0556823128653816},{"$f":"'1D Vectors Transposed'!H11+'1D Vectors Transposed'!I11*'Risk-return'!NJ3","v":1.0591586037208569},{"$f":"'1D Vectors Transposed'!H11+'1D Vectors Transposed'!I11*'Risk-return'!NK3","v":1.062634894576332},{"$f":"'1D Vectors Transposed'!H11+'1D Vectors Transposed'!I11*'Risk-return'!NL3","v":1.0661111854318073},{"$f":"'1D Vectors Transposed'!H11+'1D Vectors Transposed'!I11*'Risk-return'!NM3","v":1.0695874762872826},{"$f":"'1D Vectors Transposed'!H11+'1D Vectors Transposed'!I11*'Risk-return'!NN3","v":1.0730637671427576},{"$f":"'1D Vectors Transposed'!H11+'1D Vectors Transposed'!I11*'Risk-return'!NO3","v":1.0765400579982329},{"$f":"'1D Vectors Transposed'!H11+'1D Vectors Transposed'!I11*'Risk-return'!NP3","v":1.0800163488537082},{"$f":"'1D Vectors Transposed'!H11+'1D Vectors Transposed'!I11*'Risk-return'!NQ3","v":1.0834926397091833},{"$f":"'1D Vectors Transposed'!H11+'1D Vectors Transposed'!I11*'Risk-return'!NR3","v":1.0869689305646586},{"$f":"'1D Vectors Transposed'!H11+'1D Vectors Transposed'!I11*'Risk-return'!NS3","v":1.0904452214201339},{"$f":"'1D Vectors Transposed'!H11+'1D Vectors Transposed'!I11*'Risk-return'!NT3","v":1.093921512275609},{"$f":"'1D Vectors Transposed'!H11+'1D Vectors Transposed'!I11*'Risk-return'!NU3","v":1.0973978031310843},{"$f":"'1D Vectors Transposed'!H11+'1D Vectors Transposed'!I11*'Risk-return'!NV3","v":1.1008740939865596},{"$f":"'1D Vectors Transposed'!H11+'1D Vectors Transposed'!I11*'Risk-return'!NW3","v":1.1043503848420346},{"$f":"'1D Vectors Transposed'!H11+'1D Vectors Transposed'!I11*'Risk-return'!NX3","v":1.1078266756975099},{"$f":"'1D Vectors Transposed'!H11+'1D Vectors Transposed'!I11*'Risk-return'!NY3","v":1.1113029665529852},{"$f":"'1D Vectors Transposed'!H11+'1D Vectors Transposed'!I11*'Risk-return'!NZ3","v":1.1147792574084603},{"$f":"'1D Vectors Transposed'!H11+'1D Vectors Transposed'!I11*'Risk-return'!OA3","v":1.1182555482639356},{"$f":"'1D Vectors Transposed'!H11+'1D Vectors Transposed'!I11*'Risk-return'!OB3","v":1.1217318391194109},{"$f":"'1D Vectors Transposed'!H11+'1D Vectors Transposed'!I11*'Risk-return'!OC3","v":1.125208129974886},{"$f":"'1D Vectors Transposed'!H11+'1D Vectors Transposed'!I11*'Risk-return'!OD3","v":1.1286844208303612},{"$f":"'1D Vectors Transposed'!H11+'1D Vectors Transposed'!I11*'Risk-return'!OE3","v":1.1321607116858365},{"$f":"'1D Vectors Transposed'!H11+'1D Vectors Transposed'!I11*'Risk-return'!OF3","v":1.1356370025413116},{"$f":"'1D Vectors Transposed'!H11+'1D Vectors Transposed'!I11*'Risk-return'!OG3","v":1.1391132933967869},{"$f":"'1D Vectors Transposed'!H11+'1D Vectors Transposed'!I11*'Risk-return'!OH3","v":1.1425895842522622},{"$f":"'1D Vectors Transposed'!H11+'1D Vectors Transposed'!I11*'Risk-return'!OI3","v":1.1460658751077373},{"$f":"'1D Vectors Transposed'!H11+'1D Vectors Transposed'!I11*'Risk-return'!OJ3","v":1.1495421659632126},{"$f":"'1D Vectors Transposed'!H11+'1D Vectors Transposed'!I11*'Risk-return'!OK3","v":1.1530184568186879},{"$f":"'1D Vectors Transposed'!H11+'1D Vectors Transposed'!I11*'Risk-return'!OL3","v":1.1564947476741629},{"$f":"'1D Vectors Transposed'!H11+'1D Vectors Transposed'!I11*'Risk-return'!OM3","v":1.1599710385296382},{"$f":"'1D Vectors Transposed'!H11+'1D Vectors Transposed'!I11*'Risk-return'!ON3","v":1.1634473293851135},{"$f":"'1D Vectors Transposed'!H11+'1D Vectors Transposed'!I11*'Risk-return'!OO3","v":1.1669236202405886},{"$f":"'1D Vectors Transposed'!H11+'1D Vectors Transposed'!I11*'Risk-return'!OP3","v":1.1703999110960639},{"$f":"'1D Vectors Transposed'!H11+'1D Vectors Transposed'!I11*'Risk-return'!OQ3","v":1.1738762019515392},{"$f":"'1D Vectors Transposed'!H11+'1D Vectors Transposed'!I11*'Risk-return'!OR3","v":1.1773524928070143},{"$f":"'1D Vectors Transposed'!H11+'1D Vectors Transposed'!I11*'Risk-return'!OS3","v":1.1808287836624896},{"$f":"'1D Vectors Transposed'!H11+'1D Vectors Transposed'!I11*'Risk-return'!OT3","v":1.1843050745179649},{"$f":"'1D Vectors Transposed'!H11+'1D Vectors Transposed'!I11*'Risk-return'!OU3","v":1.1877813653734401},{"$f":"'1D Vectors Transposed'!H11+'1D Vectors Transposed'!I11*'Risk-return'!OV3","v":1.1912576562289152},{"$f":"'1D Vectors Transposed'!H11+'1D Vectors Transposed'!I11*'Risk-return'!OW3","v":1.1947339470843905},{"$f":"'1D Vectors Transposed'!H11+'1D Vectors Transposed'!I11*'Risk-return'!OX3","v":1.1982102379398658},{"$f":"'1D Vectors Transposed'!H11+'1D Vectors Transposed'!I11*'Risk-return'!OY3","v":1.2016865287953409},{"$f":"'1D Vectors Transposed'!H11+'1D Vectors Transposed'!I11*'Risk-return'!OZ3","v":1.2051628196508162},{"$f":"'1D Vectors Transposed'!H11+'1D Vectors Transposed'!I11*'Risk-return'!PA3","v":1.2086391105062915},{"$f":"'1D Vectors Transposed'!H11+'1D Vectors Transposed'!I11*'Risk-return'!PB3","v":1.2121154013617665},{"$f":"'1D Vectors Transposed'!H11+'1D Vectors Transposed'!I11*'Risk-return'!PC3","v":1.2155916922172418},{"$f":"'1D Vectors Transposed'!H11+'1D Vectors Transposed'!I11*'Risk-return'!PD3","v":1.2190679830727171},{"$f":"'1D Vectors Transposed'!H11+'1D Vectors Transposed'!I11*'Risk-return'!PE3","v":1.2225442739281922},{"$f":"'1D Vectors Transposed'!H11+'1D Vectors Transposed'!I11*'Risk-return'!PF3","v":1.2260205647836675},{"$f":"'1D Vectors Transposed'!H11+'1D Vectors Transposed'!I11*'Risk-return'!PG3","v":1.2294968556391428},{"$f":"'1D Vectors Transposed'!H11+'1D Vectors Transposed'!I11*'Risk-return'!PH3","v":1.2329731464946179},{"$f":"'1D Vectors Transposed'!H11+'1D Vectors Transposed'!I11*'Risk-return'!PI3","v":1.2364494373500932},{"$f":"'1D Vectors Transposed'!H11+'1D Vectors Transposed'!I11*'Risk-return'!PJ3","v":1.2399257282055685},{"$f":"'1D Vectors Transposed'!H11+'1D Vectors Transposed'!I11*'Risk-return'!PK3","v":1.2434020190610435},{"$f":"'1D Vectors Transposed'!H11+'1D Vectors Transposed'!I11*'Risk-return'!PL3","v":1.2468783099165188},{"$f":"'1D Vectors Transposed'!H11+'1D Vectors Transposed'!I11*'Risk-return'!PM3","v":1.2503546007719941},{"$f":"'1D Vectors Transposed'!H11+'1D Vectors Transposed'!I11*'Risk-return'!PN3","v":1.2538308916274692},{"$f":"'1D Vectors Transposed'!H11+'1D Vectors Transposed'!I11*'Risk-return'!PO3","v":1.2573071824829445},{"$f":"'1D Vectors Transposed'!H11+'1D Vectors Transposed'!I11*'Risk-return'!PP3","v":1.2607834733384198},{"$f":"'1D Vectors Transposed'!H11+'1D Vectors Transposed'!I11*'Risk-return'!PQ3","v":1.2642597641938949},{"$f":"'1D Vectors Transposed'!H11+'1D Vectors Transposed'!I11*'Risk-return'!PR3","v":1.2677360550493701},{"$f":"'1D Vectors Transposed'!H11+'1D Vectors Transposed'!I11*'Risk-return'!PS3","v":1.2712123459048454},{"$f":"'1D Vectors Transposed'!H11+'1D Vectors Transposed'!I11*'Risk-return'!PT3","v":1.2746886367603205},{"$f":"'1D Vectors Transposed'!H11+'1D Vectors Transposed'!I11*'Risk-return'!PU3","v":1.2781649276157958},{"$f":"'1D Vectors Transposed'!H11+'1D Vectors Transposed'!I11*'Risk-return'!PV3","v":1.2816412184712711},{"$f":"'1D Vectors Transposed'!H11+'1D Vectors Transposed'!I11*'Risk-return'!PW3","v":1.2851175093267462},{"$f":"'1D Vectors Transposed'!H11+'1D Vectors Transposed'!I11*'Risk-return'!PX3","v":1.2885938001822215},{"$f":"'1D Vectors Transposed'!H11+'1D Vectors Transposed'!I11*'Risk-return'!PY3","v":1.2920700910376968},{"$f":"'1D Vectors Transposed'!H11+'1D Vectors Transposed'!I11*'Risk-return'!PZ3","v":1.2955463818931718},{"$f":"'1D Vectors Transposed'!H11+'1D Vectors Transposed'!I11*'Risk-return'!QA3","v":1.2990226727486471},{"$f":"'1D Vectors Transposed'!H11+'1D Vectors Transposed'!I11*'Risk-return'!QB3","v":1.3024989636041224},{"$f":"'1D Vectors Transposed'!H11+'1D Vectors Transposed'!I11*'Risk-return'!QC3","v":1.3059752544595975},{"$f":"'1D Vectors Transposed'!H11+'1D Vectors Transposed'!I11*'Risk-return'!QD3","v":1.3094515453150728},{"$f":"'1D Vectors Transposed'!H11+'1D Vectors Transposed'!I11*'Risk-return'!QE3","v":1.3129278361705481},{"$f":"'1D Vectors Transposed'!H11+'1D Vectors Transposed'!I11*'Risk-return'!QF3","v":1.3164041270260232},{"$f":"'1D Vectors Transposed'!H11+'1D Vectors Transposed'!I11*'Risk-return'!QG3","v":1.3198804178814985},{"$f":"'1D Vectors Transposed'!H11+'1D Vectors Transposed'!I11*'Risk-return'!QH3","v":1.3233567087369738},{"$f":"'1D Vectors Transposed'!H11+'1D Vectors Transposed'!I11*'Risk-return'!QI3","v":1.3268329995924488},{"$f":"'1D Vectors Transposed'!H11+'1D Vectors Transposed'!I11*'Risk-return'!QJ3","v":1.3303092904479241},{"$f":"'1D Vectors Transposed'!H11+'1D Vectors Transposed'!I11*'Risk-return'!QK3","v":1.3337855813033994},{"$f":"'1D Vectors Transposed'!H11+'1D Vectors Transposed'!I11*'Risk-return'!QL3","v":1.3372618721588745},{"$f":"'1D Vectors Transposed'!H11+'1D Vectors Transposed'!I11*'Risk-return'!QM3","v":1.3407381630143498},{"$f":"'1D Vectors Transposed'!H11+'1D Vectors Transposed'!I11*'Risk-return'!QN3","v":1.3442144538698251},{"$f":"'1D Vectors Transposed'!H11+'1D Vectors Transposed'!I11*'Risk-return'!QO3","v":1.3476907447253001},{"$f":"'1D Vectors Transposed'!H11+'1D Vectors Transposed'!I11*'Risk-return'!QP3","v":1.3511670355807754},{"$f":"'1D Vectors Transposed'!H11+'1D Vectors Transposed'!I11*'Risk-return'!QQ3","v":1.3546433264362507},{"$f":"'1D Vectors Transposed'!H11+'1D Vectors Transposed'!I11*'Risk-return'!QR3","v":1.3581196172917258},{"$f":"'1D Vectors Transposed'!H11+'1D Vectors Transposed'!I11*'Risk-return'!QS3","v":1.3615959081472011},{"$f":"'1D Vectors Transposed'!H11+'1D Vectors Transposed'!I11*'Risk-return'!QT3","v":1.3650721990026764},{"$f":"'1D Vectors Transposed'!H11+'1D Vectors Transposed'!I11*'Risk-return'!QU3","v":1.3685484898581515},{"$f":"'1D Vectors Transposed'!H11+'1D Vectors Transposed'!I11*'Risk-return'!QV3","v":1.3720247807136268},{"$f":"'1D Vectors Transposed'!H11+'1D Vectors Transposed'!I11*'Risk-return'!QW3","v":1.3755010715691021},{"$f":"'1D Vectors Transposed'!H11+'1D Vectors Transposed'!I11*'Risk-return'!QX3","v":1.3789773624245771},{"$f":"'1D Vectors Transposed'!H11+'1D Vectors Transposed'!I11*'Risk-return'!QY3","v":1.3824536532800524},{"$f":"'1D Vectors Transposed'!H11+'1D Vectors Transposed'!I11*'Risk-return'!QZ3","v":1.3859299441355277},{"$f":"'1D Vectors Transposed'!H11+'1D Vectors Transposed'!I11*'Risk-return'!RA3","v":1.3894062349910028},{"$f":"'1D Vectors Transposed'!H11+'1D Vectors Transposed'!I11*'Risk-return'!RB3","v":1.3928825258464781},{"$f":"'1D Vectors Transposed'!H11+'1D Vectors Transposed'!I11*'Risk-return'!RC3","v":1.3963588167019534},{"$f":"'1D Vectors Transposed'!H11+'1D Vectors Transposed'!I11*'Risk-return'!RD3","v":1.3998351075574285},{"$f":"'1D Vectors Transposed'!H11+'1D Vectors Transposed'!I11*'Risk-return'!RE3","v":1.4033113984129038},{"$f":"'1D Vectors Transposed'!H11+'1D Vectors Transposed'!I11*'Risk-return'!RF3","v":1.406787689268379},{"$f":"'1D Vectors Transposed'!H11+'1D Vectors Transposed'!I11*'Risk-return'!RG3","v":1.4102639801238541},{"$f":"'1D Vectors Transposed'!H11+'1D Vectors Transposed'!I11*'Risk-return'!RH3","v":1.4137402709793294},{"$f":"'1D Vectors Transposed'!H11+'1D Vectors Transposed'!I11*'Risk-return'!RI3","v":1.4172165618348047},{"$f":"'1D Vectors Transposed'!H11+'1D Vectors Transposed'!I11*'Risk-return'!RJ3","v":1.4206928526902798},{"$f":"'1D Vectors Transposed'!H11+'1D Vectors Transposed'!I11*'Risk-return'!RK3","v":1.4241691435457551},{"$f":"'1D Vectors Transposed'!H11+'1D Vectors Transposed'!I11*'Risk-return'!RL3","v":1.4276454344012304},{"$f":"'1D Vectors Transposed'!H11+'1D Vectors Transposed'!I11*'Risk-return'!RM3","v":1.4311217252567054},{"$f":"'1D Vectors Transposed'!H11+'1D Vectors Transposed'!I11*'Risk-return'!RN3","v":1.4345980161121807},{"$f":"'1D Vectors Transposed'!H11+'1D Vectors Transposed'!I11*'Risk-return'!RO3","v":1.438074306967656},{"$f":"'1D Vectors Transposed'!H11+'1D Vectors Transposed'!I11*'Risk-return'!RP3","v":1.4415505978231311},{"$f":"'1D Vectors Transposed'!H11+'1D Vectors Transposed'!I11*'Risk-return'!RQ3","v":1.4450268886786064},{"$f":"'1D Vectors Transposed'!H11+'1D Vectors Transposed'!I11*'Risk-return'!RR3","v":1.4485031795340817},{"$f":"'1D Vectors Transposed'!H11+'1D Vectors Transposed'!I11*'Risk-return'!RS3","v":1.4519794703895568},{"$f":"'1D Vectors Transposed'!H11+'1D Vectors Transposed'!I11*'Risk-return'!RT3","v":1.4554557612450321},{"$f":"'1D Vectors Transposed'!H11+'1D Vectors Transposed'!I11*'Risk-return'!RU3","v":1.4589320521005074},{"$f":"'1D Vectors Transposed'!H11+'1D Vectors Transposed'!I11*'Risk-return'!RV3","v":1.4624083429559824},{"$f":"'1D Vectors Transposed'!H11+'1D Vectors Transposed'!I11*'Risk-return'!RW3","v":1.4658846338114577},{"$f":"'1D Vectors Transposed'!H11+'1D Vectors Transposed'!I11*'Risk-return'!RX3","v":1.469360924666933},{"$f":"'1D Vectors Transposed'!H11+'1D Vectors Transposed'!I11*'Risk-return'!RY3","v":1.4728372155224081},{"$f":"'1D Vectors Transposed'!H11+'1D Vectors Transposed'!I11*'Risk-return'!RZ3","v":1.4763135063778834},{"$f":"'1D Vectors Transposed'!H11+'1D Vectors Transposed'!I11*'Risk-return'!SA3","v":1.4797897972333587},{"$f":"'1D Vectors Transposed'!H11+'1D Vectors Transposed'!I11*'Risk-return'!SB3","v":1.4832660880888338},{"$f":"'1D Vectors Transposed'!H11+'1D Vectors Transposed'!I11*'Risk-return'!SC3","v":1.4867423789443091},{"$f":"'1D Vectors Transposed'!H11+'1D Vectors Transposed'!I11*'Risk-return'!SD3","v":1.4902186697997843},{"$f":"'1D Vectors Transposed'!H11+'1D Vectors Transposed'!I11*'Risk-return'!SE3","v":1.4936949606552594},{"$f":"'1D Vectors Transposed'!H11+'1D Vectors Transposed'!I11*'Risk-return'!SF3","v":1.4971712515107347},{"$f":"'1D Vectors Transposed'!H11+'1D Vectors Transposed'!I11*'Risk-return'!SG3","v":-0.23747794241238793}]
["SPASTT01DKM661N",{"$f":"'1D Vectors Transposed'!H12+'1D Vectors Transposed'!I12*'Risk-return'!B3","v":0.13706828989265055},{"$f":"'1D Vectors Transposed'!H12+'1D Vectors Transposed'!I12*'Risk-return'!C3","v":0.14096944563869407},{"$f":"'1D Vectors Transposed'!H12+'1D Vectors Transposed'!I12*'Risk-return'!D3","v":0.14487060110089112},{"$f":"'1D Vectors Transposed'!H12+'1D Vectors Transposed'!I12*'Risk-return'!E3","v":0.14877175713078106},{"$f":"'1D Vectors Transposed'!H12+'1D Vectors Transposed'!I12*'Risk-return'!F3","v":0.15267291202528524},{"$f":"'1D Vectors Transposed'!H12+'1D Vectors Transposed'!I12*'Risk-return'!G3","v":0.15657406805517518},{"$f":"'1D Vectors Transposed'!H12+'1D Vectors Transposed'!I12*'Risk-return'!H3","v":0.16047522408506512},{"$f":"'1D Vectors Transposed'!H12+'1D Vectors Transposed'!I12*'Risk-return'!I3","v":0.16437638011495509},{"$f":"'1D Vectors Transposed'!H12+'1D Vectors Transposed'!I12*'Risk-return'!J3","v":0.16827753614484503},{"$f":"'1D Vectors Transposed'!H12+'1D Vectors Transposed'!I12*'Risk-return'!K3","v":0.1721786899039634},{"$f":"'1D Vectors Transposed'!H12+'1D Vectors Transposed'!I12*'Risk-return'!L3","v":0.1760798436630818},{"$f":"'1D Vectors Transposed'!H12+'1D Vectors Transposed'!I12*'Risk-return'!M3","v":0.17998099742220017},{"$f":"'1D Vectors Transposed'!H12+'1D Vectors Transposed'!I12*'Risk-return'!N3","v":0.18388215118131856},{"$f":"'1D Vectors Transposed'!H12+'1D Vectors Transposed'!I12*'Risk-return'!O3","v":0.18778330494043693},{"$f":"'1D Vectors Transposed'!H12+'1D Vectors Transposed'!I12*'Risk-return'!P3","v":0.1916844586995553},{"$f":"'1D Vectors Transposed'!H12+'1D Vectors Transposed'!I12*'Risk-return'!Q3","v":0.1955856124586737},{"$f":"'1D Vectors Transposed'!H12+'1D Vectors Transposed'!I12*'Risk-return'!R3","v":0.1994867662177921},{"$f":"'1D Vectors Transposed'!H12+'1D Vectors Transposed'!I12*'Risk-return'!S3","v":0.20338791997691047},{"$f":"'1D Vectors Transposed'!H12+'1D Vectors Transposed'!I12*'Risk-return'!T3","v":0.20728907373602884},{"$f":"'1D Vectors Transposed'!H12+'1D Vectors Transposed'!I12*'Risk-return'!U3","v":0.21119022749514724},{"$f":"'1D Vectors Transposed'!H12+'1D Vectors Transposed'!I12*'Risk-return'!V3","v":0.21509138579580875},{"$f":"'1D Vectors Transposed'!H12+'1D Vectors Transposed'!I12*'Risk-return'!W3","v":0.21899254409647026},{"$f":"'1D Vectors Transposed'!H12+'1D Vectors Transposed'!I12*'Risk-return'!X3","v":0.22289370239713177},{"$f":"'1D Vectors Transposed'!H12+'1D Vectors Transposed'!I12*'Risk-return'!Y3","v":0.22679486069779331},{"$f":"'1D Vectors Transposed'!H12+'1D Vectors Transposed'!I12*'Risk-return'!Z3","v":0.23069601899845482},{"$f":"'1D Vectors Transposed'!H12+'1D Vectors Transposed'!I12*'Risk-return'!AA3","v":0.23459717729911633},{"$f":"'1D Vectors Transposed'!H12+'1D Vectors Transposed'!I12*'Risk-return'!AB3","v":0.23849833559977784},{"$f":"'1D Vectors Transposed'!H12+'1D Vectors Transposed'!I12*'Risk-return'!AC3","v":0.24239949390043936},{"$f":"'1D Vectors Transposed'!H12+'1D Vectors Transposed'!I12*'Risk-return'!AD3","v":0.24630065220110087},{"$f":"'1D Vectors Transposed'!H12+'1D Vectors Transposed'!I12*'Risk-return'!AE3","v":0.25020181050176238},{"$f":"'1D Vectors Transposed'!H12+'1D Vectors Transposed'!I12*'Risk-return'!AF3","v":0.25410296880242389},{"$f":"'1D Vectors Transposed'!H12+'1D Vectors Transposed'!I12*'Risk-return'!AG3","v":0.2580041271030854},{"$f":"'1D Vectors Transposed'!H12+'1D Vectors Transposed'!I12*'Risk-return'!AH3","v":0.26190528540374691},{"$f":"'1D Vectors Transposed'!H12+'1D Vectors Transposed'!I12*'Risk-return'!AI3","v":0.26580644370440842},{"$f":"'1D Vectors Transposed'!H12+'1D Vectors Transposed'!I12*'Risk-return'!AJ3","v":0.26970760200506994},{"$f":"'1D Vectors Transposed'!H12+'1D Vectors Transposed'!I12*'Risk-return'!AK3","v":0.27360876030573145},{"$f":"'1D Vectors Transposed'!H12+'1D Vectors Transposed'!I12*'Risk-return'!AL3","v":0.27750991860639296},{"$f":"'1D Vectors Transposed'!H12+'1D Vectors Transposed'!I12*'Risk-return'!AM3","v":0.28141107690705447},{"$f":"'1D Vectors Transposed'!H12+'1D Vectors Transposed'!I12*'Risk-return'!AN3","v":0.28531223520771598},{"$f":"'1D Vectors Transposed'!H12+'1D Vectors Transposed'!I12*'Risk-return'!AO3","v":0.28921339350837749},{"$f":"'1D Vectors Transposed'!H12+'1D Vectors Transposed'!I12*'Risk-return'!AP3","v":0.29311454272595278},{"$f":"'1D Vectors Transposed'!H12+'1D Vectors Transposed'!I12*'Risk-return'!AQ3","v":0.29701569194352806},{"$f":"'1D Vectors Transposed'!H12+'1D Vectors Transposed'!I12*'Risk-return'!AR3","v":0.30091684116110329},{"$f":"'1D Vectors Transposed'!H12+'1D Vectors Transposed'!I12*'Risk-return'!AS3","v":0.30481799037867852},{"$f":"'1D Vectors Transposed'!H12+'1D Vectors Transposed'!I12*'Risk-return'!AT3","v":0.30871913959625374},{"$f":"'1D Vectors Transposed'!H12+'1D Vectors Transposed'!I12*'Risk-return'!AU3","v":0.31262028881382903},{"$f":"'1D Vectors Transposed'!H12+'1D Vectors Transposed'!I12*'Risk-return'!AV3","v":0.31652143803140431},{"$f":"'1D Vectors Transposed'!H12+'1D Vectors Transposed'!I12*'Risk-return'!AW3","v":0.32042258724897954},{"$f":"'1D Vectors Transposed'!H12+'1D Vectors Transposed'!I12*'Risk-return'!AX3","v":0.32432373646655477},{"$f":"'1D Vectors Transposed'!H12+'1D Vectors Transposed'!I12*'Risk-return'!AY3","v":0.32822488568413},{"$f":"'1D Vectors Transposed'!H12+'1D Vectors Transposed'!I12*'Risk-return'!AZ3","v":0.33212603490170528},{"$f":"'1D Vectors Transposed'!H12+'1D Vectors Transposed'!I12*'Risk-return'!BA3","v":0.33602718411928056},{"$f":"'1D Vectors Transposed'!H12+'1D Vectors Transposed'!I12*'Risk-return'!BB3","v":0.33992833333685579},{"$f":"'1D Vectors Transposed'!H12+'1D Vectors Transposed'!I12*'Risk-return'!BC3","v":0.34382948255443102},{"$f":"'1D Vectors Transposed'!H12+'1D Vectors Transposed'!I12*'Risk-return'!BD3","v":0.34773063177200625},{"$f":"'1D Vectors Transposed'!H12+'1D Vectors Transposed'!I12*'Risk-return'!BE3","v":0.35163178098958153},{"$f":"'1D Vectors Transposed'!H12+'1D Vectors Transposed'!I12*'Risk-return'!BF3","v":0.35553293020715682},{"$f":"'1D Vectors Transposed'!H12+'1D Vectors Transposed'!I12*'Risk-return'!BG3","v":0.35943407942473204},{"$f":"'1D Vectors Transposed'!H12+'1D Vectors Transposed'!I12*'Risk-return'!BH3","v":0.36333522864230727},{"$f":"'1D Vectors Transposed'!H12+'1D Vectors Transposed'!I12*'Risk-return'!BI3","v":0.36723637785988256},{"$f":"'1D Vectors Transposed'!H12+'1D Vectors Transposed'!I12*'Risk-return'!BJ3","v":0.37113752707745779},{"$f":"'1D Vectors Transposed'!H12+'1D Vectors Transposed'!I12*'Risk-return'!BK3","v":0.37503867629503307},{"$f":"'1D Vectors Transposed'!H12+'1D Vectors Transposed'!I12*'Risk-return'!BL3","v":0.3789398255126083},{"$f":"'1D Vectors Transposed'!H12+'1D Vectors Transposed'!I12*'Risk-return'!BM3","v":0.38284097473018353},{"$f":"'1D Vectors Transposed'!H12+'1D Vectors Transposed'!I12*'Risk-return'!BN3","v":0.38674212394775875},{"$f":"'1D Vectors Transposed'!H12+'1D Vectors Transposed'!I12*'Risk-return'!BO3","v":0.39064327316533409},{"$f":"'1D Vectors Transposed'!H12+'1D Vectors Transposed'!I12*'Risk-return'!BP3","v":0.39454442238290932},{"$f":"'1D Vectors Transposed'!H12+'1D Vectors Transposed'!I12*'Risk-return'!BQ3","v":0.39844557160048455},{"$f":"'1D Vectors Transposed'!H12+'1D Vectors Transposed'!I12*'Risk-return'!BR3","v":0.40234672081805978},{"$f":"'1D Vectors Transposed'!H12+'1D Vectors Transposed'!I12*'Risk-return'!BS3","v":0.40624787003563501},{"$f":"'1D Vectors Transposed'!H12+'1D Vectors Transposed'!I12*'Risk-return'!BT3","v":0.41014901925321035},{"$f":"'1D Vectors Transposed'!H12+'1D Vectors Transposed'!I12*'Risk-return'!BU3","v":0.41405016847078557},{"$f":"'1D Vectors Transposed'!H12+'1D Vectors Transposed'!I12*'Risk-return'!BV3","v":0.4179513176883608},{"$f":"'1D Vectors Transposed'!H12+'1D Vectors Transposed'!I12*'Risk-return'!BW3","v":0.42185246690593603},{"$f":"'1D Vectors Transposed'!H12+'1D Vectors Transposed'!I12*'Risk-return'!BX3","v":0.42575361612351137},{"$f":"'1D Vectors Transposed'!H12+'1D Vectors Transposed'!I12*'Risk-return'!BY3","v":0.4296547653410866},{"$f":"'1D Vectors Transposed'!H12+'1D Vectors Transposed'!I12*'Risk-return'!BZ3","v":0.43355591455866183},{"$f":"'1D Vectors Transposed'!H12+'1D Vectors Transposed'!I12*'Risk-return'!CA3","v":0.43745706377623705},{"$f":"'1D Vectors Transposed'!H12+'1D Vectors Transposed'!I12*'Risk-return'!CB3","v":0.44135821299381228},{"$f":"'1D Vectors Transposed'!H12+'1D Vectors Transposed'!I12*'Risk-return'!CC3","v":0.44525936221138762},{"$f":"'1D Vectors Transposed'!H12+'1D Vectors Transposed'!I12*'Risk-return'!CD3","v":0.44916051142896285},{"$f":"'1D Vectors Transposed'!H12+'1D Vectors Transposed'!I12*'Risk-return'!CE3","v":0.45306166064653808},{"$f":"'1D Vectors Transposed'!H12+'1D Vectors Transposed'!I12*'Risk-return'!CF3","v":0.45696280986411331},{"$f":"'1D Vectors Transposed'!H12+'1D Vectors Transposed'!I12*'Risk-return'!CG3","v":0.46086395908168853},{"$f":"'1D Vectors Transposed'!H12+'1D Vectors Transposed'!I12*'Risk-return'!CH3","v":0.46476510829926387},{"$f":"'1D Vectors Transposed'!H12+'1D Vectors Transposed'!I12*'Risk-return'!CI3","v":0.4686662575168391},{"$f":"'1D Vectors Transposed'!H12+'1D Vectors Transposed'!I12*'Risk-return'!CJ3","v":0.47256740673441433},{"$f":"'1D Vectors Transposed'!H12+'1D Vectors Transposed'!I12*'Risk-return'!CK3","v":0.47646855595198956},{"$f":"'1D Vectors Transposed'!H12+'1D Vectors Transposed'!I12*'Risk-return'!CL3","v":0.48036970516956479},{"$f":"'1D Vectors Transposed'!H12+'1D Vectors Transposed'!I12*'Risk-return'!CM3","v":0.48427085438714013},{"$f":"'1D Vectors Transposed'!H12+'1D Vectors Transposed'!I12*'Risk-return'!CN3","v":0.48817200360471535},{"$f":"'1D Vectors Transposed'!H12+'1D Vectors Transposed'!I12*'Risk-return'!CO3","v":0.49207315282229058},{"$f":"'1D Vectors Transposed'!H12+'1D Vectors Transposed'!I12*'Risk-return'!CP3","v":0.49597430203986581},{"$f":"'1D Vectors Transposed'!H12+'1D Vectors Transposed'!I12*'Risk-return'!CQ3","v":0.49987545125744104},{"$f":"'1D Vectors Transposed'!H12+'1D Vectors Transposed'!I12*'Risk-return'!CR3","v":0.50377660047501638},{"$f":"'1D Vectors Transposed'!H12+'1D Vectors Transposed'!I12*'Risk-return'!CS3","v":0.50767774969259161},{"$f":"'1D Vectors Transposed'!H12+'1D Vectors Transposed'!I12*'Risk-return'!CT3","v":0.51157889891016683},{"$f":"'1D Vectors Transposed'!H12+'1D Vectors Transposed'!I12*'Risk-return'!CU3","v":0.51548004812774206},{"$f":"'1D Vectors Transposed'!H12+'1D Vectors Transposed'!I12*'Risk-return'!CV3","v":0.5193811973453174},{"$f":"'1D Vectors Transposed'!H12+'1D Vectors Transposed'!I12*'Risk-return'!CW3","v":0.52328234656289263},{"$f":"'1D Vectors Transposed'!H12+'1D Vectors Transposed'!I12*'Risk-return'!CX3","v":0.52718349578046786},{"$f":"'1D Vectors Transposed'!H12+'1D Vectors Transposed'!I12*'Risk-return'!CY3","v":0.53108464499804309},{"$f":"'1D Vectors Transposed'!H12+'1D Vectors Transposed'!I12*'Risk-return'!CZ3","v":0.53498579421561832},{"$f":"'1D Vectors Transposed'!H12+'1D Vectors Transposed'!I12*'Risk-return'!DA3","v":0.53888694343319365},{"$f":"'1D Vectors Transposed'!H12+'1D Vectors Transposed'!I12*'Risk-return'!DB3","v":0.54278809265076888},{"$f":"'1D Vectors Transposed'!H12+'1D Vectors Transposed'!I12*'Risk-return'!DC3","v":0.54668924186834411},{"$f":"'1D Vectors Transposed'!H12+'1D Vectors Transposed'!I12*'Risk-return'!DD3","v":0.55059039108591934},{"$f":"'1D Vectors Transposed'!H12+'1D Vectors Transposed'!I12*'Risk-return'!DE3","v":0.55449154030349457},{"$f":"'1D Vectors Transposed'!H12+'1D Vectors Transposed'!I12*'Risk-return'!DF3","v":0.55839268952106991},{"$f":"'1D Vectors Transposed'!H12+'1D Vectors Transposed'!I12*'Risk-return'!DG3","v":0.56229383873864514},{"$f":"'1D Vectors Transposed'!H12+'1D Vectors Transposed'!I12*'Risk-return'!DH3","v":0.56619498795622036},{"$f":"'1D Vectors Transposed'!H12+'1D Vectors Transposed'!I12*'Risk-return'!DI3","v":0.57009613717379559},{"$f":"'1D Vectors Transposed'!H12+'1D Vectors Transposed'!I12*'Risk-return'!DJ3","v":0.57399728639137082},{"$f":"'1D Vectors Transposed'!H12+'1D Vectors Transposed'!I12*'Risk-return'!DK3","v":0.57789843560894616},{"$f":"'1D Vectors Transposed'!H12+'1D Vectors Transposed'!I12*'Risk-return'!DL3","v":0.58179958482652139},{"$f":"'1D Vectors Transposed'!H12+'1D Vectors Transposed'!I12*'Risk-return'!DM3","v":0.58570073404409662},{"$f":"'1D Vectors Transposed'!H12+'1D Vectors Transposed'!I12*'Risk-return'!DN3","v":0.58960188326167184},{"$f":"'1D Vectors Transposed'!H12+'1D Vectors Transposed'!I12*'Risk-return'!DO3","v":0.59350303247924707},{"$f":"'1D Vectors Transposed'!H12+'1D Vectors Transposed'!I12*'Risk-return'!DP3","v":0.59740418169682241},{"$f":"'1D Vectors Transposed'!H12+'1D Vectors Transposed'!I12*'Risk-return'!DQ3","v":0.60130533091439764},{"$f":"'1D Vectors Transposed'!H12+'1D Vectors Transposed'!I12*'Risk-return'!DR3","v":0.60520648013197287},{"$f":"'1D Vectors Transposed'!H12+'1D Vectors Transposed'!I12*'Risk-return'!DS3","v":0.6091076293495481},{"$f":"'1D Vectors Transposed'!H12+'1D Vectors Transposed'!I12*'Risk-return'!DT3","v":0.61300877856712344},{"$f":"'1D Vectors Transposed'!H12+'1D Vectors Transposed'!I12*'Risk-return'!DU3","v":0.61690992778469866},{"$f":"'1D Vectors Transposed'!H12+'1D Vectors Transposed'!I12*'Risk-return'!DV3","v":0.62081107700227389},{"$f":"'1D Vectors Transposed'!H12+'1D Vectors Transposed'!I12*'Risk-return'!DW3","v":0.62471222621984912},{"$f":"'1D Vectors Transposed'!H12+'1D Vectors Transposed'!I12*'Risk-return'!DX3","v":0.62861337543742435},{"$f":"'1D Vectors Transposed'!H12+'1D Vectors Transposed'!I12*'Risk-return'!DY3","v":0.63251452465499969},{"$f":"'1D Vectors Transposed'!H12+'1D Vectors Transposed'!I12*'Risk-return'!DZ3","v":0.63641567387257492},{"$f":"'1D Vectors Transposed'!H12+'1D Vectors Transposed'!I12*'Risk-return'!EA3","v":0.64031682309015014},{"$f":"'1D Vectors Transposed'!H12+'1D Vectors Transposed'!I12*'Risk-return'!EB3","v":0.64421797230772537},{"$f":"'1D Vectors Transposed'!H12+'1D Vectors Transposed'!I12*'Risk-return'!EC3","v":0.64811912152530071},{"$f":"'1D Vectors Transposed'!H12+'1D Vectors Transposed'!I12*'Risk-return'!ED3","v":0.65202027074287594},{"$f":"'1D Vectors Transposed'!H12+'1D Vectors Transposed'!I12*'Risk-return'!EE3","v":0.65592141996045117},{"$f":"'1D Vectors Transposed'!H12+'1D Vectors Transposed'!I12*'Risk-return'!EF3","v":0.6598225691780264},{"$f":"'1D Vectors Transposed'!H12+'1D Vectors Transposed'!I12*'Risk-return'!EG3","v":0.66372371839560163},{"$f":"'1D Vectors Transposed'!H12+'1D Vectors Transposed'!I12*'Risk-return'!EH3","v":0.66762486761317696},{"$f":"'1D Vectors Transposed'!H12+'1D Vectors Transposed'!I12*'Risk-return'!EI3","v":0.67152601683075219},{"$f":"'1D Vectors Transposed'!H12+'1D Vectors Transposed'!I12*'Risk-return'!EJ3","v":0.67542716604832742},{"$f":"'1D Vectors Transposed'!H12+'1D Vectors Transposed'!I12*'Risk-return'!EK3","v":0.67932831526590265},{"$f":"'1D Vectors Transposed'!H12+'1D Vectors Transposed'!I12*'Risk-return'!EL3","v":0.68322946448347788},{"$f":"'1D Vectors Transposed'!H12+'1D Vectors Transposed'!I12*'Risk-return'!EM3","v":0.68713061370105322},{"$f":"'1D Vectors Transposed'!H12+'1D Vectors Transposed'!I12*'Risk-return'!EN3","v":0.69103176291862844},{"$f":"'1D Vectors Transposed'!H12+'1D Vectors Transposed'!I12*'Risk-return'!EO3","v":0.69493291213620367},{"$f":"'1D Vectors Transposed'!H12+'1D Vectors Transposed'!I12*'Risk-return'!EP3","v":0.6988340613537789},{"$f":"'1D Vectors Transposed'!H12+'1D Vectors Transposed'!I12*'Risk-return'!EQ3","v":0.70273521057135424},{"$f":"'1D Vectors Transposed'!H12+'1D Vectors Transposed'!I12*'Risk-return'!ER3","v":0.70663635978892947},{"$f":"'1D Vectors Transposed'!H12+'1D Vectors Transposed'!I12*'Risk-return'!ES3","v":0.7105375090065047},{"$f":"'1D Vectors Transposed'!H12+'1D Vectors Transposed'!I12*'Risk-return'!ET3","v":0.71443865822407993},{"$f":"'1D Vectors Transposed'!H12+'1D Vectors Transposed'!I12*'Risk-return'!EU3","v":0.71833980744165515},{"$f":"'1D Vectors Transposed'!H12+'1D Vectors Transposed'!I12*'Risk-return'!EV3","v":0.72224095665923049},{"$f":"'1D Vectors Transposed'!H12+'1D Vectors Transposed'!I12*'Risk-return'!EW3","v":0.72614210587680572},{"$f":"'1D Vectors Transposed'!H12+'1D Vectors Transposed'!I12*'Risk-return'!EX3","v":0.73004325509438095},{"$f":"'1D Vectors Transposed'!H12+'1D Vectors Transposed'!I12*'Risk-return'!EY3","v":0.73394440431195618},{"$f":"'1D Vectors Transposed'!H12+'1D Vectors Transposed'!I12*'Risk-return'!EZ3","v":0.73784555352953141},{"$f":"'1D Vectors Transposed'!H12+'1D Vectors Transposed'!I12*'Risk-return'!FA3","v":0.74174670274710675},{"$f":"'1D Vectors Transposed'!H12+'1D Vectors Transposed'!I12*'Risk-return'!FB3","v":0.74564785196468197},{"$f":"'1D Vectors Transposed'!H12+'1D Vectors Transposed'!I12*'Risk-return'!FC3","v":0.7495490011822572},{"$f":"'1D Vectors Transposed'!H12+'1D Vectors Transposed'!I12*'Risk-return'!FD3","v":0.75345015039983243},{"$f":"'1D Vectors Transposed'!H12+'1D Vectors Transposed'!I12*'Risk-return'!FE3","v":0.75735129961740766},{"$f":"'1D Vectors Transposed'!H12+'1D Vectors Transposed'!I12*'Risk-return'!FF3","v":0.761252448834983},{"$f":"'1D Vectors Transposed'!H12+'1D Vectors Transposed'!I12*'Risk-return'!FG3","v":0.76515359805255823},{"$f":"'1D Vectors Transposed'!H12+'1D Vectors Transposed'!I12*'Risk-return'!FH3","v":0.76905474727013345},{"$f":"'1D Vectors Transposed'!H12+'1D Vectors Transposed'!I12*'Risk-return'!FI3","v":0.77295589648770868},{"$f":"'1D Vectors Transposed'!H12+'1D Vectors Transposed'!I12*'Risk-return'!FJ3","v":0.77685704570528391},{"$f":"'1D Vectors Transposed'!H12+'1D Vectors Transposed'!I12*'Risk-return'!FK3","v":0.78075819492285925},{"$f":"'1D Vectors Transposed'!H12+'1D Vectors Transposed'!I12*'Risk-return'!FL3","v":0.78465934414043448},{"$f":"'1D Vectors Transposed'!H12+'1D Vectors Transposed'!I12*'Risk-return'!FM3","v":0.78856049335800971},{"$f":"'1D Vectors Transposed'!H12+'1D Vectors Transposed'!I12*'Risk-return'!FN3","v":0.79246164257558493},{"$f":"'1D Vectors Transposed'!H12+'1D Vectors Transposed'!I12*'Risk-return'!FO3","v":0.79636279179316027},{"$f":"'1D Vectors Transposed'!H12+'1D Vectors Transposed'!I12*'Risk-return'!FP3","v":0.8002639410107355},{"$f":"'1D Vectors Transposed'!H12+'1D Vectors Transposed'!I12*'Risk-return'!FQ3","v":0.80416509022831073},{"$f":"'1D Vectors Transposed'!H12+'1D Vectors Transposed'!I12*'Risk-return'!FR3","v":0.80806623944588596},{"$f":"'1D Vectors Transposed'!H12+'1D Vectors Transposed'!I12*'Risk-return'!FS3","v":0.81196738866346119},{"$f":"'1D Vectors Transposed'!H12+'1D Vectors Transposed'!I12*'Risk-return'!FT3","v":0.81586853788103653},{"$f":"'1D Vectors Transposed'!H12+'1D Vectors Transposed'!I12*'Risk-return'!FU3","v":0.81976968709861175},{"$f":"'1D Vectors Transposed'!H12+'1D Vectors Transposed'!I12*'Risk-return'!FV3","v":0.82367083631618698},{"$f":"'1D Vectors Transposed'!H12+'1D Vectors Transposed'!I12*'Risk-return'!FW3","v":0.82757198553376221},{"$f":"'1D Vectors Transposed'!H12+'1D Vectors Transposed'!I12*'Risk-return'!FX3","v":0.83147313475133744},{"$f":"'1D Vectors Transposed'!H12+'1D Vectors Transposed'!I12*'Risk-return'!FY3","v":0.83537428396891278},{"$f":"'1D Vectors Transposed'!H12+'1D Vectors Transposed'!I12*'Risk-return'!FZ3","v":0.83927543318648801},{"$f":"'1D Vectors Transposed'!H12+'1D Vectors Transposed'!I12*'Risk-return'!GA3","v":0.84317658240406324},{"$f":"'1D Vectors Transposed'!H12+'1D Vectors Transposed'!I12*'Risk-return'!GB3","v":0.84707773162163846},{"$f":"'1D Vectors Transposed'!H12+'1D Vectors Transposed'!I12*'Risk-return'!GC3","v":0.85097888083921369},{"$f":"'1D Vectors Transposed'!H12+'1D Vectors Transposed'!I12*'Risk-return'!GD3","v":0.85488003005678903},{"$f":"'1D Vectors Transposed'!H12+'1D Vectors Transposed'!I12*'Risk-return'!GE3","v":0.85878117927436426},{"$f":"'1D Vectors Transposed'!H12+'1D Vectors Transposed'!I12*'Risk-return'!GF3","v":0.86268232849193949},{"$f":"'1D Vectors Transposed'!H12+'1D Vectors Transposed'!I12*'Risk-return'!GG3","v":0.86658347770951472},{"$f":"'1D Vectors Transposed'!H12+'1D Vectors Transposed'!I12*'Risk-return'!GH3","v":0.87048462692708994},{"$f":"'1D Vectors Transposed'!H12+'1D Vectors Transposed'!I12*'Risk-return'!GI3","v":0.87438577614466528},{"$f":"'1D Vectors Transposed'!H12+'1D Vectors Transposed'!I12*'Risk-return'!GJ3","v":0.87828692536224051},{"$f":"'1D Vectors Transposed'!H12+'1D Vectors Transposed'!I12*'Risk-return'!GK3","v":0.88218807457981574},{"$f":"'1D Vectors Transposed'!H12+'1D Vectors Transposed'!I12*'Risk-return'!GL3","v":0.88608922379739097},{"$f":"'1D Vectors Transposed'!H12+'1D Vectors Transposed'!I12*'Risk-return'!GM3","v":0.88999037301496631},{"$f":"'1D Vectors Transposed'!H12+'1D Vectors Transposed'!I12*'Risk-return'!GN3","v":0.89389152223254154},{"$f":"'1D Vectors Transposed'!H12+'1D Vectors Transposed'!I12*'Risk-return'!GO3","v":0.89779267145011676},{"$f":"'1D Vectors Transposed'!H12+'1D Vectors Transposed'!I12*'Risk-return'!GP3","v":0.90169382066769199},{"$f":"'1D Vectors Transposed'!H12+'1D Vectors Transposed'!I12*'Risk-return'!GQ3","v":0.90559496988526722},{"$f":"'1D Vectors Transposed'!H12+'1D Vectors Transposed'!I12*'Risk-return'!GR3","v":0.90949611910284256},{"$f":"'1D Vectors Transposed'!H12+'1D Vectors Transposed'!I12*'Risk-return'!GS3","v":0.91339726832041779},{"$f":"'1D Vectors Transposed'!H12+'1D Vectors Transposed'!I12*'Risk-return'!GT3","v":0.91729841753799302},{"$f":"'1D Vectors Transposed'!H12+'1D Vectors Transposed'!I12*'Risk-return'!GU3","v":0.92119956675556824},{"$f":"'1D Vectors Transposed'!H12+'1D Vectors Transposed'!I12*'Risk-return'!GV3","v":0.92510071597314347},{"$f":"'1D Vectors Transposed'!H12+'1D Vectors Transposed'!I12*'Risk-return'!GW3","v":0.92900186519071881},{"$f":"'1D Vectors Transposed'!H12+'1D Vectors Transposed'!I12*'Risk-return'!GX3","v":0.93290301440829404},{"$f":"'1D Vectors Transposed'!H12+'1D Vectors Transposed'!I12*'Risk-return'!GY3","v":0.93680416362586927},{"$f":"'1D Vectors Transposed'!H12+'1D Vectors Transposed'!I12*'Risk-return'!GZ3","v":0.9407053128434445},{"$f":"'1D Vectors Transposed'!H12+'1D Vectors Transposed'!I12*'Risk-return'!HA3","v":0.94460646206101972},{"$f":"'1D Vectors Transposed'!H12+'1D Vectors Transposed'!I12*'Risk-return'!HB3","v":0.94850761127859506},{"$f":"'1D Vectors Transposed'!H12+'1D Vectors Transposed'!I12*'Risk-return'!HC3","v":0.95240876049617029},{"$f":"'1D Vectors Transposed'!H12+'1D Vectors Transposed'!I12*'Risk-return'!HD3","v":0.95630990971374552},{"$f":"'1D Vectors Transposed'!H12+'1D Vectors Transposed'!I12*'Risk-return'!HE3","v":0.96021105893132075},{"$f":"'1D Vectors Transposed'!H12+'1D Vectors Transposed'!I12*'Risk-return'!HF3","v":0.96411220814889598},{"$f":"'1D Vectors Transposed'!H12+'1D Vectors Transposed'!I12*'Risk-return'!HG3","v":0.96801335736647132},{"$f":"'1D Vectors Transposed'!H12+'1D Vectors Transposed'!I12*'Risk-return'!HH3","v":0.97191450658404654},{"$f":"'1D Vectors Transposed'!H12+'1D Vectors Transposed'!I12*'Risk-return'!HI3","v":0.97581565580162177},{"$f":"'1D Vectors Transposed'!H12+'1D Vectors Transposed'!I12*'Risk-return'!HJ3","v":0.979716805019197},{"$f":"'1D Vectors Transposed'!H12+'1D Vectors Transposed'!I12*'Risk-return'!HK3","v":0.98361795423677234},{"$f":"'1D Vectors Transposed'!H12+'1D Vectors Transposed'!I12*'Risk-return'!HL3","v":0.98751910345434757},{"$f":"'1D Vectors Transposed'!H12+'1D Vectors Transposed'!I12*'Risk-return'!HM3","v":0.9914202526719228},{"$f":"'1D Vectors Transposed'!H12+'1D Vectors Transposed'!I12*'Risk-return'!HN3","v":0.99532140188949803},{"$f":"'1D Vectors Transposed'!H12+'1D Vectors Transposed'!I12*'Risk-return'!HO3","v":0.99922255110707325},{"$f":"'1D Vectors Transposed'!H12+'1D Vectors Transposed'!I12*'Risk-return'!HP3","v":1.0031237003246485},{"$f":"'1D Vectors Transposed'!H12+'1D Vectors Transposed'!I12*'Risk-return'!HQ3","v":1.0070248495422238},{"$f":"'1D Vectors Transposed'!H12+'1D Vectors Transposed'!I12*'Risk-return'!HR3","v":1.0109259987597989},{"$f":"'1D Vectors Transposed'!H12+'1D Vectors Transposed'!I12*'Risk-return'!HS3","v":1.0148271479773743},{"$f":"'1D Vectors Transposed'!H12+'1D Vectors Transposed'!I12*'Risk-return'!HT3","v":1.0187282971949494},{"$f":"'1D Vectors Transposed'!H12+'1D Vectors Transposed'!I12*'Risk-return'!HU3","v":1.0226294464125247},{"$f":"'1D Vectors Transposed'!H12+'1D Vectors Transposed'!I12*'Risk-return'!HV3","v":1.0265305956301001},{"$f":"'1D Vectors Transposed'!H12+'1D Vectors Transposed'!I12*'Risk-return'!HW3","v":1.0304317448476752},{"$f":"'1D Vectors Transposed'!H12+'1D Vectors Transposed'!I12*'Risk-return'!HX3","v":1.0343328940652505},{"$f":"'1D Vectors Transposed'!H12+'1D Vectors Transposed'!I12*'Risk-return'!HY3","v":1.0382340432828256},{"$f":"'1D Vectors Transposed'!H12+'1D Vectors Transposed'!I12*'Risk-return'!HZ3","v":1.042135192500401},{"$f":"'1D Vectors Transposed'!H12+'1D Vectors Transposed'!I12*'Risk-return'!IA3","v":1.0460363417179763},{"$f":"'1D Vectors Transposed'!H12+'1D Vectors Transposed'!I12*'Risk-return'!IB3","v":1.0499374909355514},{"$f":"'1D Vectors Transposed'!H12+'1D Vectors Transposed'!I12*'Risk-return'!IC3","v":1.0538386401531268},{"$f":"'1D Vectors Transposed'!H12+'1D Vectors Transposed'!I12*'Risk-return'!ID3","v":1.0577397893707019},{"$f":"'1D Vectors Transposed'!H12+'1D Vectors Transposed'!I12*'Risk-return'!IE3","v":1.0616409385882772},{"$f":"'1D Vectors Transposed'!H12+'1D Vectors Transposed'!I12*'Risk-return'!IF3","v":1.0655420878058526},{"$f":"'1D Vectors Transposed'!H12+'1D Vectors Transposed'!I12*'Risk-return'!IG3","v":1.0694432370234277},{"$f":"'1D Vectors Transposed'!H12+'1D Vectors Transposed'!I12*'Risk-return'!IH3","v":1.073344386241003},{"$f":"'1D Vectors Transposed'!H12+'1D Vectors Transposed'!I12*'Risk-return'!II3","v":1.0772455354585784},{"$f":"'1D Vectors Transposed'!H12+'1D Vectors Transposed'!I12*'Risk-return'!IJ3","v":1.0811466846761535},{"$f":"'1D Vectors Transposed'!H12+'1D Vectors Transposed'!I12*'Risk-return'!IK3","v":1.0850478338937288},{"$f":"'1D Vectors Transposed'!H12+'1D Vectors Transposed'!I12*'Risk-return'!IL3","v":1.0889489831113039},{"$f":"'1D Vectors Transposed'!H12+'1D Vectors Transposed'!I12*'Risk-return'!IM3","v":1.0928501323288793},{"$f":"'1D Vectors Transposed'!H12+'1D Vectors Transposed'!I12*'Risk-return'!IN3","v":1.0967512815464546},{"$f":"'1D Vectors Transposed'!H12+'1D Vectors Transposed'!I12*'Risk-return'!IO3","v":1.1006524307640297},{"$f":"'1D Vectors Transposed'!H12+'1D Vectors Transposed'!I12*'Risk-return'!IP3","v":1.1045535799816051},{"$f":"'1D Vectors Transposed'!H12+'1D Vectors Transposed'!I12*'Risk-return'!IQ3","v":1.1084547291991802},{"$f":"'1D Vectors Transposed'!H12+'1D Vectors Transposed'!I12*'Risk-return'!IR3","v":1.1123558784167555},{"$f":"'1D Vectors Transposed'!H12+'1D Vectors Transposed'!I12*'Risk-return'!IS3","v":1.1162570276343309},{"$f":"'1D Vectors Transposed'!H12+'1D Vectors Transposed'!I12*'Risk-return'!IT3","v":1.120158176851906},{"$f":"'1D Vectors Transposed'!H12+'1D Vectors Transposed'!I12*'Risk-return'!IU3","v":1.1240593260694813},{"$f":"'1D Vectors Transposed'!H12+'1D Vectors Transposed'!I12*'Risk-return'!IV3","v":1.1279604752870565},{"$f":"'1D Vectors Transposed'!H12+'1D Vectors Transposed'!I12*'Risk-return'!IW3","v":1.1318616245046318},{"$f":"'1D Vectors Transposed'!H12+'1D Vectors Transposed'!I12*'Risk-return'!IX3","v":1.1357627737222069},{"$f":"'1D Vectors Transposed'!H12+'1D Vectors Transposed'!I12*'Risk-return'!IY3","v":1.1396639229397822},{"$f":"'1D Vectors Transposed'!H12+'1D Vectors Transposed'!I12*'Risk-return'!IZ3","v":1.1435650721573576},{"$f":"'1D Vectors Transposed'!H12+'1D Vectors Transposed'!I12*'Risk-return'!JA3","v":1.1474662213749327},{"$f":"'1D Vectors Transposed'!H12+'1D Vectors Transposed'!I12*'Risk-return'!JB3","v":1.151367370592508},{"$f":"'1D Vectors Transposed'!H12+'1D Vectors Transposed'!I12*'Risk-return'!JC3","v":1.1552685198100832},{"$f":"'1D Vectors Transposed'!H12+'1D Vectors Transposed'!I12*'Risk-return'!JD3","v":1.1591696690276585},{"$f":"'1D Vectors Transposed'!H12+'1D Vectors Transposed'!I12*'Risk-return'!JE3","v":1.1630708182452338},{"$f":"'1D Vectors Transposed'!H12+'1D Vectors Transposed'!I12*'Risk-return'!JF3","v":1.166971967462809},{"$f":"'1D Vectors Transposed'!H12+'1D Vectors Transposed'!I12*'Risk-return'!JG3","v":1.1708731166803843},{"$f":"'1D Vectors Transposed'!H12+'1D Vectors Transposed'!I12*'Risk-return'!JH3","v":1.1747742658979594},{"$f":"'1D Vectors Transposed'!H12+'1D Vectors Transposed'!I12*'Risk-return'!JI3","v":1.1786754151155348},{"$f":"'1D Vectors Transposed'!H12+'1D Vectors Transposed'!I12*'Risk-return'!JJ3","v":1.1825765643331101},{"$f":"'1D Vectors Transposed'!H12+'1D Vectors Transposed'!I12*'Risk-return'!JK3","v":1.1864777135506852},{"$f":"'1D Vectors Transposed'!H12+'1D Vectors Transposed'!I12*'Risk-return'!JL3","v":1.1903788627682605},{"$f":"'1D Vectors Transposed'!H12+'1D Vectors Transposed'!I12*'Risk-return'!JM3","v":1.1942800119858357},{"$f":"'1D Vectors Transposed'!H12+'1D Vectors Transposed'!I12*'Risk-return'!JN3","v":1.198181161203411},{"$f":"'1D Vectors Transposed'!H12+'1D Vectors Transposed'!I12*'Risk-return'!JO3","v":1.2020823104209863},{"$f":"'1D Vectors Transposed'!H12+'1D Vectors Transposed'!I12*'Risk-return'!JP3","v":1.2059834596385615},{"$f":"'1D Vectors Transposed'!H12+'1D Vectors Transposed'!I12*'Risk-return'!JQ3","v":1.2098846088561368},{"$f":"'1D Vectors Transposed'!H12+'1D Vectors Transposed'!I12*'Risk-return'!JR3","v":1.2137857580737119},{"$f":"'1D Vectors Transposed'!H12+'1D Vectors Transposed'!I12*'Risk-return'!JS3","v":1.2176869072912873},{"$f":"'1D Vectors Transposed'!H12+'1D Vectors Transposed'!I12*'Risk-return'!JT3","v":1.2215880565088626},{"$f":"'1D Vectors Transposed'!H12+'1D Vectors Transposed'!I12*'Risk-return'!JU3","v":1.2254892057264377},{"$f":"'1D Vectors Transposed'!H12+'1D Vectors Transposed'!I12*'Risk-return'!JV3","v":1.2293903549440131},{"$f":"'1D Vectors Transposed'!H12+'1D Vectors Transposed'!I12*'Risk-return'!JW3","v":1.2332915041615882},{"$f":"'1D Vectors Transposed'!H12+'1D Vectors Transposed'!I12*'Risk-return'!JX3","v":1.2371926533791635},{"$f":"'1D Vectors Transposed'!H12+'1D Vectors Transposed'!I12*'Risk-return'!JY3","v":1.2410938025967388},{"$f":"'1D Vectors Transposed'!H12+'1D Vectors Transposed'!I12*'Risk-return'!JZ3","v":1.244994951814314},{"$f":"'1D Vectors Transposed'!H12+'1D Vectors Transposed'!I12*'Risk-return'!KA3","v":1.2488961010318893},{"$f":"'1D Vectors Transposed'!H12+'1D Vectors Transposed'!I12*'Risk-return'!KB3","v":1.2527972502494644},{"$f":"'1D Vectors Transposed'!H12+'1D Vectors Transposed'!I12*'Risk-return'!KC3","v":1.2566983994670398},{"$f":"'1D Vectors Transposed'!H12+'1D Vectors Transposed'!I12*'Risk-return'!KD3","v":1.2605995486846151},{"$f":"'1D Vectors Transposed'!H12+'1D Vectors Transposed'!I12*'Risk-return'!KE3","v":1.2645006979021902},{"$f":"'1D Vectors Transposed'!H12+'1D Vectors Transposed'!I12*'Risk-return'!KF3","v":1.2684018471197656},{"$f":"'1D Vectors Transposed'!H12+'1D Vectors Transposed'!I12*'Risk-return'!KG3","v":1.2723029963373407},{"$f":"'1D Vectors Transposed'!H12+'1D Vectors Transposed'!I12*'Risk-return'!KH3","v":1.276204145554916},{"$f":"'1D Vectors Transposed'!H12+'1D Vectors Transposed'!I12*'Risk-return'!KI3","v":1.2801052947724914},{"$f":"'1D Vectors Transposed'!H12+'1D Vectors Transposed'!I12*'Risk-return'!KJ3","v":1.2840064439900665},{"$f":"'1D Vectors Transposed'!H12+'1D Vectors Transposed'!I12*'Risk-return'!KK3","v":1.2879075932076418},{"$f":"'1D Vectors Transposed'!H12+'1D Vectors Transposed'!I12*'Risk-return'!KL3","v":1.2918087424252169},{"$f":"'1D Vectors Transposed'!H12+'1D Vectors Transposed'!I12*'Risk-return'!KM3","v":1.2957098916427923},{"$f":"'1D Vectors Transposed'!H12+'1D Vectors Transposed'!I12*'Risk-return'!KN3","v":1.2996110408603676},{"$f":"'1D Vectors Transposed'!H12+'1D Vectors Transposed'!I12*'Risk-return'!KO3","v":1.3035121900779427},{"$f":"'1D Vectors Transposed'!H12+'1D Vectors Transposed'!I12*'Risk-return'!KP3","v":1.3074133392955181},{"$f":"'1D Vectors Transposed'!H12+'1D Vectors Transposed'!I12*'Risk-return'!KQ3","v":1.3113144885130932},{"$f":"'1D Vectors Transposed'!H12+'1D Vectors Transposed'!I12*'Risk-return'!KR3","v":1.3152156377306685},{"$f":"'1D Vectors Transposed'!H12+'1D Vectors Transposed'!I12*'Risk-return'!KS3","v":1.3191167869482439},{"$f":"'1D Vectors Transposed'!H12+'1D Vectors Transposed'!I12*'Risk-return'!KT3","v":1.323017936165819},{"$f":"'1D Vectors Transposed'!H12+'1D Vectors Transposed'!I12*'Risk-return'!KU3","v":1.3269190853833943},{"$f":"'1D Vectors Transposed'!H12+'1D Vectors Transposed'!I12*'Risk-return'!KV3","v":1.3308202346009697},{"$f":"'1D Vectors Transposed'!H12+'1D Vectors Transposed'!I12*'Risk-return'!KW3","v":1.3347213838185448},{"$f":"'1D Vectors Transposed'!H12+'1D Vectors Transposed'!I12*'Risk-return'!KX3","v":1.3386225330361201},{"$f":"'1D Vectors Transposed'!H12+'1D Vectors Transposed'!I12*'Risk-return'!KY3","v":1.3425236822536952},{"$f":"'1D Vectors Transposed'!H12+'1D Vectors Transposed'!I12*'Risk-return'!KZ3","v":1.3464248314712706},{"$f":"'1D Vectors Transposed'!H12+'1D Vectors Transposed'!I12*'Risk-return'!LA3","v":1.3503259806888459},{"$f":"'1D Vectors Transposed'!H12+'1D Vectors Transposed'!I12*'Risk-return'!LB3","v":1.3542272025711111},{"$f":"'1D Vectors Transposed'!H12+'1D Vectors Transposed'!I12*'Risk-return'!LC3","v":1.3581284244533764},{"$f":"'1D Vectors Transposed'!H12+'1D Vectors Transposed'!I12*'Risk-return'!LD3","v":1.3620296463356418},{"$f":"'1D Vectors Transposed'!H12+'1D Vectors Transposed'!I12*'Risk-return'!LE3","v":1.3659308682179072},{"$f":"'1D Vectors Transposed'!H12+'1D Vectors Transposed'!I12*'Risk-return'!LF3","v":1.3698320901001726},{"$f":"'1D Vectors Transposed'!H12+'1D Vectors Transposed'!I12*'Risk-return'!LG3","v":1.373733311982438},{"$f":"'1D Vectors Transposed'!H12+'1D Vectors Transposed'!I12*'Risk-return'!LH3","v":1.3776345338647034},{"$f":"'1D Vectors Transposed'!H12+'1D Vectors Transposed'!I12*'Risk-return'!LI3","v":1.3815357557469687},{"$f":"'1D Vectors Transposed'!H12+'1D Vectors Transposed'!I12*'Risk-return'!LJ3","v":1.3854369776292339},{"$f":"'1D Vectors Transposed'!H12+'1D Vectors Transposed'!I12*'Risk-return'!LK3","v":1.3893381995114993},{"$f":"'1D Vectors Transposed'!H12+'1D Vectors Transposed'!I12*'Risk-return'!LL3","v":1.3932394213937647},{"$f":"'1D Vectors Transposed'!H12+'1D Vectors Transposed'!I12*'Risk-return'!LM3","v":1.39714064327603},{"$f":"'1D Vectors Transposed'!H12+'1D Vectors Transposed'!I12*'Risk-return'!LN3","v":1.4010418651582954},{"$f":"'1D Vectors Transposed'!H12+'1D Vectors Transposed'!I12*'Risk-return'!LO3","v":1.4049430870405608},{"$f":"'1D Vectors Transposed'!H12+'1D Vectors Transposed'!I12*'Risk-return'!LP3","v":1.4088443089228262},{"$f":"'1D Vectors Transposed'!H12+'1D Vectors Transposed'!I12*'Risk-return'!LQ3","v":1.4127455308050916},{"$f":"'1D Vectors Transposed'!H12+'1D Vectors Transposed'!I12*'Risk-return'!LR3","v":1.4166467526873567},{"$f":"'1D Vectors Transposed'!H12+'1D Vectors Transposed'!I12*'Risk-return'!LS3","v":1.4205479745696221},{"$f":"'1D Vectors Transposed'!H12+'1D Vectors Transposed'!I12*'Risk-return'!LT3","v":1.4244491964518875},{"$f":"'1D Vectors Transposed'!H12+'1D Vectors Transposed'!I12*'Risk-return'!LU3","v":1.4283504183341529},{"$f":"'1D Vectors Transposed'!H12+'1D Vectors Transposed'!I12*'Risk-return'!LV3","v":1.4322516402164183},{"$f":"'1D Vectors Transposed'!H12+'1D Vectors Transposed'!I12*'Risk-return'!LW3","v":1.4361528620986836},{"$f":"'1D Vectors Transposed'!H12+'1D Vectors Transposed'!I12*'Risk-return'!LX3","v":1.440054083980949},{"$f":"'1D Vectors Transposed'!H12+'1D Vectors Transposed'!I12*'Risk-return'!LY3","v":1.4439553058632144},{"$f":"'1D Vectors Transposed'!H12+'1D Vectors Transposed'!I12*'Risk-return'!LZ3","v":1.4478565277454796},{"$f":"'1D Vectors Transposed'!H12+'1D Vectors Transposed'!I12*'Risk-return'!MA3","v":1.451757749627745},{"$f":"'1D Vectors Transposed'!H12+'1D Vectors Transposed'!I12*'Risk-return'!MB3","v":1.4556589715100103},{"$f":"'1D Vectors Transposed'!H12+'1D Vectors Transposed'!I12*'Risk-return'!MC3","v":1.4595601933922757},{"$f":"'1D Vectors Transposed'!H12+'1D Vectors Transposed'!I12*'Risk-return'!MD3","v":1.4634614152745411},{"$f":"'1D Vectors Transposed'!H12+'1D Vectors Transposed'!I12*'Risk-return'!ME3","v":1.4673626371568065},{"$f":"'1D Vectors Transposed'!H12+'1D Vectors Transposed'!I12*'Risk-return'!MF3","v":1.4712638590390719},{"$f":"'1D Vectors Transposed'!H12+'1D Vectors Transposed'!I12*'Risk-return'!MG3","v":1.4751650809213372},{"$f":"'1D Vectors Transposed'!H12+'1D Vectors Transposed'!I12*'Risk-return'!MH3","v":1.4790663028036024},{"$f":"'1D Vectors Transposed'!H12+'1D Vectors Transposed'!I12*'Risk-return'!MI3","v":1.4829675246858678},{"$f":"'1D Vectors Transposed'!H12+'1D Vectors Transposed'!I12*'Risk-return'!MJ3","v":1.4868687465681332},{"$f":"'1D Vectors Transposed'!H12+'1D Vectors Transposed'!I12*'Risk-return'!MK3","v":1.4907699684503986},{"$f":"'1D Vectors Transposed'!H12+'1D Vectors Transposed'!I12*'Risk-return'!ML3","v":1.4946711903326639},{"$f":"'1D Vectors Transposed'!H12+'1D Vectors Transposed'!I12*'Risk-return'!MM3","v":1.4985724122149293},{"$f":"'1D Vectors Transposed'!H12+'1D Vectors Transposed'!I12*'Risk-return'!MN3","v":1.5024736340971947},{"$f":"'1D Vectors Transposed'!H12+'1D Vectors Transposed'!I12*'Risk-return'!MO3","v":1.5063748559794601},{"$f":"'1D Vectors Transposed'!H12+'1D Vectors Transposed'!I12*'Risk-return'!MP3","v":1.5102760778617252},{"$f":"'1D Vectors Transposed'!H12+'1D Vectors Transposed'!I12*'Risk-return'!MQ3","v":1.5141772997439906},{"$f":"'1D Vectors Transposed'!H12+'1D Vectors Transposed'!I12*'Risk-return'!MR3","v":1.518078521626256},{"$f":"'1D Vectors Transposed'!H12+'1D Vectors Transposed'!I12*'Risk-return'!MS3","v":1.5219797435085214},{"$f":"'1D Vectors Transposed'!H12+'1D Vectors Transposed'!I12*'Risk-return'!MT3","v":1.5258809653907868},{"$f":"'1D Vectors Transposed'!H12+'1D Vectors Transposed'!I12*'Risk-return'!MU3","v":1.5297821872730522},{"$f":"'1D Vectors Transposed'!H12+'1D Vectors Transposed'!I12*'Risk-return'!MV3","v":1.5336834091553175},{"$f":"'1D Vectors Transposed'!H12+'1D Vectors Transposed'!I12*'Risk-return'!MW3","v":1.5375846310375829},{"$f":"'1D Vectors Transposed'!H12+'1D Vectors Transposed'!I12*'Risk-return'!MX3","v":1.5414858529198481},{"$f":"'1D Vectors Transposed'!H12+'1D Vectors Transposed'!I12*'Risk-return'!MY3","v":1.5453870748021135},{"$f":"'1D Vectors Transposed'!H12+'1D Vectors Transposed'!I12*'Risk-return'!MZ3","v":1.5492882966843788},{"$f":"'1D Vectors Transposed'!H12+'1D Vectors Transposed'!I12*'Risk-return'!NA3","v":1.5531895185666442},{"$f":"'1D Vectors Transposed'!H12+'1D Vectors Transposed'!I12*'Risk-return'!NB3","v":1.5570907404489096},{"$f":"'1D Vectors Transposed'!H12+'1D Vectors Transposed'!I12*'Risk-return'!NC3","v":1.560991962331175},{"$f":"'1D Vectors Transposed'!H12+'1D Vectors Transposed'!I12*'Risk-return'!ND3","v":1.5648931842134404},{"$f":"'1D Vectors Transposed'!H12+'1D Vectors Transposed'!I12*'Risk-return'!NE3","v":1.5687944060957058},{"$f":"'1D Vectors Transposed'!H12+'1D Vectors Transposed'!I12*'Risk-return'!NF3","v":1.5726956279779709},{"$f":"'1D Vectors Transposed'!H12+'1D Vectors Transposed'!I12*'Risk-return'!NG3","v":1.5765968498602363},{"$f":"'1D Vectors Transposed'!H12+'1D Vectors Transposed'!I12*'Risk-return'!NH3","v":1.5804980717425017},{"$f":"'1D Vectors Transposed'!H12+'1D Vectors Transposed'!I12*'Risk-return'!NI3","v":1.5843992936247671},{"$f":"'1D Vectors Transposed'!H12+'1D Vectors Transposed'!I12*'Risk-return'!NJ3","v":1.5883005155070324},{"$f":"'1D Vectors Transposed'!H12+'1D Vectors Transposed'!I12*'Risk-return'!NK3","v":1.5922017373892978},{"$f":"'1D Vectors Transposed'!H12+'1D Vectors Transposed'!I12*'Risk-return'!NL3","v":1.5961029592715632},{"$f":"'1D Vectors Transposed'!H12+'1D Vectors Transposed'!I12*'Risk-return'!NM3","v":1.6000041811538286},{"$f":"'1D Vectors Transposed'!H12+'1D Vectors Transposed'!I12*'Risk-return'!NN3","v":1.6039054030360937},{"$f":"'1D Vectors Transposed'!H12+'1D Vectors Transposed'!I12*'Risk-return'!NO3","v":1.6078066249183591},{"$f":"'1D Vectors Transposed'!H12+'1D Vectors Transposed'!I12*'Risk-return'!NP3","v":1.6117078468006245},{"$f":"'1D Vectors Transposed'!H12+'1D Vectors Transposed'!I12*'Risk-return'!NQ3","v":1.6156090686828899},{"$f":"'1D Vectors Transposed'!H12+'1D Vectors Transposed'!I12*'Risk-return'!NR3","v":1.6195102905651553},{"$f":"'1D Vectors Transposed'!H12+'1D Vectors Transposed'!I12*'Risk-return'!NS3","v":1.6234115124474207},{"$f":"'1D Vectors Transposed'!H12+'1D Vectors Transposed'!I12*'Risk-return'!NT3","v":1.627312734329686},{"$f":"'1D Vectors Transposed'!H12+'1D Vectors Transposed'!I12*'Risk-return'!NU3","v":1.6312139562119514},{"$f":"'1D Vectors Transposed'!H12+'1D Vectors Transposed'!I12*'Risk-return'!NV3","v":1.6351151780942166},{"$f":"'1D Vectors Transposed'!H12+'1D Vectors Transposed'!I12*'Risk-return'!NW3","v":1.639016399976482},{"$f":"'1D Vectors Transposed'!H12+'1D Vectors Transposed'!I12*'Risk-return'!NX3","v":1.6429176218587473},{"$f":"'1D Vectors Transposed'!H12+'1D Vectors Transposed'!I12*'Risk-return'!NY3","v":1.6468188437410127},{"$f":"'1D Vectors Transposed'!H12+'1D Vectors Transposed'!I12*'Risk-return'!NZ3","v":1.6507200656232781},{"$f":"'1D Vectors Transposed'!H12+'1D Vectors Transposed'!I12*'Risk-return'!OA3","v":1.6546212875055435},{"$f":"'1D Vectors Transposed'!H12+'1D Vectors Transposed'!I12*'Risk-return'!OB3","v":1.6585225093878089},{"$f":"'1D Vectors Transposed'!H12+'1D Vectors Transposed'!I12*'Risk-return'!OC3","v":1.6624237312700743},{"$f":"'1D Vectors Transposed'!H12+'1D Vectors Transposed'!I12*'Risk-return'!OD3","v":1.6663249531523394},{"$f":"'1D Vectors Transposed'!H12+'1D Vectors Transposed'!I12*'Risk-return'!OE3","v":1.6702261750346048},{"$f":"'1D Vectors Transposed'!H12+'1D Vectors Transposed'!I12*'Risk-return'!OF3","v":1.6741273969168702},{"$f":"'1D Vectors Transposed'!H12+'1D Vectors Transposed'!I12*'Risk-return'!OG3","v":1.6780286187991356},{"$f":"'1D Vectors Transposed'!H12+'1D Vectors Transposed'!I12*'Risk-return'!OH3","v":1.6819298406814009},{"$f":"'1D Vectors Transposed'!H12+'1D Vectors Transposed'!I12*'Risk-return'!OI3","v":1.6858310625636663},{"$f":"'1D Vectors Transposed'!H12+'1D Vectors Transposed'!I12*'Risk-return'!OJ3","v":1.6897322844459317},{"$f":"'1D Vectors Transposed'!H12+'1D Vectors Transposed'!I12*'Risk-return'!OK3","v":1.6936335063281971},{"$f":"'1D Vectors Transposed'!H12+'1D Vectors Transposed'!I12*'Risk-return'!OL3","v":1.6975347282104625},{"$f":"'1D Vectors Transposed'!H12+'1D Vectors Transposed'!I12*'Risk-return'!OM3","v":1.7014359500927276},{"$f":"'1D Vectors Transposed'!H12+'1D Vectors Transposed'!I12*'Risk-return'!ON3","v":1.705337171974993},{"$f":"'1D Vectors Transposed'!H12+'1D Vectors Transposed'!I12*'Risk-return'!OO3","v":1.7092383938572584},{"$f":"'1D Vectors Transposed'!H12+'1D Vectors Transposed'!I12*'Risk-return'!OP3","v":1.7131396157395238},{"$f":"'1D Vectors Transposed'!H12+'1D Vectors Transposed'!I12*'Risk-return'!OQ3","v":1.7170408376217892},{"$f":"'1D Vectors Transposed'!H12+'1D Vectors Transposed'!I12*'Risk-return'!OR3","v":1.7209420595040545},{"$f":"'1D Vectors Transposed'!H12+'1D Vectors Transposed'!I12*'Risk-return'!OS3","v":1.7248432813863199},{"$f":"'1D Vectors Transposed'!H12+'1D Vectors Transposed'!I12*'Risk-return'!OT3","v":1.7287445032685853},{"$f":"'1D Vectors Transposed'!H12+'1D Vectors Transposed'!I12*'Risk-return'!OU3","v":1.7326457251508505},{"$f":"'1D Vectors Transposed'!H12+'1D Vectors Transposed'!I12*'Risk-return'!OV3","v":1.7365469470331159},{"$f":"'1D Vectors Transposed'!H12+'1D Vectors Transposed'!I12*'Risk-return'!OW3","v":1.7404481689153812},{"$f":"'1D Vectors Transposed'!H12+'1D Vectors Transposed'!I12*'Risk-return'!OX3","v":1.7443493907976466},{"$f":"'1D Vectors Transposed'!H12+'1D Vectors Transposed'!I12*'Risk-return'!OY3","v":1.748250612679912},{"$f":"'1D Vectors Transposed'!H12+'1D Vectors Transposed'!I12*'Risk-return'!OZ3","v":1.7521518345621774},{"$f":"'1D Vectors Transposed'!H12+'1D Vectors Transposed'!I12*'Risk-return'!PA3","v":1.7560530564444428},{"$f":"'1D Vectors Transposed'!H12+'1D Vectors Transposed'!I12*'Risk-return'!PB3","v":1.7599542783267081},{"$f":"'1D Vectors Transposed'!H12+'1D Vectors Transposed'!I12*'Risk-return'!PC3","v":1.7638555002089733},{"$f":"'1D Vectors Transposed'!H12+'1D Vectors Transposed'!I12*'Risk-return'!PD3","v":1.7677567220912387},{"$f":"'1D Vectors Transposed'!H12+'1D Vectors Transposed'!I12*'Risk-return'!PE3","v":1.7716579439735041},{"$f":"'1D Vectors Transposed'!H12+'1D Vectors Transposed'!I12*'Risk-return'!PF3","v":1.7755591658557695},{"$f":"'1D Vectors Transposed'!H12+'1D Vectors Transposed'!I12*'Risk-return'!PG3","v":1.7794603877380348},{"$f":"'1D Vectors Transposed'!H12+'1D Vectors Transposed'!I12*'Risk-return'!PH3","v":1.7833616096203002},{"$f":"'1D Vectors Transposed'!H12+'1D Vectors Transposed'!I12*'Risk-return'!PI3","v":1.7872628315025656},{"$f":"'1D Vectors Transposed'!H12+'1D Vectors Transposed'!I12*'Risk-return'!PJ3","v":1.791164053384831},{"$f":"'1D Vectors Transposed'!H12+'1D Vectors Transposed'!I12*'Risk-return'!PK3","v":1.7950652752670961},{"$f":"'1D Vectors Transposed'!H12+'1D Vectors Transposed'!I12*'Risk-return'!PL3","v":1.7989664971493615},{"$f":"'1D Vectors Transposed'!H12+'1D Vectors Transposed'!I12*'Risk-return'!PM3","v":1.8028677190316269},{"$f":"'1D Vectors Transposed'!H12+'1D Vectors Transposed'!I12*'Risk-return'!PN3","v":1.8067689409138923},{"$f":"'1D Vectors Transposed'!H12+'1D Vectors Transposed'!I12*'Risk-return'!PO3","v":1.8106701627961577},{"$f":"'1D Vectors Transposed'!H12+'1D Vectors Transposed'!I12*'Risk-return'!PP3","v":1.814571384678423},{"$f":"'1D Vectors Transposed'!H12+'1D Vectors Transposed'!I12*'Risk-return'!PQ3","v":1.8184726065606884},{"$f":"'1D Vectors Transposed'!H12+'1D Vectors Transposed'!I12*'Risk-return'!PR3","v":1.8223738284429538},{"$f":"'1D Vectors Transposed'!H12+'1D Vectors Transposed'!I12*'Risk-return'!PS3","v":1.826275050325219},{"$f":"'1D Vectors Transposed'!H12+'1D Vectors Transposed'!I12*'Risk-return'!PT3","v":1.8301762722074844},{"$f":"'1D Vectors Transposed'!H12+'1D Vectors Transposed'!I12*'Risk-return'!PU3","v":1.8340774940897497},{"$f":"'1D Vectors Transposed'!H12+'1D Vectors Transposed'!I12*'Risk-return'!PV3","v":1.8379787159720151},{"$f":"'1D Vectors Transposed'!H12+'1D Vectors Transposed'!I12*'Risk-return'!PW3","v":1.8418799378542805},{"$f":"'1D Vectors Transposed'!H12+'1D Vectors Transposed'!I12*'Risk-return'!PX3","v":1.8457811597365459},{"$f":"'1D Vectors Transposed'!H12+'1D Vectors Transposed'!I12*'Risk-return'!PY3","v":1.8496823816188113},{"$f":"'1D Vectors Transposed'!H12+'1D Vectors Transposed'!I12*'Risk-return'!PZ3","v":1.8535836035010766},{"$f":"'1D Vectors Transposed'!H12+'1D Vectors Transposed'!I12*'Risk-return'!QA3","v":1.8574848253833418},{"$f":"'1D Vectors Transposed'!H12+'1D Vectors Transposed'!I12*'Risk-return'!QB3","v":1.8613860472656072},{"$f":"'1D Vectors Transposed'!H12+'1D Vectors Transposed'!I12*'Risk-return'!QC3","v":1.8652872691478726},{"$f":"'1D Vectors Transposed'!H12+'1D Vectors Transposed'!I12*'Risk-return'!QD3","v":1.869188491030138},{"$f":"'1D Vectors Transposed'!H12+'1D Vectors Transposed'!I12*'Risk-return'!QE3","v":1.8730897129124033},{"$f":"'1D Vectors Transposed'!H12+'1D Vectors Transposed'!I12*'Risk-return'!QF3","v":1.8769909347946687},{"$f":"'1D Vectors Transposed'!H12+'1D Vectors Transposed'!I12*'Risk-return'!QG3","v":1.8808921566769341},{"$f":"'1D Vectors Transposed'!H12+'1D Vectors Transposed'!I12*'Risk-return'!QH3","v":1.8847933785591995},{"$f":"'1D Vectors Transposed'!H12+'1D Vectors Transposed'!I12*'Risk-return'!QI3","v":1.8886946004414646},{"$f":"'1D Vectors Transposed'!H12+'1D Vectors Transposed'!I12*'Risk-return'!QJ3","v":1.89259582232373},{"$f":"'1D Vectors Transposed'!H12+'1D Vectors Transposed'!I12*'Risk-return'!QK3","v":1.8964970442059954},{"$f":"'1D Vectors Transposed'!H12+'1D Vectors Transposed'!I12*'Risk-return'!QL3","v":1.9003982660882608},{"$f":"'1D Vectors Transposed'!H12+'1D Vectors Transposed'!I12*'Risk-return'!QM3","v":1.9042994879705262},{"$f":"'1D Vectors Transposed'!H12+'1D Vectors Transposed'!I12*'Risk-return'!QN3","v":1.9082007098527916},{"$f":"'1D Vectors Transposed'!H12+'1D Vectors Transposed'!I12*'Risk-return'!QO3","v":1.9121019317350569},{"$f":"'1D Vectors Transposed'!H12+'1D Vectors Transposed'!I12*'Risk-return'!QP3","v":1.9160031536173223},{"$f":"'1D Vectors Transposed'!H12+'1D Vectors Transposed'!I12*'Risk-return'!QQ3","v":1.9199043754995875},{"$f":"'1D Vectors Transposed'!H12+'1D Vectors Transposed'!I12*'Risk-return'!QR3","v":1.9238055973818529},{"$f":"'1D Vectors Transposed'!H12+'1D Vectors Transposed'!I12*'Risk-return'!QS3","v":1.9277068192641182},{"$f":"'1D Vectors Transposed'!H12+'1D Vectors Transposed'!I12*'Risk-return'!QT3","v":1.9316080411463836},{"$f":"'1D Vectors Transposed'!H12+'1D Vectors Transposed'!I12*'Risk-return'!QU3","v":1.935509263028649},{"$f":"'1D Vectors Transposed'!H12+'1D Vectors Transposed'!I12*'Risk-return'!QV3","v":1.9394104849109144},{"$f":"'1D Vectors Transposed'!H12+'1D Vectors Transposed'!I12*'Risk-return'!QW3","v":1.9433117067931798},{"$f":"'1D Vectors Transposed'!H12+'1D Vectors Transposed'!I12*'Risk-return'!QX3","v":1.9472129286754452},{"$f":"'1D Vectors Transposed'!H12+'1D Vectors Transposed'!I12*'Risk-return'!QY3","v":1.9511141505577103},{"$f":"'1D Vectors Transposed'!H12+'1D Vectors Transposed'!I12*'Risk-return'!QZ3","v":1.9550153724399757},{"$f":"'1D Vectors Transposed'!H12+'1D Vectors Transposed'!I12*'Risk-return'!RA3","v":1.9589165943222411},{"$f":"'1D Vectors Transposed'!H12+'1D Vectors Transposed'!I12*'Risk-return'!RB3","v":1.9628178162045065},{"$f":"'1D Vectors Transposed'!H12+'1D Vectors Transposed'!I12*'Risk-return'!RC3","v":1.9667190380867718},{"$f":"'1D Vectors Transposed'!H12+'1D Vectors Transposed'!I12*'Risk-return'!RD3","v":1.9706202599690372},{"$f":"'1D Vectors Transposed'!H12+'1D Vectors Transposed'!I12*'Risk-return'!RE3","v":1.9745214818513026},{"$f":"'1D Vectors Transposed'!H12+'1D Vectors Transposed'!I12*'Risk-return'!RF3","v":1.978422703733568},{"$f":"'1D Vectors Transposed'!H12+'1D Vectors Transposed'!I12*'Risk-return'!RG3","v":1.9823239256158331},{"$f":"'1D Vectors Transposed'!H12+'1D Vectors Transposed'!I12*'Risk-return'!RH3","v":1.9862251474980985},{"$f":"'1D Vectors Transposed'!H12+'1D Vectors Transposed'!I12*'Risk-return'!RI3","v":1.9901263693803639},{"$f":"'1D Vectors Transposed'!H12+'1D Vectors Transposed'!I12*'Risk-return'!RJ3","v":1.9940275912626293},{"$f":"'1D Vectors Transposed'!H12+'1D Vectors Transposed'!I12*'Risk-return'!RK3","v":1.9979288131448947},{"$f":"'1D Vectors Transposed'!H12+'1D Vectors Transposed'!I12*'Risk-return'!RL3","v":2.0018300350271603},{"$f":"'1D Vectors Transposed'!H12+'1D Vectors Transposed'!I12*'Risk-return'!RM3","v":2.0057312569094257},{"$f":"'1D Vectors Transposed'!H12+'1D Vectors Transposed'!I12*'Risk-return'!RN3","v":2.009632478791691},{"$f":"'1D Vectors Transposed'!H12+'1D Vectors Transposed'!I12*'Risk-return'!RO3","v":2.013533700673956},{"$f":"'1D Vectors Transposed'!H12+'1D Vectors Transposed'!I12*'Risk-return'!RP3","v":2.0174349225562214},{"$f":"'1D Vectors Transposed'!H12+'1D Vectors Transposed'!I12*'Risk-return'!RQ3","v":2.0213361444384867},{"$f":"'1D Vectors Transposed'!H12+'1D Vectors Transposed'!I12*'Risk-return'!RR3","v":2.0252373663207521},{"$f":"'1D Vectors Transposed'!H12+'1D Vectors Transposed'!I12*'Risk-return'!RS3","v":2.0291385882030175},{"$f":"'1D Vectors Transposed'!H12+'1D Vectors Transposed'!I12*'Risk-return'!RT3","v":2.0330398100852829},{"$f":"'1D Vectors Transposed'!H12+'1D Vectors Transposed'!I12*'Risk-return'!RU3","v":2.0369410319675483},{"$f":"'1D Vectors Transposed'!H12+'1D Vectors Transposed'!I12*'Risk-return'!RV3","v":2.0408422538498137},{"$f":"'1D Vectors Transposed'!H12+'1D Vectors Transposed'!I12*'Risk-return'!RW3","v":2.044743475732079},{"$f":"'1D Vectors Transposed'!H12+'1D Vectors Transposed'!I12*'Risk-return'!RX3","v":2.0486446976143444},{"$f":"'1D Vectors Transposed'!H12+'1D Vectors Transposed'!I12*'Risk-return'!RY3","v":2.0525459194966098},{"$f":"'1D Vectors Transposed'!H12+'1D Vectors Transposed'!I12*'Risk-return'!RZ3","v":2.0564471413788752},{"$f":"'1D Vectors Transposed'!H12+'1D Vectors Transposed'!I12*'Risk-return'!SA3","v":2.0603483632611406},{"$f":"'1D Vectors Transposed'!H12+'1D Vectors Transposed'!I12*'Risk-return'!SB3","v":2.064249585143406},{"$f":"'1D Vectors Transposed'!H12+'1D Vectors Transposed'!I12*'Risk-return'!SC3","v":2.0681508070256713},{"$f":"'1D Vectors Transposed'!H12+'1D Vectors Transposed'!I12*'Risk-return'!SD3","v":2.0720520289079367},{"$f":"'1D Vectors Transposed'!H12+'1D Vectors Transposed'!I12*'Risk-return'!SE3","v":2.0759532507902017},{"$f":"'1D Vectors Transposed'!H12+'1D Vectors Transposed'!I12*'Risk-return'!SF3","v":2.079854472672467},{"$f":"'1D Vectors Transposed'!H12+'1D Vectors Transposed'!I12*'Risk-return'!SG3","v":0.13316713414660705}]
["SPASTT01NLM661N",{"$f":"'1D Vectors Transposed'!H13+'1D Vectors Transposed'!I13*'Risk-return'!B3","v":-0.25917890706937408},{"$f":"'1D Vectors Transposed'!H13+'1D Vectors Transposed'!I13*'Risk-return'!C3","v":-0.26673855743005204},{"$f":"'1D Vectors Transposed'!H13+'1D Vectors Transposed'!I13*'Risk-return'!D3","v":-0.27429820724069304},{"$f":"'1D Vectors Transposed'!H13+'1D Vectors Transposed'!I13*'Risk-return'!E3","v":-0.28185785815140801},{"$f":"'1D Vectors Transposed'!H13+'1D Vectors Transposed'!I13*'Risk-return'!F3","v":-0.28941750686197509},{"$f":"'1D Vectors Transposed'!H13+'1D Vectors Transposed'!I13*'Risk-return'!G3","v":-0.29697715777269007},{"$f":"'1D Vectors Transposed'!H13+'1D Vectors Transposed'!I13*'Risk-return'!H3","v":-0.30453680868340499},{"$f":"'1D Vectors Transposed'!H13+'1D Vectors Transposed'!I13*'Risk-return'!I3","v":-0.31209645959411997},{"$f":"'1D Vectors Transposed'!H13+'1D Vectors Transposed'!I13*'Risk-return'!J3","v":-0.31965611050483494},{"$f":"'1D Vectors Transposed'!H13+'1D Vectors Transposed'!I13*'Risk-return'!K3","v":-0.32721575701525413},{"$f":"'1D Vectors Transposed'!H13+'1D Vectors Transposed'!I13*'Risk-return'!L3","v":-0.33477540352567331},{"$f":"'1D Vectors Transposed'!H13+'1D Vectors Transposed'!I13*'Risk-return'!M3","v":-0.34233505003609255},{"$f":"'1D Vectors Transposed'!H13+'1D Vectors Transposed'!I13*'Risk-return'!N3","v":-0.34989469654651173},{"$f":"'1D Vectors Transposed'!H13+'1D Vectors Transposed'!I13*'Risk-return'!O3","v":-0.35745434305693091},{"$f":"'1D Vectors Transposed'!H13+'1D Vectors Transposed'!I13*'Risk-return'!P3","v":-0.36501398956735009},{"$f":"'1D Vectors Transposed'!H13+'1D Vectors Transposed'!I13*'Risk-return'!Q3","v":-0.37257363607776933},{"$f":"'1D Vectors Transposed'!H13+'1D Vectors Transposed'!I13*'Risk-return'!R3","v":-0.38013328258818851},{"$f":"'1D Vectors Transposed'!H13+'1D Vectors Transposed'!I13*'Risk-return'!S3","v":-0.38769292909860775},{"$f":"'1D Vectors Transposed'!H13+'1D Vectors Transposed'!I13*'Risk-return'!T3","v":-0.39525257560902693},{"$f":"'1D Vectors Transposed'!H13+'1D Vectors Transposed'!I13*'Risk-return'!U3","v":-0.40281222211944612},{"$f":"'1D Vectors Transposed'!H13+'1D Vectors Transposed'!I13*'Risk-return'!V3","v":-0.41037187743045683},{"$f":"'1D Vectors Transposed'!H13+'1D Vectors Transposed'!I13*'Risk-return'!W3","v":-0.41793153274146755},{"$f":"'1D Vectors Transposed'!H13+'1D Vectors Transposed'!I13*'Risk-return'!X3","v":-0.42549118805247826},{"$f":"'1D Vectors Transposed'!H13+'1D Vectors Transposed'!I13*'Risk-return'!Y3","v":-0.43305084336348898},{"$f":"'1D Vectors Transposed'!H13+'1D Vectors Transposed'!I13*'Risk-return'!Z3","v":-0.4406104986744997},{"$f":"'1D Vectors Transposed'!H13+'1D Vectors Transposed'!I13*'Risk-return'!AA3","v":-0.44817015398551041},{"$f":"'1D Vectors Transposed'!H13+'1D Vectors Transposed'!I13*'Risk-return'!AB3","v":-0.45572980929652113},{"$f":"'1D Vectors Transposed'!H13+'1D Vectors Transposed'!I13*'Risk-return'!AC3","v":-0.46328946460753184},{"$f":"'1D Vectors Transposed'!H13+'1D Vectors Transposed'!I13*'Risk-return'!AD3","v":-0.47084911991854261},{"$f":"'1D Vectors Transposed'!H13+'1D Vectors Transposed'!I13*'Risk-return'!AE3","v":-0.47840877522955327},{"$f":"'1D Vectors Transposed'!H13+'1D Vectors Transposed'!I13*'Risk-return'!AF3","v":-0.48596843054056404},{"$f":"'1D Vectors Transposed'!H13+'1D Vectors Transposed'!I13*'Risk-return'!AG3","v":-0.4935280858515747},{"$f":"'1D Vectors Transposed'!H13+'1D Vectors Transposed'!I13*'Risk-return'!AH3","v":-0.50108774116258548},{"$f":"'1D Vectors Transposed'!H13+'1D Vectors Transposed'!I13*'Risk-return'!AI3","v":-0.50864739647359625},{"$f":"'1D Vectors Transposed'!H13+'1D Vectors Transposed'!I13*'Risk-return'!AJ3","v":-0.51620705178460691},{"$f":"'1D Vectors Transposed'!H13+'1D Vectors Transposed'!I13*'Risk-return'!AK3","v":-0.52376670709561757},{"$f":"'1D Vectors Transposed'!H13+'1D Vectors Transposed'!I13*'Risk-return'!AL3","v":-0.53132636240662834},{"$f":"'1D Vectors Transposed'!H13+'1D Vectors Transposed'!I13*'Risk-return'!AM3","v":-0.53888601771763911},{"$f":"'1D Vectors Transposed'!H13+'1D Vectors Transposed'!I13*'Risk-return'!AN3","v":-0.54644567302864977},{"$f":"'1D Vectors Transposed'!H13+'1D Vectors Transposed'!I13*'Risk-return'!AO3","v":-0.55400532833966043},{"$f":"'1D Vectors Transposed'!H13+'1D Vectors Transposed'!I13*'Risk-return'!AP3","v":-0.56156496604948813},{"$f":"'1D Vectors Transposed'!H13+'1D Vectors Transposed'!I13*'Risk-return'!AQ3","v":-0.56912460375931584},{"$f":"'1D Vectors Transposed'!H13+'1D Vectors Transposed'!I13*'Risk-return'!AR3","v":-0.57668424146914354},{"$f":"'1D Vectors Transposed'!H13+'1D Vectors Transposed'!I13*'Risk-return'!AS3","v":-0.58424387917897125},{"$f":"'1D Vectors Transposed'!H13+'1D Vectors Transposed'!I13*'Risk-return'!AT3","v":-0.59180351688879895},{"$f":"'1D Vectors Transposed'!H13+'1D Vectors Transposed'!I13*'Risk-return'!AU3","v":-0.59936315459862655},{"$f":"'1D Vectors Transposed'!H13+'1D Vectors Transposed'!I13*'Risk-return'!AV3","v":-0.60692279230845425},{"$f":"'1D Vectors Transposed'!H13+'1D Vectors Transposed'!I13*'Risk-return'!AW3","v":-0.61448243001828184},{"$f":"'1D Vectors Transposed'!H13+'1D Vectors Transposed'!I13*'Risk-return'!AX3","v":-0.62204206772810955},{"$f":"'1D Vectors Transposed'!H13+'1D Vectors Transposed'!I13*'Risk-return'!AY3","v":-0.62960170543793725},{"$f":"'1D Vectors Transposed'!H13+'1D Vectors Transposed'!I13*'Risk-return'!AZ3","v":-0.63716134314776496},{"$f":"'1D Vectors Transposed'!H13+'1D Vectors Transposed'!I13*'Risk-return'!BA3","v":-0.64472098085759266},{"$f":"'1D Vectors Transposed'!H13+'1D Vectors Transposed'!I13*'Risk-return'!BB3","v":-0.65228061856742037},{"$f":"'1D Vectors Transposed'!H13+'1D Vectors Transposed'!I13*'Risk-return'!BC3","v":-0.65984025627724807},{"$f":"'1D Vectors Transposed'!H13+'1D Vectors Transposed'!I13*'Risk-return'!BD3","v":-0.66739989398707567},{"$f":"'1D Vectors Transposed'!H13+'1D Vectors Transposed'!I13*'Risk-return'!BE3","v":-0.67495953169690337},{"$f":"'1D Vectors Transposed'!H13+'1D Vectors Transposed'!I13*'Risk-return'!BF3","v":-0.68251916940673096},{"$f":"'1D Vectors Transposed'!H13+'1D Vectors Transposed'!I13*'Risk-return'!BG3","v":-0.69007880711655867},{"$f":"'1D Vectors Transposed'!H13+'1D Vectors Transposed'!I13*'Risk-return'!BH3","v":-0.69763844482638637},{"$f":"'1D Vectors Transposed'!H13+'1D Vectors Transposed'!I13*'Risk-return'!BI3","v":-0.70519808253621408},{"$f":"'1D Vectors Transposed'!H13+'1D Vectors Transposed'!I13*'Risk-return'!BJ3","v":-0.71275772024604178},{"$f":"'1D Vectors Transposed'!H13+'1D Vectors Transposed'!I13*'Risk-return'!BK3","v":-0.72031735795586949},{"$f":"'1D Vectors Transposed'!H13+'1D Vectors Transposed'!I13*'Risk-return'!BL3","v":-0.72787699566569719},{"$f":"'1D Vectors Transposed'!H13+'1D Vectors Transposed'!I13*'Risk-return'!BM3","v":-0.73543663337552478},{"$f":"'1D Vectors Transposed'!H13+'1D Vectors Transposed'!I13*'Risk-return'!BN3","v":-0.74299627108535249},{"$f":"'1D Vectors Transposed'!H13+'1D Vectors Transposed'!I13*'Risk-return'!BO3","v":-0.75055590879518008},{"$f":"'1D Vectors Transposed'!H13+'1D Vectors Transposed'!I13*'Risk-return'!BP3","v":-0.75811554650500779},{"$f":"'1D Vectors Transposed'!H13+'1D Vectors Transposed'!I13*'Risk-return'!BQ3","v":-0.76567518421483549},{"$f":"'1D Vectors Transposed'!H13+'1D Vectors Transposed'!I13*'Risk-return'!BR3","v":-0.7732348219246632},{"$f":"'1D Vectors Transposed'!H13+'1D Vectors Transposed'!I13*'Risk-return'!BS3","v":-0.7807944596344909},{"$f":"'1D Vectors Transposed'!H13+'1D Vectors Transposed'!I13*'Risk-return'!BT3","v":-0.78835409734431861},{"$f":"'1D Vectors Transposed'!H13+'1D Vectors Transposed'!I13*'Risk-return'!BU3","v":-0.79591373505414631},{"$f":"'1D Vectors Transposed'!H13+'1D Vectors Transposed'!I13*'Risk-return'!BV3","v":-0.80347337276397401},{"$f":"'1D Vectors Transposed'!H13+'1D Vectors Transposed'!I13*'Risk-return'!BW3","v":-0.8110330104738015},{"$f":"'1D Vectors Transposed'!H13+'1D Vectors Transposed'!I13*'Risk-return'!BX3","v":-0.8185926481836292},{"$f":"'1D Vectors Transposed'!H13+'1D Vectors Transposed'!I13*'Risk-return'!BY3","v":-0.82615228589345691},{"$f":"'1D Vectors Transposed'!H13+'1D Vectors Transposed'!I13*'Risk-return'!BZ3","v":-0.83371192360328461},{"$f":"'1D Vectors Transposed'!H13+'1D Vectors Transposed'!I13*'Risk-return'!CA3","v":-0.84127156131311231},{"$f":"'1D Vectors Transposed'!H13+'1D Vectors Transposed'!I13*'Risk-return'!CB3","v":-0.84883119902294002},{"$f":"'1D Vectors Transposed'!H13+'1D Vectors Transposed'!I13*'Risk-return'!CC3","v":-0.85639083673276772},{"$f":"'1D Vectors Transposed'!H13+'1D Vectors Transposed'!I13*'Risk-return'!CD3","v":-0.86395047444259543},{"$f":"'1D Vectors Transposed'!H13+'1D Vectors Transposed'!I13*'Risk-return'!CE3","v":-0.87151011215242313},{"$f":"'1D Vectors Transposed'!H13+'1D Vectors Transposed'!I13*'Risk-return'!CF3","v":-0.87906974986225084},{"$f":"'1D Vectors Transposed'!H13+'1D Vectors Transposed'!I13*'Risk-return'!CG3","v":-0.88662938757207832},{"$f":"'1D Vectors Transposed'!H13+'1D Vectors Transposed'!I13*'Risk-return'!CH3","v":-0.89418902528190602},{"$f":"'1D Vectors Transposed'!H13+'1D Vectors Transposed'!I13*'Risk-return'!CI3","v":-0.90174866299173373},{"$f":"'1D Vectors Transposed'!H13+'1D Vectors Transposed'!I13*'Risk-return'!CJ3","v":-0.90930830070156143},{"$f":"'1D Vectors Transposed'!H13+'1D Vectors Transposed'!I13*'Risk-return'!CK3","v":-0.91686793841138914},{"$f":"'1D Vectors Transposed'!H13+'1D Vectors Transposed'!I13*'Risk-return'!CL3","v":-0.92442757612121684},{"$f":"'1D Vectors Transposed'!H13+'1D Vectors Transposed'!I13*'Risk-return'!CM3","v":-0.93198721383104455},{"$f":"'1D Vectors Transposed'!H13+'1D Vectors Transposed'!I13*'Risk-return'!CN3","v":-0.93954685154087225},{"$f":"'1D Vectors Transposed'!H13+'1D Vectors Transposed'!I13*'Risk-return'!CO3","v":-0.94710648925069996},{"$f":"'1D Vectors Transposed'!H13+'1D Vectors Transposed'!I13*'Risk-return'!CP3","v":-0.95466612696052744},{"$f":"'1D Vectors Transposed'!H13+'1D Vectors Transposed'!I13*'Risk-return'!CQ3","v":-0.96222576467035514},{"$f":"'1D Vectors Transposed'!H13+'1D Vectors Transposed'!I13*'Risk-return'!CR3","v":-0.96978540238018285},{"$f":"'1D Vectors Transposed'!H13+'1D Vectors Transposed'!I13*'Risk-return'!CS3","v":-0.97734504009001055},{"$f":"'1D Vectors Transposed'!H13+'1D Vectors Transposed'!I13*'Risk-return'!CT3","v":-0.98490467779983826},{"$f":"'1D Vectors Transposed'!H13+'1D Vectors Transposed'!I13*'Risk-return'!CU3","v":-0.99246431550966596},{"$f":"'1D Vectors Transposed'!H13+'1D Vectors Transposed'!I13*'Risk-return'!CV3","v":-1.0000239532194937},{"$f":"'1D Vectors Transposed'!H13+'1D Vectors Transposed'!I13*'Risk-return'!CW3","v":-1.0075835909293214},{"$f":"'1D Vectors Transposed'!H13+'1D Vectors Transposed'!I13*'Risk-return'!CX3","v":-1.0151432286391491},{"$f":"'1D Vectors Transposed'!H13+'1D Vectors Transposed'!I13*'Risk-return'!CY3","v":-1.0227028663489766},{"$f":"'1D Vectors Transposed'!H13+'1D Vectors Transposed'!I13*'Risk-return'!CZ3","v":-1.0302625040588043},{"$f":"'1D Vectors Transposed'!H13+'1D Vectors Transposed'!I13*'Risk-return'!DA3","v":-1.037822141768632},{"$f":"'1D Vectors Transposed'!H13+'1D Vectors Transposed'!I13*'Risk-return'!DB3","v":-1.0453817794784597},{"$f":"'1D Vectors Transposed'!H13+'1D Vectors Transposed'!I13*'Risk-return'!DC3","v":-1.0529414171882874},{"$f":"'1D Vectors Transposed'!H13+'1D Vectors Transposed'!I13*'Risk-return'!DD3","v":-1.0605010548981151},{"$f":"'1D Vectors Transposed'!H13+'1D Vectors Transposed'!I13*'Risk-return'!DE3","v":-1.0680606926079428},{"$f":"'1D Vectors Transposed'!H13+'1D Vectors Transposed'!I13*'Risk-return'!DF3","v":-1.0756203303177705},{"$f":"'1D Vectors Transposed'!H13+'1D Vectors Transposed'!I13*'Risk-return'!DG3","v":-1.0831799680275982},{"$f":"'1D Vectors Transposed'!H13+'1D Vectors Transposed'!I13*'Risk-return'!DH3","v":-1.0907396057374257},{"$f":"'1D Vectors Transposed'!H13+'1D Vectors Transposed'!I13*'Risk-return'!DI3","v":-1.0982992434472534},{"$f":"'1D Vectors Transposed'!H13+'1D Vectors Transposed'!I13*'Risk-return'!DJ3","v":-1.1058588811570811},{"$f":"'1D Vectors Transposed'!H13+'1D Vectors Transposed'!I13*'Risk-return'!DK3","v":-1.1134185188669088},{"$f":"'1D Vectors Transposed'!H13+'1D Vectors Transposed'!I13*'Risk-return'!DL3","v":-1.1209781565767365},{"$f":"'1D Vectors Transposed'!H13+'1D Vectors Transposed'!I13*'Risk-return'!DM3","v":-1.1285377942865642},{"$f":"'1D Vectors Transposed'!H13+'1D Vectors Transposed'!I13*'Risk-return'!DN3","v":-1.1360974319963919},{"$f":"'1D Vectors Transposed'!H13+'1D Vectors Transposed'!I13*'Risk-return'!DO3","v":-1.1436570697062196},{"$f":"'1D Vectors Transposed'!H13+'1D Vectors Transposed'!I13*'Risk-return'!DP3","v":-1.1512167074160473},{"$f":"'1D Vectors Transposed'!H13+'1D Vectors Transposed'!I13*'Risk-return'!DQ3","v":-1.1587763451258748},{"$f":"'1D Vectors Transposed'!H13+'1D Vectors Transposed'!I13*'Risk-return'!DR3","v":-1.1663359828357025},{"$f":"'1D Vectors Transposed'!H13+'1D Vectors Transposed'!I13*'Risk-return'!DS3","v":-1.1738956205455302},{"$f":"'1D Vectors Transposed'!H13+'1D Vectors Transposed'!I13*'Risk-return'!DT3","v":-1.1814552582553579},{"$f":"'1D Vectors Transposed'!H13+'1D Vectors Transposed'!I13*'Risk-return'!DU3","v":-1.1890148959651856},{"$f":"'1D Vectors Transposed'!H13+'1D Vectors Transposed'!I13*'Risk-return'!DV3","v":-1.1965745336750133},{"$f":"'1D Vectors Transposed'!H13+'1D Vectors Transposed'!I13*'Risk-return'!DW3","v":-1.204134171384841},{"$f":"'1D Vectors Transposed'!H13+'1D Vectors Transposed'!I13*'Risk-return'!DX3","v":-1.2116938090946687},{"$f":"'1D Vectors Transposed'!H13+'1D Vectors Transposed'!I13*'Risk-return'!DY3","v":-1.2192534468044964},{"$f":"'1D Vectors Transposed'!H13+'1D Vectors Transposed'!I13*'Risk-return'!DZ3","v":-1.2268130845143241},{"$f":"'1D Vectors Transposed'!H13+'1D Vectors Transposed'!I13*'Risk-return'!EA3","v":-1.2343727222241516},{"$f":"'1D Vectors Transposed'!H13+'1D Vectors Transposed'!I13*'Risk-return'!EB3","v":-1.2419323599339793},{"$f":"'1D Vectors Transposed'!H13+'1D Vectors Transposed'!I13*'Risk-return'!EC3","v":-1.249491997643807},{"$f":"'1D Vectors Transposed'!H13+'1D Vectors Transposed'!I13*'Risk-return'!ED3","v":-1.2570516353536347},{"$f":"'1D Vectors Transposed'!H13+'1D Vectors Transposed'!I13*'Risk-return'!EE3","v":-1.2646112730634624},{"$f":"'1D Vectors Transposed'!H13+'1D Vectors Transposed'!I13*'Risk-return'!EF3","v":-1.2721709107732901},{"$f":"'1D Vectors Transposed'!H13+'1D Vectors Transposed'!I13*'Risk-return'!EG3","v":-1.2797305484831178},{"$f":"'1D Vectors Transposed'!H13+'1D Vectors Transposed'!I13*'Risk-return'!EH3","v":-1.2872901861929456},{"$f":"'1D Vectors Transposed'!H13+'1D Vectors Transposed'!I13*'Risk-return'!EI3","v":-1.2948498239027733},{"$f":"'1D Vectors Transposed'!H13+'1D Vectors Transposed'!I13*'Risk-return'!EJ3","v":-1.302409461612601},{"$f":"'1D Vectors Transposed'!H13+'1D Vectors Transposed'!I13*'Risk-return'!EK3","v":-1.3099690993224287},{"$f":"'1D Vectors Transposed'!H13+'1D Vectors Transposed'!I13*'Risk-return'!EL3","v":-1.3175287370322561},{"$f":"'1D Vectors Transposed'!H13+'1D Vectors Transposed'!I13*'Risk-return'!EM3","v":-1.3250883747420839},{"$f":"'1D Vectors Transposed'!H13+'1D Vectors Transposed'!I13*'Risk-return'!EN3","v":-1.3326480124519116},{"$f":"'1D Vectors Transposed'!H13+'1D Vectors Transposed'!I13*'Risk-return'!EO3","v":-1.3402076501617393},{"$f":"'1D Vectors Transposed'!H13+'1D Vectors Transposed'!I13*'Risk-return'!EP3","v":-1.347767287871567},{"$f":"'1D Vectors Transposed'!H13+'1D Vectors Transposed'!I13*'Risk-return'!EQ3","v":-1.3553269255813947},{"$f":"'1D Vectors Transposed'!H13+'1D Vectors Transposed'!I13*'Risk-return'!ER3","v":-1.3628865632912224},{"$f":"'1D Vectors Transposed'!H13+'1D Vectors Transposed'!I13*'Risk-return'!ES3","v":-1.3704462010010501},{"$f":"'1D Vectors Transposed'!H13+'1D Vectors Transposed'!I13*'Risk-return'!ET3","v":-1.3780058387108778},{"$f":"'1D Vectors Transposed'!H13+'1D Vectors Transposed'!I13*'Risk-return'!EU3","v":-1.3855654764207053},{"$f":"'1D Vectors Transposed'!H13+'1D Vectors Transposed'!I13*'Risk-return'!EV3","v":-1.393125114130533},{"$f":"'1D Vectors Transposed'!H13+'1D Vectors Transposed'!I13*'Risk-return'!EW3","v":-1.4006847518403607},{"$f":"'1D Vectors Transposed'!H13+'1D Vectors Transposed'!I13*'Risk-return'!EX3","v":-1.4082443895501884},{"$f":"'1D Vectors Transposed'!H13+'1D Vectors Transposed'!I13*'Risk-return'!EY3","v":-1.4158040272600161},{"$f":"'1D Vectors Transposed'!H13+'1D Vectors Transposed'!I13*'Risk-return'!EZ3","v":-1.4233636649698438},{"$f":"'1D Vectors Transposed'!H13+'1D Vectors Transposed'!I13*'Risk-return'!FA3","v":-1.4309233026796715},{"$f":"'1D Vectors Transposed'!H13+'1D Vectors Transposed'!I13*'Risk-return'!FB3","v":-1.4384829403894992},{"$f":"'1D Vectors Transposed'!H13+'1D Vectors Transposed'!I13*'Risk-return'!FC3","v":-1.4460425780993269},{"$f":"'1D Vectors Transposed'!H13+'1D Vectors Transposed'!I13*'Risk-return'!FD3","v":-1.4536022158091544},{"$f":"'1D Vectors Transposed'!H13+'1D Vectors Transposed'!I13*'Risk-return'!FE3","v":-1.4611618535189821},{"$f":"'1D Vectors Transposed'!H13+'1D Vectors Transposed'!I13*'Risk-return'!FF3","v":-1.4687214912288098},{"$f":"'1D Vectors Transposed'!H13+'1D Vectors Transposed'!I13*'Risk-return'!FG3","v":-1.4762811289386375},{"$f":"'1D Vectors Transposed'!H13+'1D Vectors Transposed'!I13*'Risk-return'!FH3","v":-1.4838407666484652},{"$f":"'1D Vectors Transposed'!H13+'1D Vectors Transposed'!I13*'Risk-return'!FI3","v":-1.4914004043582929},{"$f":"'1D Vectors Transposed'!H13+'1D Vectors Transposed'!I13*'Risk-return'!FJ3","v":-1.4989600420681206},{"$f":"'1D Vectors Transposed'!H13+'1D Vectors Transposed'!I13*'Risk-return'!FK3","v":-1.5065196797779483},{"$f":"'1D Vectors Transposed'!H13+'1D Vectors Transposed'!I13*'Risk-return'!FL3","v":-1.514079317487776},{"$f":"'1D Vectors Transposed'!H13+'1D Vectors Transposed'!I13*'Risk-return'!FM3","v":-1.5216389551976037},{"$f":"'1D Vectors Transposed'!H13+'1D Vectors Transposed'!I13*'Risk-return'!FN3","v":-1.5291985929074312},{"$f":"'1D Vectors Transposed'!H13+'1D Vectors Transposed'!I13*'Risk-return'!FO3","v":-1.5367582306172589},{"$f":"'1D Vectors Transposed'!H13+'1D Vectors Transposed'!I13*'Risk-return'!FP3","v":-1.5443178683270866},{"$f":"'1D Vectors Transposed'!H13+'1D Vectors Transposed'!I13*'Risk-return'!FQ3","v":-1.5518775060369143},{"$f":"'1D Vectors Transposed'!H13+'1D Vectors Transposed'!I13*'Risk-return'!FR3","v":-1.559437143746742},{"$f":"'1D Vectors Transposed'!H13+'1D Vectors Transposed'!I13*'Risk-return'!FS3","v":-1.5669967814565697},{"$f":"'1D Vectors Transposed'!H13+'1D Vectors Transposed'!I13*'Risk-return'!FT3","v":-1.5745564191663974},{"$f":"'1D Vectors Transposed'!H13+'1D Vectors Transposed'!I13*'Risk-return'!FU3","v":-1.5821160568762251},{"$f":"'1D Vectors Transposed'!H13+'1D Vectors Transposed'!I13*'Risk-return'!FV3","v":-1.5896756945860528},{"$f":"'1D Vectors Transposed'!H13+'1D Vectors Transposed'!I13*'Risk-return'!FW3","v":-1.5972353322958803},{"$f":"'1D Vectors Transposed'!H13+'1D Vectors Transposed'!I13*'Risk-return'!FX3","v":-1.604794970005708},{"$f":"'1D Vectors Transposed'!H13+'1D Vectors Transposed'!I13*'Risk-return'!FY3","v":-1.6123546077155357},{"$f":"'1D Vectors Transposed'!H13+'1D Vectors Transposed'!I13*'Risk-return'!FZ3","v":-1.6199142454253634},{"$f":"'1D Vectors Transposed'!H13+'1D Vectors Transposed'!I13*'Risk-return'!GA3","v":-1.6274738831351911},{"$f":"'1D Vectors Transposed'!H13+'1D Vectors Transposed'!I13*'Risk-return'!GB3","v":-1.6350335208450189},{"$f":"'1D Vectors Transposed'!H13+'1D Vectors Transposed'!I13*'Risk-return'!GC3","v":-1.6425931585548466},{"$f":"'1D Vectors Transposed'!H13+'1D Vectors Transposed'!I13*'Risk-return'!GD3","v":-1.6501527962646743},{"$f":"'1D Vectors Transposed'!H13+'1D Vectors Transposed'!I13*'Risk-return'!GE3","v":-1.657712433974502},{"$f":"'1D Vectors Transposed'!H13+'1D Vectors Transposed'!I13*'Risk-return'!GF3","v":-1.6652720716843294},{"$f":"'1D Vectors Transposed'!H13+'1D Vectors Transposed'!I13*'Risk-return'!GG3","v":-1.6728317093941572},{"$f":"'1D Vectors Transposed'!H13+'1D Vectors Transposed'!I13*'Risk-return'!GH3","v":-1.6803913471039849},{"$f":"'1D Vectors Transposed'!H13+'1D Vectors Transposed'!I13*'Risk-return'!GI3","v":-1.6879509848138126},{"$f":"'1D Vectors Transposed'!H13+'1D Vectors Transposed'!I13*'Risk-return'!GJ3","v":-1.6955106225236403},{"$f":"'1D Vectors Transposed'!H13+'1D Vectors Transposed'!I13*'Risk-return'!GK3","v":-1.703070260233468},{"$f":"'1D Vectors Transposed'!H13+'1D Vectors Transposed'!I13*'Risk-return'!GL3","v":-1.7106298979432957},{"$f":"'1D Vectors Transposed'!H13+'1D Vectors Transposed'!I13*'Risk-return'!GM3","v":-1.7181895356531234},{"$f":"'1D Vectors Transposed'!H13+'1D Vectors Transposed'!I13*'Risk-return'!GN3","v":-1.7257491733629511},{"$f":"'1D Vectors Transposed'!H13+'1D Vectors Transposed'!I13*'Risk-return'!GO3","v":-1.7333088110727786},{"$f":"'1D Vectors Transposed'!H13+'1D Vectors Transposed'!I13*'Risk-return'!GP3","v":-1.7408684487826063},{"$f":"'1D Vectors Transposed'!H13+'1D Vectors Transposed'!I13*'Risk-return'!GQ3","v":-1.748428086492434},{"$f":"'1D Vectors Transposed'!H13+'1D Vectors Transposed'!I13*'Risk-return'!GR3","v":-1.7559877242022617},{"$f":"'1D Vectors Transposed'!H13+'1D Vectors Transposed'!I13*'Risk-return'!GS3","v":-1.7635473619120894},{"$f":"'1D Vectors Transposed'!H13+'1D Vectors Transposed'!I13*'Risk-return'!GT3","v":-1.7711069996219171},{"$f":"'1D Vectors Transposed'!H13+'1D Vectors Transposed'!I13*'Risk-return'!GU3","v":-1.7786666373317448},{"$f":"'1D Vectors Transposed'!H13+'1D Vectors Transposed'!I13*'Risk-return'!GV3","v":-1.7862262750415725},{"$f":"'1D Vectors Transposed'!H13+'1D Vectors Transposed'!I13*'Risk-return'!GW3","v":-1.7937859127514002},{"$f":"'1D Vectors Transposed'!H13+'1D Vectors Transposed'!I13*'Risk-return'!GX3","v":-1.8013455504612277},{"$f":"'1D Vectors Transposed'!H13+'1D Vectors Transposed'!I13*'Risk-return'!GY3","v":-1.8089051881710554},{"$f":"'1D Vectors Transposed'!H13+'1D Vectors Transposed'!I13*'Risk-return'!GZ3","v":-1.8164648258808831},{"$f":"'1D Vectors Transposed'!H13+'1D Vectors Transposed'!I13*'Risk-return'!HA3","v":-1.8240244635907108},{"$f":"'1D Vectors Transposed'!H13+'1D Vectors Transposed'!I13*'Risk-return'!HB3","v":-1.8315841013005385},{"$f":"'1D Vectors Transposed'!H13+'1D Vectors Transposed'!I13*'Risk-return'!HC3","v":-1.8391437390103662},{"$f":"'1D Vectors Transposed'!H13+'1D Vectors Transposed'!I13*'Risk-return'!HD3","v":-1.8467033767201939},{"$f":"'1D Vectors Transposed'!H13+'1D Vectors Transposed'!I13*'Risk-return'!HE3","v":-1.8542630144300216},{"$f":"'1D Vectors Transposed'!H13+'1D Vectors Transposed'!I13*'Risk-return'!HF3","v":-1.8618226521398493},{"$f":"'1D Vectors Transposed'!H13+'1D Vectors Transposed'!I13*'Risk-return'!HG3","v":-1.8693822898496768},{"$f":"'1D Vectors Transposed'!H13+'1D Vectors Transposed'!I13*'Risk-return'!HH3","v":-1.8769419275595045},{"$f":"'1D Vectors Transposed'!H13+'1D Vectors Transposed'!I13*'Risk-return'!HI3","v":-1.8845015652693322},{"$f":"'1D Vectors Transposed'!H13+'1D Vectors Transposed'!I13*'Risk-return'!HJ3","v":-1.8920612029791599},{"$f":"'1D Vectors Transposed'!H13+'1D Vectors Transposed'!I13*'Risk-return'!HK3","v":-1.8996208406889876},{"$f":"'1D Vectors Transposed'!H13+'1D Vectors Transposed'!I13*'Risk-return'!HL3","v":-1.9071804783988153},{"$f":"'1D Vectors Transposed'!H13+'1D Vectors Transposed'!I13*'Risk-return'!HM3","v":-1.914740116108643},{"$f":"'1D Vectors Transposed'!H13+'1D Vectors Transposed'!I13*'Risk-return'!HN3","v":-1.9222997538184707},{"$f":"'1D Vectors Transposed'!H13+'1D Vectors Transposed'!I13*'Risk-return'!HO3","v":-1.9298593915282984},{"$f":"'1D Vectors Transposed'!H13+'1D Vectors Transposed'!I13*'Risk-return'!HP3","v":-1.9374190292381261},{"$f":"'1D Vectors Transposed'!H13+'1D Vectors Transposed'!I13*'Risk-return'!HQ3","v":-1.9449786669479536},{"$f":"'1D Vectors Transposed'!H13+'1D Vectors Transposed'!I13*'Risk-return'!HR3","v":-1.9525383046577813},{"$f":"'1D Vectors Transposed'!H13+'1D Vectors Transposed'!I13*'Risk-return'!HS3","v":-1.960097942367609},{"$f":"'1D Vectors Transposed'!H13+'1D Vectors Transposed'!I13*'Risk-return'!HT3","v":-1.9676575800774367},{"$f":"'1D Vectors Transposed'!H13+'1D Vectors Transposed'!I13*'Risk-return'!HU3","v":-1.9752172177872644},{"$f":"'1D Vectors Transposed'!H13+'1D Vectors Transposed'!I13*'Risk-return'!HV3","v":-1.9827768554970921},{"$f":"'1D Vectors Transposed'!H13+'1D Vectors Transposed'!I13*'Risk-return'!HW3","v":-1.9903364932069199},{"$f":"'1D Vectors Transposed'!H13+'1D Vectors Transposed'!I13*'Risk-return'!HX3","v":-1.9978961309167476},{"$f":"'1D Vectors Transposed'!H13+'1D Vectors Transposed'!I13*'Risk-return'!HY3","v":-2.0054557686265753},{"$f":"'1D Vectors Transposed'!H13+'1D Vectors Transposed'!I13*'Risk-return'!HZ3","v":-2.0130154063364025},{"$f":"'1D Vectors Transposed'!H13+'1D Vectors Transposed'!I13*'Risk-return'!IA3","v":-2.0205750440462302},{"$f":"'1D Vectors Transposed'!H13+'1D Vectors Transposed'!I13*'Risk-return'!IB3","v":-2.0281346817560579},{"$f":"'1D Vectors Transposed'!H13+'1D Vectors Transposed'!I13*'Risk-return'!IC3","v":-2.0356943194658856},{"$f":"'1D Vectors Transposed'!H13+'1D Vectors Transposed'!I13*'Risk-return'!ID3","v":-2.0432539571757133},{"$f":"'1D Vectors Transposed'!H13+'1D Vectors Transposed'!I13*'Risk-return'!IE3","v":-2.050813594885541},{"$f":"'1D Vectors Transposed'!H13+'1D Vectors Transposed'!I13*'Risk-return'!IF3","v":-2.0583732325953688},{"$f":"'1D Vectors Transposed'!H13+'1D Vectors Transposed'!I13*'Risk-return'!IG3","v":-2.0659328703051965},{"$f":"'1D Vectors Transposed'!H13+'1D Vectors Transposed'!I13*'Risk-return'!IH3","v":-2.0734925080150242},{"$f":"'1D Vectors Transposed'!H13+'1D Vectors Transposed'!I13*'Risk-return'!II3","v":-2.0810521457248519},{"$f":"'1D Vectors Transposed'!H13+'1D Vectors Transposed'!I13*'Risk-return'!IJ3","v":-2.0886117834346796},{"$f":"'1D Vectors Transposed'!H13+'1D Vectors Transposed'!I13*'Risk-return'!IK3","v":-2.0961714211445073},{"$f":"'1D Vectors Transposed'!H13+'1D Vectors Transposed'!I13*'Risk-return'!IL3","v":-2.103731058854335},{"$f":"'1D Vectors Transposed'!H13+'1D Vectors Transposed'!I13*'Risk-return'!IM3","v":-2.1112906965641627},{"$f":"'1D Vectors Transposed'!H13+'1D Vectors Transposed'!I13*'Risk-return'!IN3","v":-2.1188503342739904},{"$f":"'1D Vectors Transposed'!H13+'1D Vectors Transposed'!I13*'Risk-return'!IO3","v":-2.1264099719838181},{"$f":"'1D Vectors Transposed'!H13+'1D Vectors Transposed'!I13*'Risk-return'!IP3","v":-2.1339696096936458},{"$f":"'1D Vectors Transposed'!H13+'1D Vectors Transposed'!I13*'Risk-return'!IQ3","v":-2.1415292474034735},{"$f":"'1D Vectors Transposed'!H13+'1D Vectors Transposed'!I13*'Risk-return'!IR3","v":-2.1490888851133008},{"$f":"'1D Vectors Transposed'!H13+'1D Vectors Transposed'!I13*'Risk-return'!IS3","v":-2.1566485228231285},{"$f":"'1D Vectors Transposed'!H13+'1D Vectors Transposed'!I13*'Risk-return'!IT3","v":-2.1642081605329562},{"$f":"'1D Vectors Transposed'!H13+'1D Vectors Transposed'!I13*'Risk-return'!IU3","v":-2.1717677982427839},{"$f":"'1D Vectors Transposed'!H13+'1D Vectors Transposed'!I13*'Risk-return'!IV3","v":-2.1793274359526116},{"$f":"'1D Vectors Transposed'!H13+'1D Vectors Transposed'!I13*'Risk-return'!IW3","v":-2.1868870736624393},{"$f":"'1D Vectors Transposed'!H13+'1D Vectors Transposed'!I13*'Risk-return'!IX3","v":-2.194446711372267},{"$f":"'1D Vectors Transposed'!H13+'1D Vectors Transposed'!I13*'Risk-return'!IY3","v":-2.2020063490820947},{"$f":"'1D Vectors Transposed'!H13+'1D Vectors Transposed'!I13*'Risk-return'!IZ3","v":-2.2095659867919224},{"$f":"'1D Vectors Transposed'!H13+'1D Vectors Transposed'!I13*'Risk-return'!JA3","v":-2.2171256245017501},{"$f":"'1D Vectors Transposed'!H13+'1D Vectors Transposed'!I13*'Risk-return'!JB3","v":-2.2246852622115778},{"$f":"'1D Vectors Transposed'!H13+'1D Vectors Transposed'!I13*'Risk-return'!JC3","v":-2.2322448999214055},{"$f":"'1D Vectors Transposed'!H13+'1D Vectors Transposed'!I13*'Risk-return'!JD3","v":-2.2398045376312332},{"$f":"'1D Vectors Transposed'!H13+'1D Vectors Transposed'!I13*'Risk-return'!JE3","v":-2.2473641753410609},{"$f":"'1D Vectors Transposed'!H13+'1D Vectors Transposed'!I13*'Risk-return'!JF3","v":-2.2549238130508882},{"$f":"'1D Vectors Transposed'!H13+'1D Vectors Transposed'!I13*'Risk-return'!JG3","v":-2.2624834507607159},{"$f":"'1D Vectors Transposed'!H13+'1D Vectors Transposed'!I13*'Risk-return'!JH3","v":-2.2700430884705436},{"$f":"'1D Vectors Transposed'!H13+'1D Vectors Transposed'!I13*'Risk-return'!JI3","v":-2.2776027261803713},{"$f":"'1D Vectors Transposed'!H13+'1D Vectors Transposed'!I13*'Risk-return'!JJ3","v":-2.285162363890199},{"$f":"'1D Vectors Transposed'!H13+'1D Vectors Transposed'!I13*'Risk-return'!JK3","v":-2.2927220016000267},{"$f":"'1D Vectors Transposed'!H13+'1D Vectors Transposed'!I13*'Risk-return'!JL3","v":-2.3002816393098544},{"$f":"'1D Vectors Transposed'!H13+'1D Vectors Transposed'!I13*'Risk-return'!JM3","v":-2.3078412770196821},{"$f":"'1D Vectors Transposed'!H13+'1D Vectors Transposed'!I13*'Risk-return'!JN3","v":-2.3154009147295098},{"$f":"'1D Vectors Transposed'!H13+'1D Vectors Transposed'!I13*'Risk-return'!JO3","v":-2.3229605524393375},{"$f":"'1D Vectors Transposed'!H13+'1D Vectors Transposed'!I13*'Risk-return'!JP3","v":-2.3305201901491652},{"$f":"'1D Vectors Transposed'!H13+'1D Vectors Transposed'!I13*'Risk-return'!JQ3","v":-2.3380798278589929},{"$f":"'1D Vectors Transposed'!H13+'1D Vectors Transposed'!I13*'Risk-return'!JR3","v":-2.3456394655688206},{"$f":"'1D Vectors Transposed'!H13+'1D Vectors Transposed'!I13*'Risk-return'!JS3","v":-2.3531991032786483},{"$f":"'1D Vectors Transposed'!H13+'1D Vectors Transposed'!I13*'Risk-return'!JT3","v":-2.360758740988476},{"$f":"'1D Vectors Transposed'!H13+'1D Vectors Transposed'!I13*'Risk-return'!JU3","v":-2.3683183786983037},{"$f":"'1D Vectors Transposed'!H13+'1D Vectors Transposed'!I13*'Risk-return'!JV3","v":-2.3758780164081315},{"$f":"'1D Vectors Transposed'!H13+'1D Vectors Transposed'!I13*'Risk-return'!JW3","v":-2.3834376541179592},{"$f":"'1D Vectors Transposed'!H13+'1D Vectors Transposed'!I13*'Risk-return'!JX3","v":-2.3909972918277864},{"$f":"'1D Vectors Transposed'!H13+'1D Vectors Transposed'!I13*'Risk-return'!JY3","v":-2.3985569295376141},{"$f":"'1D Vectors Transposed'!H13+'1D Vectors Transposed'!I13*'Risk-return'!JZ3","v":-2.4061165672474418},{"$f":"'1D Vectors Transposed'!H13+'1D Vectors Transposed'!I13*'Risk-return'!KA3","v":-2.4136762049572695},{"$f":"'1D Vectors Transposed'!H13+'1D Vectors Transposed'!I13*'Risk-return'!KB3","v":-2.4212358426670972},{"$f":"'1D Vectors Transposed'!H13+'1D Vectors Transposed'!I13*'Risk-return'!KC3","v":-2.4287954803769249},{"$f":"'1D Vectors Transposed'!H13+'1D Vectors Transposed'!I13*'Risk-return'!KD3","v":-2.4363551180867526},{"$f":"'1D Vectors Transposed'!H13+'1D Vectors Transposed'!I13*'Risk-return'!KE3","v":-2.4439147557965804},{"$f":"'1D Vectors Transposed'!H13+'1D Vectors Transposed'!I13*'Risk-return'!KF3","v":-2.4514743935064081},{"$f":"'1D Vectors Transposed'!H13+'1D Vectors Transposed'!I13*'Risk-return'!KG3","v":-2.4590340312162358},{"$f":"'1D Vectors Transposed'!H13+'1D Vectors Transposed'!I13*'Risk-return'!KH3","v":-2.4665936689260635},{"$f":"'1D Vectors Transposed'!H13+'1D Vectors Transposed'!I13*'Risk-return'!KI3","v":-2.4741533066358912},{"$f":"'1D Vectors Transposed'!H13+'1D Vectors Transposed'!I13*'Risk-return'!KJ3","v":-2.4817129443457189},{"$f":"'1D Vectors Transposed'!H13+'1D Vectors Transposed'!I13*'Risk-return'!KK3","v":-2.4892725820555466},{"$f":"'1D Vectors Transposed'!H13+'1D Vectors Transposed'!I13*'Risk-return'!KL3","v":-2.4968322197653743},{"$f":"'1D Vectors Transposed'!H13+'1D Vectors Transposed'!I13*'Risk-return'!KM3","v":-2.504391857475202},{"$f":"'1D Vectors Transposed'!H13+'1D Vectors Transposed'!I13*'Risk-return'!KN3","v":-2.5119514951850297},{"$f":"'1D Vectors Transposed'!H13+'1D Vectors Transposed'!I13*'Risk-return'!KO3","v":-2.5195111328948574},{"$f":"'1D Vectors Transposed'!H13+'1D Vectors Transposed'!I13*'Risk-return'!KP3","v":-2.5270707706046851},{"$f":"'1D Vectors Transposed'!H13+'1D Vectors Transposed'!I13*'Risk-return'!KQ3","v":-2.5346304083145124},{"$f":"'1D Vectors Transposed'!H13+'1D Vectors Transposed'!I13*'Risk-return'!KR3","v":-2.5421900460243401},{"$f":"'1D Vectors Transposed'!H13+'1D Vectors Transposed'!I13*'Risk-return'!KS3","v":-2.5497496837341678},{"$f":"'1D Vectors Transposed'!H13+'1D Vectors Transposed'!I13*'Risk-return'!KT3","v":-2.5573093214439955},{"$f":"'1D Vectors Transposed'!H13+'1D Vectors Transposed'!I13*'Risk-return'!KU3","v":-2.5648689591538232},{"$f":"'1D Vectors Transposed'!H13+'1D Vectors Transposed'!I13*'Risk-return'!KV3","v":-2.5724285968636509},{"$f":"'1D Vectors Transposed'!H13+'1D Vectors Transposed'!I13*'Risk-return'!KW3","v":-2.5799882345734786},{"$f":"'1D Vectors Transposed'!H13+'1D Vectors Transposed'!I13*'Risk-return'!KX3","v":-2.5875478722833063},{"$f":"'1D Vectors Transposed'!H13+'1D Vectors Transposed'!I13*'Risk-return'!KY3","v":-2.595107509993134},{"$f":"'1D Vectors Transposed'!H13+'1D Vectors Transposed'!I13*'Risk-return'!KZ3","v":-2.6026671477029617},{"$f":"'1D Vectors Transposed'!H13+'1D Vectors Transposed'!I13*'Risk-return'!LA3","v":-2.6102267854127894},{"$f":"'1D Vectors Transposed'!H13+'1D Vectors Transposed'!I13*'Risk-return'!LB3","v":-2.6177865639320812},{"$f":"'1D Vectors Transposed'!H13+'1D Vectors Transposed'!I13*'Risk-return'!LC3","v":-2.6253463424513734},{"$f":"'1D Vectors Transposed'!H13+'1D Vectors Transposed'!I13*'Risk-return'!LD3","v":-2.6329061209706652},{"$f":"'1D Vectors Transposed'!H13+'1D Vectors Transposed'!I13*'Risk-return'!LE3","v":-2.6404658994899575},{"$f":"'1D Vectors Transposed'!H13+'1D Vectors Transposed'!I13*'Risk-return'!LF3","v":-2.6480256780092493},{"$f":"'1D Vectors Transposed'!H13+'1D Vectors Transposed'!I13*'Risk-return'!LG3","v":-2.6555854565285411},{"$f":"'1D Vectors Transposed'!H13+'1D Vectors Transposed'!I13*'Risk-return'!LH3","v":-2.6631452350478333},{"$f":"'1D Vectors Transposed'!H13+'1D Vectors Transposed'!I13*'Risk-return'!LI3","v":-2.6707050135671251},{"$f":"'1D Vectors Transposed'!H13+'1D Vectors Transposed'!I13*'Risk-return'!LJ3","v":-2.6782647920864173},{"$f":"'1D Vectors Transposed'!H13+'1D Vectors Transposed'!I13*'Risk-return'!LK3","v":-2.6858245706057091},{"$f":"'1D Vectors Transposed'!H13+'1D Vectors Transposed'!I13*'Risk-return'!LL3","v":-2.6933843491250014},{"$f":"'1D Vectors Transposed'!H13+'1D Vectors Transposed'!I13*'Risk-return'!LM3","v":-2.7009441276442931},{"$f":"'1D Vectors Transposed'!H13+'1D Vectors Transposed'!I13*'Risk-return'!LN3","v":-2.7085039061635849},{"$f":"'1D Vectors Transposed'!H13+'1D Vectors Transposed'!I13*'Risk-return'!LO3","v":-2.7160636846828772},{"$f":"'1D Vectors Transposed'!H13+'1D Vectors Transposed'!I13*'Risk-return'!LP3","v":-2.723623463202169},{"$f":"'1D Vectors Transposed'!H13+'1D Vectors Transposed'!I13*'Risk-return'!LQ3","v":-2.7311832417214612},{"$f":"'1D Vectors Transposed'!H13+'1D Vectors Transposed'!I13*'Risk-return'!LR3","v":-2.738743020240753},{"$f":"'1D Vectors Transposed'!H13+'1D Vectors Transposed'!I13*'Risk-return'!LS3","v":-2.7463027987600448},{"$f":"'1D Vectors Transposed'!H13+'1D Vectors Transposed'!I13*'Risk-return'!LT3","v":-2.753862577279337},{"$f":"'1D Vectors Transposed'!H13+'1D Vectors Transposed'!I13*'Risk-return'!LU3","v":-2.7614223557986288},{"$f":"'1D Vectors Transposed'!H13+'1D Vectors Transposed'!I13*'Risk-return'!LV3","v":-2.7689821343179211},{"$f":"'1D Vectors Transposed'!H13+'1D Vectors Transposed'!I13*'Risk-return'!LW3","v":-2.7765419128372129},{"$f":"'1D Vectors Transposed'!H13+'1D Vectors Transposed'!I13*'Risk-return'!LX3","v":-2.7841016913565051},{"$f":"'1D Vectors Transposed'!H13+'1D Vectors Transposed'!I13*'Risk-return'!LY3","v":-2.7916614698757969},{"$f":"'1D Vectors Transposed'!H13+'1D Vectors Transposed'!I13*'Risk-return'!LZ3","v":-2.7992212483950887},{"$f":"'1D Vectors Transposed'!H13+'1D Vectors Transposed'!I13*'Risk-return'!MA3","v":-2.8067810269143809},{"$f":"'1D Vectors Transposed'!H13+'1D Vectors Transposed'!I13*'Risk-return'!MB3","v":-2.8143408054336727},{"$f":"'1D Vectors Transposed'!H13+'1D Vectors Transposed'!I13*'Risk-return'!MC3","v":-2.8219005839529649},{"$f":"'1D Vectors Transposed'!H13+'1D Vectors Transposed'!I13*'Risk-return'!MD3","v":-2.8294603624722567},{"$f":"'1D Vectors Transposed'!H13+'1D Vectors Transposed'!I13*'Risk-return'!ME3","v":-2.837020140991549},{"$f":"'1D Vectors Transposed'!H13+'1D Vectors Transposed'!I13*'Risk-return'!MF3","v":-2.8445799195108408},{"$f":"'1D Vectors Transposed'!H13+'1D Vectors Transposed'!I13*'Risk-return'!MG3","v":-2.8521396980301326},{"$f":"'1D Vectors Transposed'!H13+'1D Vectors Transposed'!I13*'Risk-return'!MH3","v":-2.8596994765494248},{"$f":"'1D Vectors Transposed'!H13+'1D Vectors Transposed'!I13*'Risk-return'!MI3","v":-2.8672592550687166},{"$f":"'1D Vectors Transposed'!H13+'1D Vectors Transposed'!I13*'Risk-return'!MJ3","v":-2.8748190335880088},{"$f":"'1D Vectors Transposed'!H13+'1D Vectors Transposed'!I13*'Risk-return'!MK3","v":-2.8823788121073006},{"$f":"'1D Vectors Transposed'!H13+'1D Vectors Transposed'!I13*'Risk-return'!ML3","v":-2.8899385906265924},{"$f":"'1D Vectors Transposed'!H13+'1D Vectors Transposed'!I13*'Risk-return'!MM3","v":-2.8974983691458847},{"$f":"'1D Vectors Transposed'!H13+'1D Vectors Transposed'!I13*'Risk-return'!MN3","v":-2.9050581476651764},{"$f":"'1D Vectors Transposed'!H13+'1D Vectors Transposed'!I13*'Risk-return'!MO3","v":-2.9126179261844687},{"$f":"'1D Vectors Transposed'!H13+'1D Vectors Transposed'!I13*'Risk-return'!MP3","v":-2.9201777047037605},{"$f":"'1D Vectors Transposed'!H13+'1D Vectors Transposed'!I13*'Risk-return'!MQ3","v":-2.9277374832230527},{"$f":"'1D Vectors Transposed'!H13+'1D Vectors Transposed'!I13*'Risk-return'!MR3","v":-2.9352972617423445},{"$f":"'1D Vectors Transposed'!H13+'1D Vectors Transposed'!I13*'Risk-return'!MS3","v":-2.9428570402616363},{"$f":"'1D Vectors Transposed'!H13+'1D Vectors Transposed'!I13*'Risk-return'!MT3","v":-2.9504168187809285},{"$f":"'1D Vectors Transposed'!H13+'1D Vectors Transposed'!I13*'Risk-return'!MU3","v":-2.9579765973002203},{"$f":"'1D Vectors Transposed'!H13+'1D Vectors Transposed'!I13*'Risk-return'!MV3","v":-2.9655363758195126},{"$f":"'1D Vectors Transposed'!H13+'1D Vectors Transposed'!I13*'Risk-return'!MW3","v":-2.9730961543388044},{"$f":"'1D Vectors Transposed'!H13+'1D Vectors Transposed'!I13*'Risk-return'!MX3","v":-2.9806559328580962},{"$f":"'1D Vectors Transposed'!H13+'1D Vectors Transposed'!I13*'Risk-return'!MY3","v":-2.9882157113773884},{"$f":"'1D Vectors Transposed'!H13+'1D Vectors Transposed'!I13*'Risk-return'!MZ3","v":-2.9957754898966802},{"$f":"'1D Vectors Transposed'!H13+'1D Vectors Transposed'!I13*'Risk-return'!NA3","v":-3.0033352684159724},{"$f":"'1D Vectors Transposed'!H13+'1D Vectors Transposed'!I13*'Risk-return'!NB3","v":-3.0108950469352642},{"$f":"'1D Vectors Transposed'!H13+'1D Vectors Transposed'!I13*'Risk-return'!NC3","v":-3.0184548254545565},{"$f":"'1D Vectors Transposed'!H13+'1D Vectors Transposed'!I13*'Risk-return'!ND3","v":-3.0260146039738482},{"$f":"'1D Vectors Transposed'!H13+'1D Vectors Transposed'!I13*'Risk-return'!NE3","v":-3.03357438249314},{"$f":"'1D Vectors Transposed'!H13+'1D Vectors Transposed'!I13*'Risk-return'!NF3","v":-3.0411341610124323},{"$f":"'1D Vectors Transposed'!H13+'1D Vectors Transposed'!I13*'Risk-return'!NG3","v":-3.0486939395317241},{"$f":"'1D Vectors Transposed'!H13+'1D Vectors Transposed'!I13*'Risk-return'!NH3","v":-3.0562537180510163},{"$f":"'1D Vectors Transposed'!H13+'1D Vectors Transposed'!I13*'Risk-return'!NI3","v":-3.0638134965703081},{"$f":"'1D Vectors Transposed'!H13+'1D Vectors Transposed'!I13*'Risk-return'!NJ3","v":-3.0713732750896003},{"$f":"'1D Vectors Transposed'!H13+'1D Vectors Transposed'!I13*'Risk-return'!NK3","v":-3.0789330536088921},{"$f":"'1D Vectors Transposed'!H13+'1D Vectors Transposed'!I13*'Risk-return'!NL3","v":-3.0864928321281839},{"$f":"'1D Vectors Transposed'!H13+'1D Vectors Transposed'!I13*'Risk-return'!NM3","v":-3.0940526106474762},{"$f":"'1D Vectors Transposed'!H13+'1D Vectors Transposed'!I13*'Risk-return'!NN3","v":-3.101612389166768},{"$f":"'1D Vectors Transposed'!H13+'1D Vectors Transposed'!I13*'Risk-return'!NO3","v":-3.1091721676860602},{"$f":"'1D Vectors Transposed'!H13+'1D Vectors Transposed'!I13*'Risk-return'!NP3","v":-3.116731946205352},{"$f":"'1D Vectors Transposed'!H13+'1D Vectors Transposed'!I13*'Risk-return'!NQ3","v":-3.1242917247246438},{"$f":"'1D Vectors Transposed'!H13+'1D Vectors Transposed'!I13*'Risk-return'!NR3","v":-3.131851503243936},{"$f":"'1D Vectors Transposed'!H13+'1D Vectors Transposed'!I13*'Risk-return'!NS3","v":-3.1394112817632278},{"$f":"'1D Vectors Transposed'!H13+'1D Vectors Transposed'!I13*'Risk-return'!NT3","v":-3.14697106028252},{"$f":"'1D Vectors Transposed'!H13+'1D Vectors Transposed'!I13*'Risk-return'!NU3","v":-3.1545308388018118},{"$f":"'1D Vectors Transposed'!H13+'1D Vectors Transposed'!I13*'Risk-return'!NV3","v":-3.1620906173211041},{"$f":"'1D Vectors Transposed'!H13+'1D Vectors Transposed'!I13*'Risk-return'!NW3","v":-3.1696503958403959},{"$f":"'1D Vectors Transposed'!H13+'1D Vectors Transposed'!I13*'Risk-return'!NX3","v":-3.1772101743596877},{"$f":"'1D Vectors Transposed'!H13+'1D Vectors Transposed'!I13*'Risk-return'!NY3","v":-3.1847699528789799},{"$f":"'1D Vectors Transposed'!H13+'1D Vectors Transposed'!I13*'Risk-return'!NZ3","v":-3.1923297313982717},{"$f":"'1D Vectors Transposed'!H13+'1D Vectors Transposed'!I13*'Risk-return'!OA3","v":-3.1998895099175639},{"$f":"'1D Vectors Transposed'!H13+'1D Vectors Transposed'!I13*'Risk-return'!OB3","v":-3.2074492884368557},{"$f":"'1D Vectors Transposed'!H13+'1D Vectors Transposed'!I13*'Risk-return'!OC3","v":-3.2150090669561475},{"$f":"'1D Vectors Transposed'!H13+'1D Vectors Transposed'!I13*'Risk-return'!OD3","v":-3.2225688454754398},{"$f":"'1D Vectors Transposed'!H13+'1D Vectors Transposed'!I13*'Risk-return'!OE3","v":-3.2301286239947316},{"$f":"'1D Vectors Transposed'!H13+'1D Vectors Transposed'!I13*'Risk-return'!OF3","v":-3.2376884025140238},{"$f":"'1D Vectors Transposed'!H13+'1D Vectors Transposed'!I13*'Risk-return'!OG3","v":-3.2452481810333156},{"$f":"'1D Vectors Transposed'!H13+'1D Vectors Transposed'!I13*'Risk-return'!OH3","v":-3.2528079595526078},{"$f":"'1D Vectors Transposed'!H13+'1D Vectors Transposed'!I13*'Risk-return'!OI3","v":-3.2603677380718996},{"$f":"'1D Vectors Transposed'!H13+'1D Vectors Transposed'!I13*'Risk-return'!OJ3","v":-3.2679275165911914},{"$f":"'1D Vectors Transposed'!H13+'1D Vectors Transposed'!I13*'Risk-return'!OK3","v":-3.2754872951104836},{"$f":"'1D Vectors Transposed'!H13+'1D Vectors Transposed'!I13*'Risk-return'!OL3","v":-3.2830470736297754},{"$f":"'1D Vectors Transposed'!H13+'1D Vectors Transposed'!I13*'Risk-return'!OM3","v":-3.2906068521490677},{"$f":"'1D Vectors Transposed'!H13+'1D Vectors Transposed'!I13*'Risk-return'!ON3","v":-3.2981666306683595},{"$f":"'1D Vectors Transposed'!H13+'1D Vectors Transposed'!I13*'Risk-return'!OO3","v":-3.3057264091876517},{"$f":"'1D Vectors Transposed'!H13+'1D Vectors Transposed'!I13*'Risk-return'!OP3","v":-3.3132861877069435},{"$f":"'1D Vectors Transposed'!H13+'1D Vectors Transposed'!I13*'Risk-return'!OQ3","v":-3.3208459662262353},{"$f":"'1D Vectors Transposed'!H13+'1D Vectors Transposed'!I13*'Risk-return'!OR3","v":-3.3284057447455275},{"$f":"'1D Vectors Transposed'!H13+'1D Vectors Transposed'!I13*'Risk-return'!OS3","v":-3.3359655232648193},{"$f":"'1D Vectors Transposed'!H13+'1D Vectors Transposed'!I13*'Risk-return'!OT3","v":-3.3435253017841116},{"$f":"'1D Vectors Transposed'!H13+'1D Vectors Transposed'!I13*'Risk-return'!OU3","v":-3.3510850803034034},{"$f":"'1D Vectors Transposed'!H13+'1D Vectors Transposed'!I13*'Risk-return'!OV3","v":-3.3586448588226951},{"$f":"'1D Vectors Transposed'!H13+'1D Vectors Transposed'!I13*'Risk-return'!OW3","v":-3.3662046373419874},{"$f":"'1D Vectors Transposed'!H13+'1D Vectors Transposed'!I13*'Risk-return'!OX3","v":-3.3737644158612792},{"$f":"'1D Vectors Transposed'!H13+'1D Vectors Transposed'!I13*'Risk-return'!OY3","v":-3.3813241943805714},{"$f":"'1D Vectors Transposed'!H13+'1D Vectors Transposed'!I13*'Risk-return'!OZ3","v":-3.3888839728998632},{"$f":"'1D Vectors Transposed'!H13+'1D Vectors Transposed'!I13*'Risk-return'!PA3","v":-3.3964437514191554},{"$f":"'1D Vectors Transposed'!H13+'1D Vectors Transposed'!I13*'Risk-return'!PB3","v":-3.4040035299384472},{"$f":"'1D Vectors Transposed'!H13+'1D Vectors Transposed'!I13*'Risk-return'!PC3","v":-3.411563308457739},{"$f":"'1D Vectors Transposed'!H13+'1D Vectors Transposed'!I13*'Risk-return'!PD3","v":-3.4191230869770313},{"$f":"'1D Vectors Transposed'!H13+'1D Vectors Transposed'!I13*'Risk-return'!PE3","v":-3.4266828654963231},{"$f":"'1D Vectors Transposed'!H13+'1D Vectors Transposed'!I13*'Risk-return'!PF3","v":-3.4342426440156153},{"$f":"'1D Vectors Transposed'!H13+'1D Vectors Transposed'!I13*'Risk-return'!PG3","v":-3.4418024225349071},{"$f":"'1D Vectors Transposed'!H13+'1D Vectors Transposed'!I13*'Risk-return'!PH3","v":-3.4493622010541989},{"$f":"'1D Vectors Transposed'!H13+'1D Vectors Transposed'!I13*'Risk-return'!PI3","v":-3.4569219795734911},{"$f":"'1D Vectors Transposed'!H13+'1D Vectors Transposed'!I13*'Risk-return'!PJ3","v":-3.4644817580927829},{"$f":"'1D Vectors Transposed'!H13+'1D Vectors Transposed'!I13*'Risk-return'!PK3","v":-3.4720415366120752},{"$f":"'1D Vectors Transposed'!H13+'1D Vectors Transposed'!I13*'Risk-return'!PL3","v":-3.4796013151313669},{"$f":"'1D Vectors Transposed'!H13+'1D Vectors Transposed'!I13*'Risk-return'!PM3","v":-3.4871610936506592},{"$f":"'1D Vectors Transposed'!H13+'1D Vectors Transposed'!I13*'Risk-return'!PN3","v":-3.494720872169951},{"$f":"'1D Vectors Transposed'!H13+'1D Vectors Transposed'!I13*'Risk-return'!PO3","v":-3.5022806506892428},{"$f":"'1D Vectors Transposed'!H13+'1D Vectors Transposed'!I13*'Risk-return'!PP3","v":-3.509840429208535},{"$f":"'1D Vectors Transposed'!H13+'1D Vectors Transposed'!I13*'Risk-return'!PQ3","v":-3.5174002077278268},{"$f":"'1D Vectors Transposed'!H13+'1D Vectors Transposed'!I13*'Risk-return'!PR3","v":-3.524959986247119},{"$f":"'1D Vectors Transposed'!H13+'1D Vectors Transposed'!I13*'Risk-return'!PS3","v":-3.5325197647664108},{"$f":"'1D Vectors Transposed'!H13+'1D Vectors Transposed'!I13*'Risk-return'!PT3","v":-3.5400795432857031},{"$f":"'1D Vectors Transposed'!H13+'1D Vectors Transposed'!I13*'Risk-return'!PU3","v":-3.5476393218049949},{"$f":"'1D Vectors Transposed'!H13+'1D Vectors Transposed'!I13*'Risk-return'!PV3","v":-3.5551991003242867},{"$f":"'1D Vectors Transposed'!H13+'1D Vectors Transposed'!I13*'Risk-return'!PW3","v":-3.5627588788435789},{"$f":"'1D Vectors Transposed'!H13+'1D Vectors Transposed'!I13*'Risk-return'!PX3","v":-3.5703186573628707},{"$f":"'1D Vectors Transposed'!H13+'1D Vectors Transposed'!I13*'Risk-return'!PY3","v":-3.5778784358821629},{"$f":"'1D Vectors Transposed'!H13+'1D Vectors Transposed'!I13*'Risk-return'!PZ3","v":-3.5854382144014547},{"$f":"'1D Vectors Transposed'!H13+'1D Vectors Transposed'!I13*'Risk-return'!QA3","v":-3.5929979929207465},{"$f":"'1D Vectors Transposed'!H13+'1D Vectors Transposed'!I13*'Risk-return'!QB3","v":-3.6005577714400387},{"$f":"'1D Vectors Transposed'!H13+'1D Vectors Transposed'!I13*'Risk-return'!QC3","v":-3.6081175499593305},{"$f":"'1D Vectors Transposed'!H13+'1D Vectors Transposed'!I13*'Risk-return'!QD3","v":-3.6156773284786228},{"$f":"'1D Vectors Transposed'!H13+'1D Vectors Transposed'!I13*'Risk-return'!QE3","v":-3.6232371069979146},{"$f":"'1D Vectors Transposed'!H13+'1D Vectors Transposed'!I13*'Risk-return'!QF3","v":-3.6307968855172068},{"$f":"'1D Vectors Transposed'!H13+'1D Vectors Transposed'!I13*'Risk-return'!QG3","v":-3.6383566640364986},{"$f":"'1D Vectors Transposed'!H13+'1D Vectors Transposed'!I13*'Risk-return'!QH3","v":-3.6459164425557904},{"$f":"'1D Vectors Transposed'!H13+'1D Vectors Transposed'!I13*'Risk-return'!QI3","v":-3.6534762210750826},{"$f":"'1D Vectors Transposed'!H13+'1D Vectors Transposed'!I13*'Risk-return'!QJ3","v":-3.6610359995943744},{"$f":"'1D Vectors Transposed'!H13+'1D Vectors Transposed'!I13*'Risk-return'!QK3","v":-3.6685957781136667},{"$f":"'1D Vectors Transposed'!H13+'1D Vectors Transposed'!I13*'Risk-return'!QL3","v":-3.6761555566329585},{"$f":"'1D Vectors Transposed'!H13+'1D Vectors Transposed'!I13*'Risk-return'!QM3","v":-3.6837153351522502},{"$f":"'1D Vectors Transposed'!H13+'1D Vectors Transposed'!I13*'Risk-return'!QN3","v":-3.6912751136715425},{"$f":"'1D Vectors Transposed'!H13+'1D Vectors Transposed'!I13*'Risk-return'!QO3","v":-3.6988348921908343},{"$f":"'1D Vectors Transposed'!H13+'1D Vectors Transposed'!I13*'Risk-return'!QP3","v":-3.7063946707101265},{"$f":"'1D Vectors Transposed'!H13+'1D Vectors Transposed'!I13*'Risk-return'!QQ3","v":-3.7139544492294183},{"$f":"'1D Vectors Transposed'!H13+'1D Vectors Transposed'!I13*'Risk-return'!QR3","v":-3.7215142277487105},{"$f":"'1D Vectors Transposed'!H13+'1D Vectors Transposed'!I13*'Risk-return'!QS3","v":-3.7290740062680023},{"$f":"'1D Vectors Transposed'!H13+'1D Vectors Transposed'!I13*'Risk-return'!QT3","v":-3.7366337847872941},{"$f":"'1D Vectors Transposed'!H13+'1D Vectors Transposed'!I13*'Risk-return'!QU3","v":-3.7441935633065864},{"$f":"'1D Vectors Transposed'!H13+'1D Vectors Transposed'!I13*'Risk-return'!QV3","v":-3.7517533418258782},{"$f":"'1D Vectors Transposed'!H13+'1D Vectors Transposed'!I13*'Risk-return'!QW3","v":-3.7593131203451704},{"$f":"'1D Vectors Transposed'!H13+'1D Vectors Transposed'!I13*'Risk-return'!QX3","v":-3.7668728988644622},{"$f":"'1D Vectors Transposed'!H13+'1D Vectors Transposed'!I13*'Risk-return'!QY3","v":-3.7744326773837544},{"$f":"'1D Vectors Transposed'!H13+'1D Vectors Transposed'!I13*'Risk-return'!QZ3","v":-3.7819924559030462},{"$f":"'1D Vectors Transposed'!H13+'1D Vectors Transposed'!I13*'Risk-return'!RA3","v":-3.789552234422338},{"$f":"'1D Vectors Transposed'!H13+'1D Vectors Transposed'!I13*'Risk-return'!RB3","v":-3.7971120129416303},{"$f":"'1D Vectors Transposed'!H13+'1D Vectors Transposed'!I13*'Risk-return'!RC3","v":-3.804671791460922},{"$f":"'1D Vectors Transposed'!H13+'1D Vectors Transposed'!I13*'Risk-return'!RD3","v":-3.8122315699802143},{"$f":"'1D Vectors Transposed'!H13+'1D Vectors Transposed'!I13*'Risk-return'!RE3","v":-3.8197913484995061},{"$f":"'1D Vectors Transposed'!H13+'1D Vectors Transposed'!I13*'Risk-return'!RF3","v":-3.8273511270187979},{"$f":"'1D Vectors Transposed'!H13+'1D Vectors Transposed'!I13*'Risk-return'!RG3","v":-3.8349109055380901},{"$f":"'1D Vectors Transposed'!H13+'1D Vectors Transposed'!I13*'Risk-return'!RH3","v":-3.8424706840573819},{"$f":"'1D Vectors Transposed'!H13+'1D Vectors Transposed'!I13*'Risk-return'!RI3","v":-3.8500304625766741},{"$f":"'1D Vectors Transposed'!H13+'1D Vectors Transposed'!I13*'Risk-return'!RJ3","v":-3.8575902410959659},{"$f":"'1D Vectors Transposed'!H13+'1D Vectors Transposed'!I13*'Risk-return'!RK3","v":-3.8651500196152582},{"$f":"'1D Vectors Transposed'!H13+'1D Vectors Transposed'!I13*'Risk-return'!RL3","v":-3.87270979813455},{"$f":"'1D Vectors Transposed'!H13+'1D Vectors Transposed'!I13*'Risk-return'!RM3","v":-3.8802695766538418},{"$f":"'1D Vectors Transposed'!H13+'1D Vectors Transposed'!I13*'Risk-return'!RN3","v":-3.887829355173134},{"$f":"'1D Vectors Transposed'!H13+'1D Vectors Transposed'!I13*'Risk-return'!RO3","v":-3.8953891336924258},{"$f":"'1D Vectors Transposed'!H13+'1D Vectors Transposed'!I13*'Risk-return'!RP3","v":-3.902948912211718},{"$f":"'1D Vectors Transposed'!H13+'1D Vectors Transposed'!I13*'Risk-return'!RQ3","v":-3.9105086907310098},{"$f":"'1D Vectors Transposed'!H13+'1D Vectors Transposed'!I13*'Risk-return'!RR3","v":-3.9180684692503016},{"$f":"'1D Vectors Transposed'!H13+'1D Vectors Transposed'!I13*'Risk-return'!RS3","v":-3.9256282477695938},{"$f":"'1D Vectors Transposed'!H13+'1D Vectors Transposed'!I13*'Risk-return'!RT3","v":-3.9331880262888856},{"$f":"'1D Vectors Transposed'!H13+'1D Vectors Transposed'!I13*'Risk-return'!RU3","v":-3.9407478048081779},{"$f":"'1D Vectors Transposed'!H13+'1D Vectors Transposed'!I13*'Risk-return'!RV3","v":-3.9483075833274697},{"$f":"'1D Vectors Transposed'!H13+'1D Vectors Transposed'!I13*'Risk-return'!RW3","v":-3.9558673618467619},{"$f":"'1D Vectors Transposed'!H13+'1D Vectors Transposed'!I13*'Risk-return'!RX3","v":-3.9634271403660537},{"$f":"'1D Vectors Transposed'!H13+'1D Vectors Transposed'!I13*'Risk-return'!RY3","v":-3.9709869188853455},{"$f":"'1D Vectors Transposed'!H13+'1D Vectors Transposed'!I13*'Risk-return'!RZ3","v":-3.9785466974046377},{"$f":"'1D Vectors Transposed'!H13+'1D Vectors Transposed'!I13*'Risk-return'!SA3","v":-3.9861064759239295},{"$f":"'1D Vectors Transposed'!H13+'1D Vectors Transposed'!I13*'Risk-return'!SB3","v":-3.9936662544432218},{"$f":"'1D Vectors Transposed'!H13+'1D Vectors Transposed'!I13*'Risk-return'!SC3","v":-4.0012260329625136},{"$f":"'1D Vectors Transposed'!H13+'1D Vectors Transposed'!I13*'Risk-return'!SD3","v":-4.0087858114818058},{"$f":"'1D Vectors Transposed'!H13+'1D Vectors Transposed'!I13*'Risk-return'!SE3","v":-4.016345590001098},{"$f":"'1D Vectors Transposed'!H13+'1D Vectors Transposed'!I13*'Risk-return'!SF3","v":-4.0239053685203894},{"$f":"'1D Vectors Transposed'!H13+'1D Vectors Transposed'!I13*'Risk-return'!SG3","v":-0.25161925670869606}]